{"text_format":"1","workbook":"xlsx","n_sheets":5,"sheets":["Acolhimento","Chegadas","Atendimento","Simulação","Filtro"],"not_rendered":{"charts":0,"images":2,"macros":1,"external_links":0,"defined_names":17,"comments":1,"pivot_tables":0},"unopened":[],"bounds":{"document_bytes":16777216,"sheet_cells":100000,"rows_first":2000,"rows_last":500,"rows_between":2000,"halvings":0,"cell_chars":16384,"cell_head_chars":4096},"cells_cut":0,"cells_raw":0,"read":"whole","date_system":"1900"}

{"sheet":"Acolhimento","index":0,"n_rows":16,"n_cols":7,"rows_kept":16,"cut":false,"hidden":false,"merged":[[2,1,2,2],[3,1,3,2]]}
[]
[]
[null,"Revista TecnoHospital",null,null,null,null,"Apoio à Decisão em"]
[null,"Nº 134 - Março-Abril 2026",null,null,null,null,"Gestão Operacional"]
[]
[]
[null,null,null,null,null,null,"Rui Assis"]
[null,null,null,null,null,null,"2026-04-04"]
[null,null,null,null,null,null,"rassis@rassis.com"]
[null,null,null,null,null,null,"http://www.rassis.com"]
[]
[null,null,null,null,null,null,"Simulação de duas filas de espera concorrentes (multicanal e monofase) no"]
[null,null,null,null,null,null,"caso de um equipamento hospitalar"]
[]
[]
[null,null,null,null,null,null,"Células a azul para dados, verde claro para cálculos intermédios e amarelo para resultados "]

{"sheet":"Chegadas","index":1,"n_rows":1008,"n_cols":11,"rows_kept":1008,"cut":false,"hidden":false,"merged":[[4,3,4,4],[4,6,4,7],[6,10,7,10],[6,3,7,3],[6,6,7,6],[6,4,7,4],[6,7,7,7],[5,9,7,9]]}
[]
[null,null,null,"Segundo distribuições de probabilidade Exponencial negativa"]
[null,null,null," (após um teste de hipótese de aderência de KS) "]
[]
[null,null,null,"Tipo I",null,null,"Tipo II"]
[null,null,"MTBA =",1.01,"dias","MTBA =",9.1,"dias",null,"Momentos de chegada dos tipos I e II"]
[null,null,null,"TBA","Chegada à fila",null,"TBA","Chegada à fila",null,null,"Tipos de intervenção"]
[]
[null,null,1,{"$f":"ROUND(-Chegadas!$D$6*LN(RAND()),2)","v":0.71},{"$f":"D9","v":0.71},null,{"$f":"ROUND(-Chegadas!$G$6*LN(RAND()),2)","v":9.41},{"$f":"G9","v":9.41},"II",{"$f":"SMALL($H$9:$H$1008,C9)","v":0.71},{"$f":"VLOOKUP(J9,$H$9:$I$1008,2,0)","v":"I"}]
[null,null,2,{"$f":"ROUND(-Chegadas!$D$6*LN(RAND()),2)","v":5.43},{"$f":"E9+D10","v":6.14},null,{"$f":"ROUND(-Chegadas!$G$6*LN(RAND()),2)","v":14.04},{"$f":"H9+G10","v":23.45},"II",6.14,{"$f":"VLOOKUP(J10,$H$9:$I$1008,2,0)","v":"I"}]
[null,null,3,{"$f":"ROUND(-Chegadas!$D$6*LN(RAND()),2)","v":0.84},{"$f":"E10+D11","v":6.9799999999999995},null,{"$f":"ROUND(-Chegadas!$G$6*LN(RAND()),2)","v":1.65},{"$f":"H10+G11","v":25.099999999999998},"II",6.9799999999999995,"I"]
[null,null,4,{"$f":"ROUND(-Chegadas!$D$6*LN(RAND()),2)","v":0.38},7.3599999999999994,null,{"$f":"ROUND(-Chegadas!$G$6*LN(RAND()),2)","v":45.76},70.86,"II",7.3599999999999994,"I"]
[null,null,5,{"$f":"ROUND(-Chegadas!$D$6*LN(RAND()),2)","v":0.01},7.3699999999999992,null,{"$f":"ROUND(-Chegadas!$G$6*LN(RAND()),2)","v":10.61},81.47,"II",7.3699999999999992,"I"]
[null,null,6,{"$f":"ROUND(-Chegadas!$D$6*LN(RAND()),2)","v":0.12},7.4899999999999993,null,{"$f":"ROUND(-Chegadas!$G$6*LN(RAND()),2)","v":7.07},88.539999999999992,"II",7.4899999999999993,"I"]
[null,null,7,{"$f":"ROUND(-Chegadas!$D$6*LN(RAND()),2)","v":0.19},7.68,null,{"$f":"ROUND(-Chegadas!$G$6*LN(RAND()),2)","v":12.73},101.27,"II",7.68,"I"]
[null,null,8,{"$f":"ROUND(-Chegadas!$D$6*LN(RAND()),2)","v":0.79},8.4699999999999989,null,{"$f":"ROUND(-Chegadas!$G$6*LN(RAND()),2)","v":18.8},120.07,"II",8.4699999999999989,"I"]
[null,null,9,{"$f":"ROUND(-Chegadas!$D$6*LN(RAND()),2)","v":0.91},9.379999999999999,null,{"$f":"ROUND(-Chegadas!$G$6*LN(RAND()),2)","v":14.16},134.22999999999999,"II",9.379999999999999,"I"]
[null,null,10,{"$f":"ROUND(-Chegadas!$D$6*LN(RAND()),2)","v":0.88},10.26,null,{"$f":"ROUND(-Chegadas!$G$6*LN(RAND()),2)","v":1.93},136.16,"II",9.41,"II"]
[null,null,11,{"$f":"ROUND(-Chegadas!$D$6*LN(RAND()),2)","v":4.04},14.3,null,{"$f":"ROUND(-Chegadas!$G$6*LN(RAND()),2)","v":12.74},148.9,"II",10.26,"I"]
[null,null,12,{"$f":"ROUND(-Chegadas!$D$6*LN(RAND()),2)","v":2.02},16.32,null,{"$f":"ROUND(-Chegadas!$G$6*LN(RAND()),2)","v":8.18},157.08000000000001,"II",14.3,"I"]
[null,null,13,{"$f":"ROUND(-Chegadas!$D$6*LN(RAND()),2)","v":0.18},16.5,null,{"$f":"ROUND(-Chegadas!$G$6*LN(RAND()),2)","v":15.15},172.23000000000002,"II",16.32,"I"]
[null,null,14,{"$f":"ROUND(-Chegadas!$D$6*LN(RAND()),2)","v":0.21},16.71,null,{"$f":"ROUND(-Chegadas!$G$6*LN(RAND()),2)","v":5.84},178.07000000000002,"II",16.5,"I"]
[null,null,15,{"$f":"ROUND(-Chegadas!$D$6*LN(RAND()),2)","v":0.28000000000000003},16.990000000000002,null,{"$f":"ROUND(-Chegadas!$G$6*LN(RAND()),2)","v":13.35},191.42000000000002,"II",16.71,"I"]
[null,null,16,{"$f":"ROUND(-Chegadas!$D$6*LN(RAND()),2)","v":0.41},17.400000000000002,null,{"$f":"ROUND(-Chegadas!$G$6*LN(RAND()),2)","v":3.62},195.04000000000002,"II",16.990000000000002,"I"]
[null,null,17,{"$f":"ROUND(-Chegadas!$D$6*LN(RAND()),2)","v":7.0000000000000007E-2},17.470000000000002,null,{"$f":"ROUND(-Chegadas!$G$6*LN(RAND()),2)","v":2.4500000000000002},197.49,"II",17.400000000000002,"I"]
[null,null,18,{"$f":"ROUND(-Chegadas!$D$6*LN(RAND()),2)","v":1.1599999999999999},18.630000000000003,null,{"$f":"ROUND(-Chegadas!$G$6*LN(RAND()),2)","v":3.83},201.32000000000002,"II",17.470000000000002,"I"]
[null,null,19,{"$f":"ROUND(-Chegadas!$D$6*LN(RAND()),2)","v":0.17},18.800000000000004,null,{"$f":"ROUND(-Chegadas!$G$6*LN(RAND()),2)","v":1.01},202.33,"II",18.630000000000003,"I"]
[null,null,20,{"$f":"ROUND(-Chegadas!$D$6*LN(RAND()),2)","v":0.56999999999999995},19.370000000000005,null,{"$f":"ROUND(-Chegadas!$G$6*LN(RAND()),2)","v":13.95},216.28,"II",18.800000000000004,"I"]
[null,null,21,{"$f":"ROUND(-Chegadas!$D$6*LN(RAND()),2)","v":0.27},19.640000000000004,null,{"$f":"ROUND(-Chegadas!$G$6*LN(RAND()),2)","v":2.19},218.47,"II",19.370000000000005,"I"]
[null,null,22,{"$f":"ROUND(-Chegadas!$D$6*LN(RAND()),2)","v":0.03},19.670000000000005,null,{"$f":"ROUND(-Chegadas!$G$6*LN(RAND()),2)","v":52.1},270.57,"II",19.640000000000004,"I"]
[null,null,23,{"$f":"ROUND(-Chegadas!$D$6*LN(RAND()),2)","v":0.41},20.080000000000005,null,{"$f":"ROUND(-Chegadas!$G$6*LN(RAND()),2)","v":4.3099999999999996},274.88,"II",19.670000000000005,"I"]
[null,null,24,{"$f":"ROUND(-Chegadas!$D$6*LN(RAND()),2)","v":0.37},20.450000000000006,null,{"$f":"ROUND(-Chegadas!$G$6*LN(RAND()),2)","v":0.92},275.8,"II",20.080000000000005,"I"]
[null,null,25,{"$f":"ROUND(-Chegadas!$D$6*LN(RAND()),2)","v":1.1000000000000001},21.550000000000008,null,{"$f":"ROUND(-Chegadas!$G$6*LN(RAND()),2)","v":21.59},297.39,"II",20.450000000000006,"I"]
[null,null,26,{"$f":"ROUND(-Chegadas!$D$6*LN(RAND()),2)","v":0.5},22.050000000000008,null,{"$f":"ROUND(-Chegadas!$G$6*LN(RAND()),2)","v":4.97},302.36,"II",21.550000000000008,"I"]
[null,null,27,{"$f":"ROUND(-Chegadas!$D$6*LN(RAND()),2)","v":0.44},22.490000000000009,null,{"$f":"ROUND(-Chegadas!$G$6*LN(RAND()),2)","v":10.01},312.37,"II",22.050000000000008,"I"]
[null,null,28,{"$f":"ROUND(-Chegadas!$D$6*LN(RAND()),2)","v":0.08},22.570000000000007,null,{"$f":"ROUND(-Chegadas!$G$6*LN(RAND()),2)","v":1.5},313.87,"II",22.490000000000009,"I"]
[null,null,29,{"$f":"ROUND(-Chegadas!$D$6*LN(RAND()),2)","v":0.45},23.020000000000007,null,{"$f":"ROUND(-Chegadas!$G$6*LN(RAND()),2)","v":8.2200000000000006},322.09000000000003,"II",22.570000000000007,"I"]
[null,null,30,{"$f":"ROUND(-Chegadas!$D$6*LN(RAND()),2)","v":0.11},23.130000000000006,null,{"$f":"ROUND(-Chegadas!$G$6*LN(RAND()),2)","v":2},324.09000000000003,"II",23.020000000000007,"I"]
[null,null,31,{"$f":"ROUND(-Chegadas!$D$6*LN(RAND()),2)","v":0.32},23.450000000000006,null,{"$f":"ROUND(-Chegadas!$G$6*LN(RAND()),2)","v":2.15},326.24,"II",23.130000000000006,"I"]
[null,null,32,{"$f":"ROUND(-Chegadas!$D$6*LN(RAND()),2)","v":0.42},23.870000000000008,null,{"$f":"ROUND(-Chegadas!$G$6*LN(RAND()),2)","v":3.78},330.02,"II",23.45,"II"]
[null,null,33,{"$f":"ROUND(-Chegadas!$D$6*LN(RAND()),2)","v":0.21},24.080000000000009,null,{"$f":"ROUND(-Chegadas!$G$6*LN(RAND()),2)","v":4.04},334.06,"II",23.450000000000006,"I"]
[null,null,34,{"$f":"ROUND(-Chegadas!$D$6*LN(RAND()),2)","v":1.36},25.440000000000008,null,{"$f":"ROUND(-Chegadas!$G$6*LN(RAND()),2)","v":2.8},336.86,"II",23.870000000000008,"I"]
[null,null,35,{"$f":"ROUND(-Chegadas!$D$6*LN(RAND()),2)","v":0.19},25.63000000000001,null,{"$f":"ROUND(-Chegadas!$G$6*LN(RAND()),2)","v":6.39},343.25,"II",24.080000000000009,"I"]
[null,null,36,{"$f":"ROUND(-Chegadas!$D$6*LN(RAND()),2)","v":0.05},25.68000000000001,null,{"$f":"ROUND(-Chegadas!$G$6*LN(RAND()),2)","v":7.19},350.44,"II",25.099999999999998,"II"]
[null,null,37,{"$f":"ROUND(-Chegadas!$D$6*LN(RAND()),2)","v":1.2},26.88000000000001,null,{"$f":"ROUND(-Chegadas!$G$6*LN(RAND()),2)","v":28.67},379.11,"II",25.440000000000008,"I"]
[null,null,38,{"$f":"ROUND(-Chegadas!$D$6*LN(RAND()),2)","v":0.14000000000000001},27.02000000000001,null,{"$f":"ROUND(-Chegadas!$G$6*LN(RAND()),2)","v":1.87},380.98,"II",25.63000000000001,"I"]
[null,null,39,{"$f":"ROUND(-Chegadas!$D$6*LN(RAND()),2)","v":1.23},28.250000000000011,null,{"$f":"ROUND(-Chegadas!$G$6*LN(RAND()),2)","v":9.76},390.74,"II",25.68000000000001,"I"]
[null,null,40,{"$f":"ROUND(-Chegadas!$D$6*LN(RAND()),2)","v":0.14000000000000001},28.390000000000011,null,{"$f":"ROUND(-Chegadas!$G$6*LN(RAND()),2)","v":10.16},400.90000000000003,"II",26.88000000000001,"I"]
[null,null,41,{"$f":"ROUND(-Chegadas!$D$6*LN(RAND()),2)","v":1.55},29.940000000000012,null,{"$f":"ROUND(-Chegadas!$G$6*LN(RAND()),2)","v":11.28},412.18,"II",27.02000000000001,"I"]
[null,null,42,{"$f":"ROUND(-Chegadas!$D$6*LN(RAND()),2)","v":0.39},30.330000000000013,null,{"$f":"ROUND(-Chegadas!$G$6*LN(RAND()),2)","v":1.07},413.25,"II",28.250000000000011,"I"]
[null,null,43,{"$f":"ROUND(-Chegadas!$D$6*LN(RAND()),2)","v":1.66},31.990000000000013,null,{"$f":"ROUND(-Chegadas!$G$6*LN(RAND()),2)","v":10.49},423.74,"II",28.390000000000011,"I"]
[null,null,44,{"$f":"ROUND(-Chegadas!$D$6*LN(RAND()),2)","v":0.16},32.150000000000013,null,{"$f":"ROUND(-Chegadas!$G$6*LN(RAND()),2)","v":24.33},448.07,"II",29.940000000000012,"I"]
[null,null,45,{"$f":"ROUND(-Chegadas!$D$6*LN(RAND()),2)","v":1.69},33.840000000000011,null,{"$f":"ROUND(-Chegadas!$G$6*LN(RAND()),2)","v":0.02},448.09,"II",30.330000000000013,"I"]
[null,null,46,{"$f":"ROUND(-Chegadas!$D$6*LN(RAND()),2)","v":2.31},36.150000000000013,null,{"$f":"ROUND(-Chegadas!$G$6*LN(RAND()),2)","v":0.47},448.56,"II",31.990000000000013,"I"]
[null,null,47,{"$f":"ROUND(-Chegadas!$D$6*LN(RAND()),2)","v":0.08},36.230000000000011,null,{"$f":"ROUND(-Chegadas!$G$6*LN(RAND()),2)","v":18.739999999999998},467.3,"II",32.150000000000013,"I"]
[null,null,48,{"$f":"ROUND(-Chegadas!$D$6*LN(RAND()),2)","v":5.34},41.570000000000007,null,{"$f":"ROUND(-Chegadas!$G$6*LN(RAND()),2)","v":12.41},479.71000000000004,"II",33.840000000000011,"I"]
[null,null,49,{"$f":"ROUND(-Chegadas!$D$6*LN(RAND()),2)","v":0.03},41.600000000000009,null,{"$f":"ROUND(-Chegadas!$G$6*LN(RAND()),2)","v":3.78},483.49,"II",36.150000000000013,"I"]
[null,null,50,{"$f":"ROUND(-Chegadas!$D$6*LN(RAND()),2)","v":0.22},41.820000000000007,null,{"$f":"ROUND(-Chegadas!$G$6*LN(RAND()),2)","v":10.029999999999999},493.52,"II",36.230000000000011,"I"]
[null,null,51,{"$f":"ROUND(-Chegadas!$D$6*LN(RAND()),2)","v":2.5},44.320000000000007,null,{"$f":"ROUND(-Chegadas!$G$6*LN(RAND()),2)","v":17.489999999999998},511.01,"II",41.570000000000007,"I"]
[null,null,52,{"$f":"ROUND(-Chegadas!$D$6*LN(RAND()),2)","v":2.2000000000000002},46.52000000000001,null,{"$f":"ROUND(-Chegadas!$G$6*LN(RAND()),2)","v":20.55},531.55999999999995,"II",41.600000000000009,"I"]
[null,null,53,{"$f":"ROUND(-Chegadas!$D$6*LN(RAND()),2)","v":0.27},46.790000000000013,null,{"$f":"ROUND(-Chegadas!$G$6*LN(RAND()),2)","v":10.93},542.4899999999999,"II",41.820000000000007,"I"]
[null,null,54,{"$f":"ROUND(-Chegadas!$D$6*LN(RAND()),2)","v":0.42},47.210000000000015,null,{"$f":"ROUND(-Chegadas!$G$6*LN(RAND()),2)","v":10.66},553.14999999999986,"II",44.320000000000007,"I"]
[null,null,55,{"$f":"ROUND(-Chegadas!$D$6*LN(RAND()),2)","v":0.86},48.070000000000014,null,{"$f":"ROUND(-Chegadas!$G$6*LN(RAND()),2)","v":13.66},566.80999999999983,"II",46.52000000000001,"I"]
[null,null,56,{"$f":"ROUND(-Chegadas!$D$6*LN(RAND()),2)","v":0.02},48.090000000000018,null,{"$f":"ROUND(-Chegadas!$G$6*LN(RAND()),2)","v":17.04},583.8499999999998,"II",46.790000000000013,"I"]
[null,null,57,{"$f":"ROUND(-Chegadas!$D$6*LN(RAND()),2)","v":1.1200000000000001},49.210000000000015,null,{"$f":"ROUND(-Chegadas!$G$6*LN(RAND()),2)","v":13.36},597.20999999999981,"II",47.210000000000015,"I"]
[null,null,58,{"$f":"ROUND(-Chegadas!$D$6*LN(RAND()),2)","v":1.33},50.540000000000013,null,{"$f":"ROUND(-Chegadas!$G$6*LN(RAND()),2)","v":7.73},604.93999999999983,"II",48.070000000000014,"I"]
[null,null,59,{"$f":"ROUND(-Chegadas!$D$6*LN(RAND()),2)","v":1.1100000000000001},51.650000000000013,null,{"$f":"ROUND(-Chegadas!$G$6*LN(RAND()),2)","v":10.41},615.3499999999998,"II",48.090000000000018,"I"]
[null,null,60,{"$f":"ROUND(-Chegadas!$D$6*LN(RAND()),2)","v":0.16},51.810000000000009,null,{"$f":"ROUND(-Chegadas!$G$6*LN(RAND()),2)","v":4.07},619.41999999999985,"II",49.210000000000015,"I"]
[null,null,61,{"$f":"ROUND(-Chegadas!$D$6*LN(RAND()),2)","v":0.59},52.400000000000013,null,{"$f":"ROUND(-Chegadas!$G$6*LN(RAND()),2)","v":4.5999999999999996},624.01999999999987,"II",50.540000000000013,"I"]
[null,null,62,{"$f":"ROUND(-Chegadas!$D$6*LN(RAND()),2)","v":3.41},55.810000000000016,null,{"$f":"ROUND(-Chegadas!$G$6*LN(RAND()),2)","v":3.77},627.78999999999985,"II",51.650000000000013,"I"]
[null,null,63,{"$f":"ROUND(-Chegadas!$D$6*LN(RAND()),2)","v":2.38},58.190000000000019,null,{"$f":"ROUND(-Chegadas!$G$6*LN(RAND()),2)","v":0.95},628.7399999999999,"II",51.810000000000009,"I"]
[null,null,64,{"$f":"ROUND(-Chegadas!$D$6*LN(RAND()),2)","v":1.42},59.610000000000021,null,{"$f":"ROUND(-Chegadas!$G$6*LN(RAND()),2)","v":16.87},645.6099999999999,"II",52.400000000000013,"I"]
[null,null,65,{"$f":"ROUND(-Chegadas!$D$6*LN(RAND()),2)","v":1.79},61.40000000000002,null,{"$f":"ROUND(-Chegadas!$G$6*LN(RAND()),2)","v":1.62},647.2299999999999,"II",{"$f":"SMALL($H$9:$H$1008,C73)","v":55.810000000000016},"I"]
[null,null,66,{"$f":"ROUND(-Chegadas!$D$6*LN(RAND()),2)","v":0.28999999999999998},61.690000000000019,null,{"$f":"ROUND(-Chegadas!$G$6*LN(RAND()),2)","v":12.5},659.7299999999999,"II",58.190000000000019,{"$f":"VLOOKUP(J74,$H$9:$I$1008,2,0)","v":"I"}]
[null,null,67,{"$f":"ROUND(-Chegadas!$D$6*LN(RAND()),2)","v":0.98},{"$f":"E74+D75","v":62.670000000000016},null,{"$f":"ROUND(-Chegadas!$G$6*LN(RAND()),2)","v":2.92},{"$f":"H74+G75","v":662.64999999999986},"II",59.610000000000021,"I"]
[null,null,68,{"$f":"ROUND(-Chegadas!$D$6*LN(RAND()),2)","v":0.48},63.150000000000013,null,{"$f":"ROUND(-Chegadas!$G$6*LN(RAND()),2)","v":2.86},665.50999999999988,"II",61.40000000000002,"I"]
[null,null,69,{"$f":"ROUND(-Chegadas!$D$6*LN(RAND()),2)","v":0.14000000000000001},63.290000000000013,null,{"$f":"ROUND(-Chegadas!$G$6*LN(RAND()),2)","v":45.31},710.81999999999994,"II",61.690000000000019,"I"]
[null,null,70,{"$f":"ROUND(-Chegadas!$D$6*LN(RAND()),2)","v":0.42},63.710000000000015,null,{"$f":"ROUND(-Chegadas!$G$6*LN(RAND()),2)","v":1.81},712.62999999999988,"II",62.670000000000016,"I"]
[null,null,71,{"$f":"ROUND(-Chegadas!$D$6*LN(RAND()),2)","v":0.06},63.770000000000017,null,{"$f":"ROUND(-Chegadas!$G$6*LN(RAND()),2)","v":0.2},712.82999999999993,"II",63.150000000000013,"I"]
[null,null,72,{"$f":"ROUND(-Chegadas!$D$6*LN(RAND()),2)","v":0.21},63.980000000000018,null,{"$f":"ROUND(-Chegadas!$G$6*LN(RAND()),2)","v":4.45},717.28,"II",63.290000000000013,"I"]
[null,null,73,{"$f":"ROUND(-Chegadas!$D$6*LN(RAND()),2)","v":1.24},65.220000000000013,null,{"$f":"ROUND(-Chegadas!$G$6*LN(RAND()),2)","v":9.84},727.12,"II",63.710000000000015,"I"]
[null,null,74,{"$f":"ROUND(-Chegadas!$D$6*LN(RAND()),2)","v":2.92},68.140000000000015,null,{"$f":"ROUND(-Chegadas!$G$6*LN(RAND()),2)","v":18.89},746.01,"II",63.770000000000017,"I"]
[null,null,75,{"$f":"ROUND(-Chegadas!$D$6*LN(RAND()),2)","v":0.36},68.500000000000014,null,{"$f":"ROUND(-Chegadas!$G$6*LN(RAND()),2)","v":22.69},768.7,"II",63.980000000000018,"I"]
[null,null,76,{"$f":"ROUND(-Chegadas!$D$6*LN(RAND()),2)","v":2.44},70.940000000000012,null,{"$f":"ROUND(-Chegadas!$G$6*LN(RAND()),2)","v":9.5500000000000007},778.25,"II",65.220000000000013,"I"]
[null,null,77,{"$f":"ROUND(-Chegadas!$D$6*LN(RAND()),2)","v":0.55000000000000004},71.490000000000009,null,{"$f":"ROUND(-Chegadas!$G$6*LN(RAND()),2)","v":3.5},781.75,"II",68.140000000000015,"I"]
[null,null,78,{"$f":"ROUND(-Chegadas!$D$6*LN(RAND()),2)","v":0.53},72.02000000000001,null,{"$f":"ROUND(-Chegadas!$G$6*LN(RAND()),2)","v":10.7},792.45,"II",68.500000000000014,"I"]
[null,null,79,{"$f":"ROUND(-Chegadas!$D$6*LN(RAND()),2)","v":0.35},72.37,null,{"$f":"ROUND(-Chegadas!$G$6*LN(RAND()),2)","v":12.5},804.95,"II",70.86,"II"]
[null,null,80,{"$f":"ROUND(-Chegadas!$D$6*LN(RAND()),2)","v":1.18},73.550000000000011,null,{"$f":"ROUND(-Chegadas!$G$6*LN(RAND()),2)","v":12.39},817.34,"II",70.940000000000012,"I"]
[null,null,81,{"$f":"ROUND(-Chegadas!$D$6*LN(RAND()),2)","v":1.1399999999999999},74.690000000000012,null,{"$f":"ROUND(-Chegadas!$G$6*LN(RAND()),2)","v":5.95},823.29000000000008,"II",71.490000000000009,"I"]
[null,null,82,{"$f":"ROUND(-Chegadas!$D$6*LN(RAND()),2)","v":1},75.690000000000012,null,{"$f":"ROUND(-Chegadas!$G$6*LN(RAND()),2)","v":4.3600000000000003},827.65000000000009,"II",72.02000000000001,"I"]
[null,null,83,{"$f":"ROUND(-Chegadas!$D$6*LN(RAND()),2)","v":0.28999999999999998},75.980000000000018,null,{"$f":"ROUND(-Chegadas!$G$6*LN(RAND()),2)","v":4.09},831.74000000000012,"II",72.37,"I"]
[null,null,84,{"$f":"ROUND(-Chegadas!$D$6*LN(RAND()),2)","v":0.65},76.630000000000024,null,{"$f":"ROUND(-Chegadas!$G$6*LN(RAND()),2)","v":12.68},844.42000000000007,"II",73.550000000000011,"I"]
[null,null,85,{"$f":"ROUND(-Chegadas!$D$6*LN(RAND()),2)","v":2.67},79.300000000000026,null,{"$f":"ROUND(-Chegadas!$G$6*LN(RAND()),2)","v":5.08},849.50000000000011,"II",74.690000000000012,"I"]
[null,null,86,{"$f":"ROUND(-Chegadas!$D$6*LN(RAND()),2)","v":0.57999999999999996},79.880000000000024,null,{"$f":"ROUND(-Chegadas!$G$6*LN(RAND()),2)","v":9.74},859.24000000000012,"II",75.690000000000012,"I"]
[null,null,87,{"$f":"ROUND(-Chegadas!$D$6*LN(RAND()),2)","v":1.8},81.680000000000021,null,{"$f":"ROUND(-Chegadas!$G$6*LN(RAND()),2)","v":3},862.24000000000012,"II",75.980000000000018,"I"]
[null,null,88,{"$f":"ROUND(-Chegadas!$D$6*LN(RAND()),2)","v":0.05},81.730000000000018,null,{"$f":"ROUND(-Chegadas!$G$6*LN(RAND()),2)","v":13.9},876.1400000000001,"II",76.630000000000024,"I"]
[null,null,89,{"$f":"ROUND(-Chegadas!$D$6*LN(RAND()),2)","v":0.1},81.830000000000013,null,{"$f":"ROUND(-Chegadas!$G$6*LN(RAND()),2)","v":8.2799999999999994},884.42000000000007,"II",79.300000000000026,"I"]
[null,null,90,{"$f":"ROUND(-Chegadas!$D$6*LN(RAND()),2)","v":0.56000000000000005},82.390000000000015,null,{"$f":"ROUND(-Chegadas!$G$6*LN(RAND()),2)","v":12.05},896.47,"II",79.880000000000024,"I"]
[null,null,91,{"$f":"ROUND(-Chegadas!$D$6*LN(RAND()),2)","v":1.02},83.410000000000011,null,{"$f":"ROUND(-Chegadas!$G$6*LN(RAND()),2)","v":1.39},897.86,"II",81.47,"II"]
[null,null,92,{"$f":"ROUND(-Chegadas!$D$6*LN(RAND()),2)","v":0.55000000000000004},83.960000000000008,null,{"$f":"ROUND(-Chegadas!$G$6*LN(RAND()),2)","v":7.04},904.9,"II",81.680000000000021,"I"]
[null,null,93,{"$f":"ROUND(-Chegadas!$D$6*LN(RAND()),2)","v":2.0099999999999998},85.970000000000013,null,{"$f":"ROUND(-Chegadas!$G$6*LN(RAND()),2)","v":11.2},916.1,"II",81.730000000000018,"I"]
[null,null,94,{"$f":"ROUND(-Chegadas!$D$6*LN(RAND()),2)","v":0.1},86.070000000000007,null,{"$f":"ROUND(-Chegadas!$G$6*LN(RAND()),2)","v":2.5299999999999998},918.63,"II",81.830000000000013,"I"]
[null,null,95,{"$f":"ROUND(-Chegadas!$D$6*LN(RAND()),2)","v":0.63},86.7,null,{"$f":"ROUND(-Chegadas!$G$6*LN(RAND()),2)","v":7.6},926.23,"II",82.390000000000015,"I"]
[null,null,96,{"$f":"ROUND(-Chegadas!$D$6*LN(RAND()),2)","v":1.1000000000000001},87.8,null,{"$f":"ROUND(-Chegadas!$G$6*LN(RAND()),2)","v":2.8},929.03,"II",83.410000000000011,"I"]
[null,null,97,{"$f":"ROUND(-Chegadas!$D$6*LN(RAND()),2)","v":0.04},87.84,null,{"$f":"ROUND(-Chegadas!$G$6*LN(RAND()),2)","v":6.19},935.22,"II",83.960000000000008,"I"]
[null,null,98,{"$f":"ROUND(-Chegadas!$D$6*LN(RAND()),2)","v":1.4},89.240000000000009,null,{"$f":"ROUND(-Chegadas!$G$6*LN(RAND()),2)","v":1.86},937.08,"II",85.970000000000013,"I"]
[null,null,99,{"$f":"ROUND(-Chegadas!$D$6*LN(RAND()),2)","v":2.09},91.330000000000013,null,{"$f":"ROUND(-Chegadas!$G$6*LN(RAND()),2)","v":0.92},938,"II",86.070000000000007,"I"]
[null,null,100,{"$f":"ROUND(-Chegadas!$D$6*LN(RAND()),2)","v":0.63},91.960000000000008,null,{"$f":"ROUND(-Chegadas!$G$6*LN(RAND()),2)","v":2.46},940.46,"II",86.7,"I"]
[null,null,101,{"$f":"ROUND(-Chegadas!$D$6*LN(RAND()),2)","v":0.95},92.910000000000011,null,{"$f":"ROUND(-Chegadas!$G$6*LN(RAND()),2)","v":1.68},942.14,"II",87.8,"I"]
[null,null,102,{"$f":"ROUND(-Chegadas!$D$6*LN(RAND()),2)","v":0.55000000000000004},93.460000000000008,null,{"$f":"ROUND(-Chegadas!$G$6*LN(RAND()),2)","v":0.02},942.16,"II",87.84,"I"]
[null,null,103,{"$f":"ROUND(-Chegadas!$D$6*LN(RAND()),2)","v":1.22},94.68,null,{"$f":"ROUND(-Chegadas!$G$6*LN(RAND()),2)","v":0.82},942.98,"II",88.539999999999992,"II"]
[null,null,104,{"$f":"ROUND(-Chegadas!$D$6*LN(RAND()),2)","v":0.28000000000000003},94.960000000000008,null,{"$f":"ROUND(-Chegadas!$G$6*LN(RAND()),2)","v":0.54},943.52,"II",89.240000000000009,"I"]
[null,null,105,{"$f":"ROUND(-Chegadas!$D$6*LN(RAND()),2)","v":0.36},95.320000000000007,null,{"$f":"ROUND(-Chegadas!$G$6*LN(RAND()),2)","v":9.27},952.79,"II",91.330000000000013,"I"]
[null,null,106,{"$f":"ROUND(-Chegadas!$D$6*LN(RAND()),2)","v":1.04},96.360000000000014,null,{"$f":"ROUND(-Chegadas!$G$6*LN(RAND()),2)","v":33.06},985.84999999999991,"II",91.960000000000008,"I"]
[null,null,107,{"$f":"ROUND(-Chegadas!$D$6*LN(RAND()),2)","v":0.67},97.030000000000015,null,{"$f":"ROUND(-Chegadas!$G$6*LN(RAND()),2)","v":0.06},985.90999999999985,"II",92.910000000000011,"I"]
[null,null,108,{"$f":"ROUND(-Chegadas!$D$6*LN(RAND()),2)","v":0.62},97.65000000000002,null,{"$f":"ROUND(-Chegadas!$G$6*LN(RAND()),2)","v":6.7},992.6099999999999,"II",93.460000000000008,"I"]
[null,null,109,{"$f":"ROUND(-Chegadas!$D$6*LN(RAND()),2)","v":1.1299999999999999},98.780000000000015,null,{"$f":"ROUND(-Chegadas!$G$6*LN(RAND()),2)","v":1.93},994.53999999999985,"II",94.68,"I"]
[null,null,110,{"$f":"ROUND(-Chegadas!$D$6*LN(RAND()),2)","v":0.25},99.030000000000015,null,{"$f":"ROUND(-Chegadas!$G$6*LN(RAND()),2)","v":2.75},997.28999999999985,"II",94.960000000000008,"I"]
[null,null,111,{"$f":"ROUND(-Chegadas!$D$6*LN(RAND()),2)","v":0},99.030000000000015,null,{"$f":"ROUND(-Chegadas!$G$6*LN(RAND()),2)","v":2.44},999.7299999999999,"II",95.320000000000007,"I"]
[null,null,112,{"$f":"ROUND(-Chegadas!$D$6*LN(RAND()),2)","v":0.7},99.730000000000018,null,{"$f":"ROUND(-Chegadas!$G$6*LN(RAND()),2)","v":6.04},1005.7699999999999,"II",96.360000000000014,"I"]
[null,null,113,{"$f":"ROUND(-Chegadas!$D$6*LN(RAND()),2)","v":1.4},101.13000000000002,null,{"$f":"ROUND(-Chegadas!$G$6*LN(RAND()),2)","v":2.94},1008.7099999999999,"II",97.030000000000015,"I"]
[null,null,114,{"$f":"ROUND(-Chegadas!$D$6*LN(RAND()),2)","v":0.84},101.97000000000003,null,{"$f":"ROUND(-Chegadas!$G$6*LN(RAND()),2)","v":14.34},1023.05,"II",97.65000000000002,"I"]
[null,null,115,{"$f":"ROUND(-Chegadas!$D$6*LN(RAND()),2)","v":0.57999999999999996},102.55000000000003,null,{"$f":"ROUND(-Chegadas!$G$6*LN(RAND()),2)","v":13.64},1036.69,"II",98.780000000000015,"I"]
[null,null,116,{"$f":"ROUND(-Chegadas!$D$6*LN(RAND()),2)","v":0.26},102.81000000000003,null,{"$f":"ROUND(-Chegadas!$G$6*LN(RAND()),2)","v":0.74},1037.43,"II",99.030000000000015,"I"]
[null,null,117,{"$f":"ROUND(-Chegadas!$D$6*LN(RAND()),2)","v":0.38},103.19000000000003,null,{"$f":"ROUND(-Chegadas!$G$6*LN(RAND()),2)","v":0.34},1037.77,"II",99.030000000000015,"I"]
[null,null,118,{"$f":"ROUND(-Chegadas!$D$6*LN(RAND()),2)","v":3.27},106.46000000000002,null,{"$f":"ROUND(-Chegadas!$G$6*LN(RAND()),2)","v":19.25},1057.02,"II",99.730000000000018,"I"]
[null,null,119,{"$f":"ROUND(-Chegadas!$D$6*LN(RAND()),2)","v":0.27},106.73000000000002,null,{"$f":"ROUND(-Chegadas!$G$6*LN(RAND()),2)","v":7.85},1064.8699999999999,"II",101.13000000000002,"I"]
[null,null,120,{"$f":"ROUND(-Chegadas!$D$6*LN(RAND()),2)","v":1.07},107.80000000000001,null,{"$f":"ROUND(-Chegadas!$G$6*LN(RAND()),2)","v":12.6},1077.4699999999998,"II",101.27,"II"]
[null,null,121,{"$f":"ROUND(-Chegadas!$D$6*LN(RAND()),2)","v":0.2},108.00000000000001,null,{"$f":"ROUND(-Chegadas!$G$6*LN(RAND()),2)","v":1.21},1078.6799999999998,"II",101.97000000000003,"I"]
[null,null,122,{"$f":"ROUND(-Chegadas!$D$6*LN(RAND()),2)","v":0.01},108.01000000000002,null,{"$f":"ROUND(-Chegadas!$G$6*LN(RAND()),2)","v":24.66},1103.3399999999999,"II",102.55000000000003,"I"]
[null,null,123,{"$f":"ROUND(-Chegadas!$D$6*LN(RAND()),2)","v":0.08},108.09000000000002,null,{"$f":"ROUND(-Chegadas!$G$6*LN(RAND()),2)","v":14.94},1118.28,"II",102.81000000000003,"I"]
[null,null,124,{"$f":"ROUND(-Chegadas!$D$6*LN(RAND()),2)","v":0.43},108.52000000000002,null,{"$f":"ROUND(-Chegadas!$G$6*LN(RAND()),2)","v":6.56},1124.8399999999999,"II",103.19000000000003,"I"]
[null,null,125,{"$f":"ROUND(-Chegadas!$D$6*LN(RAND()),2)","v":2.15},110.67000000000003,null,{"$f":"ROUND(-Chegadas!$G$6*LN(RAND()),2)","v":10.32},1135.1599999999999,"II",106.46000000000002,"I"]
[null,null,126,{"$f":"ROUND(-Chegadas!$D$6*LN(RAND()),2)","v":0.05},110.72000000000003,null,{"$f":"ROUND(-Chegadas!$G$6*LN(RAND()),2)","v":0.88},1136.04,"II",106.73000000000002,"I"]
[null,null,127,{"$f":"ROUND(-Chegadas!$D$6*LN(RAND()),2)","v":0.21},110.93000000000002,null,{"$f":"ROUND(-Chegadas!$G$6*LN(RAND()),2)","v":5.26},1141.3,"II",107.80000000000001,"I"]
[null,null,128,{"$f":"ROUND(-Chegadas!$D$6*LN(RAND()),2)","v":1.51},112.44000000000003,null,{"$f":"ROUND(-Chegadas!$G$6*LN(RAND()),2)","v":20.399999999999999},1161.7,"II",108.00000000000001,"I"]
[null,null,129,{"$f":"ROUND(-Chegadas!$D$6*LN(RAND()),2)","v":0.72},113.16000000000003,null,{"$f":"ROUND(-Chegadas!$G$6*LN(RAND()),2)","v":2.08},1163.78,"II",{"$f":"SMALL($H$9:$H$1008,C137)","v":108.01000000000002},"I"]
[null,null,130,{"$f":"ROUND(-Chegadas!$D$6*LN(RAND()),2)","v":1.1399999999999999},114.30000000000003,null,{"$f":"ROUND(-Chegadas!$G$6*LN(RAND()),2)","v":3.17},1166.95,"II",108.09000000000002,{"$f":"VLOOKUP(J138,$H$9:$I$1008,2,0)","v":"I"}]
[null,null,131,{"$f":"ROUND(-Chegadas!$D$6*LN(RAND()),2)","v":1.31},{"$f":"E138+D139","v":115.61000000000003},null,{"$f":"ROUND(-Chegadas!$G$6*LN(RAND()),2)","v":1.75},{"$f":"H138+G139","v":1168.7},"II",108.52000000000002,"I"]
[null,null,132,{"$f":"ROUND(-Chegadas!$D$6*LN(RAND()),2)","v":0},115.61000000000003,null,{"$f":"ROUND(-Chegadas!$G$6*LN(RAND()),2)","v":1.76},1170.46,"II",110.67000000000003,"I"]
[null,null,133,{"$f":"ROUND(-Chegadas!$D$6*LN(RAND()),2)","v":0.11},115.72000000000003,null,{"$f":"ROUND(-Chegadas!$G$6*LN(RAND()),2)","v":4.3},1174.76,"II",110.72000000000003,"I"]
[null,null,134,{"$f":"ROUND(-Chegadas!$D$6*LN(RAND()),2)","v":0.8},116.52000000000002,null,{"$f":"ROUND(-Chegadas!$G$6*LN(RAND()),2)","v":7.09},1181.8499999999999,"II",110.93000000000002,"I"]
[null,null,135,{"$f":"ROUND(-Chegadas!$D$6*LN(RAND()),2)","v":0.92},117.44000000000003,null,{"$f":"ROUND(-Chegadas!$G$6*LN(RAND()),2)","v":2.2999999999999998},1184.1499999999999,"II",112.44000000000003,"I"]
[null,null,136,{"$f":"ROUND(-Chegadas!$D$6*LN(RAND()),2)","v":3.44},120.88000000000002,null,{"$f":"ROUND(-Chegadas!$G$6*LN(RAND()),2)","v":7.24},1191.3899999999999,"II",113.16000000000003,"I"]
[null,null,137,{"$f":"ROUND(-Chegadas!$D$6*LN(RAND()),2)","v":1.57},122.45000000000002,null,{"$f":"ROUND(-Chegadas!$G$6*LN(RAND()),2)","v":2.46},1193.8499999999999,"II",114.30000000000003,"I"]
[null,null,138,{"$f":"ROUND(-Chegadas!$D$6*LN(RAND()),2)","v":1.1599999999999999},123.61000000000001,null,{"$f":"ROUND(-Chegadas!$G$6*LN(RAND()),2)","v":13.26},1207.1099999999999,"II",115.61000000000003,"I"]
[null,null,139,{"$f":"ROUND(-Chegadas!$D$6*LN(RAND()),2)","v":0.41},124.02000000000001,null,{"$f":"ROUND(-Chegadas!$G$6*LN(RAND()),2)","v":3.88},1210.99,"II",115.61000000000003,"I"]
[null,null,140,{"$f":"ROUND(-Chegadas!$D$6*LN(RAND()),2)","v":0.15},124.17000000000002,null,{"$f":"ROUND(-Chegadas!$G$6*LN(RAND()),2)","v":1.1000000000000001},1212.0899999999999,"II",115.72000000000003,"I"]
[null,null,141,{"$f":"ROUND(-Chegadas!$D$6*LN(RAND()),2)","v":1.42},125.59000000000002,null,{"$f":"ROUND(-Chegadas!$G$6*LN(RAND()),2)","v":5.82},1217.9099999999999,"II",116.52000000000002,"I"]
[null,null,142,{"$f":"ROUND(-Chegadas!$D$6*LN(RAND()),2)","v":0.53},126.12000000000002,null,{"$f":"ROUND(-Chegadas!$G$6*LN(RAND()),2)","v":6.04},1223.9499999999998,"II",117.44000000000003,"I"]
[null,null,143,{"$f":"ROUND(-Chegadas!$D$6*LN(RAND()),2)","v":1.66},127.78000000000002,null,{"$f":"ROUND(-Chegadas!$G$6*LN(RAND()),2)","v":1.94},1225.8899999999999,"II",120.07,"II"]
[null,null,144,{"$f":"ROUND(-Chegadas!$D$6*LN(RAND()),2)","v":0.22},128.00000000000003,null,{"$f":"ROUND(-Chegadas!$G$6*LN(RAND()),2)","v":13.73},1239.6199999999999,"II",120.88000000000002,"I"]
[null,null,145,{"$f":"ROUND(-Chegadas!$D$6*LN(RAND()),2)","v":0.43},128.43000000000004,null,{"$f":"ROUND(-Chegadas!$G$6*LN(RAND()),2)","v":8.39},1248.01,"II",122.45000000000002,"I"]
[null,null,146,{"$f":"ROUND(-Chegadas!$D$6*LN(RAND()),2)","v":0.53},128.96000000000004,null,{"$f":"ROUND(-Chegadas!$G$6*LN(RAND()),2)","v":5.65},1253.6600000000001,"II",123.61000000000001,"I"]
[null,null,147,{"$f":"ROUND(-Chegadas!$D$6*LN(RAND()),2)","v":1.08},130.04000000000005,null,{"$f":"ROUND(-Chegadas!$G$6*LN(RAND()),2)","v":6.07},1259.73,"II",124.02000000000001,"I"]
[null,null,148,{"$f":"ROUND(-Chegadas!$D$6*LN(RAND()),2)","v":2.4300000000000002},132.47000000000006,null,{"$f":"ROUND(-Chegadas!$G$6*LN(RAND()),2)","v":13.28},1273.01,"II",124.17000000000002,"I"]
[null,null,149,{"$f":"ROUND(-Chegadas!$D$6*LN(RAND()),2)","v":0.38},132.85000000000005,null,{"$f":"ROUND(-Chegadas!$G$6*LN(RAND()),2)","v":1.17},1274.18,"II",125.59000000000002,"I"]
[null,null,150,{"$f":"ROUND(-Chegadas!$D$6*LN(RAND()),2)","v":0.66},133.51000000000005,null,{"$f":"ROUND(-Chegadas!$G$6*LN(RAND()),2)","v":13.3},1287.48,"II",126.12000000000002,"I"]
[null,null,151,{"$f":"ROUND(-Chegadas!$D$6*LN(RAND()),2)","v":2.39},135.90000000000003,null,{"$f":"ROUND(-Chegadas!$G$6*LN(RAND()),2)","v":0.42},1287.9000000000001,"II",127.78000000000002,"I"]
[null,null,152,{"$f":"ROUND(-Chegadas!$D$6*LN(RAND()),2)","v":1.52},137.42000000000004,null,{"$f":"ROUND(-Chegadas!$G$6*LN(RAND()),2)","v":0.45},1288.3500000000001,"II",128.00000000000003,"I"]
[null,null,153,{"$f":"ROUND(-Chegadas!$D$6*LN(RAND()),2)","v":2.15},139.57000000000005,null,{"$f":"ROUND(-Chegadas!$G$6*LN(RAND()),2)","v":1.2},1289.5500000000002,"II",128.43000000000004,"I"]
[null,null,154,{"$f":"ROUND(-Chegadas!$D$6*LN(RAND()),2)","v":1.78},141.35000000000005,null,{"$f":"ROUND(-Chegadas!$G$6*LN(RAND()),2)","v":12.97},1302.5200000000002,"II",128.96000000000004,"I"]
[null,null,155,{"$f":"ROUND(-Chegadas!$D$6*LN(RAND()),2)","v":0.57999999999999996},141.93000000000006,null,{"$f":"ROUND(-Chegadas!$G$6*LN(RAND()),2)","v":3.98},1306.5000000000002,"II",130.04000000000005,"I"]
[null,null,156,{"$f":"ROUND(-Chegadas!$D$6*LN(RAND()),2)","v":0.89},142.82000000000005,null,{"$f":"ROUND(-Chegadas!$G$6*LN(RAND()),2)","v":2.89},1309.3900000000003,"II",132.47000000000006,"I"]
[null,null,157,{"$f":"ROUND(-Chegadas!$D$6*LN(RAND()),2)","v":0.02},142.84000000000006,null,{"$f":"ROUND(-Chegadas!$G$6*LN(RAND()),2)","v":8.5},1317.8900000000003,"II",132.85000000000005,"I"]
[null,null,158,{"$f":"ROUND(-Chegadas!$D$6*LN(RAND()),2)","v":2.16},145.00000000000006,null,{"$f":"ROUND(-Chegadas!$G$6*LN(RAND()),2)","v":0.38},1318.2700000000004,"II",133.51000000000005,"I"]
[null,null,159,{"$f":"ROUND(-Chegadas!$D$6*LN(RAND()),2)","v":0.17},145.17000000000004,null,{"$f":"ROUND(-Chegadas!$G$6*LN(RAND()),2)","v":9.27},1327.5400000000004,"II",134.22999999999999,"II"]
[null,null,160,{"$f":"ROUND(-Chegadas!$D$6*LN(RAND()),2)","v":0.28999999999999998},145.46000000000004,null,{"$f":"ROUND(-Chegadas!$G$6*LN(RAND()),2)","v":6.45},1333.9900000000005,"II",135.90000000000003,"I"]
[null,null,161,{"$f":"ROUND(-Chegadas!$D$6*LN(RAND()),2)","v":1.48},146.94000000000003,null,{"$f":"ROUND(-Chegadas!$G$6*LN(RAND()),2)","v":0.28999999999999998},1334.2800000000004,"II",136.16,"II"]
[null,null,162,{"$f":"ROUND(-Chegadas!$D$6*LN(RAND()),2)","v":0.37},147.31000000000003,null,{"$f":"ROUND(-Chegadas!$G$6*LN(RAND()),2)","v":5.05},1339.3300000000004,"II",137.42000000000004,"I"]
[null,null,163,{"$f":"ROUND(-Chegadas!$D$6*LN(RAND()),2)","v":2.08},149.39000000000004,null,{"$f":"ROUND(-Chegadas!$G$6*LN(RAND()),2)","v":10.57},1349.9000000000003,"II",139.57000000000005,"I"]
[null,null,164,{"$f":"ROUND(-Chegadas!$D$6*LN(RAND()),2)","v":0.1},149.49000000000004,null,{"$f":"ROUND(-Chegadas!$G$6*LN(RAND()),2)","v":11.91},1361.8100000000004,"II",141.35000000000005,"I"]
[null,null,165,{"$f":"ROUND(-Chegadas!$D$6*LN(RAND()),2)","v":0.28999999999999998},149.78000000000003,null,{"$f":"ROUND(-Chegadas!$G$6*LN(RAND()),2)","v":4.59},1366.4000000000003,"II",141.93000000000006,"I"]
[null,null,166,{"$f":"ROUND(-Chegadas!$D$6*LN(RAND()),2)","v":0.6},150.38000000000002,null,{"$f":"ROUND(-Chegadas!$G$6*LN(RAND()),2)","v":0.22},1366.6200000000003,"II",142.82000000000005,"I"]
[null,null,167,{"$f":"ROUND(-Chegadas!$D$6*LN(RAND()),2)","v":0.99},151.37000000000003,null,{"$f":"ROUND(-Chegadas!$G$6*LN(RAND()),2)","v":5.97},1372.5900000000004,"II",142.84000000000006,"I"]
[null,null,168,{"$f":"ROUND(-Chegadas!$D$6*LN(RAND()),2)","v":0.53},151.90000000000003,null,{"$f":"ROUND(-Chegadas!$G$6*LN(RAND()),2)","v":7.46},1380.0500000000004,"II",145.00000000000006,"I"]
[null,null,169,{"$f":"ROUND(-Chegadas!$D$6*LN(RAND()),2)","v":4.16},156.06000000000003,null,{"$f":"ROUND(-Chegadas!$G$6*LN(RAND()),2)","v":7.35},1387.4000000000003,"II",145.17000000000004,"I"]
[null,null,170,{"$f":"ROUND(-Chegadas!$D$6*LN(RAND()),2)","v":0.33},156.39000000000004,null,{"$f":"ROUND(-Chegadas!$G$6*LN(RAND()),2)","v":4.5599999999999996},1391.9600000000003,"II",145.46000000000004,"I"]
[null,null,171,{"$f":"ROUND(-Chegadas!$D$6*LN(RAND()),2)","v":0.32},156.71000000000004,null,{"$f":"ROUND(-Chegadas!$G$6*LN(RAND()),2)","v":0.72},1392.6800000000003,"II",146.94000000000003,"I"]
[null,null,172,{"$f":"ROUND(-Chegadas!$D$6*LN(RAND()),2)","v":1.1299999999999999},157.84000000000003,null,{"$f":"ROUND(-Chegadas!$G$6*LN(RAND()),2)","v":2.35},1395.0300000000002,"II",147.31000000000003,"I"]
[null,null,173,{"$f":"ROUND(-Chegadas!$D$6*LN(RAND()),2)","v":1.48},159.32000000000002,null,{"$f":"ROUND(-Chegadas!$G$6*LN(RAND()),2)","v":15.19},1410.2200000000003,"II",148.9,"II"]
[null,null,174,{"$f":"ROUND(-Chegadas!$D$6*LN(RAND()),2)","v":0.88},160.20000000000002,null,{"$f":"ROUND(-Chegadas!$G$6*LN(RAND()),2)","v":6.25},1416.4700000000003,"II",149.39000000000004,"I"]
[null,null,175,{"$f":"ROUND(-Chegadas!$D$6*LN(RAND()),2)","v":0.4},160.60000000000002,null,{"$f":"ROUND(-Chegadas!$G$6*LN(RAND()),2)","v":6.17},1422.6400000000003,"II",149.49000000000004,"I"]
[null,null,176,{"$f":"ROUND(-Chegadas!$D$6*LN(RAND()),2)","v":1.1399999999999999},161.74,null,{"$f":"ROUND(-Chegadas!$G$6*LN(RAND()),2)","v":24.24},1446.8800000000003,"II",149.78000000000003,"I"]
[null,null,177,{"$f":"ROUND(-Chegadas!$D$6*LN(RAND()),2)","v":0.34},162.08000000000001,null,{"$f":"ROUND(-Chegadas!$G$6*LN(RAND()),2)","v":8.5399999999999991},1455.4200000000003,"II",150.38000000000002,"I"]
[null,null,178,{"$f":"ROUND(-Chegadas!$D$6*LN(RAND()),2)","v":0.17},162.25,null,{"$f":"ROUND(-Chegadas!$G$6*LN(RAND()),2)","v":12.67},1468.0900000000004,"II",151.37000000000003,"I"]
[null,null,179,{"$f":"ROUND(-Chegadas!$D$6*LN(RAND()),2)","v":1.0900000000000001},163.34,null,{"$f":"ROUND(-Chegadas!$G$6*LN(RAND()),2)","v":6.16},1474.2500000000005,"II",151.90000000000003,"I"]
[null,null,180,{"$f":"ROUND(-Chegadas!$D$6*LN(RAND()),2)","v":0.12},163.46,null,{"$f":"ROUND(-Chegadas!$G$6*LN(RAND()),2)","v":1.66},1475.9100000000005,"II",156.06000000000003,"I"]
[null,null,181,{"$f":"ROUND(-Chegadas!$D$6*LN(RAND()),2)","v":2.02},165.48000000000002,null,{"$f":"ROUND(-Chegadas!$G$6*LN(RAND()),2)","v":13.87},1489.7800000000004,"II",156.39000000000004,"I"]
[null,null,182,{"$f":"ROUND(-Chegadas!$D$6*LN(RAND()),2)","v":0.04},165.52,null,{"$f":"ROUND(-Chegadas!$G$6*LN(RAND()),2)","v":6.04},1495.8200000000004,"II",156.71000000000004,"I"]
[null,null,183,{"$f":"ROUND(-Chegadas!$D$6*LN(RAND()),2)","v":1.6},167.12,null,{"$f":"ROUND(-Chegadas!$G$6*LN(RAND()),2)","v":27.5},1523.3200000000004,"II",157.08000000000001,"II"]
[null,null,184,{"$f":"ROUND(-Chegadas!$D$6*LN(RAND()),2)","v":2.36},169.48000000000002,null,{"$f":"ROUND(-Chegadas!$G$6*LN(RAND()),2)","v":11.34},1534.6600000000003,"II",157.84000000000003,"I"]
[null,null,185,{"$f":"ROUND(-Chegadas!$D$6*LN(RAND()),2)","v":3.05},172.53000000000003,null,{"$f":"ROUND(-Chegadas!$G$6*LN(RAND()),2)","v":24.35},1559.0100000000002,"II",159.32000000000002,"I"]
[null,null,186,{"$f":"ROUND(-Chegadas!$D$6*LN(RAND()),2)","v":0.49},173.02000000000004,null,{"$f":"ROUND(-Chegadas!$G$6*LN(RAND()),2)","v":23.08},1582.0900000000001,"II",160.20000000000002,"I"]
[null,null,187,{"$f":"ROUND(-Chegadas!$D$6*LN(RAND()),2)","v":0.67},173.69000000000003,null,{"$f":"ROUND(-Chegadas!$G$6*LN(RAND()),2)","v":7.6},1589.69,"II",160.60000000000002,"I"]
[null,null,188,{"$f":"ROUND(-Chegadas!$D$6*LN(RAND()),2)","v":0.22},173.91000000000003,null,{"$f":"ROUND(-Chegadas!$G$6*LN(RAND()),2)","v":0.73},1590.42,"II",161.74,"I"]
[null,null,189,{"$f":"ROUND(-Chegadas!$D$6*LN(RAND()),2)","v":2.4300000000000002},176.34000000000003,null,{"$f":"ROUND(-Chegadas!$G$6*LN(RAND()),2)","v":6.07},1596.49,"II",162.08000000000001,"I"]
[null,null,190,{"$f":"ROUND(-Chegadas!$D$6*LN(RAND()),2)","v":0.09},176.43000000000004,null,{"$f":"ROUND(-Chegadas!$G$6*LN(RAND()),2)","v":10.45},1606.94,"II",162.25,"I"]
[null,null,191,{"$f":"ROUND(-Chegadas!$D$6*LN(RAND()),2)","v":1.57},178.00000000000003,null,{"$f":"ROUND(-Chegadas!$G$6*LN(RAND()),2)","v":2.57},1609.51,"II",163.34,"I"]
[null,null,192,{"$f":"ROUND(-Chegadas!$D$6*LN(RAND()),2)","v":1.57},179.57000000000002,null,{"$f":"ROUND(-Chegadas!$G$6*LN(RAND()),2)","v":3.3},1612.81,"II",163.46,"I"]
[null,null,193,{"$f":"ROUND(-Chegadas!$D$6*LN(RAND()),2)","v":2.71},182.28000000000003,null,{"$f":"ROUND(-Chegadas!$G$6*LN(RAND()),2)","v":1.37},1614.1799999999998,"II",{"$f":"SMALL($H$9:$H$1008,C201)","v":165.48000000000002},"I"]
[null,null,194,{"$f":"ROUND(-Chegadas!$D$6*LN(RAND()),2)","v":1.71},183.99000000000004,null,{"$f":"ROUND(-Chegadas!$G$6*LN(RAND()),2)","v":6.02},1620.1999999999998,"II",165.52,{"$f":"VLOOKUP(J202,$H$9:$I$1008,2,0)","v":"I"}]
[null,null,195,{"$f":"ROUND(-Chegadas!$D$6*LN(RAND()),2)","v":2.92},{"$f":"E202+D203","v":186.91000000000003},null,{"$f":"ROUND(-Chegadas!$G$6*LN(RAND()),2)","v":0.49},{"$f":"H202+G203","v":1620.6899999999998},"II",167.12,"I"]
[null,null,196,{"$f":"ROUND(-Chegadas!$D$6*LN(RAND()),2)","v":0.85},187.76000000000002,null,{"$f":"ROUND(-Chegadas!$G$6*LN(RAND()),2)","v":18.71},1639.3999999999999,"II",169.48000000000002,"I"]
[null,null,197,{"$f":"ROUND(-Chegadas!$D$6*LN(RAND()),2)","v":1.75},189.51000000000002,null,{"$f":"ROUND(-Chegadas!$G$6*LN(RAND()),2)","v":11.01},1650.4099999999999,"II",172.23000000000002,"II"]
[null,null,198,{"$f":"ROUND(-Chegadas!$D$6*LN(RAND()),2)","v":1.36},190.87000000000003,null,{"$f":"ROUND(-Chegadas!$G$6*LN(RAND()),2)","v":1.67},1652.08,"II",172.53000000000003,"I"]
[null,null,199,{"$f":"ROUND(-Chegadas!$D$6*LN(RAND()),2)","v":0.15},191.02000000000004,null,{"$f":"ROUND(-Chegadas!$G$6*LN(RAND()),2)","v":0.49},1652.57,"II",173.02000000000004,"I"]
[null,null,200,{"$f":"ROUND(-Chegadas!$D$6*LN(RAND()),2)","v":1.21},192.23000000000005,null,{"$f":"ROUND(-Chegadas!$G$6*LN(RAND()),2)","v":67.25},1719.82,"II",173.69000000000003,"I"]
[null,null,201,{"$f":"ROUND(-Chegadas!$D$6*LN(RAND()),2)","v":1.0900000000000001},193.32000000000005,null,{"$f":"ROUND(-Chegadas!$G$6*LN(RAND()),2)","v":9.1199999999999992},1728.9399999999998,"II",173.91000000000003,"I"]
[null,null,202,{"$f":"ROUND(-Chegadas!$D$6*LN(RAND()),2)","v":0.24},193.56000000000006,null,{"$f":"ROUND(-Chegadas!$G$6*LN(RAND()),2)","v":0.56000000000000005},1729.4999999999998,"II",176.34000000000003,"I"]
[null,null,203,{"$f":"ROUND(-Chegadas!$D$6*LN(RAND()),2)","v":1.62},195.18000000000006,null,{"$f":"ROUND(-Chegadas!$G$6*LN(RAND()),2)","v":14.42},1743.9199999999998,"II",176.43000000000004,"I"]
[null,null,204,{"$f":"ROUND(-Chegadas!$D$6*LN(RAND()),2)","v":0.01},195.19000000000005,null,{"$f":"ROUND(-Chegadas!$G$6*LN(RAND()),2)","v":23.33},1767.2499999999998,"II",178.00000000000003,"I"]
[null,null,205,{"$f":"ROUND(-Chegadas!$D$6*LN(RAND()),2)","v":0.2},195.39000000000004,null,{"$f":"ROUND(-Chegadas!$G$6*LN(RAND()),2)","v":25.32},1792.5699999999997,"II",178.07000000000002,"II"]
[null,null,206,{"$f":"ROUND(-Chegadas!$D$6*LN(RAND()),2)","v":1.93},197.32000000000005,null,{"$f":"ROUND(-Chegadas!$G$6*LN(RAND()),2)","v":4.1100000000000003},1796.6799999999996,"II",179.57000000000002,"I"]
[null,null,207,{"$f":"ROUND(-Chegadas!$D$6*LN(RAND()),2)","v":0.66},197.98000000000005,null,{"$f":"ROUND(-Chegadas!$G$6*LN(RAND()),2)","v":3.73},1800.4099999999996,"II",182.28000000000003,"I"]
[null,null,208,{"$f":"ROUND(-Chegadas!$D$6*LN(RAND()),2)","v":3.02},201.00000000000006,null,{"$f":"ROUND(-Chegadas!$G$6*LN(RAND()),2)","v":2.5299999999999998},1802.9399999999996,"II",183.99000000000004,"I"]
[null,null,209,{"$f":"ROUND(-Chegadas!$D$6*LN(RAND()),2)","v":0.74},201.74000000000007,null,{"$f":"ROUND(-Chegadas!$G$6*LN(RAND()),2)","v":7.71},1810.6499999999996,"II",186.91000000000003,"I"]
[null,null,210,{"$f":"ROUND(-Chegadas!$D$6*LN(RAND()),2)","v":0.62},202.36000000000007,null,{"$f":"ROUND(-Chegadas!$G$6*LN(RAND()),2)","v":3.97},1814.6199999999997,"II",187.76000000000002,"I"]
[null,null,211,{"$f":"ROUND(-Chegadas!$D$6*LN(RAND()),2)","v":0.4},202.76000000000008,null,{"$f":"ROUND(-Chegadas!$G$6*LN(RAND()),2)","v":0.26},1814.8799999999997,"II",189.51000000000002,"I"]
[null,null,212,{"$f":"ROUND(-Chegadas!$D$6*LN(RAND()),2)","v":2.16},204.92000000000007,null,{"$f":"ROUND(-Chegadas!$G$6*LN(RAND()),2)","v":25.07},1839.9499999999996,"II",190.87000000000003,"I"]
[null,null,213,{"$f":"ROUND(-Chegadas!$D$6*LN(RAND()),2)","v":0.9},205.82000000000008,null,{"$f":"ROUND(-Chegadas!$G$6*LN(RAND()),2)","v":2.89},1842.8399999999997,"II",191.02000000000004,"I"]
[null,null,214,{"$f":"ROUND(-Chegadas!$D$6*LN(RAND()),2)","v":0.11},205.93000000000009,null,{"$f":"ROUND(-Chegadas!$G$6*LN(RAND()),2)","v":9.81},1852.6499999999996,"II",191.42000000000002,"II"]
[null,null,215,{"$f":"ROUND(-Chegadas!$D$6*LN(RAND()),2)","v":0.01},205.94000000000008,null,{"$f":"ROUND(-Chegadas!$G$6*LN(RAND()),2)","v":7.98},1860.6299999999997,"II",192.23000000000005,"I"]
[null,null,216,{"$f":"ROUND(-Chegadas!$D$6*LN(RAND()),2)","v":2.72},208.66000000000008,null,{"$f":"ROUND(-Chegadas!$G$6*LN(RAND()),2)","v":0.34},1860.9699999999996,"II",193.32000000000005,"I"]
[null,null,217,{"$f":"ROUND(-Chegadas!$D$6*LN(RAND()),2)","v":0.12},208.78000000000009,null,{"$f":"ROUND(-Chegadas!$G$6*LN(RAND()),2)","v":9.7899999999999991},1870.7599999999995,"II",193.56000000000006,"I"]
[null,null,218,{"$f":"ROUND(-Chegadas!$D$6*LN(RAND()),2)","v":1.77},210.5500000000001,null,{"$f":"ROUND(-Chegadas!$G$6*LN(RAND()),2)","v":12.33},1883.0899999999995,"II",195.04000000000002,"II"]
[null,null,219,{"$f":"ROUND(-Chegadas!$D$6*LN(RAND()),2)","v":0.62},211.1700000000001,null,{"$f":"ROUND(-Chegadas!$G$6*LN(RAND()),2)","v":8.17},1891.2599999999995,"II",195.18000000000006,"I"]
[null,null,220,{"$f":"ROUND(-Chegadas!$D$6*LN(RAND()),2)","v":0.21},211.38000000000011,null,{"$f":"ROUND(-Chegadas!$G$6*LN(RAND()),2)","v":3.09},1894.3499999999995,"II",195.19000000000005,"I"]
[null,null,221,{"$f":"ROUND(-Chegadas!$D$6*LN(RAND()),2)","v":0.34},211.72000000000011,null,{"$f":"ROUND(-Chegadas!$G$6*LN(RAND()),2)","v":1.1200000000000001},1895.4699999999993,"II",195.39000000000004,"I"]
[null,null,222,{"$f":"ROUND(-Chegadas!$D$6*LN(RAND()),2)","v":5.05},216.77000000000012,null,{"$f":"ROUND(-Chegadas!$G$6*LN(RAND()),2)","v":14.66},1910.1299999999994,"II",197.32000000000005,"I"]
[null,null,223,{"$f":"ROUND(-Chegadas!$D$6*LN(RAND()),2)","v":1.31},218.08000000000013,null,{"$f":"ROUND(-Chegadas!$G$6*LN(RAND()),2)","v":0.88},1911.0099999999995,"II",197.49,"II"]
[null,null,224,{"$f":"ROUND(-Chegadas!$D$6*LN(RAND()),2)","v":1.25},219.33000000000013,null,{"$f":"ROUND(-Chegadas!$G$6*LN(RAND()),2)","v":0.54},1911.5499999999995,"II",197.98000000000005,"I"]
[null,null,225,{"$f":"ROUND(-Chegadas!$D$6*LN(RAND()),2)","v":3.09},222.42000000000013,null,{"$f":"ROUND(-Chegadas!$G$6*LN(RAND()),2)","v":7.28},1918.8299999999995,"II",201.00000000000006,"I"]
[null,null,226,{"$f":"ROUND(-Chegadas!$D$6*LN(RAND()),2)","v":0.28999999999999998},222.71000000000012,null,{"$f":"ROUND(-Chegadas!$G$6*LN(RAND()),2)","v":19.59},1938.4199999999994,"II",201.32000000000002,"II"]
[null,null,227,{"$f":"ROUND(-Chegadas!$D$6*LN(RAND()),2)","v":0.4},223.11000000000013,null,{"$f":"ROUND(-Chegadas!$G$6*LN(RAND()),2)","v":21.58},1959.9999999999993,"II",201.74000000000007,"I"]
[null,null,228,{"$f":"ROUND(-Chegadas!$D$6*LN(RAND()),2)","v":1.8},224.91000000000014,null,{"$f":"ROUND(-Chegadas!$G$6*LN(RAND()),2)","v":7.94},1967.9399999999994,"II",202.33,"II"]
[null,null,229,{"$f":"ROUND(-Chegadas!$D$6*LN(RAND()),2)","v":0.65},225.56000000000014,null,{"$f":"ROUND(-Chegadas!$G$6*LN(RAND()),2)","v":2.0699999999999998},1970.0099999999993,"II",202.36000000000007,"I"]
[null,null,230,{"$f":"ROUND(-Chegadas!$D$6*LN(RAND()),2)","v":0.18},225.74000000000015,null,{"$f":"ROUND(-Chegadas!$G$6*LN(RAND()),2)","v":7.29},1977.2999999999993,"II",202.76000000000008,"I"]
[null,null,231,{"$f":"ROUND(-Chegadas!$D$6*LN(RAND()),2)","v":0.92},226.66000000000014,null,{"$f":"ROUND(-Chegadas!$G$6*LN(RAND()),2)","v":18.84},1996.1399999999992,"II",204.92000000000007,"I"]
[null,null,232,{"$f":"ROUND(-Chegadas!$D$6*LN(RAND()),2)","v":0.32},226.98000000000013,null,{"$f":"ROUND(-Chegadas!$G$6*LN(RAND()),2)","v":10.99},2007.1299999999992,"II",205.82000000000008,"I"]
[null,null,233,{"$f":"ROUND(-Chegadas!$D$6*LN(RAND()),2)","v":1.47},228.45000000000013,null,{"$f":"ROUND(-Chegadas!$G$6*LN(RAND()),2)","v":0.71},2007.8399999999992,"II",205.93000000000009,"I"]
[null,null,234,{"$f":"ROUND(-Chegadas!$D$6*LN(RAND()),2)","v":1.36},229.81000000000014,null,{"$f":"ROUND(-Chegadas!$G$6*LN(RAND()),2)","v":15.54},2023.3799999999992,"II",205.94000000000008,"I"]
[null,null,235,{"$f":"ROUND(-Chegadas!$D$6*LN(RAND()),2)","v":0.18},229.99000000000015,null,{"$f":"ROUND(-Chegadas!$G$6*LN(RAND()),2)","v":7.58},2030.9599999999991,"II",208.66000000000008,"I"]
[null,null,236,{"$f":"ROUND(-Chegadas!$D$6*LN(RAND()),2)","v":1.55},231.54000000000016,null,{"$f":"ROUND(-Chegadas!$G$6*LN(RAND()),2)","v":1.68},2032.6399999999992,"II",208.78000000000009,"I"]
[null,null,237,{"$f":"ROUND(-Chegadas!$D$6*LN(RAND()),2)","v":1.17},232.71000000000015,null,{"$f":"ROUND(-Chegadas!$G$6*LN(RAND()),2)","v":5.1100000000000003},2037.7499999999991,"II",210.5500000000001,"I"]
[null,null,238,{"$f":"ROUND(-Chegadas!$D$6*LN(RAND()),2)","v":3.95},236.66000000000014,null,{"$f":"ROUND(-Chegadas!$G$6*LN(RAND()),2)","v":27.2},2064.9499999999989,"II",211.1700000000001,"I"]
[null,null,239,{"$f":"ROUND(-Chegadas!$D$6*LN(RAND()),2)","v":0.27},236.93000000000015,null,{"$f":"ROUND(-Chegadas!$G$6*LN(RAND()),2)","v":1.82},2066.7699999999991,"II",211.38000000000011,"I"]
[null,null,240,{"$f":"ROUND(-Chegadas!$D$6*LN(RAND()),2)","v":0.26},237.19000000000014,null,{"$f":"ROUND(-Chegadas!$G$6*LN(RAND()),2)","v":2.09},2068.8599999999992,"II",211.72000000000011,"I"]
[null,null,241,{"$f":"ROUND(-Chegadas!$D$6*LN(RAND()),2)","v":0.57999999999999996},237.77000000000015,null,{"$f":"ROUND(-Chegadas!$G$6*LN(RAND()),2)","v":17.45},2086.309999999999,"II",216.28,"II"]
[null,null,242,{"$f":"ROUND(-Chegadas!$D$6*LN(RAND()),2)","v":1.61},239.38000000000017,null,{"$f":"ROUND(-Chegadas!$G$6*LN(RAND()),2)","v":3.47},2089.7799999999988,"II",216.77000000000012,"I"]
[null,null,243,{"$f":"ROUND(-Chegadas!$D$6*LN(RAND()),2)","v":0.01},239.39000000000016,null,{"$f":"ROUND(-Chegadas!$G$6*LN(RAND()),2)","v":19.13},2108.9099999999989,"II",218.08000000000013,"I"]
[null,null,244,{"$f":"ROUND(-Chegadas!$D$6*LN(RAND()),2)","v":0.94},240.33000000000015,null,{"$f":"ROUND(-Chegadas!$G$6*LN(RAND()),2)","v":16.670000000000002},2125.579999999999,"II",218.47,"II"]
[null,null,245,{"$f":"ROUND(-Chegadas!$D$6*LN(RAND()),2)","v":0.21},240.54000000000016,null,{"$f":"ROUND(-Chegadas!$G$6*LN(RAND()),2)","v":7.65},2133.2299999999991,"II",219.33000000000013,"I"]
[null,null,246,{"$f":"ROUND(-Chegadas!$D$6*LN(RAND()),2)","v":0.94},241.48000000000016,null,{"$f":"ROUND(-Chegadas!$G$6*LN(RAND()),2)","v":3.33},2136.559999999999,"II",222.42000000000013,"I"]
[null,null,247,{"$f":"ROUND(-Chegadas!$D$6*LN(RAND()),2)","v":1.88},243.36000000000016,null,{"$f":"ROUND(-Chegadas!$G$6*LN(RAND()),2)","v":16.329999999999998},2152.889999999999,"II",222.71000000000012,"I"]
[null,null,248,{"$f":"ROUND(-Chegadas!$D$6*LN(RAND()),2)","v":0.37},243.73000000000016,null,{"$f":"ROUND(-Chegadas!$G$6*LN(RAND()),2)","v":4.93},2157.8199999999988,"II",223.11000000000013,"I"]
[null,null,249,{"$f":"ROUND(-Chegadas!$D$6*LN(RAND()),2)","v":0.53},244.26000000000016,null,{"$f":"ROUND(-Chegadas!$G$6*LN(RAND()),2)","v":4.54},2162.3599999999988,"II",224.91000000000014,"I"]
[null,null,250,{"$f":"ROUND(-Chegadas!$D$6*LN(RAND()),2)","v":0.52},244.78000000000017,null,{"$f":"ROUND(-Chegadas!$G$6*LN(RAND()),2)","v":22.8},2185.1599999999989,"II",225.56000000000014,"I"]
[null,null,251,{"$f":"ROUND(-Chegadas!$D$6*LN(RAND()),2)","v":0.33},245.11000000000018,null,{"$f":"ROUND(-Chegadas!$G$6*LN(RAND()),2)","v":1.32},2186.4799999999991,"II",225.74000000000015,"I"]
[null,null,252,{"$f":"ROUND(-Chegadas!$D$6*LN(RAND()),2)","v":3.52},248.63000000000019,null,{"$f":"ROUND(-Chegadas!$G$6*LN(RAND()),2)","v":9.16},2195.639999999999,"II",226.66000000000014,"I"]
[null,null,253,{"$f":"ROUND(-Chegadas!$D$6*LN(RAND()),2)","v":0.61},249.24000000000021,null,{"$f":"ROUND(-Chegadas!$G$6*LN(RAND()),2)","v":9.7100000000000009},2205.349999999999,"II",226.98000000000013,"I"]
[null,null,254,{"$f":"ROUND(-Chegadas!$D$6*LN(RAND()),2)","v":0.56000000000000005},249.80000000000021,null,{"$f":"ROUND(-Chegadas!$G$6*LN(RAND()),2)","v":10.07},2215.4199999999992,"II",228.45000000000013,"I"]
[null,null,255,{"$f":"ROUND(-Chegadas!$D$6*LN(RAND()),2)","v":0.99},250.79000000000022,null,{"$f":"ROUND(-Chegadas!$G$6*LN(RAND()),2)","v":5.14},2220.559999999999,"II",229.81000000000014,"I"]
[null,null,256,{"$f":"ROUND(-Chegadas!$D$6*LN(RAND()),2)","v":0.9},251.69000000000023,null,{"$f":"ROUND(-Chegadas!$G$6*LN(RAND()),2)","v":4.57},2225.1299999999992,"II",229.99000000000015,"I"]
[null,null,257,{"$f":"ROUND(-Chegadas!$D$6*LN(RAND()),2)","v":0.51},252.20000000000022,null,{"$f":"ROUND(-Chegadas!$G$6*LN(RAND()),2)","v":7.24},2232.369999999999,"II",{"$f":"SMALL($H$9:$H$1008,C265)","v":231.54000000000016},"I"]
[null,null,258,{"$f":"ROUND(-Chegadas!$D$6*LN(RAND()),2)","v":0.02},252.22000000000023,null,{"$f":"ROUND(-Chegadas!$G$6*LN(RAND()),2)","v":6.72},2239.0899999999988,"II",232.71000000000015,{"$f":"VLOOKUP(J266,$H$9:$I$1008,2,0)","v":"I"}]
[null,null,259,{"$f":"ROUND(-Chegadas!$D$6*LN(RAND()),2)","v":0.59},{"$f":"E266+D267","v":252.81000000000023},null,{"$f":"ROUND(-Chegadas!$G$6*LN(RAND()),2)","v":2.89},{"$f":"H266+G267","v":2241.9799999999987},"II",236.66000000000014,"I"]
[null,null,260,{"$f":"ROUND(-Chegadas!$D$6*LN(RAND()),2)","v":2.13},254.94000000000023,null,{"$f":"ROUND(-Chegadas!$G$6*LN(RAND()),2)","v":0.44},2242.4199999999987,"II",236.93000000000015,"I"]
[null,null,261,{"$f":"ROUND(-Chegadas!$D$6*LN(RAND()),2)","v":1.5},256.44000000000023,null,{"$f":"ROUND(-Chegadas!$G$6*LN(RAND()),2)","v":6.14},2248.5599999999986,"II",237.19000000000014,"I"]
[null,null,262,{"$f":"ROUND(-Chegadas!$D$6*LN(RAND()),2)","v":1.29},257.73000000000025,null,{"$f":"ROUND(-Chegadas!$G$6*LN(RAND()),2)","v":3.39},2251.9499999999985,"II",237.77000000000015,"I"]
[null,null,263,{"$f":"ROUND(-Chegadas!$D$6*LN(RAND()),2)","v":1.33},259.06000000000023,null,{"$f":"ROUND(-Chegadas!$G$6*LN(RAND()),2)","v":0.37},2252.3199999999983,"II",239.38000000000017,"I"]
[null,null,264,{"$f":"ROUND(-Chegadas!$D$6*LN(RAND()),2)","v":2.4300000000000002},261.49000000000024,null,{"$f":"ROUND(-Chegadas!$G$6*LN(RAND()),2)","v":20.81},2273.1299999999983,"II",239.39000000000016,"I"]
[null,null,265,{"$f":"ROUND(-Chegadas!$D$6*LN(RAND()),2)","v":1.1499999999999999},262.64000000000021,null,{"$f":"ROUND(-Chegadas!$G$6*LN(RAND()),2)","v":5.66},2278.7899999999981,"II",240.33000000000015,"I"]
[null,null,266,{"$f":"ROUND(-Chegadas!$D$6*LN(RAND()),2)","v":0.21},262.85000000000019,null,{"$f":"ROUND(-Chegadas!$G$6*LN(RAND()),2)","v":4.6399999999999997},2283.429999999998,"II",240.54000000000016,"I"]
[null,null,267,{"$f":"ROUND(-Chegadas!$D$6*LN(RAND()),2)","v":0.35},263.20000000000022,null,{"$f":"ROUND(-Chegadas!$G$6*LN(RAND()),2)","v":3.49},2286.9199999999978,"II",241.48000000000016,"I"]
[null,null,268,{"$f":"ROUND(-Chegadas!$D$6*LN(RAND()),2)","v":2.02},265.2200000000002,null,{"$f":"ROUND(-Chegadas!$G$6*LN(RAND()),2)","v":1.1100000000000001},2288.0299999999979,"II",243.36000000000016,"I"]
[null,null,269,{"$f":"ROUND(-Chegadas!$D$6*LN(RAND()),2)","v":4.03},269.25000000000017,null,{"$f":"ROUND(-Chegadas!$G$6*LN(RAND()),2)","v":7.59},2295.6199999999981,"II",243.73000000000016,"I"]
[null,null,270,{"$f":"ROUND(-Chegadas!$D$6*LN(RAND()),2)","v":2.15},271.40000000000015,null,{"$f":"ROUND(-Chegadas!$G$6*LN(RAND()),2)","v":10.36},2305.9799999999982,"II",244.26000000000016,"I"]
[null,null,271,{"$f":"ROUND(-Chegadas!$D$6*LN(RAND()),2)","v":0.83},272.23000000000013,null,{"$f":"ROUND(-Chegadas!$G$6*LN(RAND()),2)","v":15.41},2321.3899999999981,"II",244.78000000000017,"I"]
[null,null,272,{"$f":"ROUND(-Chegadas!$D$6*LN(RAND()),2)","v":0.19},272.42000000000013,null,{"$f":"ROUND(-Chegadas!$G$6*LN(RAND()),2)","v":8.52},2329.909999999998,"II",245.11000000000018,"I"]
[null,null,273,{"$f":"ROUND(-Chegadas!$D$6*LN(RAND()),2)","v":1.1499999999999999},273.57000000000011,null,{"$f":"ROUND(-Chegadas!$G$6*LN(RAND()),2)","v":12.25},2342.159999999998,"II",248.63000000000019,"I"]
[null,null,274,{"$f":"ROUND(-Chegadas!$D$6*LN(RAND()),2)","v":0.08},273.65000000000009,null,{"$f":"ROUND(-Chegadas!$G$6*LN(RAND()),2)","v":16.57},2358.7299999999982,"II",249.24000000000021,"I"]
[null,null,275,{"$f":"ROUND(-Chegadas!$D$6*LN(RAND()),2)","v":0.18},273.8300000000001,null,{"$f":"ROUND(-Chegadas!$G$6*LN(RAND()),2)","v":28.14},2386.8699999999981,"II",249.80000000000021,"I"]
[null,null,276,{"$f":"ROUND(-Chegadas!$D$6*LN(RAND()),2)","v":0.32},274.15000000000009,null,{"$f":"ROUND(-Chegadas!$G$6*LN(RAND()),2)","v":11.06},2397.929999999998,"II",250.79000000000022,"I"]
[null,null,277,{"$f":"ROUND(-Chegadas!$D$6*LN(RAND()),2)","v":0.02},274.17000000000007,null,{"$f":"ROUND(-Chegadas!$G$6*LN(RAND()),2)","v":12.57},2410.4999999999982,"II",251.69000000000023,"I"]
[null,null,278,{"$f":"ROUND(-Chegadas!$D$6*LN(RAND()),2)","v":1.78},275.95000000000005,null,{"$f":"ROUND(-Chegadas!$G$6*LN(RAND()),2)","v":7.24},2417.739999999998,"II",252.20000000000022,"I"]
[null,null,279,{"$f":"ROUND(-Chegadas!$D$6*LN(RAND()),2)","v":0.03},275.98,null,{"$f":"ROUND(-Chegadas!$G$6*LN(RAND()),2)","v":11.53},2429.2699999999982,"II",252.22000000000023,"I"]
[null,null,280,{"$f":"ROUND(-Chegadas!$D$6*LN(RAND()),2)","v":0.65},276.63,null,{"$f":"ROUND(-Chegadas!$G$6*LN(RAND()),2)","v":16.2},2445.469999999998,"II",252.81000000000023,"I"]
[null,null,281,{"$f":"ROUND(-Chegadas!$D$6*LN(RAND()),2)","v":0.11},276.74,null,{"$f":"ROUND(-Chegadas!$G$6*LN(RAND()),2)","v":3.56},2449.0299999999979,"II",254.94000000000023,"I"]
[null,null,282,{"$f":"ROUND(-Chegadas!$D$6*LN(RAND()),2)","v":2.2000000000000002},278.94,null,{"$f":"ROUND(-Chegadas!$G$6*LN(RAND()),2)","v":8.2200000000000006},2457.2499999999977,"II",256.44000000000023,"I"]
[null,null,283,{"$f":"ROUND(-Chegadas!$D$6*LN(RAND()),2)","v":5.69},284.63,null,{"$f":"ROUND(-Chegadas!$G$6*LN(RAND()),2)","v":6.27},2463.5199999999977,"II",257.73000000000025,"I"]
[null,null,284,{"$f":"ROUND(-Chegadas!$D$6*LN(RAND()),2)","v":1.03},285.65999999999997,null,{"$f":"ROUND(-Chegadas!$G$6*LN(RAND()),2)","v":7.72},2471.2399999999975,"II",259.06000000000023,"I"]
[null,null,285,{"$f":"ROUND(-Chegadas!$D$6*LN(RAND()),2)","v":0.16},285.82,null,{"$f":"ROUND(-Chegadas!$G$6*LN(RAND()),2)","v":15.28},2486.5199999999977,"II",261.49000000000024,"I"]
[null,null,286,{"$f":"ROUND(-Chegadas!$D$6*LN(RAND()),2)","v":0.35},286.17,null,{"$f":"ROUND(-Chegadas!$G$6*LN(RAND()),2)","v":9.2100000000000009},2495.7299999999977,"II",262.64000000000021,"I"]
[null,null,287,{"$f":"ROUND(-Chegadas!$D$6*LN(RAND()),2)","v":0.77},286.94,null,{"$f":"ROUND(-Chegadas!$G$6*LN(RAND()),2)","v":3.08},2498.8099999999977,"II",262.85000000000019,"I"]
[null,null,288,{"$f":"ROUND(-Chegadas!$D$6*LN(RAND()),2)","v":0.44},287.38,null,{"$f":"ROUND(-Chegadas!$G$6*LN(RAND()),2)","v":20.86},2519.6699999999978,"II",263.20000000000022,"I"]
[null,null,289,{"$f":"ROUND(-Chegadas!$D$6*LN(RAND()),2)","v":0.6},287.98,null,{"$f":"ROUND(-Chegadas!$G$6*LN(RAND()),2)","v":7.61},2527.2799999999979,"II",265.2200000000002,"I"]
[null,null,290,{"$f":"ROUND(-Chegadas!$D$6*LN(RAND()),2)","v":0.04},288.02000000000004,null,{"$f":"ROUND(-Chegadas!$G$6*LN(RAND()),2)","v":12.96},2540.239999999998,"II",269.25000000000017,"I"]
[null,null,291,{"$f":"ROUND(-Chegadas!$D$6*LN(RAND()),2)","v":2.46},290.48,null,{"$f":"ROUND(-Chegadas!$G$6*LN(RAND()),2)","v":13.63},2553.8699999999981,"II",270.57,"II"]
[null,null,292,{"$f":"ROUND(-Chegadas!$D$6*LN(RAND()),2)","v":0.24},290.72000000000003,null,{"$f":"ROUND(-Chegadas!$G$6*LN(RAND()),2)","v":0.39},2554.2599999999979,"II",271.40000000000015,"I"]
[null,null,293,{"$f":"ROUND(-Chegadas!$D$6*LN(RAND()),2)","v":2.08},292.8,null,{"$f":"ROUND(-Chegadas!$G$6*LN(RAND()),2)","v":10.97},2565.2299999999977,"II",272.23000000000013,"I"]
[null,null,294,{"$f":"ROUND(-Chegadas!$D$6*LN(RAND()),2)","v":0.05},292.85000000000002,null,{"$f":"ROUND(-Chegadas!$G$6*LN(RAND()),2)","v":0.56999999999999995},2565.7999999999979,"II",272.42000000000013,"I"]
[null,null,295,{"$f":"ROUND(-Chegadas!$D$6*LN(RAND()),2)","v":0.4},293.25,null,{"$f":"ROUND(-Chegadas!$G$6*LN(RAND()),2)","v":1.64},2567.4399999999978,"II",273.57000000000011,"I"]
[null,null,296,{"$f":"ROUND(-Chegadas!$D$6*LN(RAND()),2)","v":1.48},294.73,null,{"$f":"ROUND(-Chegadas!$G$6*LN(RAND()),2)","v":0.43},2567.8699999999976,"II",273.65000000000009,"I"]
[null,null,297,{"$f":"ROUND(-Chegadas!$D$6*LN(RAND()),2)","v":0.15},294.88,null,{"$f":"ROUND(-Chegadas!$G$6*LN(RAND()),2)","v":2.57},2570.4399999999978,"II",273.8300000000001,"I"]
[null,null,298,{"$f":"ROUND(-Chegadas!$D$6*LN(RAND()),2)","v":1.36},296.24,null,{"$f":"ROUND(-Chegadas!$G$6*LN(RAND()),2)","v":3.48},2573.9199999999978,"II",274.15000000000009,"I"]
[null,null,299,{"$f":"ROUND(-Chegadas!$D$6*LN(RAND()),2)","v":3.14},299.38,null,{"$f":"ROUND(-Chegadas!$G$6*LN(RAND()),2)","v":33.1},2607.0199999999977,"II",274.17000000000007,"I"]
[null,null,300,{"$f":"ROUND(-Chegadas!$D$6*LN(RAND()),2)","v":1.57},300.95,null,{"$f":"ROUND(-Chegadas!$G$6*LN(RAND()),2)","v":3.23},2610.2499999999977,"II",274.88,"II"]
[null,null,301,{"$f":"ROUND(-Chegadas!$D$6*LN(RAND()),2)","v":0.25},301.2,null,{"$f":"ROUND(-Chegadas!$G$6*LN(RAND()),2)","v":6.05},2616.2999999999979,"II",275.8,"II"]
[null,null,302,{"$f":"ROUND(-Chegadas!$D$6*LN(RAND()),2)","v":1.1399999999999999},302.33999999999997,null,{"$f":"ROUND(-Chegadas!$G$6*LN(RAND()),2)","v":9.4},2625.699999999998,"II",275.95000000000005,"I"]
[null,null,303,{"$f":"ROUND(-Chegadas!$D$6*LN(RAND()),2)","v":0.54},302.88,null,{"$f":"ROUND(-Chegadas!$G$6*LN(RAND()),2)","v":18.46},2644.159999999998,"II",275.98,"I"]
[null,null,304,{"$f":"ROUND(-Chegadas!$D$6*LN(RAND()),2)","v":0.39},303.27,null,{"$f":"ROUND(-Chegadas!$G$6*LN(RAND()),2)","v":2.76},2646.9199999999983,"II",276.63,"I"]
[null,null,305,{"$f":"ROUND(-Chegadas!$D$6*LN(RAND()),2)","v":0.65},303.91999999999996,null,{"$f":"ROUND(-Chegadas!$G$6*LN(RAND()),2)","v":10.19},2657.1099999999983,"II",276.74,"I"]
[null,null,306,{"$f":"ROUND(-Chegadas!$D$6*LN(RAND()),2)","v":2.52},306.43999999999994,null,{"$f":"ROUND(-Chegadas!$G$6*LN(RAND()),2)","v":16.260000000000002},2673.3699999999985,"II",278.94,"I"]
[null,null,307,{"$f":"ROUND(-Chegadas!$D$6*LN(RAND()),2)","v":1.97},308.40999999999997,null,{"$f":"ROUND(-Chegadas!$G$6*LN(RAND()),2)","v":3.2},2676.5699999999983,"II",284.63,"I"]
[null,null,308,{"$f":"ROUND(-Chegadas!$D$6*LN(RAND()),2)","v":0.23},308.64,null,{"$f":"ROUND(-Chegadas!$G$6*LN(RAND()),2)","v":6.3},2682.8699999999985,"II",285.65999999999997,"I"]
[null,null,309,{"$f":"ROUND(-Chegadas!$D$6*LN(RAND()),2)","v":0.26},308.89999999999998,null,{"$f":"ROUND(-Chegadas!$G$6*LN(RAND()),2)","v":2.83},2685.6999999999985,"II",285.82,"I"]
[null,null,310,{"$f":"ROUND(-Chegadas!$D$6*LN(RAND()),2)","v":2.36},311.26,null,{"$f":"ROUND(-Chegadas!$G$6*LN(RAND()),2)","v":7.54},2693.2399999999984,"II",286.17,"I"]
[null,null,311,{"$f":"ROUND(-Chegadas!$D$6*LN(RAND()),2)","v":3.04},314.3,null,{"$f":"ROUND(-Chegadas!$G$6*LN(RAND()),2)","v":8.4499999999999993},2701.6899999999982,"II",286.94,"I"]
[null,null,312,{"$f":"ROUND(-Chegadas!$D$6*LN(RAND()),2)","v":7.0000000000000007E-2},314.37,null,{"$f":"ROUND(-Chegadas!$G$6*LN(RAND()),2)","v":3.6},2705.2899999999981,"II",287.38,"I"]
[null,null,313,{"$f":"ROUND(-Chegadas!$D$6*LN(RAND()),2)","v":1.25},315.62,null,{"$f":"ROUND(-Chegadas!$G$6*LN(RAND()),2)","v":10.63},2715.9199999999983,"II",287.98,"I"]
[null,null,314,{"$f":"ROUND(-Chegadas!$D$6*LN(RAND()),2)","v":0.88},316.5,null,{"$f":"ROUND(-Chegadas!$G$6*LN(RAND()),2)","v":8.4700000000000006},2724.3899999999981,"II",288.02000000000004,"I"]
[null,null,315,{"$f":"ROUND(-Chegadas!$D$6*LN(RAND()),2)","v":1.57},318.07,null,{"$f":"ROUND(-Chegadas!$G$6*LN(RAND()),2)","v":0.95},2725.3399999999979,"II",290.48,"I"]
[null,null,316,{"$f":"ROUND(-Chegadas!$D$6*LN(RAND()),2)","v":0.36},318.43,null,{"$f":"ROUND(-Chegadas!$G$6*LN(RAND()),2)","v":0.77},2726.1099999999979,"II",290.72000000000003,"I"]
[null,null,317,{"$f":"ROUND(-Chegadas!$D$6*LN(RAND()),2)","v":5.94},324.37,null,{"$f":"ROUND(-Chegadas!$G$6*LN(RAND()),2)","v":2.25},2728.3599999999979,"II",292.8,"I"]
[null,null,318,{"$f":"ROUND(-Chegadas!$D$6*LN(RAND()),2)","v":1.38},325.75,null,{"$f":"ROUND(-Chegadas!$G$6*LN(RAND()),2)","v":17.66},2746.0199999999977,"II",292.85000000000002,"I"]
[null,null,319,{"$f":"ROUND(-Chegadas!$D$6*LN(RAND()),2)","v":0.2},325.95,null,{"$f":"ROUND(-Chegadas!$G$6*LN(RAND()),2)","v":4.6100000000000003},2750.6299999999978,"II",293.25,"I"]
[null,null,320,{"$f":"ROUND(-Chegadas!$D$6*LN(RAND()),2)","v":0.04},325.99,null,{"$f":"ROUND(-Chegadas!$G$6*LN(RAND()),2)","v":1.86},2752.489999999998,"II",294.73,"I"]
[null,null,321,{"$f":"ROUND(-Chegadas!$D$6*LN(RAND()),2)","v":0.75},326.74,null,{"$f":"ROUND(-Chegadas!$G$6*LN(RAND()),2)","v":3.92},2756.409999999998,"II",{"$f":"SMALL($H$9:$H$1008,C329)","v":294.88},"I"]
[null,null,322,{"$f":"ROUND(-Chegadas!$D$6*LN(RAND()),2)","v":1.1399999999999999},327.88,null,{"$f":"ROUND(-Chegadas!$G$6*LN(RAND()),2)","v":4.0199999999999996},2760.429999999998,"II",296.24,{"$f":"VLOOKUP(J330,$H$9:$I$1008,2,0)","v":"I"}]
[null,null,323,{"$f":"ROUND(-Chegadas!$D$6*LN(RAND()),2)","v":2.5099999999999998},{"$f":"E330+D331","v":330.39},null,{"$f":"ROUND(-Chegadas!$G$6*LN(RAND()),2)","v":9.01},{"$f":"H330+G331","v":2769.4399999999982},"II",297.39,"II"]
[null,null,324,{"$f":"ROUND(-Chegadas!$D$6*LN(RAND()),2)","v":0.84},331.22999999999996,null,{"$f":"ROUND(-Chegadas!$G$6*LN(RAND()),2)","v":5.76},2775.1999999999985,"II",299.38,"I"]
[null,null,325,{"$f":"ROUND(-Chegadas!$D$6*LN(RAND()),2)","v":1.71},332.93999999999994,null,{"$f":"ROUND(-Chegadas!$G$6*LN(RAND()),2)","v":7.44},2782.6399999999985,"II",300.95,"I"]
[null,null,326,{"$f":"ROUND(-Chegadas!$D$6*LN(RAND()),2)","v":0.45},333.38999999999993,null,{"$f":"ROUND(-Chegadas!$G$6*LN(RAND()),2)","v":4.6100000000000003},2787.2499999999986,"II",301.2,"I"]
[null,null,327,{"$f":"ROUND(-Chegadas!$D$6*LN(RAND()),2)","v":0.37},333.75999999999993,null,{"$f":"ROUND(-Chegadas!$G$6*LN(RAND()),2)","v":5.97},2793.2199999999984,"II",302.33999999999997,"I"]
[null,null,328,{"$f":"ROUND(-Chegadas!$D$6*LN(RAND()),2)","v":0.11},333.86999999999995,null,{"$f":"ROUND(-Chegadas!$G$6*LN(RAND()),2)","v":9.61},2802.8299999999986,"II",302.36,"II"]
[null,null,329,{"$f":"ROUND(-Chegadas!$D$6*LN(RAND()),2)","v":0.85},334.71999999999997,null,{"$f":"ROUND(-Chegadas!$G$6*LN(RAND()),2)","v":2.67},2805.4999999999986,"II",302.88,"I"]
[null,null,330,{"$f":"ROUND(-Chegadas!$D$6*LN(RAND()),2)","v":0.31},335.03,null,{"$f":"ROUND(-Chegadas!$G$6*LN(RAND()),2)","v":0.4},2805.8999999999987,"II",303.27,"I"]
[null,null,331,{"$f":"ROUND(-Chegadas!$D$6*LN(RAND()),2)","v":0.96},335.98999999999995,null,{"$f":"ROUND(-Chegadas!$G$6*LN(RAND()),2)","v":2.84},2808.7399999999989,"II",303.91999999999996,"I"]
[null,null,332,{"$f":"ROUND(-Chegadas!$D$6*LN(RAND()),2)","v":0.21},336.19999999999993,null,{"$f":"ROUND(-Chegadas!$G$6*LN(RAND()),2)","v":12.54},2821.2799999999988,"II",306.43999999999994,"I"]
[null,null,333,{"$f":"ROUND(-Chegadas!$D$6*LN(RAND()),2)","v":0.25},336.44999999999993,null,{"$f":"ROUND(-Chegadas!$G$6*LN(RAND()),2)","v":6.77},2828.0499999999988,"II",308.40999999999997,"I"]
[null,null,334,{"$f":"ROUND(-Chegadas!$D$6*LN(RAND()),2)","v":0.36},336.80999999999995,null,{"$f":"ROUND(-Chegadas!$G$6*LN(RAND()),2)","v":0.43},2828.4799999999987,"II",308.64,"I"]
[null,null,335,{"$f":"ROUND(-Chegadas!$D$6*LN(RAND()),2)","v":0.93},337.73999999999995,null,{"$f":"ROUND(-Chegadas!$G$6*LN(RAND()),2)","v":3.74},2832.2199999999984,"II",308.89999999999998,"I"]
[null,null,336,{"$f":"ROUND(-Chegadas!$D$6*LN(RAND()),2)","v":0.34},338.07999999999993,null,{"$f":"ROUND(-Chegadas!$G$6*LN(RAND()),2)","v":10.84},2843.0599999999986,"II",311.26,"I"]
[null,null,337,{"$f":"ROUND(-Chegadas!$D$6*LN(RAND()),2)","v":0.09},338.1699999999999,null,{"$f":"ROUND(-Chegadas!$G$6*LN(RAND()),2)","v":5.87},2848.9299999999985,"II",312.37,"II"]
[null,null,338,{"$f":"ROUND(-Chegadas!$D$6*LN(RAND()),2)","v":1.73},339.89999999999992,null,{"$f":"ROUND(-Chegadas!$G$6*LN(RAND()),2)","v":2.81},2851.7399999999984,"II",313.87,"II"]
[null,null,339,{"$f":"ROUND(-Chegadas!$D$6*LN(RAND()),2)","v":1.64},341.53999999999991,null,{"$f":"ROUND(-Chegadas!$G$6*LN(RAND()),2)","v":4.49},2856.2299999999982,"II",314.3,"I"]
[null,null,340,{"$f":"ROUND(-Chegadas!$D$6*LN(RAND()),2)","v":0.99},342.52999999999992,null,{"$f":"ROUND(-Chegadas!$G$6*LN(RAND()),2)","v":0.63},2856.8599999999983,"II",314.37,"I"]
[null,null,341,{"$f":"ROUND(-Chegadas!$D$6*LN(RAND()),2)","v":0.85},343.37999999999994,null,{"$f":"ROUND(-Chegadas!$G$6*LN(RAND()),2)","v":11.22},2868.0799999999981,"II",315.62,"I"]
[null,null,342,{"$f":"ROUND(-Chegadas!$D$6*LN(RAND()),2)","v":0.59},343.96999999999991,null,{"$f":"ROUND(-Chegadas!$G$6*LN(RAND()),2)","v":22.99},2891.0699999999979,"II",316.5,"I"]
[null,null,343,{"$f":"ROUND(-Chegadas!$D$6*LN(RAND()),2)","v":1.28},345.24999999999989,null,{"$f":"ROUND(-Chegadas!$G$6*LN(RAND()),2)","v":10.39},2901.4599999999978,"II",318.07,"I"]
[null,null,344,{"$f":"ROUND(-Chegadas!$D$6*LN(RAND()),2)","v":0.47},345.71999999999991,null,{"$f":"ROUND(-Chegadas!$G$6*LN(RAND()),2)","v":5.52},2906.9799999999977,"II",318.43,"I"]
[null,null,345,{"$f":"ROUND(-Chegadas!$D$6*LN(RAND()),2)","v":0.88},346.59999999999991,null,{"$f":"ROUND(-Chegadas!$G$6*LN(RAND()),2)","v":8.9600000000000009},2915.9399999999978,"II",322.09000000000003,"II"]
[null,null,346,{"$f":"ROUND(-Chegadas!$D$6*LN(RAND()),2)","v":0.04},346.63999999999993,null,{"$f":"ROUND(-Chegadas!$G$6*LN(RAND()),2)","v":25.09},2941.0299999999979,"II",324.09000000000003,"II"]
[null,null,347,{"$f":"ROUND(-Chegadas!$D$6*LN(RAND()),2)","v":2.88},349.51999999999992,null,{"$f":"ROUND(-Chegadas!$G$6*LN(RAND()),2)","v":2.02},2943.0499999999979,"II",324.37,"I"]
[null,null,348,{"$f":"ROUND(-Chegadas!$D$6*LN(RAND()),2)","v":0.66},350.17999999999995,null,{"$f":"ROUND(-Chegadas!$G$6*LN(RAND()),2)","v":5.62},2948.6699999999978,"II",325.75,"I"]
[null,null,349,{"$f":"ROUND(-Chegadas!$D$6*LN(RAND()),2)","v":1.0900000000000001},351.26999999999992,null,{"$f":"ROUND(-Chegadas!$G$6*LN(RAND()),2)","v":2.02},2950.6899999999978,"II",325.95,"I"]
[null,null,350,{"$f":"ROUND(-Chegadas!$D$6*LN(RAND()),2)","v":0.8},352.06999999999994,null,{"$f":"ROUND(-Chegadas!$G$6*LN(RAND()),2)","v":6.13},2956.8199999999979,"II",325.99,"I"]
[null,null,351,{"$f":"ROUND(-Chegadas!$D$6*LN(RAND()),2)","v":1.22},353.28999999999996,null,{"$f":"ROUND(-Chegadas!$G$6*LN(RAND()),2)","v":10.7},2967.5199999999977,"II",326.24,"II"]
[null,null,352,{"$f":"ROUND(-Chegadas!$D$6*LN(RAND()),2)","v":1.27},354.55999999999995,null,{"$f":"ROUND(-Chegadas!$G$6*LN(RAND()),2)","v":0.42},2967.9399999999978,"II",326.74,"I"]
[null,null,353,{"$f":"ROUND(-Chegadas!$D$6*LN(RAND()),2)","v":2.2000000000000002},356.75999999999993,null,{"$f":"ROUND(-Chegadas!$G$6*LN(RAND()),2)","v":4.97},2972.9099999999976,"II",327.88,"I"]
[null,null,354,{"$f":"ROUND(-Chegadas!$D$6*LN(RAND()),2)","v":0.52},357.27999999999992,null,{"$f":"ROUND(-Chegadas!$G$6*LN(RAND()),2)","v":10.24},2983.1499999999974,"II",330.02,"II"]
[null,null,355,{"$f":"ROUND(-Chegadas!$D$6*LN(RAND()),2)","v":0.48},357.75999999999993,null,{"$f":"ROUND(-Chegadas!$G$6*LN(RAND()),2)","v":3.76},2986.9099999999976,"II",330.39,"I"]
[null,null,356,{"$f":"ROUND(-Chegadas!$D$6*LN(RAND()),2)","v":0.41},358.16999999999996,null,{"$f":"ROUND(-Chegadas!$G$6*LN(RAND()),2)","v":19.899999999999999},3006.8099999999977,"II",331.22999999999996,"I"]
[null,null,357,{"$f":"ROUND(-Chegadas!$D$6*LN(RAND()),2)","v":0.45},358.61999999999995,null,{"$f":"ROUND(-Chegadas!$G$6*LN(RAND()),2)","v":4.21},3011.0199999999977,"II",332.93999999999994,"I"]
[null,null,358,{"$f":"ROUND(-Chegadas!$D$6*LN(RAND()),2)","v":0.47},359.09,null,{"$f":"ROUND(-Chegadas!$G$6*LN(RAND()),2)","v":10.14},3021.1599999999976,"II",333.38999999999993,"I"]
[null,null,359,{"$f":"ROUND(-Chegadas!$D$6*LN(RAND()),2)","v":0.3},359.39,null,{"$f":"ROUND(-Chegadas!$G$6*LN(RAND()),2)","v":3.74},3024.8999999999974,"II",333.75999999999993,"I"]
[null,null,360,{"$f":"ROUND(-Chegadas!$D$6*LN(RAND()),2)","v":0.2},359.59,null,{"$f":"ROUND(-Chegadas!$G$6*LN(RAND()),2)","v":4.29},3029.1899999999973,"II",333.86999999999995,"I"]
[null,null,361,{"$f":"ROUND(-Chegadas!$D$6*LN(RAND()),2)","v":0.35},359.94,null,{"$f":"ROUND(-Chegadas!$G$6*LN(RAND()),2)","v":3.95},3033.1399999999971,"II",334.06,"II"]
[null,null,362,{"$f":"ROUND(-Chegadas!$D$6*LN(RAND()),2)","v":0.46},360.4,null,{"$f":"ROUND(-Chegadas!$G$6*LN(RAND()),2)","v":12.81},3045.9499999999971,"II",334.71999999999997,"I"]
[null,null,363,{"$f":"ROUND(-Chegadas!$D$6*LN(RAND()),2)","v":0.27},360.66999999999996,null,{"$f":"ROUND(-Chegadas!$G$6*LN(RAND()),2)","v":12.61},3058.5599999999972,"II",335.03,"I"]
[null,null,364,{"$f":"ROUND(-Chegadas!$D$6*LN(RAND()),2)","v":0.53},361.19999999999993,null,{"$f":"ROUND(-Chegadas!$G$6*LN(RAND()),2)","v":6.02},3064.5799999999972,"II",335.98999999999995,"I"]
[null,null,365,{"$f":"ROUND(-Chegadas!$D$6*LN(RAND()),2)","v":0.64},361.83999999999992,null,{"$f":"ROUND(-Chegadas!$G$6*LN(RAND()),2)","v":1.52},3066.0999999999972,"II",336.19999999999993,"I"]
[null,null,366,{"$f":"ROUND(-Chegadas!$D$6*LN(RAND()),2)","v":0.88},362.71999999999991,null,{"$f":"ROUND(-Chegadas!$G$6*LN(RAND()),2)","v":1.54},3067.6399999999971,"II",336.44999999999993,"I"]
[null,null,367,{"$f":"ROUND(-Chegadas!$D$6*LN(RAND()),2)","v":0.93},363.64999999999992,null,{"$f":"ROUND(-Chegadas!$G$6*LN(RAND()),2)","v":7.27},3074.9099999999971,"II",336.80999999999995,"I"]
[null,null,368,{"$f":"ROUND(-Chegadas!$D$6*LN(RAND()),2)","v":0.18},363.82999999999993,null,{"$f":"ROUND(-Chegadas!$G$6*LN(RAND()),2)","v":0.36},3075.2699999999973,"II",336.86,"II"]
[null,null,369,{"$f":"ROUND(-Chegadas!$D$6*LN(RAND()),2)","v":0.15},363.9799999999999,null,{"$f":"ROUND(-Chegadas!$G$6*LN(RAND()),2)","v":7.43},3082.6999999999971,"II",337.73999999999995,"I"]
[null,null,370,{"$f":"ROUND(-Chegadas!$D$6*LN(RAND()),2)","v":0.44},364.4199999999999,null,{"$f":"ROUND(-Chegadas!$G$6*LN(RAND()),2)","v":10.56},3093.259999999997,"II",338.07999999999993,"I"]
[null,null,371,{"$f":"ROUND(-Chegadas!$D$6*LN(RAND()),2)","v":1.33},365.74999999999989,null,{"$f":"ROUND(-Chegadas!$G$6*LN(RAND()),2)","v":20.239999999999998},3113.4999999999968,"II",338.1699999999999,"I"]
[null,null,372,{"$f":"ROUND(-Chegadas!$D$6*LN(RAND()),2)","v":2.34},368.08999999999986,null,{"$f":"ROUND(-Chegadas!$G$6*LN(RAND()),2)","v":4.2300000000000004},3117.7299999999968,"II",339.89999999999992,"I"]
[null,null,373,{"$f":"ROUND(-Chegadas!$D$6*LN(RAND()),2)","v":4.41},372.49999999999989,null,{"$f":"ROUND(-Chegadas!$G$6*LN(RAND()),2)","v":28.84},3146.569999999997,"II",341.53999999999991,"I"]
[null,null,374,{"$f":"ROUND(-Chegadas!$D$6*LN(RAND()),2)","v":1.33},373.82999999999987,null,{"$f":"ROUND(-Chegadas!$G$6*LN(RAND()),2)","v":3.69},3150.259999999997,"II",342.52999999999992,"I"]
[null,null,375,{"$f":"ROUND(-Chegadas!$D$6*LN(RAND()),2)","v":0.77},374.59999999999985,null,{"$f":"ROUND(-Chegadas!$G$6*LN(RAND()),2)","v":6.83},3157.089999999997,"II",343.25,"II"]
[null,null,376,{"$f":"ROUND(-Chegadas!$D$6*LN(RAND()),2)","v":0.65},375.24999999999983,null,{"$f":"ROUND(-Chegadas!$G$6*LN(RAND()),2)","v":24.61},3181.6999999999971,"II",343.37999999999994,"I"]
[null,null,377,{"$f":"ROUND(-Chegadas!$D$6*LN(RAND()),2)","v":0.38},375.62999999999982,null,{"$f":"ROUND(-Chegadas!$G$6*LN(RAND()),2)","v":12.38},3194.0799999999972,"II",343.96999999999991,"I"]
[null,null,378,{"$f":"ROUND(-Chegadas!$D$6*LN(RAND()),2)","v":0.75},376.37999999999982,null,{"$f":"ROUND(-Chegadas!$G$6*LN(RAND()),2)","v":5.6},3199.6799999999971,"II",345.24999999999989,"I"]
[null,null,379,{"$f":"ROUND(-Chegadas!$D$6*LN(RAND()),2)","v":2.1},378.47999999999985,null,{"$f":"ROUND(-Chegadas!$G$6*LN(RAND()),2)","v":3.21},3202.8899999999971,"II",345.71999999999991,"I"]
[null,null,380,{"$f":"ROUND(-Chegadas!$D$6*LN(RAND()),2)","v":0.81},379.28999999999985,null,{"$f":"ROUND(-Chegadas!$G$6*LN(RAND()),2)","v":13.47},3216.3599999999969,"II",346.59999999999991,"I"]
[null,null,381,{"$f":"ROUND(-Chegadas!$D$6*LN(RAND()),2)","v":0.31},379.59999999999985,null,{"$f":"ROUND(-Chegadas!$G$6*LN(RAND()),2)","v":2.76},3219.1199999999972,"II",346.63999999999993,"I"]
[null,null,382,{"$f":"ROUND(-Chegadas!$D$6*LN(RAND()),2)","v":1.9},381.49999999999983,null,{"$f":"ROUND(-Chegadas!$G$6*LN(RAND()),2)","v":11.45},3230.569999999997,"II",349.51999999999992,"I"]
[null,null,383,{"$f":"ROUND(-Chegadas!$D$6*LN(RAND()),2)","v":0.03},381.5299999999998,null,{"$f":"ROUND(-Chegadas!$G$6*LN(RAND()),2)","v":0.28999999999999998},3230.8599999999969,"II",350.17999999999995,"I"]
[null,null,384,{"$f":"ROUND(-Chegadas!$D$6*LN(RAND()),2)","v":1.29},382.81999999999982,null,{"$f":"ROUND(-Chegadas!$G$6*LN(RAND()),2)","v":11.91},3242.7699999999968,"II",350.44,"II"]
[null,null,385,{"$f":"ROUND(-Chegadas!$D$6*LN(RAND()),2)","v":2.25},385.06999999999982,null,{"$f":"ROUND(-Chegadas!$G$6*LN(RAND()),2)","v":1.39},3244.1599999999967,"II",{"$f":"SMALL($H$9:$H$1008,C393)","v":351.26999999999992},"I"]
[null,null,386,{"$f":"ROUND(-Chegadas!$D$6*LN(RAND()),2)","v":0.43},385.49999999999983,null,{"$f":"ROUND(-Chegadas!$G$6*LN(RAND()),2)","v":6.52},3250.6799999999967,"II",352.06999999999994,{"$f":"VLOOKUP(J394,$H$9:$I$1008,2,0)","v":"I"}]
[null,null,387,{"$f":"ROUND(-Chegadas!$D$6*LN(RAND()),2)","v":0.51},{"$f":"E394+D395","v":386.00999999999982},null,{"$f":"ROUND(-Chegadas!$G$6*LN(RAND()),2)","v":1.49},{"$f":"H394+G395","v":3252.1699999999964},"II",353.28999999999996,"I"]
[null,null,388,{"$f":"ROUND(-Chegadas!$D$6*LN(RAND()),2)","v":0.06},386.06999999999982,null,{"$f":"ROUND(-Chegadas!$G$6*LN(RAND()),2)","v":0.36},3252.5299999999966,"II",354.55999999999995,"I"]
[null,null,389,{"$f":"ROUND(-Chegadas!$D$6*LN(RAND()),2)","v":0.52},386.5899999999998,null,{"$f":"ROUND(-Chegadas!$G$6*LN(RAND()),2)","v":2.81},3255.3399999999965,"II",356.75999999999993,"I"]
[null,null,390,{"$f":"ROUND(-Chegadas!$D$6*LN(RAND()),2)","v":1.17},387.75999999999982,null,{"$f":"ROUND(-Chegadas!$G$6*LN(RAND()),2)","v":3.79},3259.1299999999965,"II",357.27999999999992,"I"]
[null,null,391,{"$f":"ROUND(-Chegadas!$D$6*LN(RAND()),2)","v":0.32},388.07999999999981,null,{"$f":"ROUND(-Chegadas!$G$6*LN(RAND()),2)","v":0.43},3259.5599999999963,"II",357.75999999999993,"I"]
[null,null,392,{"$f":"ROUND(-Chegadas!$D$6*LN(RAND()),2)","v":0.13},388.20999999999981,null,{"$f":"ROUND(-Chegadas!$G$6*LN(RAND()),2)","v":3.53},3263.0899999999965,"II",358.16999999999996,"I"]
[null,null,393,{"$f":"ROUND(-Chegadas!$D$6*LN(RAND()),2)","v":0.35},388.55999999999983,null,{"$f":"ROUND(-Chegadas!$G$6*LN(RAND()),2)","v":28.87},3291.9599999999964,"II",358.61999999999995,"I"]
[null,null,394,{"$f":"ROUND(-Chegadas!$D$6*LN(RAND()),2)","v":0.62},389.17999999999984,null,{"$f":"ROUND(-Chegadas!$G$6*LN(RAND()),2)","v":32.22},3324.1799999999962,"II",359.09,"I"]
[null,null,395,{"$f":"ROUND(-Chegadas!$D$6*LN(RAND()),2)","v":0.53},389.70999999999981,null,{"$f":"ROUND(-Chegadas!$G$6*LN(RAND()),2)","v":1},3325.1799999999962,"II",359.39,"I"]
[null,null,396,{"$f":"ROUND(-Chegadas!$D$6*LN(RAND()),2)","v":0.56000000000000005},390.26999999999981,null,{"$f":"ROUND(-Chegadas!$G$6*LN(RAND()),2)","v":21.53},3346.7099999999964,"II",359.59,"I"]
[null,null,397,{"$f":"ROUND(-Chegadas!$D$6*LN(RAND()),2)","v":3.96},394.22999999999979,null,{"$f":"ROUND(-Chegadas!$G$6*LN(RAND()),2)","v":6.44},3353.1499999999965,"II",359.94,"I"]
[null,null,398,{"$f":"ROUND(-Chegadas!$D$6*LN(RAND()),2)","v":2.48},396.70999999999981,null,{"$f":"ROUND(-Chegadas!$G$6*LN(RAND()),2)","v":22.12},3375.2699999999963,"II",360.4,"I"]
[null,null,399,{"$f":"ROUND(-Chegadas!$D$6*LN(RAND()),2)","v":0.01},396.7199999999998,null,{"$f":"ROUND(-Chegadas!$G$6*LN(RAND()),2)","v":5.13},3380.3999999999965,"II",360.66999999999996,"I"]
[null,null,400,{"$f":"ROUND(-Chegadas!$D$6*LN(RAND()),2)","v":7.0000000000000007E-2},396.78999999999979,null,{"$f":"ROUND(-Chegadas!$G$6*LN(RAND()),2)","v":2.92},3383.3199999999965,"II",361.19999999999993,"I"]
[null,null,401,{"$f":"ROUND(-Chegadas!$D$6*LN(RAND()),2)","v":2.31},399.0999999999998,null,{"$f":"ROUND(-Chegadas!$G$6*LN(RAND()),2)","v":2.31},3385.6299999999965,"II",361.83999999999992,"I"]
[null,null,402,{"$f":"ROUND(-Chegadas!$D$6*LN(RAND()),2)","v":0.11},399.20999999999981,null,{"$f":"ROUND(-Chegadas!$G$6*LN(RAND()),2)","v":20.75},3406.3799999999965,"II",362.71999999999991,"I"]
[null,null,403,{"$f":"ROUND(-Chegadas!$D$6*LN(RAND()),2)","v":0},399.20999999999981,null,{"$f":"ROUND(-Chegadas!$G$6*LN(RAND()),2)","v":28.33},3434.7099999999964,"II",363.64999999999992,"I"]
[null,null,404,{"$f":"ROUND(-Chegadas!$D$6*LN(RAND()),2)","v":0.37},399.57999999999981,null,{"$f":"ROUND(-Chegadas!$G$6*LN(RAND()),2)","v":10.31},3445.0199999999963,"II",363.82999999999993,"I"]
[null,null,405,{"$f":"ROUND(-Chegadas!$D$6*LN(RAND()),2)","v":0.77},400.3499999999998,null,{"$f":"ROUND(-Chegadas!$G$6*LN(RAND()),2)","v":6.7},3451.7199999999962,"II",363.9799999999999,"I"]
[null,null,406,{"$f":"ROUND(-Chegadas!$D$6*LN(RAND()),2)","v":1.75},402.0999999999998,null,{"$f":"ROUND(-Chegadas!$G$6*LN(RAND()),2)","v":1.7},3453.419999999996,"II",364.4199999999999,"I"]
[null,null,407,{"$f":"ROUND(-Chegadas!$D$6*LN(RAND()),2)","v":0.02},402.11999999999978,null,{"$f":"ROUND(-Chegadas!$G$6*LN(RAND()),2)","v":4.41},3457.8299999999958,"II",365.74999999999989,"I"]
[null,null,408,{"$f":"ROUND(-Chegadas!$D$6*LN(RAND()),2)","v":1.1100000000000001},403.22999999999979,null,{"$f":"ROUND(-Chegadas!$G$6*LN(RAND()),2)","v":12.23},3470.0599999999959,"II",368.08999999999986,"I"]
[null,null,409,{"$f":"ROUND(-Chegadas!$D$6*LN(RAND()),2)","v":0.42},403.64999999999981,null,{"$f":"ROUND(-Chegadas!$G$6*LN(RAND()),2)","v":1.41},3471.4699999999957,"II",372.49999999999989,"I"]
[null,null,410,{"$f":"ROUND(-Chegadas!$D$6*LN(RAND()),2)","v":1.55},405.19999999999982,null,{"$f":"ROUND(-Chegadas!$G$6*LN(RAND()),2)","v":0.9},3472.3699999999958,"II",373.82999999999987,"I"]
[null,null,411,{"$f":"ROUND(-Chegadas!$D$6*LN(RAND()),2)","v":1.26},406.45999999999981,null,{"$f":"ROUND(-Chegadas!$G$6*LN(RAND()),2)","v":6.77},3479.1399999999958,"II",374.59999999999985,"I"]
[null,null,412,{"$f":"ROUND(-Chegadas!$D$6*LN(RAND()),2)","v":1.51},407.9699999999998,null,{"$f":"ROUND(-Chegadas!$G$6*LN(RAND()),2)","v":42.61},3521.7499999999959,"II",375.24999999999983,"I"]
[null,null,413,{"$f":"ROUND(-Chegadas!$D$6*LN(RAND()),2)","v":1.9},409.86999999999978,null,{"$f":"ROUND(-Chegadas!$G$6*LN(RAND()),2)","v":5.66},3527.4099999999958,"II",375.62999999999982,"I"]
[null,null,414,{"$f":"ROUND(-Chegadas!$D$6*LN(RAND()),2)","v":0.34},410.20999999999975,null,{"$f":"ROUND(-Chegadas!$G$6*LN(RAND()),2)","v":32.29},3559.6999999999957,"II",376.37999999999982,"I"]
[null,null,415,{"$f":"ROUND(-Chegadas!$D$6*LN(RAND()),2)","v":0.04},410.24999999999977,null,{"$f":"ROUND(-Chegadas!$G$6*LN(RAND()),2)","v":0.9},3560.5999999999958,"II",378.47999999999985,"I"]
[null,null,416,{"$f":"ROUND(-Chegadas!$D$6*LN(RAND()),2)","v":1.07},411.31999999999977,null,{"$f":"ROUND(-Chegadas!$G$6*LN(RAND()),2)","v":10.97},3571.5699999999956,"II",379.11,"II"]
[null,null,417,{"$f":"ROUND(-Chegadas!$D$6*LN(RAND()),2)","v":2.79},414.10999999999979,null,{"$f":"ROUND(-Chegadas!$G$6*LN(RAND()),2)","v":12.23},3583.7999999999956,"II",379.28999999999985,"I"]
[null,null,418,{"$f":"ROUND(-Chegadas!$D$6*LN(RAND()),2)","v":0.41},414.51999999999981,null,{"$f":"ROUND(-Chegadas!$G$6*LN(RAND()),2)","v":1.1599999999999999},3584.9599999999955,"II",379.59999999999985,"I"]
[null,null,419,{"$f":"ROUND(-Chegadas!$D$6*LN(RAND()),2)","v":1.41},415.92999999999984,null,{"$f":"ROUND(-Chegadas!$G$6*LN(RAND()),2)","v":5.28},3590.2399999999957,"II",380.98,"II"]
[null,null,420,{"$f":"ROUND(-Chegadas!$D$6*LN(RAND()),2)","v":0.16},416.08999999999986,null,{"$f":"ROUND(-Chegadas!$G$6*LN(RAND()),2)","v":6.7},3596.9399999999955,"II",381.49999999999983,"I"]
[null,null,421,{"$f":"ROUND(-Chegadas!$D$6*LN(RAND()),2)","v":0.61},416.69999999999987,null,{"$f":"ROUND(-Chegadas!$G$6*LN(RAND()),2)","v":14.85},3611.7899999999954,"II",381.5299999999998,"I"]
[null,null,422,{"$f":"ROUND(-Chegadas!$D$6*LN(RAND()),2)","v":1.6},418.2999999999999,null,{"$f":"ROUND(-Chegadas!$G$6*LN(RAND()),2)","v":1.36},3613.1499999999955,"II",382.81999999999982,"I"]
[null,null,423,{"$f":"ROUND(-Chegadas!$D$6*LN(RAND()),2)","v":1.81},420.1099999999999,null,{"$f":"ROUND(-Chegadas!$G$6*LN(RAND()),2)","v":6.37},3619.5199999999954,"II",385.06999999999982,"I"]
[null,null,424,{"$f":"ROUND(-Chegadas!$D$6*LN(RAND()),2)","v":0.71},420.81999999999988,null,{"$f":"ROUND(-Chegadas!$G$6*LN(RAND()),2)","v":6.01},3625.5299999999957,"II",385.49999999999983,"I"]
[null,null,425,{"$f":"ROUND(-Chegadas!$D$6*LN(RAND()),2)","v":0.73},421.5499999999999,null,{"$f":"ROUND(-Chegadas!$G$6*LN(RAND()),2)","v":0.97},3626.4999999999955,"II",386.00999999999982,"I"]
[null,null,426,{"$f":"ROUND(-Chegadas!$D$6*LN(RAND()),2)","v":0.14000000000000001},421.68999999999988,null,{"$f":"ROUND(-Chegadas!$G$6*LN(RAND()),2)","v":4.7699999999999996},3631.2699999999954,"II",386.06999999999982,"I"]
[null,null,427,{"$f":"ROUND(-Chegadas!$D$6*LN(RAND()),2)","v":0.04},421.7299999999999,null,{"$f":"ROUND(-Chegadas!$G$6*LN(RAND()),2)","v":10.84},3642.1099999999956,"II",386.5899999999998,"I"]
[null,null,428,{"$f":"ROUND(-Chegadas!$D$6*LN(RAND()),2)","v":0.11},421.83999999999992,null,{"$f":"ROUND(-Chegadas!$G$6*LN(RAND()),2)","v":1.77},3643.8799999999956,"II",387.75999999999982,"I"]
[null,null,429,{"$f":"ROUND(-Chegadas!$D$6*LN(RAND()),2)","v":0.12},421.95999999999992,null,{"$f":"ROUND(-Chegadas!$G$6*LN(RAND()),2)","v":4.91},3648.7899999999954,"II",388.07999999999981,"I"]
[null,null,430,{"$f":"ROUND(-Chegadas!$D$6*LN(RAND()),2)","v":0.17},422.12999999999994,null,{"$f":"ROUND(-Chegadas!$G$6*LN(RAND()),2)","v":10.24},3659.0299999999952,"II",388.20999999999981,"I"]
[null,null,431,{"$f":"ROUND(-Chegadas!$D$6*LN(RAND()),2)","v":1.1100000000000001},423.23999999999995,null,{"$f":"ROUND(-Chegadas!$G$6*LN(RAND()),2)","v":1.77},3660.7999999999952,"II",388.55999999999983,"I"]
[null,null,432,{"$f":"ROUND(-Chegadas!$D$6*LN(RAND()),2)","v":1.84},425.07999999999993,null,{"$f":"ROUND(-Chegadas!$G$6*LN(RAND()),2)","v":21.67},3682.4699999999953,"II",389.17999999999984,"I"]
[null,null,433,{"$f":"ROUND(-Chegadas!$D$6*LN(RAND()),2)","v":0.99},426.06999999999994,null,{"$f":"ROUND(-Chegadas!$G$6*LN(RAND()),2)","v":1.3},3683.7699999999954,"II",389.70999999999981,"I"]
[null,null,434,{"$f":"ROUND(-Chegadas!$D$6*LN(RAND()),2)","v":2.89},428.95999999999992,null,{"$f":"ROUND(-Chegadas!$G$6*LN(RAND()),2)","v":11.7},3695.4699999999953,"II",390.26999999999981,"I"]
[null,null,435,{"$f":"ROUND(-Chegadas!$D$6*LN(RAND()),2)","v":0.96},429.9199999999999,null,{"$f":"ROUND(-Chegadas!$G$6*LN(RAND()),2)","v":5},3700.4699999999953,"II",390.74,"II"]
[null,null,436,{"$f":"ROUND(-Chegadas!$D$6*LN(RAND()),2)","v":0},429.9199999999999,null,{"$f":"ROUND(-Chegadas!$G$6*LN(RAND()),2)","v":15.72},3716.1899999999951,"II",394.22999999999979,"I"]
[null,null,437,{"$f":"ROUND(-Chegadas!$D$6*LN(RAND()),2)","v":2.16},432.07999999999993,null,{"$f":"ROUND(-Chegadas!$G$6*LN(RAND()),2)","v":8.41},3724.5999999999949,"II",396.70999999999981,"I"]
[null,null,438,{"$f":"ROUND(-Chegadas!$D$6*LN(RAND()),2)","v":0.12},432.19999999999993,null,{"$f":"ROUND(-Chegadas!$G$6*LN(RAND()),2)","v":5.84},3730.4399999999951,"II",396.7199999999998,"I"]
[null,null,439,{"$f":"ROUND(-Chegadas!$D$6*LN(RAND()),2)","v":0},432.19999999999993,null,{"$f":"ROUND(-Chegadas!$G$6*LN(RAND()),2)","v":9.56},3739.999999999995,"II",396.78999999999979,"I"]
[null,null,440,{"$f":"ROUND(-Chegadas!$D$6*LN(RAND()),2)","v":0.77},432.96999999999991,null,{"$f":"ROUND(-Chegadas!$G$6*LN(RAND()),2)","v":49.67},3789.6699999999951,"II",399.0999999999998,"I"]
[null,null,441,{"$f":"ROUND(-Chegadas!$D$6*LN(RAND()),2)","v":0.9},433.86999999999989,null,{"$f":"ROUND(-Chegadas!$G$6*LN(RAND()),2)","v":5.51},3795.1799999999953,"II",399.20999999999981,"I"]
[null,null,442,{"$f":"ROUND(-Chegadas!$D$6*LN(RAND()),2)","v":0.28999999999999998},434.15999999999991,null,{"$f":"ROUND(-Chegadas!$G$6*LN(RAND()),2)","v":3.95},3799.1299999999951,"II",399.20999999999981,"I"]
[null,null,443,{"$f":"ROUND(-Chegadas!$D$6*LN(RAND()),2)","v":1.1100000000000001},435.26999999999992,null,{"$f":"ROUND(-Chegadas!$G$6*LN(RAND()),2)","v":1.08},3800.209999999995,"II",399.57999999999981,"I"]
[null,null,444,{"$f":"ROUND(-Chegadas!$D$6*LN(RAND()),2)","v":1.1599999999999999},436.42999999999995,null,{"$f":"ROUND(-Chegadas!$G$6*LN(RAND()),2)","v":8.86},3809.0699999999952,"II",400.3499999999998,"I"]
[null,null,445,{"$f":"ROUND(-Chegadas!$D$6*LN(RAND()),2)","v":0.6},437.03,null,{"$f":"ROUND(-Chegadas!$G$6*LN(RAND()),2)","v":0.9},3809.9699999999953,"II",400.90000000000003,"II"]
[null,null,446,{"$f":"ROUND(-Chegadas!$D$6*LN(RAND()),2)","v":0.69},437.71999999999997,null,{"$f":"ROUND(-Chegadas!$G$6*LN(RAND()),2)","v":6.89},3816.8599999999951,"II",402.0999999999998,"I"]
[null,null,447,{"$f":"ROUND(-Chegadas!$D$6*LN(RAND()),2)","v":0.62},438.34,null,{"$f":"ROUND(-Chegadas!$G$6*LN(RAND()),2)","v":8.83},3825.6899999999951,"II",402.11999999999978,"I"]
[null,null,448,{"$f":"ROUND(-Chegadas!$D$6*LN(RAND()),2)","v":0.84},439.17999999999995,null,{"$f":"ROUND(-Chegadas!$G$6*LN(RAND()),2)","v":15.54},3841.229999999995,"II",403.22999999999979,"I"]
[null,null,449,{"$f":"ROUND(-Chegadas!$D$6*LN(RAND()),2)","v":1},440.17999999999995,null,{"$f":"ROUND(-Chegadas!$G$6*LN(RAND()),2)","v":11.74},3852.9699999999948,"II",{"$f":"SMALL($H$9:$H$1008,C457)","v":403.64999999999981},"I"]
[null,null,450,{"$f":"ROUND(-Chegadas!$D$6*LN(RAND()),2)","v":2.72},442.9,null,{"$f":"ROUND(-Chegadas!$G$6*LN(RAND()),2)","v":4.91},3857.8799999999947,"II",405.19999999999982,{"$f":"VLOOKUP(J458,$H$9:$I$1008,2,0)","v":"I"}]
[null,null,451,{"$f":"ROUND(-Chegadas!$D$6*LN(RAND()),2)","v":2.12},{"$f":"E458+D459","v":445.02},null,{"$f":"ROUND(-Chegadas!$G$6*LN(RAND()),2)","v":2.4500000000000002},{"$f":"H458+G459","v":3860.3299999999945},"II",406.45999999999981,"I"]
[null,null,452,{"$f":"ROUND(-Chegadas!$D$6*LN(RAND()),2)","v":0.98},446,null,{"$f":"ROUND(-Chegadas!$G$6*LN(RAND()),2)","v":13.7},3874.0299999999943,"II",407.9699999999998,"I"]
[null,null,453,{"$f":"ROUND(-Chegadas!$D$6*LN(RAND()),2)","v":0.39},446.39,null,{"$f":"ROUND(-Chegadas!$G$6*LN(RAND()),2)","v":19.95},3893.9799999999941,"II",409.86999999999978,"I"]
[null,null,454,{"$f":"ROUND(-Chegadas!$D$6*LN(RAND()),2)","v":0.74},447.13,null,{"$f":"ROUND(-Chegadas!$G$6*LN(RAND()),2)","v":3.97},3897.9499999999939,"II",410.20999999999975,"I"]
[null,null,455,{"$f":"ROUND(-Chegadas!$D$6*LN(RAND()),2)","v":0.09},447.21999999999997,null,{"$f":"ROUND(-Chegadas!$G$6*LN(RAND()),2)","v":1.27},3899.2199999999939,"II",410.24999999999977,"I"]
[null,null,456,{"$f":"ROUND(-Chegadas!$D$6*LN(RAND()),2)","v":0.19},447.40999999999997,null,{"$f":"ROUND(-Chegadas!$G$6*LN(RAND()),2)","v":2.59},3901.809999999994,"II",411.31999999999977,"I"]
[null,null,457,{"$f":"ROUND(-Chegadas!$D$6*LN(RAND()),2)","v":0.1},447.51,null,{"$f":"ROUND(-Chegadas!$G$6*LN(RAND()),2)","v":4.5599999999999996},3906.369999999994,"II",412.18,"II"]
[null,null,458,{"$f":"ROUND(-Chegadas!$D$6*LN(RAND()),2)","v":0.74},448.25,null,{"$f":"ROUND(-Chegadas!$G$6*LN(RAND()),2)","v":11.23},3917.599999999994,"II",413.25,"II"]
[null,null,459,{"$f":"ROUND(-Chegadas!$D$6*LN(RAND()),2)","v":0.26},448.51,null,{"$f":"ROUND(-Chegadas!$G$6*LN(RAND()),2)","v":2.88},3920.4799999999941,"II",414.10999999999979,"I"]
[null,null,460,{"$f":"ROUND(-Chegadas!$D$6*LN(RAND()),2)","v":0.68},449.19,null,{"$f":"ROUND(-Chegadas!$G$6*LN(RAND()),2)","v":17.05},3937.5299999999943,"II",414.51999999999981,"I"]
[null,null,461,{"$f":"ROUND(-Chegadas!$D$6*LN(RAND()),2)","v":0.24},449.43,null,{"$f":"ROUND(-Chegadas!$G$6*LN(RAND()),2)","v":0.03},3937.5599999999945,"II",415.92999999999984,"I"]
[null,null,462,{"$f":"ROUND(-Chegadas!$D$6*LN(RAND()),2)","v":5.51},454.94,null,{"$f":"ROUND(-Chegadas!$G$6*LN(RAND()),2)","v":14.41},3951.9699999999943,"II",416.08999999999986,"I"]
[null,null,463,{"$f":"ROUND(-Chegadas!$D$6*LN(RAND()),2)","v":0.2},455.14,null,{"$f":"ROUND(-Chegadas!$G$6*LN(RAND()),2)","v":0.88},3952.8499999999945,"II",416.69999999999987,"I"]
[null,null,464,{"$f":"ROUND(-Chegadas!$D$6*LN(RAND()),2)","v":1.53},456.66999999999996,null,{"$f":"ROUND(-Chegadas!$G$6*LN(RAND()),2)","v":4.87},3957.7199999999943,"II",418.2999999999999,"I"]
[null,null,465,{"$f":"ROUND(-Chegadas!$D$6*LN(RAND()),2)","v":0.94},457.60999999999996,null,{"$f":"ROUND(-Chegadas!$G$6*LN(RAND()),2)","v":9.8699999999999992},3967.5899999999942,"II",420.1099999999999,"I"]
[null,null,466,{"$f":"ROUND(-Chegadas!$D$6*LN(RAND()),2)","v":0.35},457.96,null,{"$f":"ROUND(-Chegadas!$G$6*LN(RAND()),2)","v":4.08},3971.6699999999942,"II",420.81999999999988,"I"]
[null,null,467,{"$f":"ROUND(-Chegadas!$D$6*LN(RAND()),2)","v":0.03},457.98999999999995,null,{"$f":"ROUND(-Chegadas!$G$6*LN(RAND()),2)","v":9.6300000000000008},3981.2999999999943,"II",421.5499999999999,"I"]
[null,null,468,{"$f":"ROUND(-Chegadas!$D$6*LN(RAND()),2)","v":1.1000000000000001},459.09,null,{"$f":"ROUND(-Chegadas!$G$6*LN(RAND()),2)","v":3.7},3984.9999999999941,"II",421.68999999999988,"I"]
[null,null,469,{"$f":"ROUND(-Chegadas!$D$6*LN(RAND()),2)","v":0.38},459.46999999999997,null,{"$f":"ROUND(-Chegadas!$G$6*LN(RAND()),2)","v":20.010000000000002},4005.0099999999943,"II",421.7299999999999,"I"]
[null,null,470,{"$f":"ROUND(-Chegadas!$D$6*LN(RAND()),2)","v":2.2200000000000002},461.69,null,{"$f":"ROUND(-Chegadas!$G$6*LN(RAND()),2)","v":3.28},4008.2899999999945,"II",421.83999999999992,"I"]
[null,null,471,{"$f":"ROUND(-Chegadas!$D$6*LN(RAND()),2)","v":0.42},462.11,null,{"$f":"ROUND(-Chegadas!$G$6*LN(RAND()),2)","v":4.9400000000000004},4013.2299999999946,"II",421.95999999999992,"I"]
[null,null,472,{"$f":"ROUND(-Chegadas!$D$6*LN(RAND()),2)","v":0.32},462.43,null,{"$f":"ROUND(-Chegadas!$G$6*LN(RAND()),2)","v":6.76},4019.9899999999948,"II",422.12999999999994,"I"]
[null,null,473,{"$f":"ROUND(-Chegadas!$D$6*LN(RAND()),2)","v":0.45},462.88,null,{"$f":"ROUND(-Chegadas!$G$6*LN(RAND()),2)","v":7.84},4027.8299999999949,"II",423.23999999999995,"I"]
[null,null,474,{"$f":"ROUND(-Chegadas!$D$6*LN(RAND()),2)","v":0.17},463.05,null,{"$f":"ROUND(-Chegadas!$G$6*LN(RAND()),2)","v":1.92},4029.749999999995,"II",423.74,"II"]
[null,null,475,{"$f":"ROUND(-Chegadas!$D$6*LN(RAND()),2)","v":0.27},463.32,null,{"$f":"ROUND(-Chegadas!$G$6*LN(RAND()),2)","v":26.99},4056.7399999999948,"II",425.07999999999993,"I"]
[null,null,476,{"$f":"ROUND(-Chegadas!$D$6*LN(RAND()),2)","v":0.49},463.81,null,{"$f":"ROUND(-Chegadas!$G$6*LN(RAND()),2)","v":0.25},4056.9899999999948,"II",426.06999999999994,"I"]
[null,null,477,{"$f":"ROUND(-Chegadas!$D$6*LN(RAND()),2)","v":0.39},464.2,null,{"$f":"ROUND(-Chegadas!$G$6*LN(RAND()),2)","v":3.34},4060.3299999999949,"II",428.95999999999992,"I"]
[null,null,478,{"$f":"ROUND(-Chegadas!$D$6*LN(RAND()),2)","v":0.22},464.42,null,{"$f":"ROUND(-Chegadas!$G$6*LN(RAND()),2)","v":4.37},4064.6999999999948,"II",429.9199999999999,"I"]
[null,null,479,{"$f":"ROUND(-Chegadas!$D$6*LN(RAND()),2)","v":0.1},464.52000000000004,null,{"$f":"ROUND(-Chegadas!$G$6*LN(RAND()),2)","v":2.99},4067.6899999999946,"II",429.9199999999999,"I"]
[null,null,480,{"$f":"ROUND(-Chegadas!$D$6*LN(RAND()),2)","v":0.4},464.92,null,{"$f":"ROUND(-Chegadas!$G$6*LN(RAND()),2)","v":0.93},4068.6199999999944,"II",432.07999999999993,"I"]
[null,null,481,{"$f":"ROUND(-Chegadas!$D$6*LN(RAND()),2)","v":0.33},465.25,null,{"$f":"ROUND(-Chegadas!$G$6*LN(RAND()),2)","v":0.86},4069.4799999999946,"II",432.19999999999993,"I"]
[null,null,482,{"$f":"ROUND(-Chegadas!$D$6*LN(RAND()),2)","v":2.37},467.62,null,{"$f":"ROUND(-Chegadas!$G$6*LN(RAND()),2)","v":0.1},4069.5799999999945,"II",432.19999999999993,"I"]
[null,null,483,{"$f":"ROUND(-Chegadas!$D$6*LN(RAND()),2)","v":0.46},468.08,null,{"$f":"ROUND(-Chegadas!$G$6*LN(RAND()),2)","v":28.45},4098.0299999999943,"II",432.96999999999991,"I"]
[null,null,484,{"$f":"ROUND(-Chegadas!$D$6*LN(RAND()),2)","v":1.84},469.91999999999996,null,{"$f":"ROUND(-Chegadas!$G$6*LN(RAND()),2)","v":19.170000000000002},4117.1999999999944,"II",433.86999999999989,"I"]
[null,null,485,{"$f":"ROUND(-Chegadas!$D$6*LN(RAND()),2)","v":0.2},470.11999999999995,null,{"$f":"ROUND(-Chegadas!$G$6*LN(RAND()),2)","v":0.35},4117.5499999999947,"II",434.15999999999991,"I"]
[null,null,486,{"$f":"ROUND(-Chegadas!$D$6*LN(RAND()),2)","v":0.01},470.12999999999994,null,{"$f":"ROUND(-Chegadas!$G$6*LN(RAND()),2)","v":42.8},4160.3499999999949,"II",435.26999999999992,"I"]
[null,null,487,{"$f":"ROUND(-Chegadas!$D$6*LN(RAND()),2)","v":0.05},470.17999999999995,null,{"$f":"ROUND(-Chegadas!$G$6*LN(RAND()),2)","v":21.33},4181.6799999999948,"II",436.42999999999995,"I"]
[null,null,488,{"$f":"ROUND(-Chegadas!$D$6*LN(RAND()),2)","v":0.25},470.42999999999995,null,{"$f":"ROUND(-Chegadas!$G$6*LN(RAND()),2)","v":0.26},4181.9399999999951,"II",437.03,"I"]
[null,null,489,{"$f":"ROUND(-Chegadas!$D$6*LN(RAND()),2)","v":3.93},474.35999999999996,null,{"$f":"ROUND(-Chegadas!$G$6*LN(RAND()),2)","v":0.63},4182.5699999999952,"II",437.71999999999997,"I"]
[null,null,490,{"$f":"ROUND(-Chegadas!$D$6*LN(RAND()),2)","v":0.01},474.36999999999995,null,{"$f":"ROUND(-Chegadas!$G$6*LN(RAND()),2)","v":4.97},4187.5399999999954,"II",438.34,"I"]
[null,null,491,{"$f":"ROUND(-Chegadas!$D$6*LN(RAND()),2)","v":2.5299999999999998},476.89999999999992,null,{"$f":"ROUND(-Chegadas!$G$6*LN(RAND()),2)","v":1.71},4189.2499999999955,"II",439.17999999999995,"I"]
[null,null,492,{"$f":"ROUND(-Chegadas!$D$6*LN(RAND()),2)","v":1.97},478.86999999999995,null,{"$f":"ROUND(-Chegadas!$G$6*LN(RAND()),2)","v":0.98},4190.229999999995,"II",440.17999999999995,"I"]
[null,null,493,{"$f":"ROUND(-Chegadas!$D$6*LN(RAND()),2)","v":2.3199999999999998},481.18999999999994,null,{"$f":"ROUND(-Chegadas!$G$6*LN(RAND()),2)","v":1.91},4192.1399999999949,"II",442.9,"I"]
[null,null,494,{"$f":"ROUND(-Chegadas!$D$6*LN(RAND()),2)","v":0.93},482.11999999999995,null,{"$f":"ROUND(-Chegadas!$G$6*LN(RAND()),2)","v":5.24},4197.3799999999947,"II",445.02,"I"]
[null,null,495,{"$f":"ROUND(-Chegadas!$D$6*LN(RAND()),2)","v":2.99},485.10999999999996,null,{"$f":"ROUND(-Chegadas!$G$6*LN(RAND()),2)","v":2.76},4200.1399999999949,"II",446,"I"]
[null,null,496,{"$f":"ROUND(-Chegadas!$D$6*LN(RAND()),2)","v":2.42},487.53,null,{"$f":"ROUND(-Chegadas!$G$6*LN(RAND()),2)","v":2.3199999999999998},4202.4599999999946,"II",446.39,"I"]
[null,null,497,{"$f":"ROUND(-Chegadas!$D$6*LN(RAND()),2)","v":0.21},487.73999999999995,null,{"$f":"ROUND(-Chegadas!$G$6*LN(RAND()),2)","v":18.53},4220.9899999999943,"II",447.13,"I"]
[null,null,498,{"$f":"ROUND(-Chegadas!$D$6*LN(RAND()),2)","v":0.7},488.43999999999994,null,{"$f":"ROUND(-Chegadas!$G$6*LN(RAND()),2)","v":3.31},4224.2999999999947,"II",447.21999999999997,"I"]
[null,null,499,{"$f":"ROUND(-Chegadas!$D$6*LN(RAND()),2)","v":0.48},488.91999999999996,null,{"$f":"ROUND(-Chegadas!$G$6*LN(RAND()),2)","v":4.63},4228.9299999999948,"II",447.40999999999997,"I"]
[null,null,500,{"$f":"ROUND(-Chegadas!$D$6*LN(RAND()),2)","v":0.36},489.28,null,{"$f":"ROUND(-Chegadas!$G$6*LN(RAND()),2)","v":8.5399999999999991},4237.4699999999948,"II",447.51,"I"]
[null,null,501,null,null,null,null,{"$f":"E9","v":0.71},"I",448.07,"II"]
[null,null,502,null,null,null,null,{"$f":"E10","v":6.14},"I",448.09,"II"]
[null,null,503,null,null,null,null,6.9799999999999995,"I",448.25,"I"]
[null,null,504,null,null,null,null,7.3599999999999994,"I",448.51,"I"]
[null,null,505,null,null,null,null,7.3699999999999992,"I",448.56,"II"]
[null,null,506,null,null,null,null,7.4899999999999993,"I",449.19,"I"]
[null,null,507,null,null,null,null,7.68,"I",449.43,"I"]
[null,null,508,null,null,null,null,8.4699999999999989,"I",454.94,"I"]
[null,null,509,null,null,null,null,9.379999999999999,"I",455.14,"I"]
[null,null,510,null,null,null,null,10.26,"I",456.66999999999996,"I"]
[null,null,511,null,null,null,null,14.3,"I",457.60999999999996,"I"]
[null,null,512,null,null,null,null,16.32,"I",457.96,"I"]
[null,null,513,null,null,null,null,16.5,"I",{"$f":"SMALL($H$9:$H$1008,C521)","v":457.98999999999995},"I"]
[null,null,514,null,null,null,null,16.71,"I",459.09,{"$f":"VLOOKUP(J522,$H$9:$I$1008,2,0)","v":"I"}]
[null,null,515,null,null,null,null,16.990000000000002,"I",459.46999999999997,"I"]
[null,null,516,null,null,null,null,17.400000000000002,"I",461.69,"I"]
[null,null,517,null,null,null,null,17.470000000000002,"I",462.11,"I"]
[null,null,518,null,null,null,null,18.630000000000003,"I",462.43,"I"]
[null,null,519,null,null,null,null,18.800000000000004,"I",462.88,"I"]
[null,null,520,null,null,null,null,19.370000000000005,"I",463.05,"I"]
[null,null,521,null,null,null,null,19.640000000000004,"I",463.32,"I"]
[null,null,522,null,null,null,null,19.670000000000005,"I",463.81,"I"]
[null,null,523,null,null,null,null,20.080000000000005,"I",464.2,"I"]
[null,null,524,null,null,null,null,20.450000000000006,"I",464.42,"I"]
[null,null,525,null,null,null,null,21.550000000000008,"I",464.52000000000004,"I"]
[null,null,526,null,null,null,null,22.050000000000008,"I",464.92,"I"]
[null,null,527,null,null,null,null,22.490000000000009,"I",465.25,"I"]
[null,null,528,null,null,null,null,22.570000000000007,"I",467.3,"II"]
[null,null,529,null,null,null,null,23.020000000000007,"I",467.62,"I"]
[null,null,530,null,null,null,null,23.130000000000006,"I",468.08,"I"]
[null,null,531,null,null,null,null,23.450000000000006,"I",469.91999999999996,"I"]
[null,null,532,null,null,null,null,23.870000000000008,"I",470.11999999999995,"I"]
[null,null,533,null,null,null,null,24.080000000000009,"I",470.12999999999994,"I"]
[null,null,534,null,null,null,null,25.440000000000008,"I",470.17999999999995,"I"]
[null,null,535,null,null,null,null,25.63000000000001,"I",470.42999999999995,"I"]
[null,null,536,null,null,null,null,25.68000000000001,"I",474.35999999999996,"I"]
[null,null,537,null,null,null,null,26.88000000000001,"I",474.36999999999995,"I"]
[null,null,538,null,null,null,null,27.02000000000001,"I",476.89999999999992,"I"]
[null,null,539,null,null,null,null,28.250000000000011,"I",478.86999999999995,"I"]
[null,null,540,null,null,null,null,28.390000000000011,"I",479.71000000000004,"II"]
[null,null,541,null,null,null,null,29.940000000000012,"I",481.18999999999994,"I"]
[null,null,542,null,null,null,null,30.330000000000013,"I",482.11999999999995,"I"]
[null,null,543,null,null,null,null,31.990000000000013,"I",483.49,"II"]
[null,null,544,null,null,null,null,32.150000000000013,"I",485.10999999999996,"I"]
[null,null,545,null,null,null,null,33.840000000000011,"I",487.53,"I"]
[null,null,546,null,null,null,null,36.150000000000013,"I",487.73999999999995,"I"]
[null,null,547,null,null,null,null,36.230000000000011,"I",488.43999999999994,"I"]
[null,null,548,null,null,null,null,41.570000000000007,"I",488.91999999999996,"I"]
[null,null,549,null,null,null,null,41.600000000000009,"I",489.28,"I"]
[null,null,550,null,null,null,null,41.820000000000007,"I",493.52,"II"]
[null,null,551,null,null,null,null,44.320000000000007,"I",511.01,"II"]
[null,null,552,null,null,null,null,46.52000000000001,"I",531.55999999999995,"II"]
[null,null,553,null,null,null,null,46.790000000000013,"I",542.4899999999999,"II"]
[null,null,554,null,null,null,null,47.210000000000015,"I",553.14999999999986,"II"]
[null,null,555,null,null,null,null,48.070000000000014,"I",566.80999999999983,"II"]
[null,null,556,null,null,null,null,48.090000000000018,"I",583.8499999999998,"II"]
[null,null,557,null,null,null,null,49.210000000000015,"I",597.20999999999981,"II"]
[null,null,558,null,null,null,null,50.540000000000013,"I",604.93999999999983,"II"]
[null,null,559,null,null,null,null,51.650000000000013,"I",615.3499999999998,"II"]
[null,null,560,null,null,null,null,51.810000000000009,"I",619.41999999999985,"II"]
[null,null,561,null,null,null,null,52.400000000000013,"I",624.01999999999987,"II"]
[null,null,562,null,null,null,null,55.810000000000016,"I",627.78999999999985,"II"]
[null,null,563,null,null,null,null,58.190000000000019,"I",628.7399999999999,"II"]
[null,null,564,null,null,null,null,59.610000000000021,"I",645.6099999999999,"II"]
[null,null,565,null,null,null,null,61.40000000000002,"I",647.2299999999999,"II"]
[null,null,566,null,null,null,null,{"$f":"E74","v":61.690000000000019},"I",659.7299999999999,"II"]
[null,null,567,null,null,null,null,62.670000000000016,"I",662.64999999999986,"II"]
[null,null,568,null,null,null,null,63.150000000000013,"I",665.50999999999988,"II"]
[null,null,569,null,null,null,null,63.290000000000013,"I",710.81999999999994,"II"]
[null,null,570,null,null,null,null,63.710000000000015,"I",712.62999999999988,"II"]
[null,null,571,null,null,null,null,63.770000000000017,"I",712.82999999999993,"II"]
[null,null,572,null,null,null,null,63.980000000000018,"I",717.28,"II"]
[null,null,573,null,null,null,null,65.220000000000013,"I",727.12,"II"]
[null,null,574,null,null,null,null,68.140000000000015,"I",746.01,"II"]
[null,null,575,null,null,null,null,68.500000000000014,"I",768.7,"II"]
[null,null,576,null,null,null,null,70.940000000000012,"I",778.25,"II"]
[null,null,577,null,null,null,null,71.490000000000009,"I",{"$f":"SMALL($H$9:$H$1008,C585)","v":781.75},"II"]
[null,null,578,null,null,null,null,72.02000000000001,"I",792.45,{"$f":"VLOOKUP(J586,$H$9:$I$1008,2,0)","v":"II"}]
[null,null,579,null,null,null,null,72.37,"I",804.95,"II"]
[null,null,580,null,null,null,null,73.550000000000011,"I",817.34,"II"]
[null,null,581,null,null,null,null,74.690000000000012,"I",823.29000000000008,"II"]
[null,null,582,null,null,null,null,75.690000000000012,"I",827.65000000000009,"II"]
[null,null,583,null,null,null,null,75.980000000000018,"I",831.74000000000012,"II"]
[null,null,584,null,null,null,null,76.630000000000024,"I",844.42000000000007,"II"]
[null,null,585,null,null,null,null,79.300000000000026,"I",849.50000000000011,"II"]
[null,null,586,null,null,null,null,79.880000000000024,"I",859.24000000000012,"II"]
[null,null,587,null,null,null,null,81.680000000000021,"I",862.24000000000012,"II"]
[null,null,588,null,null,null,null,81.730000000000018,"I",876.1400000000001,"II"]
[null,null,589,null,null,null,null,81.830000000000013,"I",884.42000000000007,"II"]
[null,null,590,null,null,null,null,82.390000000000015,"I",896.47,"II"]
[null,null,591,null,null,null,null,83.410000000000011,"I",897.86,"II"]
[null,null,592,null,null,null,null,83.960000000000008,"I",904.9,"II"]
[null,null,593,null,null,null,null,85.970000000000013,"I",916.1,"II"]
[null,null,594,null,null,null,null,86.070000000000007,"I",918.63,"II"]
[null,null,595,null,null,null,null,86.7,"I",926.23,"II"]
[null,null,596,null,null,null,null,87.8,"I",929.03,"II"]
[null,null,597,null,null,null,null,87.84,"I",935.22,"II"]
[null,null,598,null,null,null,null,89.240000000000009,"I",937.08,"II"]
[null,null,599,null,null,null,null,91.330000000000013,"I",938,"II"]
[null,null,600,null,null,null,null,91.960000000000008,"I",940.46,"II"]
[null,null,601,null,null,null,null,92.910000000000011,"I",942.14,"II"]
[null,null,602,null,null,null,null,93.460000000000008,"I",942.16,"II"]
[null,null,603,null,null,null,null,94.68,"I",942.98,"II"]
[null,null,604,null,null,null,null,94.960000000000008,"I",943.52,"II"]
[null,null,605,null,null,null,null,95.320000000000007,"I",952.79,"II"]
[null,null,606,null,null,null,null,96.360000000000014,"I",985.84999999999991,"II"]
[null,null,607,null,null,null,null,97.030000000000015,"I",985.90999999999985,"II"]
[null,null,608,null,null,null,null,97.65000000000002,"I",992.6099999999999,"II"]
[null,null,609,null,null,null,null,98.780000000000015,"I",994.53999999999985,"II"]
[null,null,610,null,null,null,null,99.030000000000015,"I",997.28999999999985,"II"]
[null,null,611,null,null,null,null,99.030000000000015,"I",999.7299999999999,"II"]
[null,null,612,null,null,null,null,99.730000000000018,"I",1005.7699999999999,"II"]
[null,null,613,null,null,null,null,101.13000000000002,"I",1008.7099999999999,"II"]
[null,null,614,null,null,null,null,101.97000000000003,"I",1023.05,"II"]
[null,null,615,null,null,null,null,102.55000000000003,"I",1036.69,"II"]
[null,null,616,null,null,null,null,102.81000000000003,"I",1037.43,"II"]
[null,null,617,null,null,null,null,103.19000000000003,"I",1037.77,"II"]
[null,null,618,null,null,null,null,106.46000000000002,"I",1057.02,"II"]
[null,null,619,null,null,null,null,106.73000000000002,"I",1064.8699999999999,"II"]
[null,null,620,null,null,null,null,107.80000000000001,"I",1077.4699999999998,"II"]
[null,null,621,null,null,null,null,108.00000000000001,"I",1078.6799999999998,"II"]
[null,null,622,null,null,null,null,108.01000000000002,"I",1103.3399999999999,"II"]
[null,null,623,null,null,null,null,108.09000000000002,"I",1118.28,"II"]
[null,null,624,null,null,null,null,108.52000000000002,"I",1124.8399999999999,"II"]
[null,null,625,null,null,null,null,110.67000000000003,"I",1135.1599999999999,"II"]
[null,null,626,null,null,null,null,110.72000000000003,"I",1136.04,"II"]
[null,null,627,null,null,null,null,110.93000000000002,"I",1141.3,"II"]
[null,null,628,null,null,null,null,112.44000000000003,"I",1161.7,"II"]
[null,null,629,null,null,null,null,113.16000000000003,"I",1163.78,"II"]
[null,null,630,null,null,null,null,{"$f":"E138","v":114.30000000000003},"I",1166.95,"II"]
[null,null,631,null,null,null,null,115.61000000000003,"I",1168.7,"II"]
[null,null,632,null,null,null,null,115.61000000000003,"I",1170.46,"II"]
[null,null,633,null,null,null,null,115.72000000000003,"I",1174.76,"II"]
[null,null,634,null,null,null,null,116.52000000000002,"I",1181.8499999999999,"II"]
[null,null,635,null,null,null,null,117.44000000000003,"I",1184.1499999999999,"II"]
[null,null,636,null,null,null,null,120.88000000000002,"I",1191.3899999999999,"II"]
[null,null,637,null,null,null,null,122.45000000000002,"I",1193.8499999999999,"II"]
[null,null,638,null,null,null,null,123.61000000000001,"I",1207.1099999999999,"II"]
[null,null,639,null,null,null,null,124.02000000000001,"I",1210.99,"II"]
[null,null,640,null,null,null,null,124.17000000000002,"I",1212.0899999999999,"II"]
[null,null,641,null,null,null,null,125.59000000000002,"I",{"$f":"SMALL($H$9:$H$1008,C649)","v":1217.9099999999999},"II"]
[null,null,642,null,null,null,null,126.12000000000002,"I",1223.9499999999998,{"$f":"VLOOKUP(J650,$H$9:$I$1008,2,0)","v":"II"}]
[null,null,643,null,null,null,null,127.78000000000002,"I",1225.8899999999999,"II"]
[null,null,644,null,null,null,null,128.00000000000003,"I",1239.6199999999999,"II"]
[null,null,645,null,null,null,null,128.43000000000004,"I",1248.01,"II"]
[null,null,646,null,null,null,null,128.96000000000004,"I",1253.6600000000001,"II"]
[null,null,647,null,null,null,null,130.04000000000005,"I",1259.73,"II"]
[null,null,648,null,null,null,null,132.47000000000006,"I",1273.01,"II"]
[null,null,649,null,null,null,null,132.85000000000005,"I",1274.18,"II"]
[null,null,650,null,null,null,null,133.51000000000005,"I",1287.48,"II"]
[null,null,651,null,null,null,null,135.90000000000003,"I",1287.9000000000001,"II"]
[null,null,652,null,null,null,null,137.42000000000004,"I",1288.3500000000001,"II"]
[null,null,653,null,null,null,null,139.57000000000005,"I",1289.5500000000002,"II"]
[null,null,654,null,null,null,null,141.35000000000005,"I",1302.5200000000002,"II"]
[null,null,655,null,null,null,null,141.93000000000006,"I",1306.5000000000002,"II"]
[null,null,656,null,null,null,null,142.82000000000005,"I",1309.3900000000003,"II"]
[null,null,657,null,null,null,null,142.84000000000006,"I",1317.8900000000003,"II"]
[null,null,658,null,null,null,null,145.00000000000006,"I",1318.2700000000004,"II"]
[null,null,659,null,null,null,null,145.17000000000004,"I",1327.5400000000004,"II"]
[null,null,660,null,null,null,null,145.46000000000004,"I",1333.9900000000005,"II"]
[null,null,661,null,null,null,null,146.94000000000003,"I",1334.2800000000004,"II"]
[null,null,662,null,null,null,null,147.31000000000003,"I",1339.3300000000004,"II"]
[null,null,663,null,null,null,null,149.39000000000004,"I",1349.9000000000003,"II"]
[null,null,664,null,null,null,null,149.49000000000004,"I",1361.8100000000004,"II"]
[null,null,665,null,null,null,null,149.78000000000003,"I",1366.4000000000003,"II"]
[null,null,666,null,null,null,null,150.38000000000002,"I",1366.6200000000003,"II"]
[null,null,667,null,null,null,null,151.37000000000003,"I",1372.5900000000004,"II"]
[null,null,668,null,null,null,null,151.90000000000003,"I",1380.0500000000004,"II"]
[null,null,669,null,null,null,null,156.06000000000003,"I",1387.4000000000003,"II"]
[null,null,670,null,null,null,null,156.39000000000004,"I",1391.9600000000003,"II"]
[null,null,671,null,null,null,null,156.71000000000004,"I",1392.6800000000003,"II"]
[null,null,672,null,null,null,null,157.84000000000003,"I",1395.0300000000002,"II"]
[null,null,673,null,null,null,null,159.32000000000002,"I",1410.2200000000003,"II"]
[null,null,674,null,null,null,null,160.20000000000002,"I",1416.4700000000003,"II"]
[null,null,675,null,null,null,null,160.60000000000002,"I",1422.6400000000003,"II"]
[null,null,676,null,null,null,null,161.74,"I",1446.8800000000003,"II"]
[null,null,677,null,null,null,null,162.08000000000001,"I",1455.4200000000003,"II"]
[null,null,678,null,null,null,null,162.25,"I",1468.0900000000004,"II"]
[null,null,679,null,null,null,null,163.34,"I",1474.2500000000005,"II"]
[null,null,680,null,null,null,null,163.46,"I",1475.9100000000005,"II"]
[null,null,681,null,null,null,null,165.48000000000002,"I",1489.7800000000004,"II"]
[null,null,682,null,null,null,null,165.52,"I",1495.8200000000004,"II"]
[null,null,683,null,null,null,null,167.12,"I",1523.3200000000004,"II"]
[null,null,684,null,null,null,null,169.48000000000002,"I",1534.6600000000003,"II"]
[null,null,685,null,null,null,null,172.53000000000003,"I",1559.0100000000002,"II"]
[null,null,686,null,null,null,null,173.02000000000004,"I",1582.0900000000001,"II"]
[null,null,687,null,null,null,null,173.69000000000003,"I",1589.69,"II"]
[null,null,688,null,null,null,null,173.91000000000003,"I",1590.42,"II"]
[null,null,689,null,null,null,null,176.34000000000003,"I",1596.49,"II"]
[null,null,690,null,null,null,null,176.43000000000004,"I",1606.94,"II"]
[null,null,691,null,null,null,null,178.00000000000003,"I",1609.51,"II"]
[null,null,692,null,null,null,null,179.57000000000002,"I",1612.81,"II"]
[null,null,693,null,null,null,null,182.28000000000003,"I",1614.1799999999998,"II"]
[null,null,694,null,null,null,null,{"$f":"E202","v":183.99000000000004},"I",1620.1999999999998,"II"]
[null,null,695,null,null,null,null,186.91000000000003,"I",1620.6899999999998,"II"]
[null,null,696,null,null,null,null,187.76000000000002,"I",1639.3999999999999,"II"]
[null,null,697,null,null,null,null,189.51000000000002,"I",1650.4099999999999,"II"]
[null,null,698,null,null,null,null,190.87000000000003,"I",1652.08,"II"]
[null,null,699,null,null,null,null,191.02000000000004,"I",1652.57,"II"]
[null,null,700,null,null,null,null,192.23000000000005,"I",1719.82,"II"]
[null,null,701,null,null,null,null,193.32000000000005,"I",1728.9399999999998,"II"]
[null,null,702,null,null,null,null,193.56000000000006,"I",1729.4999999999998,"II"]
[null,null,703,null,null,null,null,195.18000000000006,"I",1743.9199999999998,"II"]
[null,null,704,null,null,null,null,195.19000000000005,"I",1767.2499999999998,"II"]
[null,null,705,null,null,null,null,195.39000000000004,"I",{"$f":"SMALL($H$9:$H$1008,C713)","v":1792.5699999999997},"II"]
[null,null,706,null,null,null,null,197.32000000000005,"I",1796.6799999999996,{"$f":"VLOOKUP(J714,$H$9:$I$1008,2,0)","v":"II"}]
[null,null,707,null,null,null,null,197.98000000000005,"I",1800.4099999999996,"II"]
[null,null,708,null,null,null,null,201.00000000000006,"I",1802.9399999999996,"II"]
[null,null,709,null,null,null,null,201.74000000000007,"I",1810.6499999999996,"II"]
[null,null,710,null,null,null,null,202.36000000000007,"I",1814.6199999999997,"II"]
[null,null,711,null,null,null,null,202.76000000000008,"I",1814.8799999999997,"II"]
[null,null,712,null,null,null,null,204.92000000000007,"I",1839.9499999999996,"II"]
[null,null,713,null,null,null,null,205.82000000000008,"I",1842.8399999999997,"II"]
[null,null,714,null,null,null,null,205.93000000000009,"I",1852.6499999999996,"II"]
[null,null,715,null,null,null,null,205.94000000000008,"I",1860.6299999999997,"II"]
[null,null,716,null,null,null,null,208.66000000000008,"I",1860.9699999999996,"II"]
[null,null,717,null,null,null,null,208.78000000000009,"I",1870.7599999999995,"II"]
[null,null,718,null,null,null,null,210.5500000000001,"I",1883.0899999999995,"II"]
[null,null,719,null,null,null,null,211.1700000000001,"I",1891.2599999999995,"II"]
[null,null,720,null,null,null,null,211.38000000000011,"I",1894.3499999999995,"II"]
[null,null,721,null,null,null,null,211.72000000000011,"I",1895.4699999999993,"II"]
[null,null,722,null,null,null,null,216.77000000000012,"I",1910.1299999999994,"II"]
[null,null,723,null,null,null,null,218.08000000000013,"I",1911.0099999999995,"II"]
[null,null,724,null,null,null,null,219.33000000000013,"I",1911.5499999999995,"II"]
[null,null,725,null,null,null,null,222.42000000000013,"I",1918.8299999999995,"II"]
[null,null,726,null,null,null,null,222.71000000000012,"I",1938.4199999999994,"II"]
[null,null,727,null,null,null,null,223.11000000000013,"I",1959.9999999999993,"II"]
[null,null,728,null,null,null,null,224.91000000000014,"I",1967.9399999999994,"II"]
[null,null,729,null,null,null,null,225.56000000000014,"I",1970.0099999999993,"II"]
[null,null,730,null,null,null,null,225.74000000000015,"I",1977.2999999999993,"II"]
[null,null,731,null,null,null,null,226.66000000000014,"I",1996.1399999999992,"II"]
[null,null,732,null,null,null,null,226.98000000000013,"I",2007.1299999999992,"II"]
[null,null,733,null,null,null,null,228.45000000000013,"I",2007.8399999999992,"II"]
[null,null,734,null,null,null,null,229.81000000000014,"I",2023.3799999999992,"II"]
[null,null,735,null,null,null,null,229.99000000000015,"I",2030.9599999999991,"II"]
[null,null,736,null,null,null,null,231.54000000000016,"I",2032.6399999999992,"II"]
[null,null,737,null,null,null,null,232.71000000000015,"I",2037.7499999999991,"II"]
[null,null,738,null,null,null,null,236.66000000000014,"I",2064.9499999999989,"II"]
[null,null,739,null,null,null,null,236.93000000000015,"I",2066.7699999999991,"II"]
[null,null,740,null,null,null,null,237.19000000000014,"I",2068.8599999999992,"II"]
[null,null,741,null,null,null,null,237.77000000000015,"I",2086.309999999999,"II"]
[null,null,742,null,null,null,null,239.38000000000017,"I",2089.7799999999988,"II"]
[null,null,743,null,null,null,null,239.39000000000016,"I",2108.9099999999989,"II"]
[null,null,744,null,null,null,null,240.33000000000015,"I",2125.579999999999,"II"]
[null,null,745,null,null,null,null,240.54000000000016,"I",2133.2299999999991,"II"]
[null,null,746,null,null,null,null,241.48000000000016,"I",2136.559999999999,"II"]
[null,null,747,null,null,null,null,243.36000000000016,"I",2152.889999999999,"II"]
[null,null,748,null,null,null,null,243.73000000000016,"I",2157.8199999999988,"II"]
[null,null,749,null,null,null,null,244.26000000000016,"I",2162.3599999999988,"II"]
[null,null,750,null,null,null,null,244.78000000000017,"I",2185.1599999999989,"II"]
[null,null,751,null,null,null,null,245.11000000000018,"I",2186.4799999999991,"II"]
[null,null,752,null,null,null,null,248.63000000000019,"I",2195.639999999999,"II"]
[null,null,753,null,null,null,null,249.24000000000021,"I",2205.349999999999,"II"]
[null,null,754,null,null,null,null,249.80000000000021,"I",2215.4199999999992,"II"]
[null,null,755,null,null,null,null,250.79000000000022,"I",2220.559999999999,"II"]
[null,null,756,null,null,null,null,251.69000000000023,"I",2225.1299999999992,"II"]
[null,null,757,null,null,null,null,252.20000000000022,"I",2232.369999999999,"II"]
[null,null,758,null,null,null,null,{"$f":"E266","v":252.22000000000023},"I",2239.0899999999988,"II"]
[null,null,759,null,null,null,null,252.81000000000023,"I",2241.9799999999987,"II"]
[null,null,760,null,null,null,null,254.94000000000023,"I",2242.4199999999987,"II"]
[null,null,761,null,null,null,null,256.44000000000023,"I",2248.5599999999986,"II"]
[null,null,762,null,null,null,null,257.73000000000025,"I",2251.9499999999985,"II"]
[null,null,763,null,null,null,null,259.06000000000023,"I",2252.3199999999983,"II"]
[null,null,764,null,null,null,null,261.49000000000024,"I",2273.1299999999983,"II"]
[null,null,765,null,null,null,null,262.64000000000021,"I",2278.7899999999981,"II"]
[null,null,766,null,null,null,null,262.85000000000019,"I",2283.429999999998,"II"]
[null,null,767,null,null,null,null,263.20000000000022,"I",2286.9199999999978,"II"]
[null,null,768,null,null,null,null,265.2200000000002,"I",2288.0299999999979,"II"]
[null,null,769,null,null,null,null,269.25000000000017,"I",{"$f":"SMALL($H$9:$H$1008,C777)","v":2295.6199999999981},"II"]
[null,null,770,null,null,null,null,271.40000000000015,"I",2305.9799999999982,{"$f":"VLOOKUP(J778,$H$9:$I$1008,2,0)","v":"II"}]
[null,null,771,null,null,null,null,272.23000000000013,"I",2321.3899999999981,"II"]
[null,null,772,null,null,null,null,272.42000000000013,"I",2329.909999999998,"II"]
[null,null,773,null,null,null,null,273.57000000000011,"I",2342.159999999998,"II"]
[null,null,774,null,null,null,null,273.65000000000009,"I",2358.7299999999982,"II"]
[null,null,775,null,null,null,null,273.8300000000001,"I",2386.8699999999981,"II"]
[null,null,776,null,null,null,null,274.15000000000009,"I",2397.929999999998,"II"]
[null,null,777,null,null,null,null,274.17000000000007,"I",2410.4999999999982,"II"]
[null,null,778,null,null,null,null,275.95000000000005,"I",2417.739999999998,"II"]
[null,null,779,null,null,null,null,275.98,"I",2429.2699999999982,"II"]
[null,null,780,null,null,null,null,276.63,"I",2445.469999999998,"II"]
[null,null,781,null,null,null,null,276.74,"I",2449.0299999999979,"II"]
[null,null,782,null,null,null,null,278.94,"I",2457.2499999999977,"II"]
[null,null,783,null,null,null,null,284.63,"I",2463.5199999999977,"II"]
[null,null,784,null,null,null,null,285.65999999999997,"I",2471.2399999999975,"II"]
[null,null,785,null,null,null,null,285.82,"I",2486.5199999999977,"II"]
[null,null,786,null,null,null,null,286.17,"I",2495.7299999999977,"II"]
[null,null,787,null,null,null,null,286.94,"I",2498.8099999999977,"II"]
[null,null,788,null,null,null,null,287.38,"I",2519.6699999999978,"II"]
[null,null,789,null,null,null,null,287.98,"I",2527.2799999999979,"II"]
[null,null,790,null,null,null,null,288.02000000000004,"I",2540.239999999998,"II"]
[null,null,791,null,null,null,null,290.48,"I",2553.8699999999981,"II"]
[null,null,792,null,null,null,null,290.72000000000003,"I",2554.2599999999979,"II"]
[null,null,793,null,null,null,null,292.8,"I",2565.2299999999977,"II"]
[null,null,794,null,null,null,null,292.85000000000002,"I",2565.7999999999979,"II"]
[null,null,795,null,null,null,null,293.25,"I",2567.4399999999978,"II"]
[null,null,796,null,null,null,null,294.73,"I",2567.8699999999976,"II"]
[null,null,797,null,null,null,null,294.88,"I",2570.4399999999978,"II"]
[null,null,798,null,null,null,null,296.24,"I",2573.9199999999978,"II"]
[null,null,799,null,null,null,null,299.38,"I",2607.0199999999977,"II"]
[null,null,800,null,null,null,null,300.95,"I",2610.2499999999977,"II"]
[null,null,801,null,null,null,null,301.2,"I",2616.2999999999979,"II"]
[null,null,802,null,null,null,null,302.33999999999997,"I",2625.699999999998,"II"]
[null,null,803,null,null,null,null,302.88,"I",2644.159999999998,"II"]
[null,null,804,null,null,null,null,303.27,"I",2646.9199999999983,"II"]
[null,null,805,null,null,null,null,303.91999999999996,"I",2657.1099999999983,"II"]
[null,null,806,null,null,null,null,306.43999999999994,"I",2673.3699999999985,"II"]
[null,null,807,null,null,null,null,308.40999999999997,"I",2676.5699999999983,"II"]
[null,null,808,null,null,null,null,308.64,"I",2682.8699999999985,"II"]
[null,null,809,null,null,null,null,308.89999999999998,"I",2685.6999999999985,"II"]
[null,null,810,null,null,null,null,311.26,"I",2693.2399999999984,"II"]
[null,null,811,null,null,null,null,314.3,"I",2701.6899999999982,"II"]
[null,null,812,null,null,null,null,314.37,"I",2705.2899999999981,"II"]
[null,null,813,null,null,null,null,315.62,"I",2715.9199999999983,"II"]
[null,null,814,null,null,null,null,316.5,"I",2724.3899999999981,"II"]
[null,null,815,null,null,null,null,318.07,"I",2725.3399999999979,"II"]
[null,null,816,null,null,null,null,318.43,"I",2726.1099999999979,"II"]
[null,null,817,null,null,null,null,324.37,"I",2728.3599999999979,"II"]
[null,null,818,null,null,null,null,325.75,"I",2746.0199999999977,"II"]
[null,null,819,null,null,null,null,325.95,"I",2750.6299999999978,"II"]
[null,null,820,null,null,null,null,325.99,"I",2752.489999999998,"II"]
[null,null,821,null,null,null,null,326.74,"I",2756.409999999998,"II"]
[null,null,822,null,null,null,null,{"$f":"E330","v":327.88},"I",2760.429999999998,"II"]
[null,null,823,null,null,null,null,330.39,"I",2769.4399999999982,"II"]
[null,null,824,null,null,null,null,331.22999999999996,"I",2775.1999999999985,"II"]
[null,null,825,null,null,null,null,332.93999999999994,"I",2782.6399999999985,"II"]
[null,null,826,null,null,null,null,333.38999999999993,"I",2787.2499999999986,"II"]
[null,null,827,null,null,null,null,333.75999999999993,"I",2793.2199999999984,"II"]
[null,null,828,null,null,null,null,333.86999999999995,"I",2802.8299999999986,"II"]
[null,null,829,null,null,null,null,334.71999999999997,"I",2805.4999999999986,"II"]
[null,null,830,null,null,null,null,335.03,"I",2805.8999999999987,"II"]
[null,null,831,null,null,null,null,335.98999999999995,"I",2808.7399999999989,"II"]
[null,null,832,null,null,null,null,336.19999999999993,"I",2821.2799999999988,"II"]
[null,null,833,null,null,null,null,336.44999999999993,"I",{"$f":"SMALL($H$9:$H$1008,C841)","v":2828.0499999999988},"II"]
[null,null,834,null,null,null,null,336.80999999999995,"I",2828.4799999999987,{"$f":"VLOOKUP(J842,$H$9:$I$1008,2,0)","v":"II"}]
[null,null,835,null,null,null,null,337.73999999999995,"I",2832.2199999999984,"II"]
[null,null,836,null,null,null,null,338.07999999999993,"I",2843.0599999999986,"II"]
[null,null,837,null,null,null,null,338.1699999999999,"I",2848.9299999999985,"II"]
[null,null,838,null,null,null,null,339.89999999999992,"I",2851.7399999999984,"II"]
[null,null,839,null,null,null,null,341.53999999999991,"I",2856.2299999999982,"II"]
[null,null,840,null,null,null,null,342.52999999999992,"I",2856.8599999999983,"II"]
[null,null,841,null,null,null,null,343.37999999999994,"I",2868.0799999999981,"II"]
[null,null,842,null,null,null,null,343.96999999999991,"I",2891.0699999999979,"II"]
[null,null,843,null,null,null,null,345.24999999999989,"I",2901.4599999999978,"II"]
[null,null,844,null,null,null,null,345.71999999999991,"I",2906.9799999999977,"II"]
[null,null,845,null,null,null,null,346.59999999999991,"I",2915.9399999999978,"II"]
[null,null,846,null,null,null,null,346.63999999999993,"I",2941.0299999999979,"II"]
[null,null,847,null,null,null,null,349.51999999999992,"I",2943.0499999999979,"II"]
[null,null,848,null,null,null,null,350.17999999999995,"I",2948.6699999999978,"II"]
[null,null,849,null,null,null,null,351.26999999999992,"I",2950.6899999999978,"II"]
[null,null,850,null,null,null,null,352.06999999999994,"I",2956.8199999999979,"II"]
[null,null,851,null,null,null,null,353.28999999999996,"I",2967.5199999999977,"II"]
[null,null,852,null,null,null,null,354.55999999999995,"I",2967.9399999999978,"II"]
[null,null,853,null,null,null,null,356.75999999999993,"I",2972.9099999999976,"II"]
[null,null,854,null,null,null,null,357.27999999999992,"I",2983.1499999999974,"II"]
[null,null,855,null,null,null,null,357.75999999999993,"I",2986.9099999999976,"II"]
[null,null,856,null,null,null,null,358.16999999999996,"I",3006.8099999999977,"II"]
[null,null,857,null,null,null,null,358.61999999999995,"I",3011.0199999999977,"II"]
[null,null,858,null,null,null,null,359.09,"I",3021.1599999999976,"II"]
[null,null,859,null,null,null,null,359.39,"I",3024.8999999999974,"II"]
[null,null,860,null,null,null,null,359.59,"I",3029.1899999999973,"II"]
[null,null,861,null,null,null,null,359.94,"I",3033.1399999999971,"II"]
[null,null,862,null,null,null,null,360.4,"I",3045.9499999999971,"II"]
[null,null,863,null,null,null,null,360.66999999999996,"I",3058.5599999999972,"II"]
[null,null,864,null,null,null,null,361.19999999999993,"I",3064.5799999999972,"II"]
[null,null,865,null,null,null,null,361.83999999999992,"I",3066.0999999999972,"II"]
[null,null,866,null,null,null,null,362.71999999999991,"I",3067.6399999999971,"II"]
[null,null,867,null,null,null,null,363.64999999999992,"I",3074.9099999999971,"II"]
[null,null,868,null,null,null,null,363.82999999999993,"I",3075.2699999999973,"II"]
[null,null,869,null,null,null,null,363.9799999999999,"I",3082.6999999999971,"II"]
[null,null,870,null,null,null,null,364.4199999999999,"I",3093.259999999997,"II"]
[null,null,871,null,null,null,null,365.74999999999989,"I",3113.4999999999968,"II"]
[null,null,872,null,null,null,null,368.08999999999986,"I",3117.7299999999968,"II"]
[null,null,873,null,null,null,null,372.49999999999989,"I",3146.569999999997,"II"]
[null,null,874,null,null,null,null,373.82999999999987,"I",3150.259999999997,"II"]
[null,null,875,null,null,null,null,374.59999999999985,"I",3157.089999999997,"II"]
[null,null,876,null,null,null,null,375.24999999999983,"I",3181.6999999999971,"II"]
[null,null,877,null,null,null,null,375.62999999999982,"I",3194.0799999999972,"II"]
[null,null,878,null,null,null,null,376.37999999999982,"I",3199.6799999999971,"II"]
[null,null,879,null,null,null,null,378.47999999999985,"I",3202.8899999999971,"II"]
[null,null,880,null,null,null,null,379.28999999999985,"I",3216.3599999999969,"II"]
[null,null,881,null,null,null,null,379.59999999999985,"I",3219.1199999999972,"II"]
[null,null,882,null,null,null,null,381.49999999999983,"I",3230.569999999997,"II"]
[null,null,883,null,null,null,null,381.5299999999998,"I",3230.8599999999969,"II"]
[null,null,884,null,null,null,null,382.81999999999982,"I",3242.7699999999968,"II"]
[null,null,885,null,null,null,null,385.06999999999982,"I",3244.1599999999967,"II"]
[null,null,886,null,null,null,null,{"$f":"E394","v":385.49999999999983},"I",3250.6799999999967,"II"]
[null,null,887,null,null,null,null,386.00999999999982,"I",3252.1699999999964,"II"]
[null,null,888,null,null,null,null,386.06999999999982,"I",3252.5299999999966,"II"]
[null,null,889,null,null,null,null,386.5899999999998,"I",3255.3399999999965,"II"]
[null,null,890,null,null,null,null,387.75999999999982,"I",3259.1299999999965,"II"]
[null,null,891,null,null,null,null,388.07999999999981,"I",3259.5599999999963,"II"]
[null,null,892,null,null,null,null,388.20999999999981,"I",3263.0899999999965,"II"]
[null,null,893,null,null,null,null,388.55999999999983,"I",3291.9599999999964,"II"]
[null,null,894,null,null,null,null,389.17999999999984,"I",3324.1799999999962,"II"]
[null,null,895,null,null,null,null,389.70999999999981,"I",3325.1799999999962,"II"]
[null,null,896,null,null,null,null,390.26999999999981,"I",3346.7099999999964,"II"]
[null,null,897,null,null,null,null,394.22999999999979,"I",{"$f":"SMALL($H$9:$H$1008,C905)","v":3353.1499999999965},"II"]
[null,null,898,null,null,null,null,396.70999999999981,"I",3375.2699999999963,{"$f":"VLOOKUP(J906,$H$9:$I$1008,2,0)","v":"II"}]
[null,null,899,null,null,null,null,396.7199999999998,"I",3380.3999999999965,"II"]
[null,null,900,null,null,null,null,396.78999999999979,"I",3383.3199999999965,"II"]
[null,null,901,null,null,null,null,399.0999999999998,"I",3385.6299999999965,"II"]
[null,null,902,null,null,null,null,399.20999999999981,"I",3406.3799999999965,"II"]
[null,null,903,null,null,null,null,399.20999999999981,"I",3434.7099999999964,"II"]
[null,null,904,null,null,null,null,399.57999999999981,"I",3445.0199999999963,"II"]
[null,null,905,null,null,null,null,400.3499999999998,"I",3451.7199999999962,"II"]
[null,null,906,null,null,null,null,402.0999999999998,"I",3453.419999999996,"II"]
[null,null,907,null,null,null,null,402.11999999999978,"I",3457.8299999999958,"II"]
[null,null,908,null,null,null,null,403.22999999999979,"I",3470.0599999999959,"II"]
[null,null,909,null,null,null,null,403.64999999999981,"I",3471.4699999999957,"II"]
[null,null,910,null,null,null,null,405.19999999999982,"I",3472.3699999999958,"II"]
[null,null,911,null,null,null,null,406.45999999999981,"I",3479.1399999999958,"II"]
[null,null,912,null,null,null,null,407.9699999999998,"I",3521.7499999999959,"II"]
[null,null,913,null,null,null,null,409.86999999999978,"I",3527.4099999999958,"II"]
[null,null,914,null,null,null,null,410.20999999999975,"I",3559.6999999999957,"II"]
[null,null,915,null,null,null,null,410.24999999999977,"I",3560.5999999999958,"II"]
[null,null,916,null,null,null,null,411.31999999999977,"I",3571.5699999999956,"II"]
[null,null,917,null,null,null,null,414.10999999999979,"I",3583.7999999999956,"II"]
[null,null,918,null,null,null,null,414.51999999999981,"I",3584.9599999999955,"II"]
[null,null,919,null,null,null,null,415.92999999999984,"I",3590.2399999999957,"II"]
[null,null,920,null,null,null,null,416.08999999999986,"I",3596.9399999999955,"II"]
[null,null,921,null,null,null,null,416.69999999999987,"I",3611.7899999999954,"II"]
[null,null,922,null,null,null,null,418.2999999999999,"I",3613.1499999999955,"II"]
[null,null,923,null,null,null,null,420.1099999999999,"I",3619.5199999999954,"II"]
[null,null,924,null,null,null,null,420.81999999999988,"I",3625.5299999999957,"II"]
[null,null,925,null,null,null,null,421.5499999999999,"I",3626.4999999999955,"II"]
[null,null,926,null,null,null,null,421.68999999999988,"I",3631.2699999999954,"II"]
[null,null,927,null,null,null,null,421.7299999999999,"I",3642.1099999999956,"II"]
[null,null,928,null,null,null,null,421.83999999999992,"I",3643.8799999999956,"II"]
[null,null,929,null,null,null,null,421.95999999999992,"I",3648.7899999999954,"II"]
[null,null,930,null,null,null,null,422.12999999999994,"I",3659.0299999999952,"II"]
[null,null,931,null,null,null,null,423.23999999999995,"I",3660.7999999999952,"II"]
[null,null,932,null,null,null,null,425.07999999999993,"I",3682.4699999999953,"II"]
[null,null,933,null,null,null,null,426.06999999999994,"I",3683.7699999999954,"II"]
[null,null,934,null,null,null,null,428.95999999999992,"I",3695.4699999999953,"II"]
[null,null,935,null,null,null,null,429.9199999999999,"I",3700.4699999999953,"II"]
[null,null,936,null,null,null,null,429.9199999999999,"I",3716.1899999999951,"II"]
[null,null,937,null,null,null,null,432.07999999999993,"I",3724.5999999999949,"II"]
[null,null,938,null,null,null,null,432.19999999999993,"I",3730.4399999999951,"II"]
[null,null,939,null,null,null,null,432.19999999999993,"I",3739.999999999995,"II"]
[null,null,940,null,null,null,null,432.96999999999991,"I",3789.6699999999951,"II"]
[null,null,941,null,null,null,null,433.86999999999989,"I",3795.1799999999953,"II"]
[null,null,942,null,null,null,null,434.15999999999991,"I",3799.1299999999951,"II"]
[null,null,943,null,null,null,null,435.26999999999992,"I",3800.209999999995,"II"]
[null,null,944,null,null,null,null,436.42999999999995,"I",3809.0699999999952,"II"]
[null,null,945,null,null,null,null,437.03,"I",3809.9699999999953,"II"]
[null,null,946,null,null,null,null,437.71999999999997,"I",3816.8599999999951,"II"]
[null,null,947,null,null,null,null,438.34,"I",3825.6899999999951,"II"]
[null,null,948,null,null,null,null,439.17999999999995,"I",3841.229999999995,"II"]
[null,null,949,null,null,null,null,440.17999999999995,"I",3852.9699999999948,"II"]
[null,null,950,null,null,null,null,{"$f":"E458","v":442.9},"I",3857.8799999999947,"II"]
[null,null,951,null,null,null,null,445.02,"I",3860.3299999999945,"II"]
[null,null,952,null,null,null,null,446,"I",3874.0299999999943,"II"]
[null,null,953,null,null,null,null,446.39,"I",3893.9799999999941,"II"]
[null,null,954,null,null,null,null,447.13,"I",3897.9499999999939,"II"]
[null,null,955,null,null,null,null,447.21999999999997,"I",3899.2199999999939,"II"]
[null,null,956,null,null,null,null,447.40999999999997,"I",3901.809999999994,"II"]
[null,null,957,null,null,null,null,447.51,"I",3906.369999999994,"II"]
[null,null,958,null,null,null,null,448.25,"I",3917.599999999994,"II"]
[null,null,959,null,null,null,null,448.51,"I",3920.4799999999941,"II"]
[null,null,960,null,null,null,null,449.19,"I",3937.5299999999943,"II"]
[null,null,961,null,null,null,null,449.43,"I",{"$f":"SMALL($H$9:$H$1008,C969)","v":3937.5599999999945},"II"]
[null,null,962,null,null,null,null,454.94,"I",3951.9699999999943,{"$f":"VLOOKUP(J970,$H$9:$I$1008,2,0)","v":"II"}]
[null,null,963,null,null,null,null,455.14,"I",3952.8499999999945,"II"]
[null,null,964,null,null,null,null,456.66999999999996,"I",3957.7199999999943,"II"]
[null,null,965,null,null,null,null,457.60999999999996,"I",3967.5899999999942,"II"]
[null,null,966,null,null,null,null,457.96,"I",3971.6699999999942,"II"]
[null,null,967,null,null,null,null,457.98999999999995,"I",3981.2999999999943,"II"]
[null,null,968,null,null,null,null,459.09,"I",3984.9999999999941,"II"]
[null,null,969,null,null,null,null,459.46999999999997,"I",4005.0099999999943,"II"]
[null,null,970,null,null,null,null,461.69,"I",4008.2899999999945,"II"]
[null,null,971,null,null,null,null,462.11,"I",4013.2299999999946,"II"]
[null,null,972,null,null,null,null,462.43,"I",4019.9899999999948,"II"]
[null,null,973,null,null,null,null,462.88,"I",4027.8299999999949,"II"]
[null,null,974,null,null,null,null,463.05,"I",4029.749999999995,"II"]
[null,null,975,null,null,null,null,463.32,"I",4056.7399999999948,"II"]
[null,null,976,null,null,null,null,463.81,"I",4056.9899999999948,"II"]
[null,null,977,null,null,null,null,464.2,"I",4060.3299999999949,"II"]
[null,null,978,null,null,null,null,464.42,"I",4064.6999999999948,"II"]
[null,null,979,null,null,null,null,464.52000000000004,"I",4067.6899999999946,"II"]
[null,null,980,null,null,null,null,464.92,"I",4068.6199999999944,"II"]
[null,null,981,null,null,null,null,465.25,"I",4069.4799999999946,"II"]
[null,null,982,null,null,null,null,467.62,"I",4069.5799999999945,"II"]
[null,null,983,null,null,null,null,468.08,"I",4098.0299999999943,"II"]
[null,null,984,null,null,null,null,469.91999999999996,"I",4117.1999999999944,"II"]
[null,null,985,null,null,null,null,470.11999999999995,"I",4117.5499999999947,"II"]
[null,null,986,null,null,null,null,470.12999999999994,"I",4160.3499999999949,"II"]
[null,null,987,null,null,null,null,470.17999999999995,"I",4181.6799999999948,"II"]
[null,null,988,null,null,null,null,470.42999999999995,"I",4181.9399999999951,"II"]
[null,null,989,null,null,null,null,474.35999999999996,"I",4182.5699999999952,"II"]
[null,null,990,null,null,null,null,474.36999999999995,"I",4187.5399999999954,"II"]
[null,null,991,null,null,null,null,476.89999999999992,"I",4189.2499999999955,"II"]
[null,null,992,null,null,null,null,478.86999999999995,"I",4190.229999999995,"II"]
[null,null,993,null,null,null,null,481.18999999999994,"I",4192.1399999999949,"II"]
[null,null,994,null,null,null,null,482.11999999999995,"I",4197.3799999999947,"II"]
[null,null,995,null,null,null,null,485.10999999999996,"I",4200.1399999999949,"II"]
[null,null,996,null,null,null,null,487.53,"I",4202.4599999999946,"II"]
[null,null,997,null,null,null,null,487.73999999999995,"I",4220.9899999999943,"II"]
[null,null,998,null,null,null,null,488.43999999999994,"I",4224.2999999999947,"II"]
[null,null,999,null,null,null,null,488.91999999999996,"I",4228.9299999999948,"II"]
[null,null,1000,null,null,null,null,489.28,"I",4237.4699999999948,"II"]

{"sheet":"Atendimento","index":2,"n_rows":515,"n_cols":14,"rows_kept":515,"cut":false,"hidden":false,"merged":[[9,10,9,14],[5,4,5,5],[6,4,6,5],[2,4,2,5],[3,4,3,5],[4,4,4,5],[9,3,9,7]]}
[]
[]
[]
[]
[null,null,null,null,null,null,null,null,null,null,null,"Segundo uma distribuição de probabilidade Beta"]
[null,null,null,null,null,null,null,null,null,null,null,"(após um teste de hipótese de aderência de KS) "]
[]
[]
[]
[null,null,null,"Dias de atendimento dos clientes do Tipo I",null,null,null,null,null,null,"Dias de atendimento dos clientes do Tipo II"]
[]
[null,null,null,"max =",21,"média =",{"$f":"(E12+4*E14+E13)/6","v":7.666666666666667},null,null,null,"max =",2,"média =",{"$f":"(L12+4*L14+L13)/6","v":1.0833333333333333}]
[null,null,null,"min =",1,"DP =",{"$f":"(E12-E13)/6","v":3.3333333333333335},null,null,null,"min =",0.5,"DP =",{"$f":"(L12-L13)/6","v":0.25}]
[null,null,null,"mp =",6,"alfa =",{"$f":"(G12-E13)/(E12-E13)*((G12-E13)*(E12-G12)/G13^2-1)","v":2.3333333333333335},null,null,null,"mp =",1,"alfa =",{"$f":"(N12-L13)/(L12-L13)*((N12-L13)*(L12-N12)/N13^2-1)","v":2.9382716049382713}]
[null,null,null,null,null,"beta =",{"$f":"(E12-G12)/(G12-E13)*G14","v":4.6666666666666661},null,null,null,null,null,"beta =",{"$f":"(L12-N12)/(N12-L13)*N14","v":4.6172839506172849}]
[null,null,null,1,{"$f":"BETAINV(RAND(),G$14,G$15,E$13,E$12)","v":7.9637373456250895},null,null,null,null,null,1,{"$f":"BETAINV(RAND(),N$14,N$15,L$13,L$12)","v":1.2219442607542219}]
[null,null,null,2,8.3173593846973262,null,null,null,null,null,2,1.086121485628238]
[null,null,null,3,{"$f":"BETAINV(RAND(),G$14,G$15,E$13,E$12)","v":7.1512338560999886},null,null,null,null,null,3,1.304788617658051]
[null,null,null,4,6.1724307097007589,null,null,null,null,null,4,0.83306192633529419]
[null,null,null,5,2.8536102713130189,null,null,null,null,null,5,0.86419946225204758]
[null,null,null,6,8.179792260576555,null,null,null,null,null,6,1.5180670995092787]
[null,null,null,7,3.7643934688674827,null,null,null,null,null,7,1.3454145762830103]
[null,null,null,8,8.6836336966765266,null,null,null,null,null,8,1.0516764534555834]
[null,null,null,9,11.53280700833362,null,null,null,null,null,9,0.942695823660745]
[null,null,null,10,12.773935070145951,null,null,null,null,null,10,0.94234724117807489]
[null,null,null,11,7.0946198623272956,null,null,null,null,null,11,1.1455196900614211]
[null,null,null,12,3.5367995251333553,null,null,null,null,null,12,0.92765090644406234]
[null,null,null,13,4.5152905496577738,null,null,null,null,null,13,0.79085087260299869]
[null,null,null,14,10.846207123823836,null,null,null,null,null,14,0.85578092546117812]
[null,null,null,15,6.645756120464112,null,null,null,null,null,15,1.0083939617039031]
[null,null,null,16,6.7874917476555519,null,null,null,null,null,16,1.0554537722787085]
[null,null,null,17,6.5164382381894406,null,null,null,null,null,17,1.0624562588563542]
[null,null,null,18,6.4091225772664311,null,null,null,null,null,18,0.9068071484289717]
[null,null,null,19,10.544170424687216,null,null,null,null,null,19,1.1276959326109539]
[null,null,null,20,2.226945873812856,null,null,null,null,null,20,1.1467577146258696]
[null,null,null,21,2.1764373175563598,null,null,null,null,null,21,1.2419414149542565]
[null,null,null,22,11.88263888577905,null,null,null,null,null,22,0.87121149697651468]
[null,null,null,23,8.9615550142833413,null,null,null,null,null,23,1.3777390761491128]
[null,null,null,24,8.5464742276384822,null,null,null,null,null,24,0.78660390317659246]
[null,null,null,25,3.2409399032147004,null,null,null,null,null,25,0.79962496720469711]
[null,null,null,26,10.471468662453068,null,null,null,null,null,26,1.5379891172789866]
[null,null,null,27,8.4554891707169713,null,null,null,null,null,27,1.3426028747821055]
[null,null,null,28,5.7150784975143836,null,null,null,null,null,28,0.80266147809354971]
[null,null,null,29,5.0552557401551645,null,null,null,null,null,29,1.3485072375958218]
[null,null,null,30,6.2160238290007861,null,null,null,null,null,30,1.1175941289791922]
[null,null,null,31,9.9151253937403361,null,null,null,null,null,31,0.99477537702534202]
[null,null,null,32,8.2257633138983213,null,null,null,null,null,32,1.2347129657892832]
[null,null,null,33,8.577218815596412,null,null,null,null,null,33,1.118310487307324]
[null,null,null,34,7.5138815036099018,null,null,null,null,null,34,1.2857963934938412]
[null,null,null,35,8.3231208557750094,null,null,null,null,null,35,0.98010364689826301]
[null,null,null,36,7.7756579348206092,null,null,null,null,null,36,1.5643885486928681]
[null,null,null,37,11.009394726654355,null,null,null,null,null,37,0.98879957847169964]
[null,null,null,38,8.7582405620096484,null,null,null,null,null,38,0.75638073854306787]
[null,null,null,39,6.5375635071821963,null,null,null,null,null,39,1.1604609873188991]
[null,null,null,40,3.8812275596590675,null,null,null,null,null,40,0.80146072534088064]
[null,null,null,41,9.3860160864340934,null,null,null,null,null,41,1.1982425361711959]
[null,null,null,42,7.7938915365034358,null,null,null,null,null,42,1.175129081580188]
[null,null,null,43,11.956954056665726,null,null,null,null,null,43,0.97662295977024349]
[null,null,null,44,8.4649494034938115,null,null,null,null,null,44,0.78617217494057923]
[null,null,null,45,6.3724472590880543,null,null,null,null,null,45,0.71546278735699609]
[null,null,null,46,7.2709097479749163,null,null,null,null,null,46,1.2644434296491907]
[null,null,null,47,4.7349652559002049,null,null,null,null,null,47,1.494004972812542]
[null,null,null,48,3.6071370786435559,null,null,null,null,null,48,1.4948659806477131]
[null,null,null,49,5.4216761646717204,null,null,null,null,null,49,1.2751311738720279]
[null,null,null,50,4.5107033220988528,null,null,null,null,null,50,1.2350673034863087]
[null,null,null,51,2.7582872694816962,null,null,null,null,null,51,0.82125909126484276]
[null,null,null,52,3.4346233194066196,null,null,null,null,null,52,0.87931818641139592]
[null,null,null,53,8.001649607860287,null,null,null,null,null,53,0.67997020883713455]
[null,null,null,54,7.8210683582502307,null,null,null,null,null,54,0.90903080868448027]
[null,null,null,55,4.836571572336843,null,null,null,null,null,55,1.212608607301829]
[null,null,null,56,7.9953052404550924,null,null,null,null,null,56,1.2218294977836319]
[null,null,null,57,4.8369406341538488,null,null,null,null,null,57,1.1639395550458163]
[null,null,null,58,7.2676941633077545,null,null,null,null,null,58,1.4590897180929656]
[null,null,null,59,4.1393691194366191,null,null,null,null,null,59,1.2945424052049004]
[null,null,null,60,8.9830782706854659,null,null,null,null,null,60,0.99318868165335084]
[null,null,null,61,7.031485964810873,null,null,null,null,null,61,0.79161149800472441]
[null,null,null,62,3.8075223193645171,null,null,null,null,null,62,1.164267314277551]
[null,null,null,63,15.102731092590197,null,null,null,null,null,63,1.1765574800969865]
[null,null,null,64,12.659759516624099,null,null,null,null,null,64,1.1020803054641712]
[null,null,null,65,{"$f":"BETAINV(RAND(),G$14,G$15,E$13,E$12)","v":5.0432955980127607},null,null,null,null,null,65,{"$f":"BETAINV(RAND(),N$14,N$15,L$13,L$12)","v":0.98008018306316114}]
[null,null,null,66,6.9395251194638412,null,null,null,null,null,66,0.90921796176807279]
[null,null,null,67,5.463773022402858,null,null,null,null,null,67,1.5417743998809601]
[null,null,null,68,7.5728094456306145,null,null,null,null,null,68,0.57852426380572453]
[null,null,null,69,8.26802451819335,null,null,null,null,null,69,1.1546270291063947]
[null,null,null,70,9.8253699578968803,null,null,null,null,null,70,1.4081426517172977]
[null,null,null,71,8.1853330911089301,null,null,null,null,null,71,1.5530388328151172]
[null,null,null,72,3.2243829814005873,null,null,null,null,null,72,1.2178778500434841]
[null,null,null,73,12.770632454490643,null,null,null,null,null,73,1.1143196922547798]
[null,null,null,74,3.2295120398207557,null,null,null,null,null,74,1.3677053258573433]
[null,null,null,75,6.3668075187735376,null,null,null,null,null,75,0.87367361044270742]
[null,null,null,76,7.3370758304326298,null,null,null,null,null,76,1.0012923353401368]
[null,null,null,77,2.4156604044732997,null,null,null,null,null,77,0.65710864144814041]
[null,null,null,78,7.3191003724529349,null,null,null,null,null,78,1.1995022783264926]
[null,null,null,79,7.2322555383375891,null,null,null,null,null,79,1.2321511051527803]
[null,null,null,80,7.2921054140996633,null,null,null,null,null,80,0.81982618257212925]
[null,null,null,81,8.6209598356140198,null,null,null,null,null,81,1.2111305806938026]
[null,null,null,82,14.028557823878756,null,null,null,null,null,82,1.0640089779892694]
[null,null,null,83,14.009985927420118,null,null,null,null,null,83,0.97375478731703446]
[null,null,null,84,2.4129520664171484,null,null,null,null,null,84,1.1466767257897326]
[null,null,null,85,12.37587533995649,null,null,null,null,null,85,1.347167448871825]
[null,null,null,86,9.8604133708950457,null,null,null,null,null,86,1.356003325965389]
[null,null,null,87,4.2516714377137657,null,null,null,null,null,87,1.0636630433832694]
[null,null,null,88,5.0587591912753442,null,null,null,null,null,88,0.91885608751364123]
[null,null,null,89,11.011647390056917,null,null,null,null,null,89,0.83800915263115494]
[null,null,null,90,11.092159608508712,null,null,null,null,null,90,0.94067452794186757]
[null,null,null,91,4.5535745879912906,null,null,null,null,null,91,1.2846588121752798]
[null,null,null,92,12.739165599528011,null,null,null,null,null,92,0.94305484919535565]
[null,null,null,93,4.6142597733252053,null,null,null,null,null,93,1.0226920423254877]
[null,null,null,94,2.8534835910501481,null,null,null,null,null,94,1.2636480163005241]
[null,null,null,95,5.2734967259864955,null,null,null,null,null,95,0.9299668356965014]
[null,null,null,96,11.108815936271863,null,null,null,null,null,96,0.98352732346556071]
[null,null,null,97,7.0386936983732475,null,null,null,null,null,97,0.77903534981570266]
[null,null,null,98,14.116461386048957,null,null,null,null,null,98,1.5340151377009554]
[null,null,null,99,12.908928407658902,null,null,null,null,null,99,0.86985828245725982]
[null,null,null,100,9.2976525660257856,null,null,null,null,null,100,0.83863010341924249]
[null,null,null,101,8.3487033844029384,null,null,null,null,null,101,0.78576388840709166]
[null,null,null,102,3.1758723800864397,null,null,null,null,null,102,0.64143973624249861]
[null,null,null,103,2.6669762019025827,null,null,null,null,null,103,1.4523535767650226]
[null,null,null,104,7.9265515315816861,null,null,null,null,null,104,1.5255602515411359]
[null,null,null,105,14.358001182592126,null,null,null,null,null,105,0.96527810348999654]
[null,null,null,106,7.8534979176897419,null,null,null,null,null,106,1.2626247903073569]
[null,null,null,107,8.5995198875678263,null,null,null,null,null,107,1.3997807594352258]
[null,null,null,108,7.6127860258966926,null,null,null,null,null,108,1.4356788643329896]
[null,null,null,109,3.1551952959321707,null,null,null,null,null,109,0.63858829198392386]
[null,null,null,110,8.3077247584013065,null,null,null,null,null,110,0.94902871927233012]
[null,null,null,111,5.7416639956440116,null,null,null,null,null,111,0.89262836818489277]
[null,null,null,112,7.1112685106941562,null,null,null,null,null,112,1.1122020517808917]
[null,null,null,113,2.3260786325372962,null,null,null,null,null,113,0.84613642854653504]
[null,null,null,114,9.3274558538685568,null,null,null,null,null,114,0.67688779448213854]
[null,null,null,115,9.4324221028468234,null,null,null,null,null,115,0.95236466705173284]
[null,null,null,116,8.2192009260559686,null,null,null,null,null,116,1.2379261509905333]
[null,null,null,117,7.6902493691546816,null,null,null,null,null,117,1.0793920844900211]
[null,null,null,118,5.0014106223367847,null,null,null,null,null,118,1.242539153676439]
[null,null,null,119,7.5288666742773893,null,null,null,null,null,119,0.73506605309939332]
[null,null,null,120,7.6606891759442028,null,null,null,null,null,120,0.7423776153309336]
[null,null,null,121,5.4970962884537471,null,null,null,null,null,121,0.97874369438989095]
[null,null,null,122,10.847335559725167,null,null,null,null,null,122,0.88044152285216082]
[null,null,null,123,8.4270201948561407,null,null,null,null,null,123,0.82111029589239659]
[null,null,null,124,7.2284192207156419,null,null,null,null,null,124,1.7520376205744441]
[null,null,null,125,11.835458125911913,null,null,null,null,null,125,1.1636295693545187]
[null,null,null,126,9.4316537643163354,null,null,null,null,null,126,1.2748802241426884]
[null,null,null,127,9.579206222373422,null,null,null,null,null,127,0.60603740121135807]
[null,null,null,128,10.465793929478536,null,null,null,null,null,128,1.3273971039723518]
[null,null,null,129,{"$f":"BETAINV(RAND(),G$14,G$15,E$13,E$12)","v":4.8425830716703064},null,null,null,null,null,129,{"$f":"BETAINV(RAND(),N$14,N$15,L$13,L$12)","v":1.1473304498604366}]
[null,null,null,130,8.9434824760689935,null,null,null,null,null,130,1.5371107679507956]
[null,null,null,131,6.0510205287807484,null,null,null,null,null,131,0.73838390013321153]
[null,null,null,132,3.377498630465845,null,null,null,null,null,132,1.2040837406128975]
[null,null,null,133,9.6070374100671021,null,null,null,null,null,133,0.96667064845545603]
[null,null,null,134,11.97333969239126,null,null,null,null,null,134,1.1373647864398826]
[null,null,null,135,13.680015071457635,null,null,null,null,null,135,1.0324098485147322]
[null,null,null,136,6.529657825932464,null,null,null,null,null,136,1.2561845303057289]
[null,null,null,137,8.1516161056360019,null,null,null,null,null,137,1.0086483034930718]
[null,null,null,138,9.4355181313721772,null,null,null,null,null,138,1.1343382518574945]
[null,null,null,139,12.184338138792766,null,null,null,null,null,139,1.595822766269291]
[null,null,null,140,6.3966399633099025,null,null,null,null,null,140,1.67482260155227]
[null,null,null,141,13.275587285169344,null,null,null,null,null,141,0.9694752141589229]
[null,null,null,142,11.746336285979968,null,null,null,null,null,142,1.5806359759597144]
[null,null,null,143,6.2299815109643326,null,null,null,null,null,143,1.3881152455661443]
[null,null,null,144,9.3163722678917438,null,null,null,null,null,144,1.2857383142869059]
[null,null,null,145,10.31972408768878,null,null,null,null,null,145,1.002801264078915]
[null,null,null,146,10.967402500775002,null,null,null,null,null,146,1.0906114960493043]
[null,null,null,147,5.267540152162927,null,null,null,null,null,147,0.975395899034877]
[null,null,null,148,14.952193063966085,null,null,null,null,null,148,0.85271365384329179]
[null,null,null,149,9.1498306202099258,null,null,null,null,null,149,0.61116697988159674]
[null,null,null,150,9.9584662697485822,null,null,null,null,null,150,0.79754401655757778]
[null,null,null,151,5.5473571124999514,null,null,null,null,null,151,1.0996373000296338]
[null,null,null,152,9.9877782099254908,null,null,null,null,null,152,1.0265542907986678]
[null,null,null,153,8.4006094428453491,null,null,null,null,null,153,1.0129117207081788]
[null,null,null,154,11.708874464240385,null,null,null,null,null,154,1.6139413855247358]
[null,null,null,155,5.6094348843254727,null,null,null,null,null,155,0.98172731127744162]
[null,null,null,156,9.2208611646728009,null,null,null,null,null,156,1.2565811418584971]
[null,null,null,157,3.8710067946381423,null,null,null,null,null,157,1.2908978373944522]
[null,null,null,158,6.8456405581889186,null,null,null,null,null,158,0.78080327053592324]
[null,null,null,159,10.303847402911526,null,null,null,null,null,159,1.2322969898300555]
[null,null,null,160,5.9804484030827867,null,null,null,null,null,160,1.0729981048764983]
[null,null,null,161,9.2684343965937046,null,null,null,null,null,161,0.79173086834609729]
[null,null,null,162,9.244009880788985,null,null,null,null,null,162,0.90858319350048478]
[null,null,null,163,14.248969452521342,null,null,null,null,null,163,1.3180801660749482]
[null,null,null,164,4.1742776233891945,null,null,null,null,null,164,1.1338083579030604]
[null,null,null,165,5.8914107979795416,null,null,null,null,null,165,1.4902909784022427]
[null,null,null,166,9.6884596421898745,null,null,null,null,null,166,1.184090017826771]
[null,null,null,167,15.947682695841905,null,null,null,null,null,167,0.74586657127397604]
[null,null,null,168,2.0928782470624601,null,null,null,null,null,168,0.68304670578214688]
[null,null,null,169,4.2568472157158297,null,null,null,null,null,169,0.7348933233405095]
[null,null,null,170,3.2142144944279818,null,null,null,null,null,170,0.97555022215149378]
[null,null,null,171,7.1484370320129758,null,null,null,null,null,171,1.0504864872016357]
[null,null,null,172,12.836460668641291,null,null,null,null,null,172,1.044420569419215]
[null,null,null,173,6.4011614080582957,null,null,null,null,null,173,1.3220562097924167]
[null,null,null,174,8.5911320886909159,null,null,null,null,null,174,0.58279595129114026]
[null,null,null,175,8.3420236442818769,null,null,null,null,null,175,0.84176218016735049]
[null,null,null,176,7.9866563442263203,null,null,null,null,null,176,0.98086541376466729]
[null,null,null,177,5.2160824068413385,null,null,null,null,null,177,1.3304700769436222]
[null,null,null,178,10.028390400659115,null,null,null,null,null,178,1.4860024950022237]
[null,null,null,179,4.2377841201936679,null,null,null,null,null,179,1.6314851087945297]
[null,null,null,180,9.5532318027183489,null,null,null,null,null,180,0.68470130961606313]
[null,null,null,181,6.4175502672912002,null,null,null,null,null,181,0.77515530697653257]
[null,null,null,182,2.0671635188706623,null,null,null,null,null,182,1.1103659161264874]
[null,null,null,183,6.8076414462695078,null,null,null,null,null,183,1.3302711166546237]
[null,null,null,184,14.688782448738813,null,null,null,null,null,184,0.75519591489023019]
[null,null,null,185,5.5668662051137305,null,null,null,null,null,185,0.89184844395568086]
[null,null,null,186,9.035318831075525,null,null,null,null,null,186,1.2192037119465355]
[null,null,null,187,11.311529010267773,null,null,null,null,null,187,1.1681041270422174]
[null,null,null,188,6.6338297727132378,null,null,null,null,null,188,0.76846589233648599]
[null,null,null,189,8.555559960191383,null,null,null,null,null,189,1.2582937965920795]
[null,null,null,190,9.3499945769298769,null,null,null,null,null,190,1.2663742452354008]
[null,null,null,191,2.05462370249231,null,null,null,null,null,191,0.96959802632405168]
[null,null,null,192,8.494796495209668,null,null,null,null,null,192,0.98004126310309525]
[null,null,null,193,{"$f":"BETAINV(RAND(),G$14,G$15,E$13,E$12)","v":7.8871289381873542},null,null,null,null,null,193,{"$f":"BETAINV(RAND(),N$14,N$15,L$13,L$12)","v":0.66990934088619869}]
[null,null,null,194,3.4677140076713493,null,null,null,null,null,194,0.75605386755961901]
[null,null,null,195,8.0508209476425847,null,null,null,null,null,195,1.4226986072205516]
[null,null,null,196,12.058278815549162,null,null,null,null,null,196,0.8373656128889102]
[null,null,null,197,6.138145447987565,null,null,null,null,null,197,0.93332827321092127]
[null,null,null,198,8.6078138253319594,null,null,null,null,null,198,1.2259525197547321]
[null,null,null,199,4.9592900685095849,null,null,null,null,null,199,0.69127261411365371]
[null,null,null,200,6.7431292390513065,null,null,null,null,null,200,1.1557281279516289]
[null,null,null,201,8.062091842850089,null,null,null,null,null,201,1.2623628434062657]
[null,null,null,202,4.9756254312113999,null,null,null,null,null,202,0.68430781216715386]
[null,null,null,203,4.4714146383686826,null,null,null,null,null,203,0.74441864246659062]
[null,null,null,204,4.7459095089609864,null,null,null,null,null,204,0.98255880680709973]
[null,null,null,205,14.824302643545167,null,null,null,null,null,205,1.130064145022486]
[null,null,null,206,14.840729157870676,null,null,null,null,null,206,1.4861864146104695]
[null,null,null,207,2.3194037948329607,null,null,null,null,null,207,1.1816168880596363]
[null,null,null,208,4.8605156758805679,null,null,null,null,null,208,0.74471114823759266]
[null,null,null,209,3.0523288128701229,null,null,null,null,null,209,0.68448808780943682]
[null,null,null,210,13.692916204584353,null,null,null,null,null,210,1.2785489874207305]
[null,null,null,211,2.9183237178935162,null,null,null,null,null,211,1.5786932119947863]
[null,null,null,212,12.09341629904177,null,null,null,null,null,212,1.1829570616082781]
[null,null,null,213,10.752965070696558,null,null,null,null,null,213,1.1222481304208192]
[null,null,null,214,10.429355615582043,null,null,null,null,null,214,1.2291048391283472]
[null,null,null,215,5.6584208979623165,null,null,null,null,null,215,1.2813221331494113]
[null,null,null,216,7.6308749690307689,null,null,null,null,null,216,1.0965825850084745]
[null,null,null,217,4.326729246771321,null,null,null,null,null,217,1.4488170867005636]
[null,null,null,218,12.16585723862034,null,null,null,null,null,218,1.0410973530929959]
[null,null,null,219,14.389870948666339,null,null,null,null,null,219,0.99141220361963911]
[null,null,null,220,11.441611776606168,null,null,null,null,null,220,0.66651403383187269]
[null,null,null,221,10.065325613229005,null,null,null,null,null,221,1.2459537690496736]
[null,null,null,222,4.1888141529426868,null,null,null,null,null,222,0.99144664431337814]
[null,null,null,223,4.676816179441099,null,null,null,null,null,223,1.0096747639047239]
[null,null,null,224,5.1062043893427997,null,null,null,null,null,224,0.94724817698152297]
[null,null,null,225,9.1519401368088147,null,null,null,null,null,225,1.1381991858267495]
[null,null,null,226,13.515735980653924,null,null,null,null,null,226,1.4864770877036939]
[null,null,null,227,4.8489968125235654,null,null,null,null,null,227,0.96971601130537954]
[null,null,null,228,4.5292783448386613,null,null,null,null,null,228,1.5414827030810332]
[null,null,null,229,8.9926146869445542,null,null,null,null,null,229,0.8204224701244659]
[null,null,null,230,13.657760364356886,null,null,null,null,null,230,0.79409829809061883]
[null,null,null,231,8.3899228036572495,null,null,null,null,null,231,0.73498962201539197]
[null,null,null,232,11.104506457236509,null,null,null,null,null,232,1.1073468949701304]
[null,null,null,233,12.523432555206094,null,null,null,null,null,233,1.0985747293550563]
[null,null,null,234,4.9354485217499473,null,null,null,null,null,234,1.424342032497306]
[null,null,null,235,9.2078101332663618,null,null,null,null,null,235,1.4808445768050089]
[null,null,null,236,7.8083250286187962,null,null,null,null,null,236,1.2484606470864472]
[null,null,null,237,6.2681858126985475,null,null,null,null,null,237,0.97269733242220358]
[null,null,null,238,5.1358390051069618,null,null,null,null,null,238,0.8800943744524572]
[null,null,null,239,8.2387472803217339,null,null,null,null,null,239,1.1710266315818916]
[null,null,null,240,3.0757726482041798,null,null,null,null,null,240,1.0681526144804083]
[null,null,null,241,11.957071799618303,null,null,null,null,null,241,0.85345598748714668]
[null,null,null,242,8.1149917937725426,null,null,null,null,null,242,0.88702051176302699]
[null,null,null,243,3.7443626133009413,null,null,null,null,null,243,0.89734319448666555]
[null,null,null,244,1.4021113008988264,null,null,null,null,null,244,1.0942551434697019]
[null,null,null,245,3.8841115434510667,null,null,null,null,null,245,1.557972774738579]
[null,null,null,246,11.53896083677143,null,null,null,null,null,246,1.0286520244443402]
[null,null,null,247,14.624043598393328,null,null,null,null,null,247,1.0839199591448549]
[null,null,null,248,7.3717386988966567,null,null,null,null,null,248,1.0361959906369271]
[null,null,null,249,10.038386548436328,null,null,null,null,null,249,0.901779658280362]
[null,null,null,250,8.9892447779212805,null,null,null,null,null,250,0.68325041482393922]
[null,null,null,251,3.0355252820474399,null,null,null,null,null,251,1.0616587771587116]
[null,null,null,252,1.4487707884170375,null,null,null,null,null,252,0.86067916957806045]
[null,null,null,253,8.3650373455323663,null,null,null,null,null,253,0.88643875618537249]
[null,null,null,254,2.3066866298188247,null,null,null,null,null,254,0.76362854167259786]
[null,null,null,255,4.3077443509182221,null,null,null,null,null,255,1.3988258592706895]
[null,null,null,256,7.0293658870627684,null,null,null,null,null,256,1.4843497708949209]
[null,null,null,257,{"$f":"BETAINV(RAND(),G$14,G$15,E$13,E$12)","v":5.8260904169493948},null,null,null,null,null,257,{"$f":"BETAINV(RAND(),N$14,N$15,L$13,L$12)","v":0.76988900960897311}]
[null,null,null,258,7.2947527183305585,null,null,null,null,null,258,1.2239351610210094]
[null,null,null,259,4.7219144115925999,null,null,null,null,null,259,1.0870730694217654]
[null,null,null,260,11.181766288475131,null,null,null,null,null,260,1.0454051517517879]
[null,null,null,261,12.468044423435657,null,null,null,null,null,261,1.0250048457772425]
[null,null,null,262,7.6511683244154396,null,null,null,null,null,262,1.41323846413778]
[null,null,null,263,5.0077863597757908,null,null,null,null,null,263,1.0644302139010631]
[null,null,null,264,4.0926471757072749,null,null,null,null,null,264,1.0637299943004361]
[null,null,null,265,9.2023244422265051,null,null,null,null,null,265,1.1277594716866726]
[null,null,null,266,2.7889610181711331,null,null,null,null,null,266,1.3524492881272758]
[null,null,null,267,10.599468409527329,null,null,null,null,null,267,0.92579133288234416]
[null,null,null,268,8.9329386674863684,null,null,null,null,null,268,1.4530342096611673]
[null,null,null,269,13.549703314946568,null,null,null,null,null,269,0.7172034435143988]
[null,null,null,270,9.932498684543253,null,null,null,null,null,270,1.0104399853646409]
[null,null,null,271,5.8859793978750456,null,null,null,null,null,271,0.93044070205573748]
[null,null,null,272,14.229119509644088,null,null,null,null,null,272,1.1401219432506211]
[null,null,null,273,9.0171570790628799,null,null,null,null,null,273,1.3566875613348566]
[null,null,null,274,9.2124421092394311,null,null,null,null,null,274,1.5635420803177245]
[null,null,null,275,3.1290384102587416,null,null,null,null,null,275,0.9485842236381441]
[null,null,null,276,1.9590825673611667,null,null,null,null,null,276,1.1807485365186188]
[null,null,null,277,10.945738926152014,null,null,null,null,null,277,0.84003906795511751]
[null,null,null,278,9.081996461482392,null,null,null,null,null,278,0.66113637076253562]
[null,null,null,279,4.9906658023032477,null,null,null,null,null,279,0.90571877549382573]
[null,null,null,280,3.5648254436692888,null,null,null,null,null,280,1.2298392953695307]
[null,null,null,281,3.3990589596254646,null,null,null,null,null,281,0.88896716662724617]
[null,null,null,282,11.120491191014525,null,null,null,null,null,282,0.80375598334536547]
[null,null,null,283,2.9326155161112779,null,null,null,null,null,283,0.81129862181683721]
[null,null,null,284,8.5447922963841112,null,null,null,null,null,284,1.1467675139937359]
[null,null,null,285,12.145231963211369,null,null,null,null,null,285,0.74086937527123742]
[null,null,null,286,6.0488247174036305,null,null,null,null,null,286,0.90477872089217781]
[null,null,null,287,5.445112652984422,null,null,null,null,null,287,0.72455754544665874]
[null,null,null,288,6.1350801265036718,null,null,null,null,null,288,1.318827011903027]
[null,null,null,289,13.066961137307315,null,null,null,null,null,289,0.69757849567802266]
[null,null,null,290,6.6340482907979101,null,null,null,null,null,290,1.4699930418653286]
[null,null,null,291,13.65479446366847,null,null,null,null,null,291,1.7465860348024742]
[null,null,null,292,2.9037836685552301,null,null,null,null,null,292,0.87860837153735327]
[null,null,null,293,4.2306331999905398,null,null,null,null,null,293,0.89847620000433215]
[null,null,null,294,7.1024908803226277,null,null,null,null,null,294,0.93308517317586859]
[null,null,null,295,3.1260012471055463,null,null,null,null,null,295,0.84923015039796823]
[null,null,null,296,8.5412037730465791,null,null,null,null,null,296,1.1287330641851216]
[null,null,null,297,6.6648773692425722,null,null,null,null,null,297,1.1047769070034794]
[null,null,null,298,8.4199677747370352,null,null,null,null,null,298,1.0370979870339931]
[null,null,null,299,2.6765439608182904,null,null,null,null,null,299,1.5659110910436174]
[null,null,null,300,5.2201415496680363,null,null,null,null,null,300,1.3660156557988072]
[null,null,null,301,6.102716626513498,null,null,null,null,null,301,1.4279152731478737]
[null,null,null,302,16.022185477937459,null,null,null,null,null,302,1.5822995109227258]
[null,null,null,303,15.381792320419816,null,null,null,null,null,303,1.2687505876871303]
[null,null,null,304,7.2733512642502074,null,null,null,null,null,304,1.777889469672959]
[null,null,null,305,7.0673444351718233,null,null,null,null,null,305,1.0204064251234251]
[null,null,null,306,8.6201227575789705,null,null,null,null,null,306,1.5164017461626949]
[null,null,null,307,9.6942955611439725,null,null,null,null,null,307,1.1337513690439558]
[null,null,null,308,8.0795607425763194,null,null,null,null,null,308,1.3030372331093705]
[null,null,null,309,6.7407245261918938,null,null,null,null,null,309,0.93678489248295038]
[null,null,null,310,6.4161536126912715,null,null,null,null,null,310,1.2555503151721454]
[null,null,null,311,9.6668957425759885,null,null,null,null,null,311,1.1895935936934368]
[null,null,null,312,9.6391989585206108,null,null,null,null,null,312,0.70755009605074226]
[null,null,null,313,3.011868426463248,null,null,null,null,null,313,1.1156615709983648]
[null,null,null,314,4.3849728478154013,null,null,null,null,null,314,1.3799190214191965]
[null,null,null,315,8.887441701583942,null,null,null,null,null,315,1.231395170071653]
[null,null,null,316,12.630608918041062,null,null,null,null,null,316,0.8923417184926421]
[null,null,null,317,5.7296885065824474,null,null,null,null,null,317,1.4764782551260978]
[null,null,null,318,6.4402903848969588,null,null,null,null,null,318,0.97841263414777879]
[null,null,null,319,6.3262211812392763,null,null,null,null,null,319,0.88890432251778528]
[null,null,null,320,5.7178083673602114,null,null,null,null,null,320,0.58675042073942696]
[null,null,null,321,{"$f":"BETAINV(RAND(),G$14,G$15,E$13,E$12)","v":10.883930972680972},null,null,null,null,null,321,{"$f":"BETAINV(RAND(),N$14,N$15,L$13,L$12)","v":1.2832089838147505}]
[null,null,null,322,10.669850452037048,null,null,null,null,null,322,1.3605869975668743]
[null,null,null,323,9.4346052199532977,null,null,null,null,null,323,1.0767573598590201]
[null,null,null,324,5.5611067315599323,null,null,null,null,null,324,0.95196807549783469]
[null,null,null,325,5.3710535698881436,null,null,null,null,null,325,0.91677985012356533]
[null,null,null,326,14.391322450020233,null,null,null,null,null,326,0.99911472284738112]
[null,null,null,327,3.6092509626758016,null,null,null,null,null,327,1.6524598210688546]
[null,null,null,328,3.3767436552063272,null,null,null,null,null,328,1.3508004881685953]
[null,null,null,329,7.1546496311302406,null,null,null,null,null,329,1.4022450299032192]
[null,null,null,330,8.7628904458376002,null,null,null,null,null,330,0.73916320487074338]
[null,null,null,331,11.651519682411196,null,null,null,null,null,331,1.468735442488208]
[null,null,null,332,4.5999069006817717,null,null,null,null,null,332,0.76030551765202925]
[null,null,null,333,8.8809582223418495,null,null,null,null,null,333,1.2366513909003445]
[null,null,null,334,16.423819112590948,null,null,null,null,null,334,1.5493436746365898]
[null,null,null,335,10.321566091917466,null,null,null,null,null,335,0.79946086393886362]
[null,null,null,336,8.8636887800622031,null,null,null,null,null,336,0.68423190348197049]
[null,null,null,337,10.984284867219737,null,null,null,null,null,337,0.98588906878531357]
[null,null,null,338,9.1304976622388896,null,null,null,null,null,338,1.3073665785759347]
[null,null,null,339,8.1191036847417202,null,null,null,null,null,339,1.7185097267254874]
[null,null,null,340,3.0819770598752858,null,null,null,null,null,340,0.94686764900424358]
[null,null,null,341,6.7375961480883477,null,null,null,null,null,341,1.0445569350053709]
[null,null,null,342,3.1918052017108507,null,null,null,null,null,342,1.0413336937350577]
[null,null,null,343,10.125000735618482,null,null,null,null,null,343,0.91292681373896811]
[null,null,null,344,3.6166034339520907,null,null,null,null,null,344,1.2263760607252303]
[null,null,null,345,10.940667469849707,null,null,null,null,null,345,1.1993925602894184]
[null,null,null,346,7.8635692158662298,null,null,null,null,null,346,1.483804854595236]
[null,null,null,347,9.5621441344727849,null,null,null,null,null,347,1.0952508844113684]
[null,null,null,348,9.3766384686283608,null,null,null,null,null,348,0.90651210167687457]
[null,null,null,349,3.1948107882237942,null,null,null,null,null,349,0.92462285364238983]
[null,null,null,350,11.074346943081096,null,null,null,null,null,350,1.0166164820935635]
[null,null,null,351,8.8808238425002148,null,null,null,null,null,351,0.85399591069232605]
[null,null,null,352,10.667173604853833,null,null,null,null,null,352,0.99913636788631999]
[null,null,null,353,4.5573191206815036,null,null,null,null,null,353,1.0282210733483641]
[null,null,null,354,2.8602476229500926,null,null,null,null,null,354,1.1546400930321146]
[null,null,null,355,14.22727548327209,null,null,null,null,null,355,1.3743158823552615]
[null,null,null,356,2.5809323779324997,null,null,null,null,null,356,1.2591077665986501]
[null,null,null,357,7.4553635020837685,null,null,null,null,null,357,1.1502615735327897]
[null,null,null,358,6.5208175491971385,null,null,null,null,null,358,1.1156060043864469]
[null,null,null,359,11.197919641345909,null,null,null,null,null,359,1.4965568423802409]
[null,null,null,360,8.0933207723578384,null,null,null,null,null,360,0.64233024298411823]
[null,null,null,361,2.9070103943836512,null,null,null,null,null,361,1.0726322425472368]
[null,null,null,362,15.757954842518719,null,null,null,null,null,362,0.78720923535103815]
[null,null,null,363,13.089955667210056,null,null,null,null,null,363,1.1968230328045011]
[null,null,null,364,7.5680458000340503,null,null,null,null,null,364,0.72462750226926542]
[null,null,null,365,4.5707799867521173,null,null,null,null,null,365,0.83000477975693299]
[null,null,null,366,8.2594371071637713,null,null,null,null,null,366,1.2899640434356687]
[null,null,null,367,4.9592008208243854,null,null,null,null,null,367,1.0778320610063141]
[null,null,null,368,12.014214658059327,null,null,null,null,null,368,1.120187462312866]
[null,null,null,369,2.4987849673324272,null,null,null,null,null,369,1.0386878395532286]
[null,null,null,370,9.7588422149886327,null,null,null,null,null,370,1.1073007554030632]
[null,null,null,371,12.816452573239344,null,null,null,null,null,371,1.0190186580619272]
[null,null,null,372,8.7319601363073964,null,null,null,null,null,372,0.99620951804388413]
[null,null,null,373,2.50397250630109,null,null,null,null,null,373,0.93440366688720433]
[null,null,null,374,8.30947570788231,null,null,null,null,null,374,0.91408322607992443]
[null,null,null,375,8.3737170325128005,null,null,null,null,null,375,0.75753882848395171]
[null,null,null,376,6.4642227582358185,null,null,null,null,null,376,1.1808913133709418]
[null,null,null,377,3.6125862831644504,null,null,null,null,null,377,1.0622189191973703]
[null,null,null,378,11.144353178921559,null,null,null,null,null,378,1.5025310761375072]
[null,null,null,379,7.2841913034104833,null,null,null,null,null,379,1.0479747448679531]
[null,null,null,380,3.8609055567572268,null,null,null,null,null,380,1.098522310753792]
[null,null,null,381,4.7046115883784676,null,null,null,null,null,381,1.5205258812190903]
[null,null,null,382,11.38355688137778,null,null,null,null,null,382,1.1623167456268886]
[null,null,null,383,5.4636061413322663,null,null,null,null,null,383,1.0056233702933299]
[null,null,null,384,8.1283017184040336,null,null,null,null,null,384,0.84519269837002553]
[null,null,null,385,{"$f":"BETAINV(RAND(),G$14,G$15,E$13,E$12)","v":3.1235349825522616},null,null,null,null,null,385,{"$f":"BETAINV(RAND(),N$14,N$15,L$13,L$12)","v":0.93935911869519517}]
[null,null,null,386,12.405765368399297,null,null,null,null,null,386,0.94592023584290807]
[null,null,null,387,5.4339411486074738,null,null,null,null,null,387,1.5317554179405923]
[null,null,null,388,7.3340948394578636,null,null,null,null,null,388,1.5007931760329909]
[null,null,null,389,6.8172119197882637,null,null,null,null,null,389,1.2704506072313086]
[null,null,null,390,10.347631168452574,null,null,null,null,null,390,0.70997494064390676]
[null,null,null,391,7.1904065622209403,null,null,null,null,null,391,1.1528743307098674]
[null,null,null,392,5.974726708273721,null,null,null,null,null,392,0.94620421512967889]
[null,null,null,393,4.4066572757604989,null,null,null,null,null,393,1.0772571437445131]
[null,null,null,394,6.161162430912932,null,null,null,null,null,394,0.98191203008360739]
[null,null,null,395,8.2909186240384791,null,null,null,null,null,395,1.2304537221732699]
[null,null,null,396,2.1158997511058897,null,null,null,null,null,396,0.8568381169549778]
[null,null,null,397,2.3689256901290858,null,null,null,null,null,397,0.93352882962880757]
[null,null,null,398,4.4831493731939345,null,null,null,null,null,398,0.89634880986692123]
[null,null,null,399,3.9411457732567934,null,null,null,null,null,399,1.268930792905886]
[null,null,null,400,10.588793884318667,null,null,null,null,null,400,1.1045097981608305]
[null,null,null,401,3.7289357481522276,null,null,null,null,null,401,1.1265765157181074]
[null,null,null,402,11.54565411695835,null,null,null,null,null,402,1.4830883191409265]
[null,null,null,403,11.483295156273321,null,null,null,null,null,403,1.2203427495048036]
[null,null,null,404,6.4395402557004102,null,null,null,null,null,404,1.2873258978039885]
[null,null,null,405,4.9346989838893798,null,null,null,null,null,405,1.0061826804605594]
[null,null,null,406,8.688711582351262,null,null,null,null,null,406,0.97961164138807544]
[null,null,null,407,7.4706238325658783,null,null,null,null,null,407,1.0766698027498505]
[null,null,null,408,14.284992783814342,null,null,null,null,null,408,1.1793521702257448]
[null,null,null,409,10.708466672268647,null,null,null,null,null,409,0.57490072251446733]
[null,null,null,410,8.3236001593080715,null,null,null,null,null,410,0.79357161366660334]
[null,null,null,411,13.719825565910499,null,null,null,null,null,411,1.2942549582094283]
[null,null,null,412,13.070551505721996,null,null,null,null,null,412,1.136542737431312]
[null,null,null,413,8.0846181250152043,null,null,null,null,null,413,1.5104918883564089]
[null,null,null,414,8.1280808169122949,null,null,null,null,null,414,1.2603902662276483]
[null,null,null,415,3.2788023634025589,null,null,null,null,null,415,1.0356445788916824]
[null,null,null,416,12.809224872847469,null,null,null,null,null,416,0.86870747231415391]
[null,null,null,417,12.639480608023291,null,null,null,null,null,417,1.0545969775320385]
[null,null,null,418,1.997452245837219,null,null,null,null,null,418,1.3405636816469189]
[null,null,null,419,9.0580789386743703,null,null,null,null,null,419,1.4236105351211878]
[null,null,null,420,4.7566185683235052,null,null,null,null,null,420,0.81671116779153063]
[null,null,null,421,11.250594002883936,null,null,null,null,null,421,1.2737262721690898]
[null,null,null,422,6.262313919452307,null,null,null,null,null,422,0.93253717289617843]
[null,null,null,423,8.7125445603327254,null,null,null,null,null,423,0.58397533446125294]
[null,null,null,424,4.6693246050727435,null,null,null,null,null,424,1.127048589006475]
[null,null,null,425,8.0406086334363405,null,null,null,null,null,425,0.93635991269199037]
[null,null,null,426,10.938451807506311,null,null,null,null,null,426,1.0691473343699527]
[null,null,null,427,8.190787003993254,null,null,null,null,null,427,1.0026670424393531]
[null,null,null,428,8.0041179814686334,null,null,null,null,null,428,0.80541927799010227]
[null,null,null,429,6.7813261153037532,null,null,null,null,null,429,1.4062727579163765]
[null,null,null,430,10.720042920732823,null,null,null,null,null,430,0.98481601927904239]
[null,null,null,431,10.995209147024767,null,null,null,null,null,431,1.2020906756008427]
[null,null,null,432,3.1566083688964799,null,null,null,null,null,432,1.0427551449736461]
[null,null,null,433,13.280892219722128,null,null,null,null,null,433,1.2228722848673332]
[null,null,null,434,6.9720245035771349,null,null,null,null,null,434,0.81855556032170895]
[null,null,null,435,8.106328348638165,null,null,null,null,null,435,1.3277795232820162]
[null,null,null,436,10.07890067695352,null,null,null,null,null,436,1.3318203082737865]
[null,null,null,437,4.9113098448907699,null,null,null,null,null,437,1.1095533903361696]
[null,null,null,438,9.9223574106244818,null,null,null,null,null,438,0.93665149624910871]
[null,null,null,439,8.8790939226632943,null,null,null,null,null,439,0.90081860865824726]
[null,null,null,440,5.4606162743392979,null,null,null,null,null,440,0.73379850669157909]
[null,null,null,441,6.5015398788207692,null,null,null,null,null,441,1.2278514226188157]
[null,null,null,442,6.89034877843575,null,null,null,null,null,442,1.1011756507263446]
[null,null,null,443,8.1240073656175955,null,null,null,null,null,443,1.0909604546491036]
[null,null,null,444,10.525416773763189,null,null,null,null,null,444,1.6631915281475569]
[null,null,null,445,5.952517784703578,null,null,null,null,null,445,1.1577774608456111]
[null,null,null,446,9.5041800280241873,null,null,null,null,null,446,1.1052026263303452]
[null,null,null,447,7.3983911297514195,null,null,null,null,null,447,1.2941093709489495]
[null,null,null,448,5.0177885938178024,null,null,null,null,null,448,0.76486517831707368]
[null,null,null,449,{"$f":"BETAINV(RAND(),G$14,G$15,E$13,E$12)","v":11.447004090303702},null,null,null,null,null,449,{"$f":"BETAINV(RAND(),N$14,N$15,L$13,L$12)","v":0.73658898628938907}]
[null,null,null,450,8.0593295358433465,null,null,null,null,null,450,1.3049025207081539]
[null,null,null,451,7.5475697331323897,null,null,null,null,null,451,1.0769119845994988]
[null,null,null,452,13.791269684282646,null,null,null,null,null,452,0.71358930174594937]
[null,null,null,453,14.17950372964351,null,null,null,null,null,453,1.3461454479884889]
[null,null,null,454,7.9041942974026522,null,null,null,null,null,454,1.5506896069555052]
[null,null,null,455,2.663630462419269,null,null,null,null,null,455,1.0029577955521729]
[null,null,null,456,9.3707248570323287,null,null,null,null,null,456,1.2230255089089246]
[null,null,null,457,10.904820061736064,null,null,null,null,null,457,0.75317945664986441]
[null,null,null,458,4.1390224198524432,null,null,null,null,null,458,1.2073167074507003]
[null,null,null,459,9.6556847958739702,null,null,null,null,null,459,1.2052821353427912]
[null,null,null,460,2.9866938586249119,null,null,null,null,null,460,1.0560243060736498]
[null,null,null,461,7.5525531429208943,null,null,null,null,null,461,1.1720573396064666]
[null,null,null,462,9.7405657652967221,null,null,null,null,null,462,1.2286793985238855]
[null,null,null,463,6.588979326808202,null,null,null,null,null,463,0.71718671363716247]
[null,null,null,464,3.6712763191536992,null,null,null,null,null,464,1.3599740267631619]
[null,null,null,465,5.0003400051190905,null,null,null,null,null,465,0.98565920507330806]
[null,null,null,466,1.7388629976393544,null,null,null,null,null,466,0.860776490825365]
[null,null,null,467,4.2734171482426557,null,null,null,null,null,467,1.1626100630174052]
[null,null,null,468,4.5547225932459572,null,null,null,null,null,468,1.3475453734645417]
[null,null,null,469,3.039142654211608,null,null,null,null,null,469,1.6124539569168519]
[null,null,null,470,10.920959624246169,null,null,null,null,null,470,0.97118328401533471]
[null,null,null,471,5.8011025505678466,null,null,null,null,null,471,1.4928835576079371]
[null,null,null,472,9.0910390620399308,null,null,null,null,null,472,1.5717634386086901]
[null,null,null,473,6.6168942986792567,null,null,null,null,null,473,0.97784143359122633]
[null,null,null,474,10.446900749121133,null,null,null,null,null,474,1.0918193981511606]
[null,null,null,475,8.0379402717428903,null,null,null,null,null,475,1.2167162662832474]
[null,null,null,476,4.4032769978852482,null,null,null,null,null,476,1.0854379036213546]
[null,null,null,477,5.2955528164668291,null,null,null,null,null,477,0.80200550738213783]
[null,null,null,478,9.2379911340743828,null,null,null,null,null,478,0.93597411509410366]
[null,null,null,479,2.1424615157777946,null,null,null,null,null,479,1.0972253987794043]
[null,null,null,480,6.8249428491627633,null,null,null,null,null,480,0.95123837161136704]
[null,null,null,481,12.25804814976728,null,null,null,null,null,481,0.77190184477452206]
[null,null,null,482,14.597420080710476,null,null,null,null,null,482,0.87201938940668999]
[null,null,null,483,6.9175258068097571,null,null,null,null,null,483,1.3214978175960321]
[null,null,null,484,9.7149602815015967,null,null,null,null,null,484,0.89092944842354183]
[null,null,null,485,9.101829418726556,null,null,null,null,null,485,1.2185516388395075]
[null,null,null,486,6.0601845180518161,null,null,null,null,null,486,1.0540110295451921]
[null,null,null,487,11.645194144698078,null,null,null,null,null,487,0.79550486818664934]
[null,null,null,488,4.0158327387359041,null,null,null,null,null,488,1.1435568087816408]
[null,null,null,489,6.5155036184638595,null,null,null,null,null,489,1.0358046105532146]
[null,null,null,490,5.3567459688600891,null,null,null,null,null,490,0.72750664818800215]
[null,null,null,491,9.9967870639073446,null,null,null,null,null,491,0.76067524612760229]
[null,null,null,492,9.5636170375554865,null,null,null,null,null,492,1.348113184848168]
[null,null,null,493,11.099755056372523,null,null,null,null,null,493,1.0202263709840513]
[null,null,null,494,9.7309975251250798,null,null,null,null,null,494,1.494947555696259]
[null,null,null,495,2.9254252902966762,null,null,null,null,null,495,1.3040946154023674]
[null,null,null,496,6.5725274131671343,null,null,null,null,null,496,0.7464745773128787]
[null,null,null,497,5.9859651176776545,null,null,null,null,null,497,0.81940872082730132]
[null,null,null,498,10.950767131954578,null,null,null,null,null,498,1.3358342168917658]
[null,null,null,499,6.5316230838533995,null,null,null,null,null,499,1.3983844257521749]
[null,null,null,500,2.8227632357848043,null,null,null,null,null,500,0.7753946179768556]

{"sheet":"Simulação","index":3,"n_rows":507,"n_cols":44,"rows_kept":507,"cut":false,"hidden":false,"merged":[[5,22,5,23],[5,24,5,25],[5,26,5,27],[5,28,5,29],[5,30,5,31],[5,40,5,41],[5,42,5,43],[5,32,5,33],[5,34,5,35],[5,36,5,37],[5,38,5,39],[5,20,5,21],[5,2,6,2],[5,3,6,3],[5,4,5,5],[5,6,5,7],[5,8,5,9],[5,10,5,11],[5,12,5,13],[5,14,5,15],[5,16,5,17],[5,18,5,19]]}
[null,null,null,"Nº de atendimentos =",{"$f":"COUNT(E8:E507)","v":54},null,{"$f":"COUNT(G8:G507)","v":56},null,{"$f":"COUNT(I8:I507)","v":49},null,{"$f":"COUNT(K8:K507)","v":53},null,{"$f":"COUNT(M8:M507)","v":47},null,{"$f":"COUNT(O8:O507)","v":49},null,{"$f":"COUNT(Q8:Q507)","v":43},null,{"$f":"COUNT(S8:S507)","v":37},null,{"$f":"COUNT(U8:U507)","v":30},null,{"$f":"COUNT(W8:W507)","v":23},null,{"$f":"COUNT(Y8:Y507)","v":23},null,{"$f":"COUNT(AA8:AA507)","v":16},null,{"$f":"COUNT(AC8:AC507)","v":8},null,{"$f":"COUNT(AE8:AE507)","v":6},null,{"$f":"COUNT(AG8:AG507)","v":2},null,{"$f":"COUNT(AI8:AI507)","v":1},null,{"$f":"COUNT(AK8:AK507)","v":1},null,{"$f":"COUNT(AM8:AM507)","v":1},null,{"$f":"COUNT(AO8:AO507)","v":1},null,{"$f":"COUNT(AQ8:AQ507)","v":0}]
[null,null,null,"Nº acumulado de atendimentos =",{"$f":"E1","v":54},null,{"$f":"SUM($E1:G1)","v":110},null,{"$f":"SUM($E1:I1)","v":159},null,{"$f":"SUM($E1:K1)","v":212},null,{"$f":"SUM($E1:M1)","v":259},null,{"$f":"SUM($E1:O1)","v":308},null,{"$f":"SUM($E1:Q1)","v":351},null,{"$f":"SUM($E1:S1)","v":388},null,{"$f":"SUM($E1:U1)","v":418},null,{"$f":"SUM($E1:W1)","v":441},null,{"$f":"SUM($E1:Y1)","v":464},null,{"$f":"SUM($E1:AA1)","v":480},null,{"$f":"SUM($E1:AC1)","v":488},null,{"$f":"SUM($E1:AE1)","v":494},null,{"$f":"SUM($E1:AG1)","v":496},null,{"$f":"SUM($E1:AI1)","v":497},null,{"$f":"SUM($E1:AK1)","v":498},null,{"$f":"SUM($E1:AM1)","v":499},null,{"$f":"SUM($E1:AO1)","v":500},null,{"$f":"SUM($E1:AQ1)","v":500}]
[null,null,null,"Graus de prontidão",{"$f":"E2/500","v":0.108},null,{"$f":"G2/500","v":0.22},null,{"$f":"I2/500","v":0.318},null,{"$f":"K2/500","v":0.42399999999999999},null,{"$f":"M2/500","v":0.51800000000000002},null,{"$f":"O2/500","v":0.61599999999999999},null,{"$f":"Q2/500","v":0.70199999999999996},null,{"$f":"S2/500","v":0.77600000000000002},null,{"$f":"U2/500","v":0.83599999999999997},null,{"$f":"W2/500","v":0.88200000000000001},null,{"$f":"Y2/500","v":0.92800000000000005},null,{"$f":"AA2/500","v":0.96},null,{"$f":"AC2/500","v":0.97599999999999998},null,{"$f":"AE2/500","v":0.98799999999999999},null,{"$f":"AG2/500","v":0.99199999999999999},null,{"$f":"AI2/500","v":0.99399999999999999},null,{"$f":"AK2/500","v":0.996},null,{"$f":"AM2/500","v":0.998},null,{"$f":"AO2/500","v":1},null,{"$f":"AQ2/500","v":1}]
[]
[]
[null,null,"Chegada à fila","Tempo atendimento","1º Ventilador",null,"2º Ventilador",null,"3º Ventilador",null,"4º Ventilador",null,"5º Ventilador",null,"6º Ventilador",null,"7º Ventilador",null,"8º Ventilador",null,"9º Ventilador",null,"10º Ventilador",null,"11º Ventilador",null,"12º Ventilador",null,"13º Ventilador",null,"14º Ventilador",null,"15º Ventilador",null,"16º Ventilador",null,"17º Ventilador",null,"18º Ventilador",null,"19º Ventilador",null,"20º Ventilador"]
[null,"Ordem",null,null,"Início","Fim","Início","Fim","Início","Fim","Início","Fim","Início","Fim","Início","Fim","Início","Fim","Início","Fim","Início","Fim","Início","Fim","Início","Fim","Início","Fim","Início","Fim","Início","Fim","Início","Fim","Início","Fim","Início","Fim","Início","Fim","Início","Fim","Início","Fim"]
[null,1,{"$f":"Chegadas!J9","v":0.71},{"$f":"IF(Chegadas!K9=\"I\",Atendimento!E16,Atendimento!L16)","v":7.9637373456250895},{"$f":"C8","v":0.71},{"$f":"E8+D8","v":8.6737373456250886},"-",0,"-",0,"-",0,"-",0,"-",0,"-",0,"-",0,"-",0,"-",0,"-",0,"-",0,"-",0,"-",0,"-",0,"-",0,"-",0,"-",0,"-",0,"-",0]
[null,2,{"$f":"Chegadas!J10","v":6.14},{"$f":"IF(Chegadas!K10=\"I\",Atendimento!E17,Atendimento!L17)","v":8.3173593846973262},{"$f":"IF($C9>F8,$C9,\"*\")","v":"*"},{"$f":"IF(E9=\"*\",F8,E9+$D9)","v":8.6737373456250886},{"$f":"IF(E9<>\"*\",\"-\",IF($C9>=H8,$C9,\"*\"))","v":6.14},{"$f":"IF(OR(G9=\"-\",G9=\"*\"),H8,G9+$D9)","v":14.457359384697327},{"$f":"IF(G9<>\"*\",\"-\",IF($C9>=J8,$C9,\"*\"))","v":"-"},{"$f":"IF(OR(I9=\"-\",I9=\"*\"),J8,I9+$D9)","v":0},{"$f":"IF(I9<>\"*\",\"-\",IF($C9>=L8,$C9,\"*\"))","v":"-"},{"$f":"IF(OR(K9=\"-\",K9=\"*\"),L8,K9+$D9)","v":0},{"$f":"IF(K9<>\"*\",\"-\",IF($C9>=N8,$C9,\"*\"))","v":"-"},{"$f":"IF(OR(M9=\"-\",M9=\"*\"),N8,M9+$D9)","v":0},{"$f":"IF(M9<>\"*\",\"-\",IF($C9>=P8,$C9,\"*\"))","v":"-"},{"$f":"IF(OR(O9=\"-\",O9=\"*\"),P8,O9+$D9)","v":0},{"$f":"IF(O9<>\"*\",\"-\",IF($C9>=R8,$C9,\"*\"))","v":"-"},{"$f":"IF(OR(Q9=\"-\",Q9=\"*\"),R8,Q9+$D9)","v":0},{"$f":"IF(Q9<>\"*\",\"-\",IF($C9>=T8,$C9,\"*\"))","v":"-"},{"$f":"IF(OR(S9=\"-\",S9=\"*\"),T8,S9+$D9)","v":0},{"$f":"IF(S9<>\"*\",\"-\",IF($C9>=V8,$C9,\"*\"))","v":"-"},{"$f":"IF(OR(U9=\"-\",U9=\"*\"),V8,U9+$D9)","v":0},{"$f":"IF(U9<>\"*\",\"-\",IF($C9>=X8,$C9,\"*\"))","v":"-"},{"$f":"IF(OR(W9=\"-\",W9=\"*\"),X8,W9+$D9)","v":0},{"$f":"IF(W9<>\"*\",\"-\",IF($C9>=Z8,$C9,\"*\"))","v":"-"},{"$f":"IF(OR(Y9=\"-\",Y9=\"*\"),Z8,Y9+$D9)","v":0},{"$f":"IF(Y9<>\"*\",\"-\",IF($C9>=AB8,$C9,\"*\"))","v":"-"},{"$f":"IF(OR(AA9=\"-\",AA9=\"*\"),AB8,AA9+$D9)","v":0},{"$f":"IF(AA9<>\"*\",\"-\",IF($C9>=AD8,$C9,\"*\"))","v":"-"},{"$f":"IF(OR(AC9=\"-\",AC9=\"*\"),AD8,AC9+$D9)","v":0},{"$f":"IF(AC9<>\"*\",\"-\",IF($C9>=AF8,$C9,\"*\"))","v":"-"},{"$f":"IF(OR(AE9=\"-\",AE9=\"*\"),AF8,AE9+$D9)","v":0},{"$f":"IF(AE9<>\"*\",\"-\",IF($C9>=AH8,$C9,\"*\"))","v":"-"},{"$f":"IF(OR(AG9=\"-\",AG9=\"*\"),AH8,AG9+$D9)","v":0},{"$f":"IF(AG9<>\"*\",\"-\",IF($C9>=AJ8,$C9,\"*\"))","v":"-"},{"$f":"IF(OR(AI9=\"-\",AI9=\"*\"),AJ8,AI9+$D9)","v":0},{"$f":"IF(AI9<>\"*\",\"-\",IF($C9>=AL8,$C9,\"*\"))","v":"-"},{"$f":"IF(OR(AK9=\"-\",AK9=\"*\"),AL8,AK9+$D9)","v":0},{"$f":"IF(AK9<>\"*\",\"-\",IF($C9>=AN8,$C9,\"*\"))","v":"-"},{"$f":"IF(OR(AM9=\"-\",AM9=\"*\"),AN8,AM9+$D9)","v":0},{"$f":"IF(AM9<>\"*\",\"-\",IF($C9>=AP8,$C9,\"*\"))","v":"-"},{"$f":"IF(OR(AO9=\"-\",AO9=\"*\"),AP8,AO9+$D9)","v":0},{"$f":"IF(AO9<>\"*\",\"-\",IF($C9>=AR8,$C9,\"*\"))","v":"-"},{"$f":"IF(OR(AQ9=\"-\",AQ9=\"*\"),AR8,AQ9+$D9)","v":0}]
[null,3,{"$f":"Chegadas!J11","v":6.9799999999999995},{"$f":"IF(Chegadas!K11=\"I\",Atendimento!E18,Atendimento!L18)","v":7.1512338560999886},{"$f":"IF($C10>F9,$C10,\"*\")","v":"*"},{"$f":"IF(E10=\"*\",F9,E10+$D10)","v":8.6737373456250886},"*",{"$f":"IF(OR(G10=\"-\",G10=\"*\"),H9,G10+$D10)","v":14.457359384697327},6.9799999999999995,{"$f":"IF(OR(I10=\"-\",I10=\"*\"),J9,I10+$D10)","v":14.131233856099989},"-",{"$f":"IF(OR(K10=\"-\",K10=\"*\"),L9,K10+$D10)","v":0},"-",{"$f":"IF(OR(M10=\"-\",M10=\"*\"),N9,M10+$D10)","v":0},"-",{"$f":"IF(OR(O10=\"-\",O10=\"*\"),P9,O10+$D10)","v":0},"-",{"$f":"IF(OR(Q10=\"-\",Q10=\"*\"),R9,Q10+$D10)","v":0},"-",0,"-",0,"-",0,"-",0,"-",0,"-",0,"-",0,"-",0,"-",0,"-",0,"-",0,"-",0,"-",0]
[null,4,{"$f":"Chegadas!J12","v":7.3599999999999994},{"$f":"IF(Chegadas!K12=\"I\",Atendimento!E19,Atendimento!L19)","v":6.1724307097007589},"*",8.6737373456250886,"*",14.457359384697327,"*",14.131233856099989,7.3599999999999994,{"$f":"IF(OR(K11=\"-\",K11=\"*\"),L10,K11+$D11)","v":13.532430709700758},"-",{"$f":"IF(OR(M11=\"-\",M11=\"*\"),N10,M11+$D11)","v":0},"-",{"$f":"IF(OR(O11=\"-\",O11=\"*\"),P10,O11+$D11)","v":0},"-",{"$f":"IF(OR(Q11=\"-\",Q11=\"*\"),R10,Q11+$D11)","v":0},"-",0,"-",0,"-",0,"-",0,"-",0,"-",0,"-",0,"-",0,"-",0,"-",0,"-",0,"-",0,"-",0]
[null,5,{"$f":"Chegadas!J13","v":7.3699999999999992},{"$f":"IF(Chegadas!K13=\"I\",Atendimento!E20,Atendimento!L20)","v":2.8536102713130189},"*",8.6737373456250886,"*",14.457359384697327,"*",14.131233856099989,"*",13.532430709700758,7.3699999999999992,{"$f":"IF(OR(M12=\"-\",M12=\"*\"),N11,M12+$D12)","v":10.223610271313017},"-",{"$f":"IF(OR(O12=\"-\",O12=\"*\"),P11,O12+$D12)","v":0},"-",{"$f":"IF(OR(Q12=\"-\",Q12=\"*\"),R11,Q12+$D12)","v":0},"-",0,"-",0,"-",0,"-",0,"-",0,"-",0,"-",0,"-",0,"-",0,"-",0,"-",0,"-",0,"-",0]
[null,6,{"$f":"Chegadas!J14","v":7.4899999999999993},{"$f":"IF(Chegadas!K14=\"I\",Atendimento!E21,Atendimento!L21)","v":8.179792260576555},"*",8.6737373456250886,"*",14.457359384697327,"*",14.131233856099989,"*",13.532430709700758,"*",10.223610271313017,7.4899999999999993,{"$f":"IF(OR(O13=\"-\",O13=\"*\"),P12,O13+$D13)","v":15.669792260576553},"-",{"$f":"IF(OR(Q13=\"-\",Q13=\"*\"),R12,Q13+$D13)","v":0},"-",0,"-",0,"-",0,"-",0,"-",0,"-",0,"-",0,"-",0,"-",0,"-",0,"-",0,"-",0,"-",0]
[null,7,{"$f":"Chegadas!J15","v":7.68},{"$f":"IF(Chegadas!K15=\"I\",Atendimento!E22,Atendimento!L22)","v":3.7643934688674827},"*",8.6737373456250886,"*",14.457359384697327,"*",14.131233856099989,"*",13.532430709700758,"*",10.223610271313017,"*",15.669792260576553,7.68,{"$f":"IF(OR(Q14=\"-\",Q14=\"*\"),R13,Q14+$D14)","v":11.444393468867482},"-",0,"-",0,"-",0,"-",0,"-",0,"-",0,"-",0,"-",0,"-",0,"-",0,"-",0,"-",0,"-",0]
[null,8,{"$f":"Chegadas!J16","v":8.4699999999999989},{"$f":"IF(Chegadas!K16=\"I\",Atendimento!E23,Atendimento!L23)","v":8.6836336966765266},"*",8.6737373456250886,"*",14.457359384697327,"*",14.131233856099989,"*",13.532430709700758,"*",10.223610271313017,"*",15.669792260576553,"*",11.444393468867482,8.4699999999999989,{"$f":"IF(OR(S15=\"-\",S15=\"*\"),T14,S15+$D15)","v":17.153633696676525},"-",0,"-",0,"-",0,"-",0,"-",0,"-",0,"-",0,"-",0,"-",0,"-",0,"-",0,"-",0]
[null,9,{"$f":"Chegadas!J17","v":9.379999999999999},{"$f":"IF(Chegadas!K17=\"I\",Atendimento!E24,Atendimento!L24)","v":11.53280700833362},9.379999999999999,20.912807008333619,"-",14.457359384697327,"-",14.131233856099989,"-",13.532430709700758,"-",10.223610271313017,"-",15.669792260576553,"-",11.444393468867482,"-",17.153633696676525,"-",{"$f":"IF(OR(U16=\"-\",U16=\"*\"),V15,U16+$D16)","v":0},"-",0,"-",0,"-",0,"-",0,"-",0,"-",0,"-",0,"-",0,"-",0,"-",0,"-",0]
[null,10,{"$f":"Chegadas!J18","v":9.41},{"$f":"IF(Chegadas!K18=\"I\",Atendimento!E25,Atendimento!L25)","v":0.94234724117807489},"*",20.912807008333619,"*",14.457359384697327,"*",14.131233856099989,"*",13.532430709700758,"*",10.223610271313017,"*",15.669792260576553,"*",11.444393468867482,"*",17.153633696676525,9.41,10.352347241178075,"-",0,"-",0,"-",0,"-",0,"-",0,"-",0,"-",0,"-",0,"-",0,"-",0,"-",0]
[null,11,{"$f":"Chegadas!J19","v":10.26},{"$f":"IF(Chegadas!K19=\"I\",Atendimento!E26,Atendimento!L26)","v":7.0946198623272956},"*",20.912807008333619,"*",14.457359384697327,"*",14.131233856099989,"*",13.532430709700758,10.26,17.354619862327297,"-",15.669792260576553,"-",11.444393468867482,"-",17.153633696676525,"-",10.352347241178075,"-",0,"-",0,"-",0,"-",0,"-",0,"-",0,"-",0,"-",0,"-",0,"-",0,"-",0]
[null,12,{"$f":"Chegadas!J20","v":14.3},{"$f":"IF(Chegadas!K20=\"I\",Atendimento!E27,Atendimento!L27)","v":3.5367995251333553},"*",20.912807008333619,"*",14.457359384697327,14.3,17.836799525133355,"-",13.532430709700758,"-",17.354619862327297,"-",15.669792260576553,"-",11.444393468867482,"-",17.153633696676525,"-",10.352347241178075,"-",0,"-",0,"-",0,"-",0,"-",0,"-",0,"-",0,"-",0,"-",0,"-",0,"-",0]
[null,13,{"$f":"Chegadas!J21","v":16.32},{"$f":"IF(Chegadas!K21=\"I\",Atendimento!E28,Atendimento!L28)","v":4.5152905496577738},"*",20.912807008333619,16.32,20.835290549657774,"-",17.836799525133355,"-",13.532430709700758,"-",17.354619862327297,"-",15.669792260576553,"-",11.444393468867482,"-",17.153633696676525,"-",10.352347241178075,"-",0,"-",0,"-",0,"-",0,"-",0,"-",0,"-",0,"-",0,"-",0,"-",0,"-",0]
[null,14,{"$f":"Chegadas!J22","v":16.5},{"$f":"IF(Chegadas!K22=\"I\",Atendimento!E29,Atendimento!L29)","v":10.846207123823836},"*",20.912807008333619,"*",20.835290549657774,"*",17.836799525133355,16.5,27.346207123823838,"-",17.354619862327297,"-",15.669792260576553,"-",11.444393468867482,"-",17.153633696676525,"-",10.352347241178075,"-",0,"-",0,"-",0,"-",0,"-",0,"-",0,"-",0,"-",0,"-",0,"-",0,"-",0]
[null,15,{"$f":"Chegadas!J23","v":16.71},{"$f":"IF(Chegadas!K23=\"I\",Atendimento!E30,Atendimento!L30)","v":6.645756120464112},"*",20.912807008333619,"*",20.835290549657774,"*",17.836799525133355,"*",27.346207123823838,"*",17.354619862327297,16.71,23.355756120464115,"-",11.444393468867482,"-",17.153633696676525,"-",10.352347241178075,"-",{"$f":"IF(OR(W22=\"-\",W22=\"*\"),X21,W22+$D22)","v":0},"-",{"$f":"IF(OR(Y22=\"-\",Y22=\"*\"),Z21,Y22+$D22)","v":0},"-",{"$f":"IF(OR(AA22=\"-\",AA22=\"*\"),AB21,AA22+$D22)","v":0},"-",{"$f":"IF(OR(AC22=\"-\",AC22=\"*\"),AD21,AC22+$D22)","v":0},"-",{"$f":"IF(OR(AE22=\"-\",AE22=\"*\"),AF21,AE22+$D22)","v":0},"-",{"$f":"IF(OR(AG22=\"-\",AG22=\"*\"),AH21,AG22+$D22)","v":0},"-",0,"-",0,"-",0,"-",0,"-",0]
[null,16,{"$f":"Chegadas!J24","v":16.990000000000002},{"$f":"IF(Chegadas!K24=\"I\",Atendimento!E31,Atendimento!L31)","v":6.7874917476555519},"*",20.912807008333619,"*",20.835290549657774,"*",17.836799525133355,"*",27.346207123823838,"*",17.354619862327297,"*",23.355756120464115,16.990000000000002,23.777491747655553,"-",17.153633696676525,"-",10.352347241178075,"-",0,"-",0,"-",0,"-",0,"-",0,"-",0,"-",0,"-",0,"-",0,"-",0,"-",0]
[null,17,{"$f":"Chegadas!J25","v":17.400000000000002},{"$f":"IF(Chegadas!K25=\"I\",Atendimento!E32,Atendimento!L32)","v":6.5164382381894406},"*",20.912807008333619,"*",20.835290549657774,"*",17.836799525133355,"*",27.346207123823838,17.400000000000002,23.916438238189443,"-",23.355756120464115,"-",23.777491747655553,"-",17.153633696676525,"-",10.352347241178075,"-",0,"-",0,"-",0,"-",0,"-",0,"-",0,"-",0,"-",0,"-",0,"-",0,"-",0]
[null,18,{"$f":"Chegadas!J26","v":17.470000000000002},{"$f":"IF(Chegadas!K26=\"I\",Atendimento!E33,Atendimento!L33)","v":6.4091225772664311},"*",20.912807008333619,"*",20.835290549657774,"*",17.836799525133355,"*",27.346207123823838,"*",23.916438238189443,"*",23.355756120464115,"*",23.777491747655553,17.470000000000002,23.879122577266433,"-",10.352347241178075,"-",0,"-",0,"-",0,"-",0,"-",0,"-",0,"-",0,"-",0,"-",0,"-",0,"-",0]
[null,19,{"$f":"Chegadas!J27","v":18.630000000000003},{"$f":"IF(Chegadas!K27=\"I\",Atendimento!E34,Atendimento!L34)","v":10.544170424687216},"*",20.912807008333619,"*",20.835290549657774,18.630000000000003,29.174170424687219,"-",27.346207123823838,"-",23.916438238189443,"-",23.355756120464115,"-",23.777491747655553,"-",23.879122577266433,"-",10.352347241178075,"-",0,"-",0,"-",0,"-",0,"-",0,"-",0,"-",0,"-",0,"-",0,"-",0,"-",0]
[null,20,{"$f":"Chegadas!J28","v":18.800000000000004},{"$f":"IF(Chegadas!K28=\"I\",Atendimento!E35,Atendimento!L35)","v":2.226945873812856},"*",20.912807008333619,"*",20.835290549657774,"*",29.174170424687219,"*",27.346207123823838,"*",23.916438238189443,"*",23.355756120464115,"*",23.777491747655553,"*",23.879122577266433,18.800000000000004,21.02694587381286,"-",0,"-",0,"-",0,"-",0,"-",0,"-",0,"-",{"$f":"IF(OR(AI27=\"-\",AI27=\"*\"),AJ26,AI27+$D27)","v":0},"-",{"$f":"IF(OR(AK27=\"-\",AK27=\"*\"),AL26,AK27+$D27)","v":0},"-",{"$f":"IF(OR(AM27=\"-\",AM27=\"*\"),AN26,AM27+$D27)","v":0},"-",{"$f":"IF(OR(AO27=\"-\",AO27=\"*\"),AP26,AO27+$D27)","v":0},"-",{"$f":"IF(OR(AQ27=\"-\",AQ27=\"*\"),AR26,AQ27+$D27)","v":0}]
[null,21,{"$f":"Chegadas!J29","v":19.370000000000005},{"$f":"IF(Chegadas!K29=\"I\",Atendimento!E36,Atendimento!L36)","v":2.1764373175563598},"*",20.912807008333619,"*",20.835290549657774,"*",29.174170424687219,"*",{"$f":"IF(OR(K28=\"-\",K28=\"*\"),L27,K28+$D28)","v":27.346207123823838},"*",{"$f":"IF(OR(M28=\"-\",M28=\"*\"),N27,M28+$D28)","v":23.916438238189443},"*",{"$f":"IF(OR(O28=\"-\",O28=\"*\"),P27,O28+$D28)","v":23.355756120464115},"*",{"$f":"IF(OR(Q28=\"-\",Q28=\"*\"),R27,Q28+$D28)","v":23.777491747655553},"*",{"$f":"IF(OR(S28=\"-\",S28=\"*\"),T27,S28+$D28)","v":23.879122577266433},"*",{"$f":"IF(OR(U28=\"-\",U28=\"*\"),V27,U28+$D28)","v":21.02694587381286},19.370000000000005,{"$f":"IF(OR(W28=\"-\",W28=\"*\"),X27,W28+$D28)","v":21.546437317556364},"-",0,"-",0,"-",0,"-",0,"-",0,"-",0,"-",0,"-",0,"-",0,"-",0]
[null,22,{"$f":"Chegadas!J30","v":19.640000000000004},{"$f":"IF(Chegadas!K30=\"I\",Atendimento!E37,Atendimento!L37)","v":11.88263888577905},"*",20.912807008333619,"*",20.835290549657774,"*",29.174170424687219,"*",27.346207123823838,"*",23.916438238189443,"*",23.355756120464115,"*",23.777491747655553,"*",23.879122577266433,"*",21.02694587381286,"*",21.546437317556364,19.640000000000004,31.522638885779052,"-",0,"-",0,"-",0,"-",0,"-",0,"-",0,"-",0,"-",0,"-",0]
[null,23,{"$f":"Chegadas!J31","v":19.670000000000005},{"$f":"IF(Chegadas!K31=\"I\",Atendimento!E38,Atendimento!L38)","v":8.9615550142833413},"*",20.912807008333619,"*",20.835290549657774,"*",29.174170424687219,"*",27.346207123823838,"*",23.916438238189443,"*",23.355756120464115,"*",23.777491747655553,"*",23.879122577266433,"*",21.02694587381286,"*",21.546437317556364,"*",31.522638885779052,19.670000000000005,28.631555014283347,"-",0,"-",0,"-",0,"-",0,"-",0,"-",0,"-",0,"-",0]
[null,24,{"$f":"Chegadas!J32","v":20.080000000000005},{"$f":"IF(Chegadas!K32=\"I\",Atendimento!E39,Atendimento!L39)","v":8.5464742276384822},"*",20.912807008333619,"*",20.835290549657774,"*",29.174170424687219,"*",27.346207123823838,"*",23.916438238189443,"*",23.355756120464115,"*",23.777491747655553,"*",23.879122577266433,"*",21.02694587381286,"*",21.546437317556364,"*",31.522638885779052,"*",28.631555014283347,20.080000000000005,28.626474227638489,"-",0,"-",0,"-",0,"-",0,"-",0,"-",0,"-",0]
[null,25,{"$f":"Chegadas!J33","v":20.450000000000006},{"$f":"IF(Chegadas!K33=\"I\",Atendimento!E40,Atendimento!L40)","v":3.2409399032147004},"*",20.912807008333619,"*",20.835290549657774,"*",29.174170424687219,"*",27.346207123823838,"*",23.916438238189443,"*",23.355756120464115,"*",23.777491747655553,"*",23.879122577266433,"*",21.02694587381286,"*",21.546437317556364,"*",31.522638885779052,"*",28.631555014283347,"*",28.626474227638489,20.450000000000006,23.690939903214705,"-",0,"-",0,"-",0,"-",0,"-",0,"-",0]
[null,26,{"$f":"Chegadas!J34","v":21.550000000000008},{"$f":"IF(Chegadas!K34=\"I\",Atendimento!E41,Atendimento!L41)","v":10.471468662453068},21.550000000000008,32.021468662453074,"-",20.835290549657774,"-",29.174170424687219,"-",27.346207123823838,"-",23.916438238189443,"-",23.355756120464115,"-",23.777491747655553,"-",23.879122577266433,"-",21.02694587381286,"-",21.546437317556364,"-",31.522638885779052,"-",28.631555014283347,"-",28.626474227638489,"-",23.690939903214705,"-",0,"-",0,"-",0,"-",0,"-",0,"-",0]
[null,27,{"$f":"Chegadas!J35","v":22.050000000000008},{"$f":"IF(Chegadas!K35=\"I\",Atendimento!E42,Atendimento!L42)","v":8.4554891707169713},"*",32.021468662453074,22.050000000000008,30.505489170716977,"-",29.174170424687219,"-",27.346207123823838,"-",23.916438238189443,"-",23.355756120464115,"-",23.777491747655553,"-",23.879122577266433,"-",21.02694587381286,"-",21.546437317556364,"-",31.522638885779052,"-",28.631555014283347,"-",28.626474227638489,"-",23.690939903214705,"-",0,"-",0,"-",0,"-",0,"-",0,"-",0]
[null,28,{"$f":"Chegadas!J36","v":22.490000000000009},{"$f":"IF(Chegadas!K36=\"I\",Atendimento!E43,Atendimento!L43)","v":5.7150784975143836},"*",32.021468662453074,"*",30.505489170716977,"*",29.174170424687219,"*",27.346207123823838,"*",23.916438238189443,"*",23.355756120464115,"*",23.777491747655553,"*",23.879122577266433,22.490000000000009,28.205078497514393,"-",21.546437317556364,"-",31.522638885779052,"-",28.631555014283347,"-",28.626474227638489,"-",23.690939903214705,"-",0,"-",0,"-",0,"-",0,"-",0,"-",0]
[null,29,{"$f":"Chegadas!J37","v":22.570000000000007},{"$f":"IF(Chegadas!K37=\"I\",Atendimento!E44,Atendimento!L44)","v":5.0552557401551645},"*",32.021468662453074,"*",30.505489170716977,"*",29.174170424687219,"*",27.346207123823838,"*",23.916438238189443,"*",23.355756120464115,"*",23.777491747655553,"*",23.879122577266433,"*",28.205078497514393,22.570000000000007,27.625255740155172,"-",31.522638885779052,"-",28.631555014283347,"-",28.626474227638489,"-",23.690939903214705,"-",0,"-",0,"-",0,"-",0,"-",0,"-",0]
[null,30,{"$f":"Chegadas!J38","v":23.020000000000007},{"$f":"IF(Chegadas!K38=\"I\",Atendimento!E45,Atendimento!L45)","v":6.2160238290007861},"*",32.021468662453074,"*",30.505489170716977,"*",29.174170424687219,"*",27.346207123823838,"*",23.916438238189443,"*",23.355756120464115,"*",23.777491747655553,"*",23.879122577266433,"*",28.205078497514393,"*",27.625255740155172,"*",31.522638885779052,"*",28.631555014283347,"*",28.626474227638489,"*",23.690939903214705,23.020000000000007,29.236023829000793,"-",0,"-",0,"-",0,"-",0,"-",0]
[null,31,{"$f":"Chegadas!J39","v":23.130000000000006},{"$f":"IF(Chegadas!K39=\"I\",Atendimento!E46,Atendimento!L46)","v":9.9151253937403361},"*",32.021468662453074,"*",30.505489170716977,"*",29.174170424687219,"*",27.346207123823838,"*",23.916438238189443,"*",23.355756120464115,"*",23.777491747655553,"*",23.879122577266433,"*",28.205078497514393,"*",27.625255740155172,"*",31.522638885779052,"*",28.631555014283347,"*",28.626474227638489,"*",23.690939903214705,"*",29.236023829000793,23.130000000000006,33.045125393740342,"-",0,"-",0,"-",0,"-",0]
[null,32,{"$f":"Chegadas!J40","v":23.45},{"$f":"IF(Chegadas!K40=\"I\",Atendimento!E47,Atendimento!L47)","v":1.2347129657892832},"*",32.021468662453074,"*",30.505489170716977,"*",29.174170424687219,"*",27.346207123823838,"*",23.916438238189443,23.45,24.684712965789281,"-",23.777491747655553,"-",23.879122577266433,"-",28.205078497514393,"-",27.625255740155172,"-",31.522638885779052,"-",28.631555014283347,"-",28.626474227638489,"-",23.690939903214705,"-",29.236023829000793,"-",33.045125393740342,"-",0,"-",0,"-",0,"-",0]
[null,33,{"$f":"Chegadas!J41","v":23.450000000000006},{"$f":"IF(Chegadas!K41=\"I\",Atendimento!E48,Atendimento!L48)","v":8.577218815596412},"*",32.021468662453074,"*",30.505489170716977,"*",29.174170424687219,"*",27.346207123823838,"*",23.916438238189443,"*",24.684712965789281,"*",23.777491747655553,"*",23.879122577266433,"*",28.205078497514393,"*",27.625255740155172,"*",31.522638885779052,"*",28.631555014283347,"*",28.626474227638489,"*",23.690939903214705,"*",29.236023829000793,"*",33.045125393740342,23.450000000000006,32.02721881559642,"-",0,"-",0,"-",0]
[null,34,{"$f":"Chegadas!J42","v":23.870000000000008},{"$f":"IF(Chegadas!K42=\"I\",Atendimento!E49,Atendimento!L49)","v":7.5138815036099018},"*",32.021468662453074,"*",30.505489170716977,"*",29.174170424687219,"*",27.346207123823838,"*",23.916438238189443,"*",24.684712965789281,23.870000000000008,31.38388150360991,"-",23.879122577266433,"-",28.205078497514393,"-",27.625255740155172,"-",31.522638885779052,"-",28.631555014283347,"-",28.626474227638489,"-",23.690939903214705,"-",29.236023829000793,"-",33.045125393740342,"-",32.02721881559642,"-",0,"-",0,"-",0]
[null,35,{"$f":"Chegadas!J43","v":24.080000000000009},{"$f":"IF(Chegadas!K43=\"I\",Atendimento!E50,Atendimento!L50)","v":8.3231208557750094},"*",32.021468662453074,"*",30.505489170716977,"*",29.174170424687219,"*",27.346207123823838,24.080000000000009,32.403120855775015,"-",24.684712965789281,"-",31.38388150360991,"-",23.879122577266433,"-",28.205078497514393,"-",27.625255740155172,"-",31.522638885779052,"-",28.631555014283347,"-",28.626474227638489,"-",23.690939903214705,"-",29.236023829000793,"-",33.045125393740342,"-",32.02721881559642,"-",0,"-",0,"-",0]
[null,36,{"$f":"Chegadas!J44","v":25.099999999999998},{"$f":"IF(Chegadas!K44=\"I\",Atendimento!E51,Atendimento!L51)","v":1.5643885486928681},"*",32.021468662453074,"*",30.505489170716977,"*",29.174170424687219,"*",27.346207123823838,"*",32.403120855775015,25.099999999999998,26.664388548692866,"-",31.38388150360991,"-",23.879122577266433,"-",28.205078497514393,"-",27.625255740155172,"-",31.522638885779052,"-",28.631555014283347,"-",28.626474227638489,"-",23.690939903214705,"-",29.236023829000793,"-",33.045125393740342,"-",32.02721881559642,"-",0,"-",0,"-",0]
[null,37,{"$f":"Chegadas!J45","v":25.440000000000008},{"$f":"IF(Chegadas!K45=\"I\",Atendimento!E52,Atendimento!L52)","v":11.009394726654355},"*",32.021468662453074,"*",30.505489170716977,"*",29.174170424687219,"*",27.346207123823838,"*",32.403120855775015,"*",26.664388548692866,"*",31.38388150360991,25.440000000000008,36.449394726654361,"-",28.205078497514393,"-",27.625255740155172,"-",31.522638885779052,"-",28.631555014283347,"-",28.626474227638489,"-",23.690939903214705,"-",29.236023829000793,"-",33.045125393740342,"-",32.02721881559642,"-",0,"-",0,"-",0]
[null,38,{"$f":"Chegadas!J46","v":25.63000000000001},{"$f":"IF(Chegadas!K46=\"I\",Atendimento!E53,Atendimento!L53)","v":8.7582405620096484},"*",32.021468662453074,"*",30.505489170716977,"*",29.174170424687219,"*",27.346207123823838,"*",32.403120855775015,"*",26.664388548692866,"*",31.38388150360991,"*",36.449394726654361,"*",28.205078497514393,"*",27.625255740155172,"*",31.522638885779052,"*",28.631555014283347,"*",28.626474227638489,25.63000000000001,34.388240562009656,"-",29.236023829000793,"-",33.045125393740342,"-",32.02721881559642,"-",0,"-",0,"-",0]
[null,39,{"$f":"Chegadas!J47","v":25.68000000000001},{"$f":"IF(Chegadas!K47=\"I\",Atendimento!E54,Atendimento!L54)","v":6.5375635071821963},"*",32.021468662453074,"*",30.505489170716977,"*",29.174170424687219,"*",27.346207123823838,"*",32.403120855775015,"*",26.664388548692866,"*",31.38388150360991,"*",36.449394726654361,"*",28.205078497514393,"*",27.625255740155172,"*",31.522638885779052,"*",28.631555014283347,"*",28.626474227638489,"*",34.388240562009656,"*",29.236023829000793,"*",33.045125393740342,"*",32.02721881559642,25.68000000000001,32.217563507182206,"-",0,"-",0]
[null,40,{"$f":"Chegadas!J48","v":26.88000000000001},{"$f":"IF(Chegadas!K48=\"I\",Atendimento!E55,Atendimento!L55)","v":3.8812275596590675},"*",32.021468662453074,"*",30.505489170716977,"*",29.174170424687219,"*",27.346207123823838,"*",32.403120855775015,26.88000000000001,30.761227559659076,"-",31.38388150360991,"-",36.449394726654361,"-",28.205078497514393,"-",27.625255740155172,"-",31.522638885779052,"-",28.631555014283347,"-",28.626474227638489,"-",34.388240562009656,"-",29.236023829000793,"-",33.045125393740342,"-",32.02721881559642,"-",32.217563507182206,"-",0,"-",0]
[null,41,{"$f":"Chegadas!J49","v":27.02000000000001},{"$f":"IF(Chegadas!K49=\"I\",Atendimento!E56,Atendimento!L56)","v":9.3860160864340934},"*",32.021468662453074,"*",30.505489170716977,"*",29.174170424687219,"*",27.346207123823838,"*",32.403120855775015,"*",30.761227559659076,"*",31.38388150360991,"*",36.449394726654361,"*",28.205078497514393,"*",27.625255740155172,"*",31.522638885779052,"*",28.631555014283347,"*",28.626474227638489,"*",34.388240562009656,"*",29.236023829000793,"*",33.045125393740342,"*",32.02721881559642,"*",32.217563507182206,27.02000000000001,36.406016086434107,"-",0]
[null,42,{"$f":"Chegadas!J50","v":28.250000000000011},{"$f":"IF(Chegadas!K50=\"I\",Atendimento!E57,Atendimento!L57)","v":7.7938915365034358},"*",32.021468662453074,"*",30.505489170716977,"*",29.174170424687219,28.250000000000011,36.043891536503445,"-",32.403120855775015,"-",30.761227559659076,"-",31.38388150360991,"-",36.449394726654361,"-",28.205078497514393,"-",27.625255740155172,"-",31.522638885779052,"-",28.631555014283347,"-",28.626474227638489,"-",34.388240562009656,"-",29.236023829000793,"-",33.045125393740342,"-",32.02721881559642,"-",32.217563507182206,"-",36.406016086434107,"-",0]
[null,43,{"$f":"Chegadas!J51","v":28.390000000000011},{"$f":"IF(Chegadas!K51=\"I\",Atendimento!E58,Atendimento!L58)","v":11.956954056665726},"*",32.021468662453074,"*",30.505489170716977,"*",29.174170424687219,"*",36.043891536503445,"*",32.403120855775015,"*",30.761227559659076,"*",31.38388150360991,"*",36.449394726654361,28.390000000000011,40.346954056665737,"-",27.625255740155172,"-",31.522638885779052,"-",28.631555014283347,"-",28.626474227638489,"-",34.388240562009656,"-",29.236023829000793,"-",33.045125393740342,"-",32.02721881559642,"-",32.217563507182206,"-",36.406016086434107,"-",0]
[null,44,{"$f":"Chegadas!J52","v":29.940000000000012},{"$f":"IF(Chegadas!K52=\"I\",Atendimento!E59,Atendimento!L59)","v":8.4649494034938115},"*",32.021468662453074,"*",30.505489170716977,29.940000000000012,38.404949403493823,"-",36.043891536503445,"-",32.403120855775015,"-",30.761227559659076,"-",31.38388150360991,"-",36.449394726654361,"-",40.346954056665737,"-",27.625255740155172,"-",31.522638885779052,"-",28.631555014283347,"-",28.626474227638489,"-",34.388240562009656,"-",29.236023829000793,"-",33.045125393740342,"-",32.02721881559642,"-",32.217563507182206,"-",36.406016086434107,"-",0]
[null,45,{"$f":"Chegadas!J53","v":30.330000000000013},{"$f":"IF(Chegadas!K53=\"I\",Atendimento!E60,Atendimento!L60)","v":6.3724472590880543},"*",32.021468662453074,"*",30.505489170716977,"*",38.404949403493823,"*",36.043891536503445,"*",32.403120855775015,"*",30.761227559659076,"*",31.38388150360991,"*",36.449394726654361,"*",40.346954056665737,30.330000000000013,36.702447259088068,"-",31.522638885779052,"-",28.631555014283347,"-",28.626474227638489,"-",34.388240562009656,"-",29.236023829000793,"-",33.045125393740342,"-",32.02721881559642,"-",32.217563507182206,"-",36.406016086434107,"-",0]
[null,46,{"$f":"Chegadas!J54","v":31.990000000000013},{"$f":"IF(Chegadas!K54=\"I\",Atendimento!E61,Atendimento!L61)","v":7.2709097479749163},"*",32.021468662453074,31.990000000000013,39.260909747974928,"-",38.404949403493823,"-",36.043891536503445,"-",32.403120855775015,"-",30.761227559659076,"-",31.38388150360991,"-",36.449394726654361,"-",40.346954056665737,"-",36.702447259088068,"-",31.522638885779052,"-",28.631555014283347,"-",28.626474227638489,"-",34.388240562009656,"-",29.236023829000793,"-",33.045125393740342,"-",32.02721881559642,"-",32.217563507182206,"-",36.406016086434107,"-",0]
[null,47,{"$f":"Chegadas!J55","v":32.150000000000013},{"$f":"IF(Chegadas!K55=\"I\",Atendimento!E62,Atendimento!L62)","v":4.7349652559002049},32.150000000000013,36.884965255900219,"-",39.260909747974928,"-",38.404949403493823,"-",36.043891536503445,"-",32.403120855775015,"-",30.761227559659076,"-",31.38388150360991,"-",36.449394726654361,"-",40.346954056665737,"-",36.702447259088068,"-",31.522638885779052,"-",28.631555014283347,"-",28.626474227638489,"-",34.388240562009656,"-",29.236023829000793,"-",33.045125393740342,"-",32.02721881559642,"-",32.217563507182206,"-",36.406016086434107,"-",0]
[null,48,{"$f":"Chegadas!J56","v":33.840000000000011},{"$f":"IF(Chegadas!K56=\"I\",Atendimento!E63,Atendimento!L63)","v":3.6071370786435559},"*",36.884965255900219,"*",39.260909747974928,"*",38.404949403493823,"*",36.043891536503445,33.840000000000011,37.447137078643564,"-",30.761227559659076,"-",31.38388150360991,"-",36.449394726654361,"-",40.346954056665737,"-",36.702447259088068,"-",31.522638885779052,"-",28.631555014283347,"-",28.626474227638489,"-",34.388240562009656,"-",29.236023829000793,"-",33.045125393740342,"-",32.02721881559642,"-",32.217563507182206,"-",36.406016086434107,"-",0]
[null,49,{"$f":"Chegadas!J57","v":36.150000000000013},{"$f":"IF(Chegadas!K57=\"I\",Atendimento!E64,Atendimento!L64)","v":5.4216761646717204},"*",36.884965255900219,"*",39.260909747974928,"*",38.404949403493823,36.150000000000013,41.571676164671736,"-",37.447137078643564,"-",30.761227559659076,"-",31.38388150360991,"-",36.449394726654361,"-",40.346954056665737,"-",36.702447259088068,"-",31.522638885779052,"-",28.631555014283347,"-",28.626474227638489,"-",34.388240562009656,"-",29.236023829000793,"-",33.045125393740342,"-",32.02721881559642,"-",32.217563507182206,"-",36.406016086434107,"-",0]
[null,50,{"$f":"Chegadas!J58","v":36.230000000000011},{"$f":"IF(Chegadas!K58=\"I\",Atendimento!E65,Atendimento!L65)","v":4.5107033220988528},"*",36.884965255900219,"*",39.260909747974928,"*",38.404949403493823,"*",41.571676164671736,"*",37.447137078643564,36.230000000000011,40.740703322098867,"-",31.38388150360991,"-",36.449394726654361,"-",40.346954056665737,"-",36.702447259088068,"-",31.522638885779052,"-",28.631555014283347,"-",28.626474227638489,"-",34.388240562009656,"-",29.236023829000793,"-",33.045125393740342,"-",32.02721881559642,"-",32.217563507182206,"-",36.406016086434107,"-",0]
[null,51,{"$f":"Chegadas!J59","v":41.570000000000007},{"$f":"IF(Chegadas!K59=\"I\",Atendimento!E66,Atendimento!L66)","v":2.7582872694816962},41.570000000000007,44.328287269481706,"-",39.260909747974928,"-",38.404949403493823,"-",41.571676164671736,"-",37.447137078643564,"-",40.740703322098867,"-",31.38388150360991,"-",36.449394726654361,"-",40.346954056665737,"-",36.702447259088068,"-",31.522638885779052,"-",28.631555014283347,"-",28.626474227638489,"-",34.388240562009656,"-",29.236023829000793,"-",33.045125393740342,"-",32.02721881559642,"-",32.217563507182206,"-",36.406016086434107,"-",0]
[null,52,{"$f":"Chegadas!J60","v":41.600000000000009},{"$f":"IF(Chegadas!K60=\"I\",Atendimento!E67,Atendimento!L67)","v":3.4346233194066196},"*",44.328287269481706,41.600000000000009,45.034623319406627,"-",38.404949403493823,"-",41.571676164671736,"-",37.447137078643564,"-",40.740703322098867,"-",31.38388150360991,"-",36.449394726654361,"-",40.346954056665737,"-",36.702447259088068,"-",31.522638885779052,"-",28.631555014283347,"-",28.626474227638489,"-",34.388240562009656,"-",29.236023829000793,"-",33.045125393740342,"-",32.02721881559642,"-",32.217563507182206,"-",36.406016086434107,"-",0]
[null,53,{"$f":"Chegadas!J61","v":41.820000000000007},{"$f":"IF(Chegadas!K61=\"I\",Atendimento!E68,Atendimento!L68)","v":8.001649607860287},"*",44.328287269481706,"*",45.034623319406627,41.820000000000007,49.821649607860294,"-",41.571676164671736,"-",37.447137078643564,"-",40.740703322098867,"-",31.38388150360991,"-",36.449394726654361,"-",40.346954056665737,"-",36.702447259088068,"-",31.522638885779052,"-",28.631555014283347,"-",28.626474227638489,"-",34.388240562009656,"-",29.236023829000793,"-",33.045125393740342,"-",32.02721881559642,"-",32.217563507182206,"-",36.406016086434107,"-",0]
[null,54,{"$f":"Chegadas!J62","v":44.320000000000007},{"$f":"IF(Chegadas!K62=\"I\",Atendimento!E69,Atendimento!L69)","v":7.8210683582502307},"*",44.328287269481706,"*",45.034623319406627,"*",49.821649607860294,44.320000000000007,52.141068358250237,"-",37.447137078643564,"-",40.740703322098867,"-",31.38388150360991,"-",36.449394726654361,"-",40.346954056665737,"-",36.702447259088068,"-",31.522638885779052,"-",28.631555014283347,"-",28.626474227638489,"-",34.388240562009656,"-",29.236023829000793,"-",33.045125393740342,"-",32.02721881559642,"-",32.217563507182206,"-",36.406016086434107,"-",0]
[null,55,{"$f":"Chegadas!J63","v":46.52000000000001},{"$f":"IF(Chegadas!K63=\"I\",Atendimento!E70,Atendimento!L70)","v":4.836571572336843},46.52000000000001,51.356571572336854,"-",45.034623319406627,"-",49.821649607860294,"-",52.141068358250237,"-",37.447137078643564,"-",40.740703322098867,"-",31.38388150360991,"-",36.449394726654361,"-",40.346954056665737,"-",36.702447259088068,"-",31.522638885779052,"-",28.631555014283347,"-",28.626474227638489,"-",34.388240562009656,"-",29.236023829000793,"-",33.045125393740342,"-",32.02721881559642,"-",32.217563507182206,"-",36.406016086434107,"-",0]
[null,56,{"$f":"Chegadas!J64","v":46.790000000000013},{"$f":"IF(Chegadas!K64=\"I\",Atendimento!E71,Atendimento!L71)","v":7.9953052404550924},"*",51.356571572336854,46.790000000000013,54.785305240455102,"-",49.821649607860294,"-",52.141068358250237,"-",37.447137078643564,"-",40.740703322098867,"-",31.38388150360991,"-",36.449394726654361,"-",40.346954056665737,"-",36.702447259088068,"-",31.522638885779052,"-",28.631555014283347,"-",28.626474227638489,"-",34.388240562009656,"-",29.236023829000793,"-",33.045125393740342,"-",32.02721881559642,"-",32.217563507182206,"-",36.406016086434107,"-",0]
[null,57,{"$f":"Chegadas!J65","v":47.210000000000015},{"$f":"IF(Chegadas!K65=\"I\",Atendimento!E72,Atendimento!L72)","v":4.8369406341538488},"*",51.356571572336854,"*",54.785305240455102,"*",49.821649607860294,"*",52.141068358250237,47.210000000000015,52.046940634153863,"-",40.740703322098867,"-",31.38388150360991,"-",36.449394726654361,"-",40.346954056665737,"-",36.702447259088068,"-",31.522638885779052,"-",28.631555014283347,"-",28.626474227638489,"-",34.388240562009656,"-",29.236023829000793,"-",33.045125393740342,"-",32.02721881559642,"-",32.217563507182206,"-",36.406016086434107,"-",0]
[null,58,{"$f":"Chegadas!J66","v":48.070000000000014},{"$f":"IF(Chegadas!K66=\"I\",Atendimento!E73,Atendimento!L73)","v":7.2676941633077545},"*",51.356571572336854,"*",54.785305240455102,"*",49.821649607860294,"*",52.141068358250237,"*",52.046940634153863,48.070000000000014,55.337694163307766,"-",31.38388150360991,"-",36.449394726654361,"-",40.346954056665737,"-",36.702447259088068,"-",31.522638885779052,"-",28.631555014283347,"-",28.626474227638489,"-",34.388240562009656,"-",29.236023829000793,"-",33.045125393740342,"-",32.02721881559642,"-",32.217563507182206,"-",36.406016086434107,"-",0]
[null,59,{"$f":"Chegadas!J67","v":48.090000000000018},{"$f":"IF(Chegadas!K67=\"I\",Atendimento!E74,Atendimento!L74)","v":4.1393691194366191},"*",51.356571572336854,"*",54.785305240455102,"*",49.821649607860294,"*",52.141068358250237,"*",52.046940634153863,"*",55.337694163307766,48.090000000000018,52.22936911943664,"-",36.449394726654361,"-",40.346954056665737,"-",36.702447259088068,"-",31.522638885779052,"-",28.631555014283347,"-",28.626474227638489,"-",34.388240562009656,"-",29.236023829000793,"-",33.045125393740342,"-",32.02721881559642,"-",32.217563507182206,"-",36.406016086434107,"-",0]
[null,60,{"$f":"Chegadas!J68","v":49.210000000000015},{"$f":"IF(Chegadas!K68=\"I\",Atendimento!E75,Atendimento!L75)","v":8.9830782706854659},"*",51.356571572336854,"*",54.785305240455102,"*",49.821649607860294,"*",52.141068358250237,"*",52.046940634153863,"*",55.337694163307766,"*",52.22936911943664,49.210000000000015,58.193078270685483,"-",40.346954056665737,"-",36.702447259088068,"-",31.522638885779052,"-",28.631555014283347,"-",28.626474227638489,"-",34.388240562009656,"-",29.236023829000793,"-",33.045125393740342,"-",32.02721881559642,"-",32.217563507182206,"-",36.406016086434107,"-",0]
[null,61,{"$f":"Chegadas!J69","v":50.540000000000013},{"$f":"IF(Chegadas!K69=\"I\",Atendimento!E76,Atendimento!L76)","v":7.031485964810873},"*",51.356571572336854,"*",54.785305240455102,50.540000000000013,57.57148596481089,"-",52.141068358250237,"-",52.046940634153863,"-",55.337694163307766,"-",52.22936911943664,"-",58.193078270685483,"-",40.346954056665737,"-",36.702447259088068,"-",31.522638885779052,"-",28.631555014283347,"-",28.626474227638489,"-",34.388240562009656,"-",29.236023829000793,"-",33.045125393740342,"-",32.02721881559642,"-",32.217563507182206,"-",36.406016086434107,"-",0]
[null,62,{"$f":"Chegadas!J70","v":51.650000000000013},{"$f":"IF(Chegadas!K70=\"I\",Atendimento!E77,Atendimento!L77)","v":3.8075223193645171},51.650000000000013,55.457522319364529,"-",54.785305240455102,"-",57.57148596481089,"-",52.141068358250237,"-",52.046940634153863,"-",55.337694163307766,"-",52.22936911943664,"-",58.193078270685483,"-",40.346954056665737,"-",36.702447259088068,"-",31.522638885779052,"-",28.631555014283347,"-",28.626474227638489,"-",34.388240562009656,"-",29.236023829000793,"-",33.045125393740342,"-",32.02721881559642,"-",32.217563507182206,"-",36.406016086434107,"-",0]
[null,63,{"$f":"Chegadas!J71","v":51.810000000000009},{"$f":"IF(Chegadas!K71=\"I\",Atendimento!E78,Atendimento!L78)","v":15.102731092590197},"*",55.457522319364529,"*",54.785305240455102,"*",57.57148596481089,"*",52.141068358250237,"*",52.046940634153863,"*",55.337694163307766,"*",52.22936911943664,"*",58.193078270685483,51.810000000000009,66.912731092590207,"-",36.702447259088068,"-",31.522638885779052,"-",28.631555014283347,"-",28.626474227638489,"-",34.388240562009656,"-",29.236023829000793,"-",33.045125393740342,"-",32.02721881559642,"-",32.217563507182206,"-",36.406016086434107,"-",0]
[null,64,{"$f":"Chegadas!J72","v":52.400000000000013},{"$f":"IF(Chegadas!K72=\"I\",Atendimento!E79,Atendimento!L79)","v":12.659759516624099},"*",55.457522319364529,"*",54.785305240455102,"*",57.57148596481089,52.400000000000013,65.059759516624112,"-",52.046940634153863,"-",55.337694163307766,"-",52.22936911943664,"-",58.193078270685483,"-",66.912731092590207,"-",36.702447259088068,"-",31.522638885779052,"-",28.631555014283347,"-",28.626474227638489,"-",34.388240562009656,"-",29.236023829000793,"-",33.045125393740342,"-",32.02721881559642,"-",32.217563507182206,"-",36.406016086434107,"-",0]
[null,65,{"$f":"Chegadas!J73","v":55.810000000000016},{"$f":"IF(Chegadas!K73=\"I\",Atendimento!E80,Atendimento!L80)","v":5.0432955980127607},55.810000000000016,60.853295598012778,"-",54.785305240455102,"-",57.57148596481089,"-",65.059759516624112,"-",52.046940634153863,"-",55.337694163307766,"-",52.22936911943664,"-",58.193078270685483,"-",66.912731092590207,"-",36.702447259088068,"-",31.522638885779052,"-",28.631555014283347,"-",28.626474227638489,"-",34.388240562009656,"-",29.236023829000793,"-",33.045125393740342,"-",32.02721881559642,"-",32.217563507182206,"-",36.406016086434107,"-",0]
[null,66,{"$f":"Chegadas!J74","v":58.190000000000019},{"$f":"IF(Chegadas!K74=\"I\",Atendimento!E81,Atendimento!L81)","v":6.9395251194638412},"*",60.853295598012778,{"$f":"IF(E73<>\"*\",\"-\",IF($C73>=H72,$C73,\"*\"))","v":58.190000000000019},65.129525119463864,{"$f":"IF(G73<>\"*\",\"-\",IF($C73>=J72,$C73,\"*\"))","v":"-"},57.57148596481089,{"$f":"IF(I73<>\"*\",\"-\",IF($C73>=L72,$C73,\"*\"))","v":"-"},65.059759516624112,{"$f":"IF(K73<>\"*\",\"-\",IF($C73>=N72,$C73,\"*\"))","v":"-"},52.046940634153863,{"$f":"IF(M73<>\"*\",\"-\",IF($C73>=P72,$C73,\"*\"))","v":"-"},55.337694163307766,{"$f":"IF(O73<>\"*\",\"-\",IF($C73>=R72,$C73,\"*\"))","v":"-"},52.22936911943664,{"$f":"IF(Q73<>\"*\",\"-\",IF($C73>=T72,$C73,\"*\"))","v":"-"},58.193078270685483,{"$f":"IF(S73<>\"*\",\"-\",IF($C73>=V72,$C73,\"*\"))","v":"-"},66.912731092590207,{"$f":"IF(U73<>\"*\",\"-\",IF($C73>=X72,$C73,\"*\"))","v":"-"},36.702447259088068,{"$f":"IF(W73<>\"*\",\"-\",IF($C73>=Z72,$C73,\"*\"))","v":"-"},31.522638885779052,{"$f":"IF(Y73<>\"*\",\"-\",IF($C73>=AB72,$C73,\"*\"))","v":"-"},28.631555014283347,{"$f":"IF(AA73<>\"*\",\"-\",IF($C73>=AD72,$C73,\"*\"))","v":"-"},28.626474227638489,{"$f":"IF(AC73<>\"*\",\"-\",IF($C73>=AF72,$C73,\"*\"))","v":"-"},34.388240562009656,{"$f":"IF(AE73<>\"*\",\"-\",IF($C73>=AH72,$C73,\"*\"))","v":"-"},29.236023829000793,{"$f":"IF(AG73<>\"*\",\"-\",IF($C73>=AJ72,$C73,\"*\"))","v":"-"},33.045125393740342,{"$f":"IF(AI73<>\"*\",\"-\",IF($C73>=AL72,$C73,\"*\"))","v":"-"},32.02721881559642,{"$f":"IF(AK73<>\"*\",\"-\",IF($C73>=AN72,$C73,\"*\"))","v":"-"},32.217563507182206,{"$f":"IF(AM73<>\"*\",\"-\",IF($C73>=AP72,$C73,\"*\"))","v":"-"},36.406016086434107,{"$f":"IF(AO73<>\"*\",\"-\",IF($C73>=AR72,$C73,\"*\"))","v":"-"},0]
[null,67,{"$f":"Chegadas!J75","v":59.610000000000021},{"$f":"IF(Chegadas!K75=\"I\",Atendimento!E82,Atendimento!L82)","v":5.463773022402858},{"$f":"IF($C74>F73,$C74,\"*\")","v":"*"},{"$f":"IF(E74=\"*\",F73,E74+$D74)","v":60.853295598012778},"*",{"$f":"IF(OR(G74=\"-\",G74=\"*\"),H73,G74+$D74)","v":65.129525119463864},59.610000000000021,{"$f":"IF(OR(I74=\"-\",I74=\"*\"),J73,I74+$D74)","v":65.073773022402875},"-",65.059759516624112,"-",52.046940634153863,"-",55.337694163307766,"-",52.22936911943664,"-",58.193078270685483,"-",66.912731092590207,"-",36.702447259088068,"-",31.522638885779052,"-",28.631555014283347,"-",28.626474227638489,"-",34.388240562009656,"-",29.236023829000793,"-",33.045125393740342,"-",32.02721881559642,"-",32.217563507182206,"-",36.406016086434107,"-",0]
[null,68,{"$f":"Chegadas!J76","v":61.40000000000002},{"$f":"IF(Chegadas!K76=\"I\",Atendimento!E83,Atendimento!L83)","v":7.5728094456306145},61.40000000000002,68.972809445630631,"-",65.129525119463864,"-",65.073773022402875,"-",65.059759516624112,"-",52.046940634153863,"-",55.337694163307766,"-",52.22936911943664,"-",58.193078270685483,"-",66.912731092590207,"-",36.702447259088068,"-",31.522638885779052,"-",28.631555014283347,"-",28.626474227638489,"-",34.388240562009656,"-",29.236023829000793,"-",33.045125393740342,"-",32.02721881559642,"-",32.217563507182206,"-",36.406016086434107,"-",0]
[null,69,{"$f":"Chegadas!J77","v":61.690000000000019},{"$f":"IF(Chegadas!K77=\"I\",Atendimento!E84,Atendimento!L84)","v":8.26802451819335},"*",68.972809445630631,"*",65.129525119463864,"*",65.073773022402875,"*",65.059759516624112,61.690000000000019,69.958024518193369,"-",55.337694163307766,"-",52.22936911943664,"-",58.193078270685483,"-",66.912731092590207,"-",36.702447259088068,"-",31.522638885779052,"-",28.631555014283347,"-",28.626474227638489,"-",34.388240562009656,"-",29.236023829000793,"-",33.045125393740342,"-",32.02721881559642,"-",32.217563507182206,"-",36.406016086434107,"-",0]
[null,70,{"$f":"Chegadas!J78","v":62.670000000000016},{"$f":"IF(Chegadas!K78=\"I\",Atendimento!E85,Atendimento!L85)","v":9.8253699578968803},"*",68.972809445630631,"*",65.129525119463864,"*",65.073773022402875,"*",65.059759516624112,"*",69.958024518193369,62.670000000000016,72.495369957896898,"-",52.22936911943664,"-",58.193078270685483,"-",66.912731092590207,"-",36.702447259088068,"-",31.522638885779052,"-",28.631555014283347,"-",28.626474227638489,"-",34.388240562009656,"-",29.236023829000793,"-",33.045125393740342,"-",32.02721881559642,"-",32.217563507182206,"-",36.406016086434107,"-",0]
[null,71,{"$f":"Chegadas!J79","v":63.150000000000013},{"$f":"IF(Chegadas!K79=\"I\",Atendimento!E86,Atendimento!L86)","v":8.1853330911089301},"*",68.972809445630631,"*",65.129525119463864,"*",65.073773022402875,"*",65.059759516624112,"*",69.958024518193369,"*",72.495369957896898,63.150000000000013,71.335333091108936,"-",58.193078270685483,"-",66.912731092590207,"-",36.702447259088068,"-",31.522638885779052,"-",28.631555014283347,"-",28.626474227638489,"-",34.388240562009656,"-",29.236023829000793,"-",33.045125393740342,"-",32.02721881559642,"-",32.217563507182206,"-",36.406016086434107,"-",0]
[null,72,{"$f":"Chegadas!J80","v":63.290000000000013},{"$f":"IF(Chegadas!K80=\"I\",Atendimento!E87,Atendimento!L87)","v":3.2243829814005873},"*",68.972809445630631,"*",65.129525119463864,"*",65.073773022402875,"*",65.059759516624112,"*",69.958024518193369,"*",72.495369957896898,"*",71.335333091108936,63.290000000000013,66.514382981400601,"-",66.912731092590207,"-",36.702447259088068,"-",31.522638885779052,"-",28.631555014283347,"-",28.626474227638489,"-",34.388240562009656,"-",29.236023829000793,"-",33.045125393740342,"-",32.02721881559642,"-",32.217563507182206,"-",36.406016086434107,"-",0]
[null,73,{"$f":"Chegadas!J81","v":63.710000000000015},{"$f":"IF(Chegadas!K81=\"I\",Atendimento!E88,Atendimento!L88)","v":12.770632454490643},"*",68.972809445630631,"*",65.129525119463864,"*",65.073773022402875,"*",65.059759516624112,"*",69.958024518193369,"*",72.495369957896898,"*",71.335333091108936,"*",66.514382981400601,"*",66.912731092590207,63.710000000000015,76.48063245449066,"-",31.522638885779052,"-",28.631555014283347,"-",28.626474227638489,"-",34.388240562009656,"-",29.236023829000793,"-",33.045125393740342,"-",32.02721881559642,"-",32.217563507182206,"-",36.406016086434107,"-",0]
[null,74,{"$f":"Chegadas!J82","v":63.770000000000017},{"$f":"IF(Chegadas!K82=\"I\",Atendimento!E89,Atendimento!L89)","v":3.2295120398207557},"*",68.972809445630631,"*",65.129525119463864,"*",65.073773022402875,"*",65.059759516624112,"*",69.958024518193369,"*",72.495369957896898,"*",71.335333091108936,"*",66.514382981400601,"*",66.912731092590207,"*",76.48063245449066,63.770000000000017,{"$f":"IF(OR(Y81=\"-\",Y81=\"*\"),Z80,Y81+$D81)","v":66.999512039820772},"-",28.631555014283347,"-",28.626474227638489,"-",34.388240562009656,"-",29.236023829000793,"-",33.045125393740342,"-",32.02721881559642,"-",32.217563507182206,"-",36.406016086434107,"-",0]
[null,75,{"$f":"Chegadas!J83","v":63.980000000000018},{"$f":"IF(Chegadas!K83=\"I\",Atendimento!E90,Atendimento!L90)","v":6.3668075187735376},"*",68.972809445630631,"*",65.129525119463864,"*",65.073773022402875,"*",65.059759516624112,"*",69.958024518193369,"*",72.495369957896898,"*",71.335333091108936,"*",66.514382981400601,"*",66.912731092590207,"*",76.48063245449066,"*",66.999512039820772,63.980000000000018,{"$f":"IF(OR(AA82=\"-\",AA82=\"*\"),AB81,AA82+$D82)","v":70.346807518773559},"-",28.626474227638489,"-",34.388240562009656,"-",29.236023829000793,"-",33.045125393740342,"-",32.02721881559642,"-",32.217563507182206,"-",36.406016086434107,"-",0]
[null,76,{"$f":"Chegadas!J84","v":65.220000000000013},{"$f":"IF(Chegadas!K84=\"I\",Atendimento!E91,Atendimento!L91)","v":7.3370758304326298},"*",68.972809445630631,65.220000000000013,72.557075830432638,"-",65.073773022402875,"-",65.059759516624112,"-",69.958024518193369,"-",72.495369957896898,"-",71.335333091108936,"-",66.514382981400601,"-",66.912731092590207,"-",76.48063245449066,"-",66.999512039820772,"-",70.346807518773559,"-",{"$f":"IF(OR(AC83=\"-\",AC83=\"*\"),AD82,AC83+$D83)","v":28.626474227638489},"-",34.388240562009656,"-",29.236023829000793,"-",33.045125393740342,"-",32.02721881559642,"-",32.217563507182206,"-",36.406016086434107,"-",0]
[null,77,{"$f":"Chegadas!J85","v":68.140000000000015},{"$f":"IF(Chegadas!K85=\"I\",Atendimento!E92,Atendimento!L92)","v":2.4156604044732997},"*",68.972809445630631,"*",72.557075830432638,68.140000000000015,70.555660404473315,"-",65.059759516624112,"-",69.958024518193369,"-",72.495369957896898,"-",71.335333091108936,"-",66.514382981400601,"-",66.912731092590207,"-",76.48063245449066,"-",66.999512039820772,"-",70.346807518773559,"-",28.626474227638489,"-",{"$f":"IF(OR(AE84=\"-\",AE84=\"*\"),AF83,AE84+$D84)","v":34.388240562009656},"-",29.236023829000793,"-",33.045125393740342,"-",32.02721881559642,"-",32.217563507182206,"-",36.406016086434107,"-",0]
[null,78,{"$f":"Chegadas!J86","v":68.500000000000014},{"$f":"IF(Chegadas!K86=\"I\",Atendimento!E93,Atendimento!L93)","v":7.3191003724529349},"*",68.972809445630631,"*",72.557075830432638,"*",70.555660404473315,68.500000000000014,75.819100372452951,"-",69.958024518193369,"-",72.495369957896898,"-",71.335333091108936,"-",66.514382981400601,"-",66.912731092590207,"-",76.48063245449066,"-",66.999512039820772,"-",70.346807518773559,"-",28.626474227638489,"-",34.388240562009656,"-",{"$f":"IF(OR(AG85=\"-\",AG85=\"*\"),AH84,AG85+$D85)","v":29.236023829000793},"-",33.045125393740342,"-",32.02721881559642,"-",32.217563507182206,"-",36.406016086434107,"-",0]
[null,79,{"$f":"Chegadas!J87","v":70.86},{"$f":"IF(Chegadas!K87=\"I\",Atendimento!E94,Atendimento!L94)","v":1.2321511051527803},70.86,72.09215110515278,"-",72.557075830432638,"-",70.555660404473315,"-",75.819100372452951,"-",69.958024518193369,"-",72.495369957896898,"-",71.335333091108936,"-",66.514382981400601,"-",66.912731092590207,"-",76.48063245449066,"-",66.999512039820772,"-",70.346807518773559,"-",28.626474227638489,"-",34.388240562009656,"-",29.236023829000793,"-",{"$f":"IF(OR(AI86=\"-\",AI86=\"*\"),AJ85,AI86+$D86)","v":33.045125393740342},"-",32.02721881559642,"-",32.217563507182206,"-",36.406016086434107,"-",0]
[null,80,{"$f":"Chegadas!J88","v":70.940000000000012},{"$f":"IF(Chegadas!K88=\"I\",Atendimento!E95,Atendimento!L95)","v":7.2921054140996633},"*",72.09215110515278,"*",72.557075830432638,70.940000000000012,78.232105414099678,"-",75.819100372452951,"-",69.958024518193369,"-",72.495369957896898,"-",71.335333091108936,"-",66.514382981400601,"-",66.912731092590207,"-",76.48063245449066,"-",66.999512039820772,"-",70.346807518773559,"-",28.626474227638489,"-",34.388240562009656,"-",29.236023829000793,"-",33.045125393740342,"-",{"$f":"IF(OR(AK87=\"-\",AK87=\"*\"),AL86,AK87+$D87)","v":32.02721881559642},"-",32.217563507182206,"-",36.406016086434107,"-",0]
[null,81,{"$f":"Chegadas!J89","v":71.490000000000009},{"$f":"IF(Chegadas!K89=\"I\",Atendimento!E96,Atendimento!L96)","v":8.6209598356140198},"*",72.09215110515278,"*",72.557075830432638,"*",78.232105414099678,"*",75.819100372452951,71.490000000000009,80.110959835614025,"-",72.495369957896898,"-",71.335333091108936,"-",66.514382981400601,"-",66.912731092590207,"-",76.48063245449066,"-",66.999512039820772,"-",70.346807518773559,"-",28.626474227638489,"-",34.388240562009656,"-",29.236023829000793,"-",33.045125393740342,"-",32.02721881559642,"-",{"$f":"IF(OR(AM88=\"-\",AM88=\"*\"),AN87,AM88+$D88)","v":32.217563507182206},"-",36.406016086434107,"-",0]
[null,82,{"$f":"Chegadas!J90","v":72.02000000000001},{"$f":"IF(Chegadas!K90=\"I\",Atendimento!E97,Atendimento!L97)","v":14.028557823878756},"*",72.09215110515278,"*",72.557075830432638,"*",78.232105414099678,"*",75.819100372452951,"*",80.110959835614025,"*",72.495369957896898,72.02000000000001,86.048557823878767,"-",66.514382981400601,"-",66.912731092590207,"-",76.48063245449066,"-",66.999512039820772,"-",70.346807518773559,"-",28.626474227638489,"-",34.388240562009656,"-",29.236023829000793,"-",33.045125393740342,"-",32.02721881559642,"-",32.217563507182206,"-",{"$f":"IF(OR(AO89=\"-\",AO89=\"*\"),AP88,AO89+$D89)","v":36.406016086434107},"-",0]
[null,83,{"$f":"Chegadas!J91","v":72.37},{"$f":"IF(Chegadas!K91=\"I\",Atendimento!E98,Atendimento!L98)","v":14.009985927420118},72.37,86.379985927420122,"-",72.557075830432638,"-",78.232105414099678,"-",75.819100372452951,"-",80.110959835614025,"-",72.495369957896898,"-",86.048557823878767,"-",66.514382981400601,"-",66.912731092590207,"-",76.48063245449066,"-",66.999512039820772,"-",70.346807518773559,"-",28.626474227638489,"-",34.388240562009656,"-",29.236023829000793,"-",33.045125393740342,"-",32.02721881559642,"-",32.217563507182206,"-",36.406016086434107,"-",{"$f":"IF(OR(AQ90=\"-\",AQ90=\"*\"),AR89,AQ90+$D90)","v":0}]
[null,84,{"$f":"Chegadas!J92","v":73.550000000000011},{"$f":"IF(Chegadas!K92=\"I\",Atendimento!E99,Atendimento!L99)","v":2.4129520664171484},"*",86.379985927420122,73.550000000000011,75.962952066417159,"-",78.232105414099678,"-",75.819100372452951,"-",80.110959835614025,"-",72.495369957896898,"-",86.048557823878767,"-",66.514382981400601,"-",66.912731092590207,"-",76.48063245449066,"-",66.999512039820772,"-",70.346807518773559,"-",28.626474227638489,"-",34.388240562009656,"-",29.236023829000793,"-",33.045125393740342,"-",32.02721881559642,"-",32.217563507182206,"-",36.406016086434107,"-",0]
[null,85,{"$f":"Chegadas!J93","v":74.690000000000012},{"$f":"IF(Chegadas!K93=\"I\",Atendimento!E100,Atendimento!L100)","v":12.37587533995649},"*",86.379985927420122,"*",75.962952066417159,"*",78.232105414099678,"*",{"$f":"IF(OR(K92=\"-\",K92=\"*\"),L91,K92+$D92)","v":75.819100372452951},"*",{"$f":"IF(OR(M92=\"-\",M92=\"*\"),N91,M92+$D92)","v":80.110959835614025},74.690000000000012,{"$f":"IF(OR(O92=\"-\",O92=\"*\"),P91,O92+$D92)","v":87.065875339956506},"-",{"$f":"IF(OR(Q92=\"-\",Q92=\"*\"),R91,Q92+$D92)","v":86.048557823878767},"-",{"$f":"IF(OR(S92=\"-\",S92=\"*\"),T91,S92+$D92)","v":66.514382981400601},"-",{"$f":"IF(OR(U92=\"-\",U92=\"*\"),V91,U92+$D92)","v":66.912731092590207},"-",{"$f":"IF(OR(W92=\"-\",W92=\"*\"),X91,W92+$D92)","v":76.48063245449066},"-",66.999512039820772,"-",70.346807518773559,"-",28.626474227638489,"-",34.388240562009656,"-",29.236023829000793,"-",33.045125393740342,"-",32.02721881559642,"-",32.217563507182206,"-",36.406016086434107,"-",0]
[null,86,{"$f":"Chegadas!J94","v":75.690000000000012},{"$f":"IF(Chegadas!K94=\"I\",Atendimento!E101,Atendimento!L101)","v":9.8604133708950457},"*",86.379985927420122,"*",75.962952066417159,"*",78.232105414099678,"*",75.819100372452951,"*",80.110959835614025,"*",87.065875339956506,"*",86.048557823878767,75.690000000000012,85.550413370895058,"-",66.912731092590207,"-",76.48063245449066,"-",66.999512039820772,"-",70.346807518773559,"-",28.626474227638489,"-",34.388240562009656,"-",29.236023829000793,"-",33.045125393740342,"-",32.02721881559642,"-",32.217563507182206,"-",36.406016086434107,"-",0]
[null,87,{"$f":"Chegadas!J95","v":75.980000000000018},{"$f":"IF(Chegadas!K95=\"I\",Atendimento!E102,Atendimento!L102)","v":4.2516714377137657},"*",86.379985927420122,75.980000000000018,80.231671437713786,"-",78.232105414099678,"-",75.819100372452951,"-",80.110959835614025,"-",87.065875339956506,"-",86.048557823878767,"-",85.550413370895058,"-",66.912731092590207,"-",76.48063245449066,"-",66.999512039820772,"-",70.346807518773559,"-",28.626474227638489,"-",34.388240562009656,"-",29.236023829000793,"-",33.045125393740342,"-",32.02721881559642,"-",32.217563507182206,"-",36.406016086434107,"-",0]
[null,88,{"$f":"Chegadas!J96","v":76.630000000000024},{"$f":"IF(Chegadas!K96=\"I\",Atendimento!E103,Atendimento!L103)","v":5.0587591912753442},"*",86.379985927420122,"*",80.231671437713786,"*",78.232105414099678,76.630000000000024,81.688759191275366,"-",80.110959835614025,"-",87.065875339956506,"-",86.048557823878767,"-",85.550413370895058,"-",66.912731092590207,"-",76.48063245449066,"-",66.999512039820772,"-",70.346807518773559,"-",28.626474227638489,"-",34.388240562009656,"-",29.236023829000793,"-",33.045125393740342,"-",32.02721881559642,"-",32.217563507182206,"-",36.406016086434107,"-",0]
[null,89,{"$f":"Chegadas!J97","v":79.300000000000026},{"$f":"IF(Chegadas!K97=\"I\",Atendimento!E104,Atendimento!L104)","v":11.011647390056917},"*",86.379985927420122,"*",80.231671437713786,79.300000000000026,90.311647390056947,"-",81.688759191275366,"-",80.110959835614025,"-",87.065875339956506,"-",86.048557823878767,"-",85.550413370895058,"-",66.912731092590207,"-",76.48063245449066,"-",66.999512039820772,"-",70.346807518773559,"-",28.626474227638489,"-",34.388240562009656,"-",29.236023829000793,"-",33.045125393740342,"-",32.02721881559642,"-",32.217563507182206,"-",36.406016086434107,"-",0]
[null,90,{"$f":"Chegadas!J98","v":79.880000000000024},{"$f":"IF(Chegadas!K98=\"I\",Atendimento!E105,Atendimento!L105)","v":11.092159608508712},"*",86.379985927420122,"*",80.231671437713786,"*",90.311647390056947,"*",81.688759191275366,"*",80.110959835614025,"*",87.065875339956506,"*",86.048557823878767,"*",85.550413370895058,79.880000000000024,90.972159608508733,"-",76.48063245449066,"-",66.999512039820772,"-",70.346807518773559,"-",28.626474227638489,"-",34.388240562009656,"-",29.236023829000793,"-",33.045125393740342,"-",32.02721881559642,"-",32.217563507182206,"-",36.406016086434107,"-",0]
[null,91,{"$f":"Chegadas!J99","v":81.47},{"$f":"IF(Chegadas!K99=\"I\",Atendimento!E106,Atendimento!L106)","v":1.2846588121752798},"*",86.379985927420122,81.47,82.754658812175279,"-",90.311647390056947,"-",81.688759191275366,"-",80.110959835614025,"-",87.065875339956506,"-",86.048557823878767,"-",85.550413370895058,"-",90.972159608508733,"-",76.48063245449066,"-",66.999512039820772,"-",70.346807518773559,"-",28.626474227638489,"-",34.388240562009656,"-",29.236023829000793,"-",33.045125393740342,"-",32.02721881559642,"-",32.217563507182206,"-",36.406016086434107,"-",0]
[null,92,{"$f":"Chegadas!J100","v":81.680000000000021},{"$f":"IF(Chegadas!K100=\"I\",Atendimento!E107,Atendimento!L107)","v":12.739165599528011},"*",86.379985927420122,"*",82.754658812175279,"*",90.311647390056947,"*",81.688759191275366,81.680000000000021,94.419165599528029,"-",87.065875339956506,"-",86.048557823878767,"-",85.550413370895058,"-",90.972159608508733,"-",76.48063245449066,"-",66.999512039820772,"-",70.346807518773559,"-",28.626474227638489,"-",34.388240562009656,"-",29.236023829000793,"-",33.045125393740342,"-",32.02721881559642,"-",32.217563507182206,"-",36.406016086434107,"-",0]
[null,93,{"$f":"Chegadas!J101","v":81.730000000000018},{"$f":"IF(Chegadas!K101=\"I\",Atendimento!E108,Atendimento!L108)","v":4.6142597733252053},"*",86.379985927420122,"*",82.754658812175279,"*",90.311647390056947,81.730000000000018,86.34425977332522,"-",94.419165599528029,"-",87.065875339956506,"-",86.048557823878767,"-",85.550413370895058,"-",90.972159608508733,"-",76.48063245449066,"-",66.999512039820772,"-",70.346807518773559,"-",28.626474227638489,"-",34.388240562009656,"-",29.236023829000793,"-",33.045125393740342,"-",32.02721881559642,"-",32.217563507182206,"-",36.406016086434107,"-",0]
[null,94,{"$f":"Chegadas!J102","v":81.830000000000013},{"$f":"IF(Chegadas!K102=\"I\",Atendimento!E109,Atendimento!L109)","v":2.8534835910501481},"*",86.379985927420122,"*",82.754658812175279,"*",90.311647390056947,"*",86.34425977332522,"*",94.419165599528029,"*",87.065875339956506,"*",86.048557823878767,"*",85.550413370895058,"*",90.972159608508733,81.830000000000013,84.683483591050162,"-",66.999512039820772,"-",70.346807518773559,"-",28.626474227638489,"-",34.388240562009656,"-",29.236023829000793,"-",33.045125393740342,"-",32.02721881559642,"-",32.217563507182206,"-",36.406016086434107,"-",0]
[null,95,{"$f":"Chegadas!J103","v":82.390000000000015},{"$f":"IF(Chegadas!K103=\"I\",Atendimento!E110,Atendimento!L110)","v":5.2734967259864955},"*",86.379985927420122,"*",82.754658812175279,"*",90.311647390056947,"*",86.34425977332522,"*",94.419165599528029,"*",87.065875339956506,"*",86.048557823878767,"*",85.550413370895058,"*",90.972159608508733,"*",84.683483591050162,82.390000000000015,87.663496725986505,"-",70.346807518773559,"-",28.626474227638489,"-",34.388240562009656,"-",29.236023829000793,"-",33.045125393740342,"-",32.02721881559642,"-",32.217563507182206,"-",36.406016086434107,"-",0]
[null,96,{"$f":"Chegadas!J104","v":83.410000000000011},{"$f":"IF(Chegadas!K104=\"I\",Atendimento!E111,Atendimento!L111)","v":11.108815936271863},"*",86.379985927420122,83.410000000000011,94.518815936271878,"-",90.311647390056947,"-",86.34425977332522,"-",94.419165599528029,"-",87.065875339956506,"-",86.048557823878767,"-",85.550413370895058,"-",90.972159608508733,"-",84.683483591050162,"-",87.663496725986505,"-",70.346807518773559,"-",28.626474227638489,"-",34.388240562009656,"-",29.236023829000793,"-",33.045125393740342,"-",32.02721881559642,"-",32.217563507182206,"-",36.406016086434107,"-",0]
[null,97,{"$f":"Chegadas!J105","v":83.960000000000008},{"$f":"IF(Chegadas!K105=\"I\",Atendimento!E112,Atendimento!L112)","v":7.0386936983732475},"*",86.379985927420122,"*",94.518815936271878,"*",90.311647390056947,"*",86.34425977332522,"*",94.419165599528029,"*",87.065875339956506,"*",86.048557823878767,"*",85.550413370895058,"*",90.972159608508733,"*",84.683483591050162,"*",87.663496725986505,83.960000000000008,90.998693698373259,"-",28.626474227638489,"-",34.388240562009656,"-",29.236023829000793,"-",33.045125393740342,"-",32.02721881559642,"-",32.217563507182206,"-",36.406016086434107,"-",0]
[null,98,{"$f":"Chegadas!J106","v":85.970000000000013},{"$f":"IF(Chegadas!K106=\"I\",Atendimento!E113,Atendimento!L113)","v":14.116461386048957},"*",86.379985927420122,"*",94.518815936271878,"*",90.311647390056947,"*",86.34425977332522,"*",94.419165599528029,"*",87.065875339956506,"*",86.048557823878767,85.970000000000013,100.08646138604897,"-",90.972159608508733,"-",84.683483591050162,"-",87.663496725986505,"-",90.998693698373259,"-",28.626474227638489,"-",34.388240562009656,"-",29.236023829000793,"-",33.045125393740342,"-",32.02721881559642,"-",32.217563507182206,"-",36.406016086434107,"-",0]
[null,99,{"$f":"Chegadas!J107","v":86.070000000000007},{"$f":"IF(Chegadas!K107=\"I\",Atendimento!E114,Atendimento!L114)","v":12.908928407658902},"*",86.379985927420122,"*",94.518815936271878,"*",90.311647390056947,"*",86.34425977332522,"*",94.419165599528029,"*",87.065875339956506,86.070000000000007,98.978928407658913,"-",100.08646138604897,"-",90.972159608508733,"-",84.683483591050162,"-",87.663496725986505,"-",90.998693698373259,"-",28.626474227638489,"-",34.388240562009656,"-",29.236023829000793,"-",33.045125393740342,"-",32.02721881559642,"-",32.217563507182206,"-",36.406016086434107,"-",0]
[null,100,{"$f":"Chegadas!J108","v":86.7},{"$f":"IF(Chegadas!K108=\"I\",Atendimento!E115,Atendimento!L115)","v":9.2976525660257856},86.7,95.997652566025792,"-",94.518815936271878,"-",90.311647390056947,"-",86.34425977332522,"-",94.419165599528029,"-",87.065875339956506,"-",98.978928407658913,"-",100.08646138604897,"-",90.972159608508733,"-",84.683483591050162,"-",87.663496725986505,"-",90.998693698373259,"-",28.626474227638489,"-",34.388240562009656,"-",29.236023829000793,"-",33.045125393740342,"-",32.02721881559642,"-",32.217563507182206,"-",36.406016086434107,"-",0]
[null,101,{"$f":"Chegadas!J109","v":87.8},{"$f":"IF(Chegadas!K109=\"I\",Atendimento!E116,Atendimento!L116)","v":8.3487033844029384},"*",95.997652566025792,"*",94.518815936271878,"*",90.311647390056947,87.8,96.148703384402936,"-",94.419165599528029,"-",87.065875339956506,"-",98.978928407658913,"-",100.08646138604897,"-",90.972159608508733,"-",84.683483591050162,"-",87.663496725986505,"-",90.998693698373259,"-",28.626474227638489,"-",34.388240562009656,"-",29.236023829000793,"-",33.045125393740342,"-",32.02721881559642,"-",32.217563507182206,"-",36.406016086434107,"-",0]
[null,102,{"$f":"Chegadas!J110","v":87.84},{"$f":"IF(Chegadas!K110=\"I\",Atendimento!E117,Atendimento!L117)","v":3.1758723800864397},"*",95.997652566025792,"*",94.518815936271878,"*",90.311647390056947,"*",96.148703384402936,"*",94.419165599528029,87.84,91.015872380086449,"-",98.978928407658913,"-",100.08646138604897,"-",90.972159608508733,"-",84.683483591050162,"-",87.663496725986505,"-",90.998693698373259,"-",28.626474227638489,"-",34.388240562009656,"-",29.236023829000793,"-",33.045125393740342,"-",32.02721881559642,"-",32.217563507182206,"-",36.406016086434107,"-",0]
[null,103,{"$f":"Chegadas!J111","v":88.539999999999992},{"$f":"IF(Chegadas!K111=\"I\",Atendimento!E118,Atendimento!L118)","v":1.4523535767650226},"*",95.997652566025792,"*",94.518815936271878,"*",90.311647390056947,"*",96.148703384402936,"*",94.419165599528029,"*",91.015872380086449,"*",98.978928407658913,"*",100.08646138604897,"*",90.972159608508733,88.539999999999992,89.992353576765012,"-",87.663496725986505,"-",90.998693698373259,"-",28.626474227638489,"-",34.388240562009656,"-",29.236023829000793,"-",33.045125393740342,"-",32.02721881559642,"-",32.217563507182206,"-",36.406016086434107,"-",0]
[null,104,{"$f":"Chegadas!J112","v":89.240000000000009},{"$f":"IF(Chegadas!K112=\"I\",Atendimento!E119,Atendimento!L119)","v":7.9265515315816861},"*",95.997652566025792,"*",94.518815936271878,"*",90.311647390056947,"*",96.148703384402936,"*",94.419165599528029,"*",91.015872380086449,"*",98.978928407658913,"*",100.08646138604897,"*",90.972159608508733,"*",89.992353576765012,89.240000000000009,97.166551531581689,"-",90.998693698373259,"-",28.626474227638489,"-",34.388240562009656,"-",29.236023829000793,"-",33.045125393740342,"-",32.02721881559642,"-",32.217563507182206,"-",36.406016086434107,"-",0]
[null,105,{"$f":"Chegadas!J113","v":91.330000000000013},{"$f":"IF(Chegadas!K113=\"I\",Atendimento!E120,Atendimento!L120)","v":14.358001182592126},"*",95.997652566025792,"*",94.518815936271878,91.330000000000013,105.68800118259213,"-",96.148703384402936,"-",94.419165599528029,"-",91.015872380086449,"-",98.978928407658913,"-",100.08646138604897,"-",90.972159608508733,"-",89.992353576765012,"-",97.166551531581689,"-",90.998693698373259,"-",28.626474227638489,"-",34.388240562009656,"-",29.236023829000793,"-",33.045125393740342,"-",32.02721881559642,"-",32.217563507182206,"-",36.406016086434107,"-",0]
[null,106,{"$f":"Chegadas!J114","v":91.960000000000008},{"$f":"IF(Chegadas!K114=\"I\",Atendimento!E121,Atendimento!L121)","v":7.8534979176897419},"*",95.997652566025792,"*",94.518815936271878,"*",105.68800118259213,"*",96.148703384402936,"*",94.419165599528029,91.960000000000008,99.813497917689745,"-",98.978928407658913,"-",100.08646138604897,"-",90.972159608508733,"-",89.992353576765012,"-",97.166551531581689,"-",90.998693698373259,"-",28.626474227638489,"-",34.388240562009656,"-",29.236023829000793,"-",33.045125393740342,"-",32.02721881559642,"-",32.217563507182206,"-",36.406016086434107,"-",0]
[null,107,{"$f":"Chegadas!J115","v":92.910000000000011},{"$f":"IF(Chegadas!K115=\"I\",Atendimento!E122,Atendimento!L122)","v":8.5995198875678263},"*",95.997652566025792,"*",94.518815936271878,"*",105.68800118259213,"*",96.148703384402936,"*",94.419165599528029,"*",99.813497917689745,"*",98.978928407658913,"*",100.08646138604897,92.910000000000011,101.50951988756783,"-",89.992353576765012,"-",97.166551531581689,"-",90.998693698373259,"-",28.626474227638489,"-",34.388240562009656,"-",29.236023829000793,"-",33.045125393740342,"-",32.02721881559642,"-",32.217563507182206,"-",36.406016086434107,"-",0]
[null,108,{"$f":"Chegadas!J116","v":93.460000000000008},{"$f":"IF(Chegadas!K116=\"I\",Atendimento!E123,Atendimento!L123)","v":7.6127860258966926},"*",95.997652566025792,"*",94.518815936271878,"*",105.68800118259213,"*",96.148703384402936,"*",94.419165599528029,"*",99.813497917689745,"*",98.978928407658913,"*",100.08646138604897,"*",101.50951988756783,93.460000000000008,101.0727860258967,"-",97.166551531581689,"-",90.998693698373259,"-",28.626474227638489,"-",34.388240562009656,"-",29.236023829000793,"-",33.045125393740342,"-",32.02721881559642,"-",32.217563507182206,"-",36.406016086434107,"-",0]
[null,109,{"$f":"Chegadas!J117","v":94.68},{"$f":"IF(Chegadas!K117=\"I\",Atendimento!E124,Atendimento!L124)","v":3.1551952959321707},"*",95.997652566025792,94.68,97.835195295932181,"-",105.68800118259213,"-",96.148703384402936,"-",94.419165599528029,"-",99.813497917689745,"-",98.978928407658913,"-",100.08646138604897,"-",101.50951988756783,"-",101.0727860258967,"-",97.166551531581689,"-",90.998693698373259,"-",28.626474227638489,"-",34.388240562009656,"-",29.236023829000793,"-",33.045125393740342,"-",32.02721881559642,"-",32.217563507182206,"-",36.406016086434107,"-",0]
[null,110,{"$f":"Chegadas!J118","v":94.960000000000008},{"$f":"IF(Chegadas!K118=\"I\",Atendimento!E125,Atendimento!L125)","v":8.3077247584013065},"*",95.997652566025792,"*",97.835195295932181,"*",105.68800118259213,"*",96.148703384402936,94.960000000000008,103.26772475840131,"-",99.813497917689745,"-",98.978928407658913,"-",100.08646138604897,"-",101.50951988756783,"-",101.0727860258967,"-",97.166551531581689,"-",90.998693698373259,"-",28.626474227638489,"-",34.388240562009656,"-",29.236023829000793,"-",33.045125393740342,"-",32.02721881559642,"-",32.217563507182206,"-",36.406016086434107,"-",0]
[null,111,{"$f":"Chegadas!J119","v":95.320000000000007},{"$f":"IF(Chegadas!K119=\"I\",Atendimento!E126,Atendimento!L126)","v":5.7416639956440116},"*",95.997652566025792,"*",97.835195295932181,"*",105.68800118259213,"*",96.148703384402936,"*",103.26772475840131,"*",99.813497917689745,"*",98.978928407658913,"*",100.08646138604897,"*",101.50951988756783,"*",101.0727860258967,"*",97.166551531581689,95.320000000000007,101.06166399564403,"-",28.626474227638489,"-",34.388240562009656,"-",29.236023829000793,"-",33.045125393740342,"-",32.02721881559642,"-",32.217563507182206,"-",36.406016086434107,"-",0]
[null,112,{"$f":"Chegadas!J120","v":96.360000000000014},{"$f":"IF(Chegadas!K120=\"I\",Atendimento!E127,Atendimento!L127)","v":7.1112685106941562},96.360000000000014,103.47126851069417,"-",97.835195295932181,"-",105.68800118259213,"-",96.148703384402936,"-",103.26772475840131,"-",99.813497917689745,"-",98.978928407658913,"-",100.08646138604897,"-",101.50951988756783,"-",101.0727860258967,"-",97.166551531581689,"-",101.06166399564403,"-",28.626474227638489,"-",34.388240562009656,"-",29.236023829000793,"-",33.045125393740342,"-",32.02721881559642,"-",32.217563507182206,"-",36.406016086434107,"-",0]
[null,113,{"$f":"Chegadas!J121","v":97.030000000000015},{"$f":"IF(Chegadas!K121=\"I\",Atendimento!E128,Atendimento!L128)","v":2.3260786325372962},"*",103.47126851069417,"*",97.835195295932181,"*",105.68800118259213,97.030000000000015,99.356078632537304,"-",103.26772475840131,"-",99.813497917689745,"-",98.978928407658913,"-",100.08646138604897,"-",101.50951988756783,"-",101.0727860258967,"-",97.166551531581689,"-",101.06166399564403,"-",28.626474227638489,"-",34.388240562009656,"-",29.236023829000793,"-",33.045125393740342,"-",32.02721881559642,"-",32.217563507182206,"-",36.406016086434107,"-",0]
[null,114,{"$f":"Chegadas!J122","v":97.65000000000002},{"$f":"IF(Chegadas!K122=\"I\",Atendimento!E129,Atendimento!L129)","v":9.3274558538685568},"*",103.47126851069417,"*",97.835195295932181,"*",105.68800118259213,"*",99.356078632537304,"*",103.26772475840131,"*",99.813497917689745,"*",98.978928407658913,"*",100.08646138604897,"*",101.50951988756783,"*",101.0727860258967,97.65000000000002,106.97745585386858,"-",101.06166399564403,"-",28.626474227638489,"-",34.388240562009656,"-",29.236023829000793,"-",33.045125393740342,"-",32.02721881559642,"-",32.217563507182206,"-",36.406016086434107,"-",0]
[null,115,{"$f":"Chegadas!J123","v":98.780000000000015},{"$f":"IF(Chegadas!K123=\"I\",Atendimento!E130,Atendimento!L130)","v":9.4324221028468234},"*",103.47126851069417,98.780000000000015,108.21242210284684,"-",105.68800118259213,"-",99.356078632537304,"-",103.26772475840131,"-",99.813497917689745,"-",98.978928407658913,"-",100.08646138604897,"-",101.50951988756783,"-",101.0727860258967,"-",106.97745585386858,"-",101.06166399564403,"-",28.626474227638489,"-",34.388240562009656,"-",29.236023829000793,"-",33.045125393740342,"-",32.02721881559642,"-",32.217563507182206,"-",36.406016086434107,"-",0]
[null,116,{"$f":"Chegadas!J124","v":99.030000000000015},{"$f":"IF(Chegadas!K124=\"I\",Atendimento!E131,Atendimento!L131)","v":8.2192009260559686},"*",103.47126851069417,"*",108.21242210284684,"*",105.68800118259213,"*",99.356078632537304,"*",103.26772475840131,"*",99.813497917689745,99.030000000000015,107.24920092605598,"-",100.08646138604897,"-",101.50951988756783,"-",101.0727860258967,"-",106.97745585386858,"-",101.06166399564403,"-",28.626474227638489,"-",34.388240562009656,"-",29.236023829000793,"-",33.045125393740342,"-",32.02721881559642,"-",32.217563507182206,"-",36.406016086434107,"-",0]
[null,117,{"$f":"Chegadas!J125","v":99.030000000000015},{"$f":"IF(Chegadas!K125=\"I\",Atendimento!E132,Atendimento!L132)","v":7.6902493691546816},"*",103.47126851069417,"*",108.21242210284684,"*",105.68800118259213,"*",99.356078632537304,"*",103.26772475840131,"*",99.813497917689745,"*",107.24920092605598,"*",100.08646138604897,"*",101.50951988756783,"*",101.0727860258967,"*",106.97745585386858,"*",101.06166399564403,99.030000000000015,106.7202493691547,"-",34.388240562009656,"-",29.236023829000793,"-",33.045125393740342,"-",32.02721881559642,"-",32.217563507182206,"-",36.406016086434107,"-",0]
[null,118,{"$f":"Chegadas!J126","v":99.730000000000018},{"$f":"IF(Chegadas!K126=\"I\",Atendimento!E133,Atendimento!L133)","v":5.0014106223367847},"*",103.47126851069417,"*",108.21242210284684,"*",105.68800118259213,99.730000000000018,104.7314106223368,"-",103.26772475840131,"-",99.813497917689745,"-",107.24920092605598,"-",100.08646138604897,"-",101.50951988756783,"-",101.0727860258967,"-",106.97745585386858,"-",101.06166399564403,"-",106.7202493691547,"-",34.388240562009656,"-",29.236023829000793,"-",33.045125393740342,"-",32.02721881559642,"-",32.217563507182206,"-",36.406016086434107,"-",0]
[null,119,{"$f":"Chegadas!J127","v":101.13000000000002},{"$f":"IF(Chegadas!K127=\"I\",Atendimento!E134,Atendimento!L134)","v":7.5288666742773893},"*",103.47126851069417,"*",108.21242210284684,"*",105.68800118259213,"*",104.7314106223368,"*",103.26772475840131,101.13000000000002,108.65886667427742,"-",107.24920092605598,"-",100.08646138604897,"-",101.50951988756783,"-",101.0727860258967,"-",106.97745585386858,"-",101.06166399564403,"-",106.7202493691547,"-",34.388240562009656,"-",29.236023829000793,"-",33.045125393740342,"-",32.02721881559642,"-",32.217563507182206,"-",36.406016086434107,"-",0]
[null,120,{"$f":"Chegadas!J128","v":101.27},{"$f":"IF(Chegadas!K128=\"I\",Atendimento!E135,Atendimento!L135)","v":0.7423776153309336},"*",103.47126851069417,"*",108.21242210284684,"*",105.68800118259213,"*",104.7314106223368,"*",103.26772475840131,"*",108.65886667427742,"*",107.24920092605598,101.27,102.01237761533093,"-",101.50951988756783,"-",101.0727860258967,"-",106.97745585386858,"-",101.06166399564403,"-",106.7202493691547,"-",34.388240562009656,"-",29.236023829000793,"-",33.045125393740342,"-",32.02721881559642,"-",32.217563507182206,"-",36.406016086434107,"-",0]
[null,121,{"$f":"Chegadas!J129","v":101.97000000000003},{"$f":"IF(Chegadas!K129=\"I\",Atendimento!E136,Atendimento!L136)","v":5.4970962884537471},"*",103.47126851069417,"*",108.21242210284684,"*",105.68800118259213,"*",104.7314106223368,"*",103.26772475840131,"*",108.65886667427742,"*",107.24920092605598,"*",102.01237761533093,101.97000000000003,107.46709628845377,"-",101.0727860258967,"-",106.97745585386858,"-",101.06166399564403,"-",106.7202493691547,"-",34.388240562009656,"-",29.236023829000793,"-",33.045125393740342,"-",32.02721881559642,"-",32.217563507182206,"-",36.406016086434107,"-",0]
[null,122,{"$f":"Chegadas!J130","v":102.55000000000003},{"$f":"IF(Chegadas!K130=\"I\",Atendimento!E137,Atendimento!L137)","v":10.847335559725167},"*",103.47126851069417,"*",108.21242210284684,"*",105.68800118259213,"*",104.7314106223368,"*",103.26772475840131,"*",108.65886667427742,"*",107.24920092605598,102.55000000000003,113.39733555972519,"-",107.46709628845377,"-",101.0727860258967,"-",106.97745585386858,"-",101.06166399564403,"-",106.7202493691547,"-",34.388240562009656,"-",29.236023829000793,"-",33.045125393740342,"-",32.02721881559642,"-",32.217563507182206,"-",36.406016086434107,"-",0]
[null,123,{"$f":"Chegadas!J131","v":102.81000000000003},{"$f":"IF(Chegadas!K131=\"I\",Atendimento!E138,Atendimento!L138)","v":8.4270201948561407},"*",103.47126851069417,"*",108.21242210284684,"*",105.68800118259213,"*",104.7314106223368,"*",103.26772475840131,"*",108.65886667427742,"*",107.24920092605598,"*",113.39733555972519,"*",107.46709628845377,102.81000000000003,111.23702019485617,"-",106.97745585386858,"-",101.06166399564403,"-",106.7202493691547,"-",34.388240562009656,"-",29.236023829000793,"-",33.045125393740342,"-",32.02721881559642,"-",32.217563507182206,"-",36.406016086434107,"-",0]
[null,124,{"$f":"Chegadas!J132","v":103.19000000000003},{"$f":"IF(Chegadas!K132=\"I\",Atendimento!E139,Atendimento!L139)","v":7.2284192207156419},"*",103.47126851069417,"*",108.21242210284684,"*",105.68800118259213,"*",104.7314106223368,"*",103.26772475840131,"*",108.65886667427742,"*",107.24920092605598,"*",113.39733555972519,"*",107.46709628845377,"*",111.23702019485617,"*",106.97745585386858,103.19000000000003,110.41841922071566,"-",106.7202493691547,"-",34.388240562009656,"-",29.236023829000793,"-",33.045125393740342,"-",32.02721881559642,"-",32.217563507182206,"-",36.406016086434107,"-",0]
[null,125,{"$f":"Chegadas!J133","v":106.46000000000002},{"$f":"IF(Chegadas!K133=\"I\",Atendimento!E140,Atendimento!L140)","v":11.835458125911913},106.46000000000002,118.29545812591194,"-",108.21242210284684,"-",105.68800118259213,"-",104.7314106223368,"-",103.26772475840131,"-",108.65886667427742,"-",107.24920092605598,"-",113.39733555972519,"-",107.46709628845377,"-",111.23702019485617,"-",106.97745585386858,"-",110.41841922071566,"-",106.7202493691547,"-",34.388240562009656,"-",29.236023829000793,"-",33.045125393740342,"-",32.02721881559642,"-",32.217563507182206,"-",36.406016086434107,"-",0]
[null,126,{"$f":"Chegadas!J134","v":106.73000000000002},{"$f":"IF(Chegadas!K134=\"I\",Atendimento!E141,Atendimento!L141)","v":9.4316537643163354},"*",118.29545812591194,"*",108.21242210284684,106.73000000000002,116.16165376431636,"-",104.7314106223368,"-",103.26772475840131,"-",108.65886667427742,"-",107.24920092605598,"-",113.39733555972519,"-",107.46709628845377,"-",111.23702019485617,"-",106.97745585386858,"-",110.41841922071566,"-",106.7202493691547,"-",34.388240562009656,"-",29.236023829000793,"-",33.045125393740342,"-",32.02721881559642,"-",32.217563507182206,"-",36.406016086434107,"-",0]
[null,127,{"$f":"Chegadas!J135","v":107.80000000000001},{"$f":"IF(Chegadas!K135=\"I\",Atendimento!E142,Atendimento!L142)","v":9.579206222373422},"*",118.29545812591194,"*",108.21242210284684,"*",116.16165376431636,107.80000000000001,117.37920622237343,"-",103.26772475840131,"-",108.65886667427742,"-",107.24920092605598,"-",113.39733555972519,"-",107.46709628845377,"-",111.23702019485617,"-",106.97745585386858,"-",110.41841922071566,"-",106.7202493691547,"-",34.388240562009656,"-",29.236023829000793,"-",33.045125393740342,"-",32.02721881559642,"-",32.217563507182206,"-",36.406016086434107,"-",0]
[null,128,{"$f":"Chegadas!J136","v":108.00000000000001},{"$f":"IF(Chegadas!K136=\"I\",Atendimento!E143,Atendimento!L143)","v":10.465793929478536},"*",118.29545812591194,"*",108.21242210284684,"*",116.16165376431636,"*",117.37920622237343,108.00000000000001,118.46579392947855,"-",108.65886667427742,"-",107.24920092605598,"-",113.39733555972519,"-",107.46709628845377,"-",111.23702019485617,"-",106.97745585386858,"-",110.41841922071566,"-",106.7202493691547,"-",34.388240562009656,"-",29.236023829000793,"-",33.045125393740342,"-",32.02721881559642,"-",32.217563507182206,"-",36.406016086434107,"-",0]
[null,129,{"$f":"Chegadas!J137","v":108.01000000000002},{"$f":"IF(Chegadas!K137=\"I\",Atendimento!E144,Atendimento!L144)","v":4.8425830716703064},"*",118.29545812591194,"*",108.21242210284684,"*",116.16165376431636,"*",117.37920622237343,"*",118.46579392947855,"*",108.65886667427742,108.01000000000002,112.85258307167032,"-",113.39733555972519,"-",107.46709628845377,"-",111.23702019485617,"-",106.97745585386858,"-",110.41841922071566,"-",106.7202493691547,"-",34.388240562009656,"-",29.236023829000793,"-",33.045125393740342,"-",32.02721881559642,"-",32.217563507182206,"-",36.406016086434107,"-",0]
[null,130,{"$f":"Chegadas!J138","v":108.09000000000002},{"$f":"IF(Chegadas!K138=\"I\",Atendimento!E145,Atendimento!L145)","v":8.9434824760689935},"*",118.29545812591194,{"$f":"IF(E137<>\"*\",\"-\",IF($C137>=H136,$C137,\"*\"))","v":"*"},108.21242210284684,{"$f":"IF(G137<>\"*\",\"-\",IF($C137>=J136,$C137,\"*\"))","v":"*"},116.16165376431636,{"$f":"IF(I137<>\"*\",\"-\",IF($C137>=L136,$C137,\"*\"))","v":"*"},117.37920622237343,{"$f":"IF(K137<>\"*\",\"-\",IF($C137>=N136,$C137,\"*\"))","v":"*"},118.46579392947855,{"$f":"IF(M137<>\"*\",\"-\",IF($C137>=P136,$C137,\"*\"))","v":"*"},108.65886667427742,{"$f":"IF(O137<>\"*\",\"-\",IF($C137>=R136,$C137,\"*\"))","v":"*"},112.85258307167032,{"$f":"IF(Q137<>\"*\",\"-\",IF($C137>=T136,$C137,\"*\"))","v":"*"},113.39733555972519,{"$f":"IF(S137<>\"*\",\"-\",IF($C137>=V136,$C137,\"*\"))","v":108.09000000000002},117.03348247606901,{"$f":"IF(U137<>\"*\",\"-\",IF($C137>=X136,$C137,\"*\"))","v":"-"},111.23702019485617,{"$f":"IF(W137<>\"*\",\"-\",IF($C137>=Z136,$C137,\"*\"))","v":"-"},106.97745585386858,{"$f":"IF(Y137<>\"*\",\"-\",IF($C137>=AB136,$C137,\"*\"))","v":"-"},110.41841922071566,{"$f":"IF(AA137<>\"*\",\"-\",IF($C137>=AD136,$C137,\"*\"))","v":"-"},106.7202493691547,{"$f":"IF(AC137<>\"*\",\"-\",IF($C137>=AF136,$C137,\"*\"))","v":"-"},34.388240562009656,{"$f":"IF(AE137<>\"*\",\"-\",IF($C137>=AH136,$C137,\"*\"))","v":"-"},29.236023829000793,{"$f":"IF(AG137<>\"*\",\"-\",IF($C137>=AJ136,$C137,\"*\"))","v":"-"},33.045125393740342,{"$f":"IF(AI137<>\"*\",\"-\",IF($C137>=AL136,$C137,\"*\"))","v":"-"},32.02721881559642,{"$f":"IF(AK137<>\"*\",\"-\",IF($C137>=AN136,$C137,\"*\"))","v":"-"},32.217563507182206,{"$f":"IF(AM137<>\"*\",\"-\",IF($C137>=AP136,$C137,\"*\"))","v":"-"},36.406016086434107,{"$f":"IF(AO137<>\"*\",\"-\",IF($C137>=AR136,$C137,\"*\"))","v":"-"},0]
[null,131,{"$f":"Chegadas!J139","v":108.52000000000002},{"$f":"IF(Chegadas!K139=\"I\",Atendimento!E146,Atendimento!L146)","v":6.0510205287807484},{"$f":"IF($C138>F137,$C138,\"*\")","v":"*"},{"$f":"IF(E138=\"*\",F137,E138+$D138)","v":118.29545812591194},108.52000000000002,{"$f":"IF(OR(G138=\"-\",G138=\"*\"),H137,G138+$D138)","v":114.57102052878078},"-",{"$f":"IF(OR(I138=\"-\",I138=\"*\"),J137,I138+$D138)","v":116.16165376431636},"-",117.37920622237343,"-",118.46579392947855,"-",108.65886667427742,"-",112.85258307167032,"-",113.39733555972519,"-",117.03348247606901,"-",111.23702019485617,"-",106.97745585386858,"-",110.41841922071566,"-",106.7202493691547,"-",34.388240562009656,"-",29.236023829000793,"-",33.045125393740342,"-",32.02721881559642,"-",32.217563507182206,"-",36.406016086434107,"-",0]
[null,132,{"$f":"Chegadas!J140","v":110.67000000000003},{"$f":"IF(Chegadas!K140=\"I\",Atendimento!E147,Atendimento!L147)","v":3.377498630465845},"*",118.29545812591194,"*",114.57102052878078,"*",116.16165376431636,"*",117.37920622237343,"*",118.46579392947855,110.67000000000003,114.04749863046588,"-",112.85258307167032,"-",113.39733555972519,"-",117.03348247606901,"-",111.23702019485617,"-",106.97745585386858,"-",110.41841922071566,"-",106.7202493691547,"-",34.388240562009656,"-",29.236023829000793,"-",33.045125393740342,"-",32.02721881559642,"-",32.217563507182206,"-",36.406016086434107,"-",0]
[null,133,{"$f":"Chegadas!J141","v":110.72000000000003},{"$f":"IF(Chegadas!K141=\"I\",Atendimento!E148,Atendimento!L148)","v":9.6070374100671021},"*",118.29545812591194,"*",114.57102052878078,"*",116.16165376431636,"*",117.37920622237343,"*",118.46579392947855,"*",114.04749863046588,"*",112.85258307167032,"*",113.39733555972519,"*",117.03348247606901,"*",111.23702019485617,110.72000000000003,120.32703741006713,"-",110.41841922071566,"-",106.7202493691547,"-",34.388240562009656,"-",29.236023829000793,"-",33.045125393740342,"-",32.02721881559642,"-",32.217563507182206,"-",36.406016086434107,"-",0]
[null,134,{"$f":"Chegadas!J142","v":110.93000000000002},{"$f":"IF(Chegadas!K142=\"I\",Atendimento!E149,Atendimento!L149)","v":11.97333969239126},"*",118.29545812591194,"*",114.57102052878078,"*",116.16165376431636,"*",117.37920622237343,"*",118.46579392947855,"*",114.04749863046588,"*",112.85258307167032,"*",113.39733555972519,"*",117.03348247606901,"*",111.23702019485617,"*",120.32703741006713,110.93000000000002,122.90333969239128,"-",106.7202493691547,"-",34.388240562009656,"-",29.236023829000793,"-",33.045125393740342,"-",32.02721881559642,"-",32.217563507182206,"-",36.406016086434107,"-",0]
[null,135,{"$f":"Chegadas!J143","v":112.44000000000003},{"$f":"IF(Chegadas!K143=\"I\",Atendimento!E150,Atendimento!L150)","v":13.680015071457635},"*",118.29545812591194,"*",114.57102052878078,"*",116.16165376431636,"*",117.37920622237343,"*",118.46579392947855,"*",114.04749863046588,"*",112.85258307167032,"*",113.39733555972519,"*",117.03348247606901,112.44000000000003,126.12001507145766,"-",120.32703741006713,"-",122.90333969239128,"-",106.7202493691547,"-",34.388240562009656,"-",29.236023829000793,"-",33.045125393740342,"-",32.02721881559642,"-",32.217563507182206,"-",36.406016086434107,"-",0]
[null,136,{"$f":"Chegadas!J144","v":113.16000000000003},{"$f":"IF(Chegadas!K144=\"I\",Atendimento!E151,Atendimento!L151)","v":6.529657825932464},"*",118.29545812591194,"*",114.57102052878078,"*",116.16165376431636,"*",117.37920622237343,"*",118.46579392947855,"*",114.04749863046588,113.16000000000003,119.68965782593249,"-",113.39733555972519,"-",117.03348247606901,"-",126.12001507145766,"-",120.32703741006713,"-",122.90333969239128,"-",106.7202493691547,"-",34.388240562009656,"-",29.236023829000793,"-",33.045125393740342,"-",32.02721881559642,"-",32.217563507182206,"-",36.406016086434107,"-",0]
[null,137,{"$f":"Chegadas!J145","v":114.30000000000003},{"$f":"IF(Chegadas!K145=\"I\",Atendimento!E152,Atendimento!L152)","v":8.1516161056360019},"*",118.29545812591194,"*",114.57102052878078,"*",116.16165376431636,"*",117.37920622237343,"*",118.46579392947855,114.30000000000003,122.45161610563602,"-",119.68965782593249,"-",113.39733555972519,"-",117.03348247606901,"-",126.12001507145766,"-",120.32703741006713,"-",122.90333969239128,"-",106.7202493691547,"-",34.388240562009656,"-",29.236023829000793,"-",33.045125393740342,"-",32.02721881559642,"-",32.217563507182206,"-",36.406016086434107,"-",0]
[null,138,{"$f":"Chegadas!J146","v":115.61000000000003},{"$f":"IF(Chegadas!K146=\"I\",Atendimento!E153,Atendimento!L153)","v":9.4355181313721772},"*",118.29545812591194,115.61000000000003,125.04551813137221,"-",116.16165376431636,"-",117.37920622237343,"-",118.46579392947855,"-",122.45161610563602,"-",119.68965782593249,"-",113.39733555972519,"-",117.03348247606901,"-",126.12001507145766,"-",{"$f":"IF(OR(Y145=\"-\",Y145=\"*\"),Z144,Y145+$D145)","v":120.32703741006713},"-",122.90333969239128,"-",106.7202493691547,"-",34.388240562009656,"-",29.236023829000793,"-",33.045125393740342,"-",32.02721881559642,"-",32.217563507182206,"-",36.406016086434107,"-",0]
[null,139,{"$f":"Chegadas!J147","v":115.61000000000003},{"$f":"IF(Chegadas!K147=\"I\",Atendimento!E154,Atendimento!L154)","v":12.184338138792766},"*",118.29545812591194,"*",125.04551813137221,"*",116.16165376431636,"*",117.37920622237343,"*",118.46579392947855,"*",122.45161610563602,"*",119.68965782593249,115.61000000000003,127.7943381387928,"-",117.03348247606901,"-",126.12001507145766,"-",120.32703741006713,"-",{"$f":"IF(OR(AA146=\"-\",AA146=\"*\"),AB145,AA146+$D146)","v":122.90333969239128},"-",106.7202493691547,"-",34.388240562009656,"-",29.236023829000793,"-",33.045125393740342,"-",32.02721881559642,"-",32.217563507182206,"-",36.406016086434107,"-",0]
[null,140,{"$f":"Chegadas!J148","v":115.72000000000003},{"$f":"IF(Chegadas!K148=\"I\",Atendimento!E155,Atendimento!L155)","v":6.3966399633099025},"*",118.29545812591194,"*",125.04551813137221,"*",116.16165376431636,"*",117.37920622237343,"*",118.46579392947855,"*",122.45161610563602,"*",119.68965782593249,"*",127.7943381387928,"*",117.03348247606901,"*",126.12001507145766,"*",120.32703741006713,"*",122.90333969239128,115.72000000000003,{"$f":"IF(OR(AC147=\"-\",AC147=\"*\"),AD146,AC147+$D147)","v":122.11663996330994},"-",34.388240562009656,"-",29.236023829000793,"-",33.045125393740342,"-",32.02721881559642,"-",32.217563507182206,"-",36.406016086434107,"-",0]
[null,141,{"$f":"Chegadas!J149","v":116.52000000000002},{"$f":"IF(Chegadas!K149=\"I\",Atendimento!E156,Atendimento!L156)","v":13.275587285169344},"*",118.29545812591194,"*",125.04551813137221,116.52000000000002,129.79558728516938,"-",117.37920622237343,"-",118.46579392947855,"-",122.45161610563602,"-",119.68965782593249,"-",127.7943381387928,"-",117.03348247606901,"-",126.12001507145766,"-",120.32703741006713,"-",122.90333969239128,"-",122.11663996330994,"-",{"$f":"IF(OR(AE148=\"-\",AE148=\"*\"),AF147,AE148+$D148)","v":34.388240562009656},"-",29.236023829000793,"-",33.045125393740342,"-",32.02721881559642,"-",32.217563507182206,"-",36.406016086434107,"-",0]
[null,142,{"$f":"Chegadas!J150","v":117.44000000000003},{"$f":"IF(Chegadas!K150=\"I\",Atendimento!E157,Atendimento!L157)","v":11.746336285979968},"*",118.29545812591194,"*",125.04551813137221,"*",129.79558728516938,117.44000000000003,129.18633628597999,"-",118.46579392947855,"-",122.45161610563602,"-",119.68965782593249,"-",127.7943381387928,"-",117.03348247606901,"-",126.12001507145766,"-",120.32703741006713,"-",122.90333969239128,"-",122.11663996330994,"-",34.388240562009656,"-",{"$f":"IF(OR(AG149=\"-\",AG149=\"*\"),AH148,AG149+$D149)","v":29.236023829000793},"-",33.045125393740342,"-",32.02721881559642,"-",32.217563507182206,"-",36.406016086434107,"-",0]
[null,143,{"$f":"Chegadas!J151","v":120.07},{"$f":"IF(Chegadas!K151=\"I\",Atendimento!E158,Atendimento!L158)","v":1.3881152455661443},120.07,121.45811524556613,"-",125.04551813137221,"-",129.79558728516938,"-",129.18633628597999,"-",118.46579392947855,"-",122.45161610563602,"-",119.68965782593249,"-",127.7943381387928,"-",117.03348247606901,"-",126.12001507145766,"-",120.32703741006713,"-",122.90333969239128,"-",122.11663996330994,"-",34.388240562009656,"-",29.236023829000793,"-",{"$f":"IF(OR(AI150=\"-\",AI150=\"*\"),AJ149,AI150+$D150)","v":33.045125393740342},"-",32.02721881559642,"-",32.217563507182206,"-",36.406016086434107,"-",0]
[null,144,{"$f":"Chegadas!J152","v":120.88000000000002},{"$f":"IF(Chegadas!K152=\"I\",Atendimento!E159,Atendimento!L159)","v":9.3163722678917438},"*",121.45811524556613,"*",125.04551813137221,"*",129.79558728516938,"*",129.18633628597999,120.88000000000002,130.19637226789177,"-",122.45161610563602,"-",119.68965782593249,"-",127.7943381387928,"-",117.03348247606901,"-",126.12001507145766,"-",120.32703741006713,"-",122.90333969239128,"-",122.11663996330994,"-",34.388240562009656,"-",29.236023829000793,"-",33.045125393740342,"-",{"$f":"IF(OR(AK151=\"-\",AK151=\"*\"),AL150,AK151+$D151)","v":32.02721881559642},"-",32.217563507182206,"-",36.406016086434107,"-",0]
[null,145,{"$f":"Chegadas!J153","v":122.45000000000002},{"$f":"IF(Chegadas!K153=\"I\",Atendimento!E160,Atendimento!L160)","v":10.31972408768878},122.45000000000002,132.76972408768879,"-",125.04551813137221,"-",129.79558728516938,"-",129.18633628597999,"-",130.19637226789177,"-",122.45161610563602,"-",119.68965782593249,"-",127.7943381387928,"-",117.03348247606901,"-",126.12001507145766,"-",120.32703741006713,"-",122.90333969239128,"-",122.11663996330994,"-",34.388240562009656,"-",29.236023829000793,"-",33.045125393740342,"-",32.02721881559642,"-",{"$f":"IF(OR(AM152=\"-\",AM152=\"*\"),AN151,AM152+$D152)","v":32.217563507182206},"-",36.406016086434107,"-",0]
[null,146,{"$f":"Chegadas!J154","v":123.61000000000001},{"$f":"IF(Chegadas!K154=\"I\",Atendimento!E161,Atendimento!L161)","v":10.967402500775002},"*",132.76972408768879,"*",125.04551813137221,"*",129.79558728516938,"*",129.18633628597999,"*",130.19637226789177,123.61000000000001,134.57740250077501,"-",119.68965782593249,"-",127.7943381387928,"-",117.03348247606901,"-",126.12001507145766,"-",120.32703741006713,"-",122.90333969239128,"-",122.11663996330994,"-",34.388240562009656,"-",29.236023829000793,"-",33.045125393740342,"-",32.02721881559642,"-",32.217563507182206,"-",{"$f":"IF(OR(AO153=\"-\",AO153=\"*\"),AP152,AO153+$D153)","v":36.406016086434107},"-",0]
[null,147,{"$f":"Chegadas!J155","v":124.02000000000001},{"$f":"IF(Chegadas!K155=\"I\",Atendimento!E162,Atendimento!L162)","v":5.267540152162927},"*",132.76972408768879,"*",125.04551813137221,"*",129.79558728516938,"*",129.18633628597999,"*",130.19637226789177,"*",134.57740250077501,124.02000000000001,129.28754015216293,"-",127.7943381387928,"-",117.03348247606901,"-",126.12001507145766,"-",120.32703741006713,"-",122.90333969239128,"-",122.11663996330994,"-",34.388240562009656,"-",29.236023829000793,"-",33.045125393740342,"-",32.02721881559642,"-",32.217563507182206,"-",36.406016086434107,"-",{"$f":"IF(OR(AQ154=\"-\",AQ154=\"*\"),AR153,AQ154+$D154)","v":0}]
[null,148,{"$f":"Chegadas!J156","v":124.17000000000002},{"$f":"IF(Chegadas!K156=\"I\",Atendimento!E163,Atendimento!L163)","v":14.952193063966085},"*",132.76972408768879,"*",125.04551813137221,"*",129.79558728516938,"*",129.18633628597999,"*",130.19637226789177,"*",134.57740250077501,"*",129.28754015216293,"*",127.7943381387928,124.17000000000002,139.12219306396611,"-",126.12001507145766,"-",120.32703741006713,"-",122.90333969239128,"-",122.11663996330994,"-",34.388240562009656,"-",29.236023829000793,"-",33.045125393740342,"-",32.02721881559642,"-",32.217563507182206,"-",36.406016086434107,"-",0]
[null,149,{"$f":"Chegadas!J157","v":125.59000000000002},{"$f":"IF(Chegadas!K157=\"I\",Atendimento!E164,Atendimento!L164)","v":9.1498306202099258},"*",132.76972408768879,125.59000000000002,134.73983062020994,"-",129.79558728516938,"-",{"$f":"IF(OR(K156=\"-\",K156=\"*\"),L155,K156+$D156)","v":129.18633628597999},"-",{"$f":"IF(OR(M156=\"-\",M156=\"*\"),N155,M156+$D156)","v":130.19637226789177},"-",{"$f":"IF(OR(O156=\"-\",O156=\"*\"),P155,O156+$D156)","v":134.57740250077501},"-",{"$f":"IF(OR(Q156=\"-\",Q156=\"*\"),R155,Q156+$D156)","v":129.28754015216293},"-",{"$f":"IF(OR(S156=\"-\",S156=\"*\"),T155,S156+$D156)","v":127.7943381387928},"-",{"$f":"IF(OR(U156=\"-\",U156=\"*\"),V155,U156+$D156)","v":139.12219306396611},"-",{"$f":"IF(OR(W156=\"-\",W156=\"*\"),X155,W156+$D156)","v":126.12001507145766},"-",120.32703741006713,"-",122.90333969239128,"-",122.11663996330994,"-",34.388240562009656,"-",29.236023829000793,"-",33.045125393740342,"-",32.02721881559642,"-",32.217563507182206,"-",36.406016086434107,"-",0]
[null,150,{"$f":"Chegadas!J158","v":126.12000000000002},{"$f":"IF(Chegadas!K158=\"I\",Atendimento!E165,Atendimento!L165)","v":9.9584662697485822},"*",132.76972408768879,"*",134.73983062020994,"*",129.79558728516938,"*",129.18633628597999,"*",130.19637226789177,"*",134.57740250077501,"*",129.28754015216293,"*",127.7943381387928,"*",139.12219306396611,"*",126.12001507145766,126.12000000000002,136.07846626974859,"-",122.90333969239128,"-",122.11663996330994,"-",34.388240562009656,"-",29.236023829000793,"-",33.045125393740342,"-",32.02721881559642,"-",32.217563507182206,"-",36.406016086434107,"-",0]
[null,151,{"$f":"Chegadas!J159","v":127.78000000000002},{"$f":"IF(Chegadas!K159=\"I\",Atendimento!E166,Atendimento!L166)","v":5.5473571124999514},"*",132.76972408768879,"*",134.73983062020994,"*",129.79558728516938,"*",129.18633628597999,"*",130.19637226789177,"*",134.57740250077501,"*",129.28754015216293,"*",127.7943381387928,"*",139.12219306396611,127.78000000000002,133.32735711249995,"-",136.07846626974859,"-",122.90333969239128,"-",122.11663996330994,"-",34.388240562009656,"-",29.236023829000793,"-",33.045125393740342,"-",32.02721881559642,"-",32.217563507182206,"-",36.406016086434107,"-",0]
[null,152,{"$f":"Chegadas!J160","v":128.00000000000003},{"$f":"IF(Chegadas!K160=\"I\",Atendimento!E167,Atendimento!L167)","v":9.9877782099254908},"*",132.76972408768879,"*",134.73983062020994,"*",129.79558728516938,"*",129.18633628597999,"*",130.19637226789177,"*",134.57740250077501,"*",129.28754015216293,128.00000000000003,137.98777820992552,"-",139.12219306396611,"-",133.32735711249995,"-",136.07846626974859,"-",122.90333969239128,"-",122.11663996330994,"-",34.388240562009656,"-",29.236023829000793,"-",33.045125393740342,"-",32.02721881559642,"-",32.217563507182206,"-",36.406016086434107,"-",0]
[null,153,{"$f":"Chegadas!J161","v":128.43000000000004},{"$f":"IF(Chegadas!K161=\"I\",Atendimento!E168,Atendimento!L168)","v":8.4006094428453491},"*",132.76972408768879,"*",134.73983062020994,"*",129.79558728516938,"*",129.18633628597999,"*",130.19637226789177,"*",134.57740250077501,"*",129.28754015216293,"*",137.98777820992552,"*",139.12219306396611,"*",133.32735711249995,"*",136.07846626974859,128.43000000000004,136.83060944284537,"-",122.11663996330994,"-",34.388240562009656,"-",29.236023829000793,"-",33.045125393740342,"-",32.02721881559642,"-",32.217563507182206,"-",36.406016086434107,"-",0]
[null,154,{"$f":"Chegadas!J162","v":128.96000000000004},{"$f":"IF(Chegadas!K162=\"I\",Atendimento!E169,Atendimento!L169)","v":11.708874464240385},"*",132.76972408768879,"*",134.73983062020994,"*",129.79558728516938,"*",129.18633628597999,"*",130.19637226789177,"*",134.57740250077501,"*",129.28754015216293,"*",137.98777820992552,"*",139.12219306396611,"*",133.32735711249995,"*",136.07846626974859,"*",136.83060944284537,128.96000000000004,140.66887446424042,"-",34.388240562009656,"-",29.236023829000793,"-",33.045125393740342,"-",32.02721881559642,"-",32.217563507182206,"-",36.406016086434107,"-",0]
[null,155,{"$f":"Chegadas!J163","v":130.04000000000005},{"$f":"IF(Chegadas!K163=\"I\",Atendimento!E170,Atendimento!L170)","v":5.6094348843254727},"*",132.76972408768879,"*",134.73983062020994,130.04000000000005,135.64943488432553,"-",129.18633628597999,"-",130.19637226789177,"-",134.57740250077501,"-",129.28754015216293,"-",137.98777820992552,"-",139.12219306396611,"-",133.32735711249995,"-",136.07846626974859,"-",136.83060944284537,"-",140.66887446424042,"-",34.388240562009656,"-",29.236023829000793,"-",33.045125393740342,"-",32.02721881559642,"-",32.217563507182206,"-",36.406016086434107,"-",0]
[null,156,{"$f":"Chegadas!J164","v":132.47000000000006},{"$f":"IF(Chegadas!K164=\"I\",Atendimento!E171,Atendimento!L171)","v":9.2208611646728009},"*",132.76972408768879,"*",134.73983062020994,"*",135.64943488432553,132.47000000000006,141.69086116467287,"-",130.19637226789177,"-",134.57740250077501,"-",129.28754015216293,"-",137.98777820992552,"-",139.12219306396611,"-",133.32735711249995,"-",136.07846626974859,"-",136.83060944284537,"-",140.66887446424042,"-",34.388240562009656,"-",29.236023829000793,"-",33.045125393740342,"-",32.02721881559642,"-",32.217563507182206,"-",36.406016086434107,"-",0]
[null,157,{"$f":"Chegadas!J165","v":132.85000000000005},{"$f":"IF(Chegadas!K165=\"I\",Atendimento!E172,Atendimento!L172)","v":3.8710067946381423},132.85000000000005,136.72100679463819,"-",134.73983062020994,"-",135.64943488432553,"-",141.69086116467287,"-",130.19637226789177,"-",134.57740250077501,"-",129.28754015216293,"-",137.98777820992552,"-",139.12219306396611,"-",133.32735711249995,"-",136.07846626974859,"-",136.83060944284537,"-",140.66887446424042,"-",34.388240562009656,"-",29.236023829000793,"-",33.045125393740342,"-",32.02721881559642,"-",32.217563507182206,"-",36.406016086434107,"-",0]
[null,158,{"$f":"Chegadas!J166","v":133.51000000000005},{"$f":"IF(Chegadas!K166=\"I\",Atendimento!E173,Atendimento!L173)","v":6.8456405581889186},"*",136.72100679463819,"*",134.73983062020994,"*",135.64943488432553,"*",141.69086116467287,133.51000000000005,140.35564055818895,"-",134.57740250077501,"-",129.28754015216293,"-",137.98777820992552,"-",139.12219306396611,"-",133.32735711249995,"-",136.07846626974859,"-",136.83060944284537,"-",140.66887446424042,"-",34.388240562009656,"-",29.236023829000793,"-",33.045125393740342,"-",32.02721881559642,"-",32.217563507182206,"-",36.406016086434107,"-",0]
[null,159,{"$f":"Chegadas!J167","v":134.22999999999999},{"$f":"IF(Chegadas!K167=\"I\",Atendimento!E174,Atendimento!L174)","v":1.2322969898300555},"*",136.72100679463819,"*",134.73983062020994,"*",135.64943488432553,"*",141.69086116467287,"*",140.35564055818895,"*",134.57740250077501,134.22999999999999,135.46229698983004,"-",137.98777820992552,"-",139.12219306396611,"-",133.32735711249995,"-",136.07846626974859,"-",136.83060944284537,"-",140.66887446424042,"-",34.388240562009656,"-",29.236023829000793,"-",33.045125393740342,"-",32.02721881559642,"-",32.217563507182206,"-",36.406016086434107,"-",0]
[null,160,{"$f":"Chegadas!J168","v":135.90000000000003},{"$f":"IF(Chegadas!K168=\"I\",Atendimento!E175,Atendimento!L175)","v":5.9804484030827867},"*",136.72100679463819,135.90000000000003,141.88044840308282,"-",135.64943488432553,"-",141.69086116467287,"-",140.35564055818895,"-",134.57740250077501,"-",135.46229698983004,"-",137.98777820992552,"-",139.12219306396611,"-",133.32735711249995,"-",136.07846626974859,"-",136.83060944284537,"-",140.66887446424042,"-",34.388240562009656,"-",29.236023829000793,"-",33.045125393740342,"-",32.02721881559642,"-",32.217563507182206,"-",36.406016086434107,"-",0]
[null,161,{"$f":"Chegadas!J169","v":136.16},{"$f":"IF(Chegadas!K169=\"I\",Atendimento!E176,Atendimento!L176)","v":0.79173086834609729},"*",136.72100679463819,"*",141.88044840308282,136.16,136.95173086834609,"-",141.69086116467287,"-",140.35564055818895,"-",134.57740250077501,"-",135.46229698983004,"-",137.98777820992552,"-",139.12219306396611,"-",133.32735711249995,"-",136.07846626974859,"-",136.83060944284537,"-",140.66887446424042,"-",34.388240562009656,"-",29.236023829000793,"-",33.045125393740342,"-",32.02721881559642,"-",32.217563507182206,"-",36.406016086434107,"-",0]
[null,162,{"$f":"Chegadas!J170","v":137.42000000000004},{"$f":"IF(Chegadas!K170=\"I\",Atendimento!E177,Atendimento!L177)","v":9.244009880788985},137.42000000000004,146.66400988078902,"-",141.88044840308282,"-",136.95173086834609,"-",141.69086116467287,"-",140.35564055818895,"-",134.57740250077501,"-",135.46229698983004,"-",137.98777820992552,"-",139.12219306396611,"-",133.32735711249995,"-",136.07846626974859,"-",136.83060944284537,"-",140.66887446424042,"-",34.388240562009656,"-",29.236023829000793,"-",33.045125393740342,"-",32.02721881559642,"-",32.217563507182206,"-",36.406016086434107,"-",0]
[null,163,{"$f":"Chegadas!J171","v":139.57000000000005},{"$f":"IF(Chegadas!K171=\"I\",Atendimento!E178,Atendimento!L178)","v":14.248969452521342},"*",146.66400988078902,"*",141.88044840308282,139.57000000000005,153.8189694525214,"-",141.69086116467287,"-",140.35564055818895,"-",134.57740250077501,"-",135.46229698983004,"-",137.98777820992552,"-",139.12219306396611,"-",133.32735711249995,"-",136.07846626974859,"-",136.83060944284537,"-",140.66887446424042,"-",34.388240562009656,"-",29.236023829000793,"-",33.045125393740342,"-",32.02721881559642,"-",32.217563507182206,"-",36.406016086434107,"-",0]
[null,164,{"$f":"Chegadas!J172","v":141.35000000000005},{"$f":"IF(Chegadas!K172=\"I\",Atendimento!E179,Atendimento!L179)","v":4.1742776233891945},"*",146.66400988078902,"*",141.88044840308282,"*",153.8189694525214,"*",141.69086116467287,141.35000000000005,145.52427762338925,"-",134.57740250077501,"-",135.46229698983004,"-",137.98777820992552,"-",139.12219306396611,"-",133.32735711249995,"-",136.07846626974859,"-",136.83060944284537,"-",140.66887446424042,"-",34.388240562009656,"-",29.236023829000793,"-",33.045125393740342,"-",32.02721881559642,"-",32.217563507182206,"-",36.406016086434107,"-",0]
[null,165,{"$f":"Chegadas!J173","v":141.93000000000006},{"$f":"IF(Chegadas!K173=\"I\",Atendimento!E180,Atendimento!L180)","v":5.8914107979795416},"*",146.66400988078902,141.93000000000006,147.82141079797961,"-",153.8189694525214,"-",141.69086116467287,"-",145.52427762338925,"-",134.57740250077501,"-",135.46229698983004,"-",137.98777820992552,"-",139.12219306396611,"-",133.32735711249995,"-",136.07846626974859,"-",136.83060944284537,"-",140.66887446424042,"-",34.388240562009656,"-",29.236023829000793,"-",33.045125393740342,"-",32.02721881559642,"-",32.217563507182206,"-",36.406016086434107,"-",0]
[null,166,{"$f":"Chegadas!J174","v":142.82000000000005},{"$f":"IF(Chegadas!K174=\"I\",Atendimento!E181,Atendimento!L181)","v":9.6884596421898745},"*",146.66400988078902,"*",147.82141079797961,"*",153.8189694525214,142.82000000000005,152.50845964218993,"-",145.52427762338925,"-",134.57740250077501,"-",135.46229698983004,"-",137.98777820992552,"-",139.12219306396611,"-",133.32735711249995,"-",136.07846626974859,"-",136.83060944284537,"-",140.66887446424042,"-",34.388240562009656,"-",29.236023829000793,"-",33.045125393740342,"-",32.02721881559642,"-",32.217563507182206,"-",36.406016086434107,"-",0]
[null,167,{"$f":"Chegadas!J175","v":142.84000000000006},{"$f":"IF(Chegadas!K175=\"I\",Atendimento!E182,Atendimento!L182)","v":15.947682695841905},"*",146.66400988078902,"*",147.82141079797961,"*",153.8189694525214,"*",152.50845964218993,"*",145.52427762338925,142.84000000000006,158.78768269584197,"-",135.46229698983004,"-",137.98777820992552,"-",139.12219306396611,"-",133.32735711249995,"-",136.07846626974859,"-",136.83060944284537,"-",140.66887446424042,"-",34.388240562009656,"-",29.236023829000793,"-",33.045125393740342,"-",32.02721881559642,"-",32.217563507182206,"-",36.406016086434107,"-",0]
[null,168,{"$f":"Chegadas!J176","v":145.00000000000006},{"$f":"IF(Chegadas!K176=\"I\",Atendimento!E183,Atendimento!L183)","v":2.0928782470624601},"*",146.66400988078902,"*",147.82141079797961,"*",153.8189694525214,"*",152.50845964218993,"*",145.52427762338925,"*",158.78768269584197,145.00000000000006,147.09287824706252,"-",137.98777820992552,"-",139.12219306396611,"-",133.32735711249995,"-",136.07846626974859,"-",136.83060944284537,"-",140.66887446424042,"-",34.388240562009656,"-",29.236023829000793,"-",33.045125393740342,"-",32.02721881559642,"-",32.217563507182206,"-",36.406016086434107,"-",0]
[null,169,{"$f":"Chegadas!J177","v":145.17000000000004},{"$f":"IF(Chegadas!K177=\"I\",Atendimento!E184,Atendimento!L184)","v":4.2568472157158297},"*",146.66400988078902,"*",147.82141079797961,"*",153.8189694525214,"*",152.50845964218993,"*",145.52427762338925,"*",158.78768269584197,"*",147.09287824706252,145.17000000000004,149.42684721571587,"-",139.12219306396611,"-",133.32735711249995,"-",136.07846626974859,"-",136.83060944284537,"-",140.66887446424042,"-",34.388240562009656,"-",29.236023829000793,"-",33.045125393740342,"-",32.02721881559642,"-",32.217563507182206,"-",36.406016086434107,"-",0]
[null,170,{"$f":"Chegadas!J178","v":145.46000000000004},{"$f":"IF(Chegadas!K178=\"I\",Atendimento!E185,Atendimento!L185)","v":3.2142144944279818},"*",146.66400988078902,"*",147.82141079797961,"*",153.8189694525214,"*",152.50845964218993,"*",145.52427762338925,"*",158.78768269584197,"*",147.09287824706252,"*",149.42684721571587,145.46000000000004,148.67421449442801,"-",133.32735711249995,"-",136.07846626974859,"-",136.83060944284537,"-",140.66887446424042,"-",34.388240562009656,"-",29.236023829000793,"-",33.045125393740342,"-",32.02721881559642,"-",32.217563507182206,"-",36.406016086434107,"-",0]
[null,171,{"$f":"Chegadas!J179","v":146.94000000000003},{"$f":"IF(Chegadas!K179=\"I\",Atendimento!E186,Atendimento!L186)","v":7.1484370320129758},146.94000000000003,154.08843703201299,"-",147.82141079797961,"-",153.8189694525214,"-",152.50845964218993,"-",145.52427762338925,"-",158.78768269584197,"-",147.09287824706252,"-",149.42684721571587,"-",148.67421449442801,"-",133.32735711249995,"-",136.07846626974859,"-",136.83060944284537,"-",140.66887446424042,"-",34.388240562009656,"-",29.236023829000793,"-",33.045125393740342,"-",32.02721881559642,"-",32.217563507182206,"-",36.406016086434107,"-",0]
[null,172,{"$f":"Chegadas!J180","v":147.31000000000003},{"$f":"IF(Chegadas!K180=\"I\",Atendimento!E187,Atendimento!L187)","v":12.836460668641291},"*",154.08843703201299,"*",147.82141079797961,"*",153.8189694525214,"*",152.50845964218993,147.31000000000003,160.14646066864131,"-",158.78768269584197,"-",147.09287824706252,"-",149.42684721571587,"-",148.67421449442801,"-",133.32735711249995,"-",136.07846626974859,"-",136.83060944284537,"-",140.66887446424042,"-",34.388240562009656,"-",29.236023829000793,"-",33.045125393740342,"-",32.02721881559642,"-",32.217563507182206,"-",36.406016086434107,"-",0]
[null,173,{"$f":"Chegadas!J181","v":148.9},{"$f":"IF(Chegadas!K181=\"I\",Atendimento!E188,Atendimento!L188)","v":1.3220562097924167},"*",154.08843703201299,148.9,150.22205620979241,"-",153.8189694525214,"-",152.50845964218993,"-",160.14646066864131,"-",158.78768269584197,"-",147.09287824706252,"-",149.42684721571587,"-",148.67421449442801,"-",133.32735711249995,"-",136.07846626974859,"-",136.83060944284537,"-",140.66887446424042,"-",34.388240562009656,"-",29.236023829000793,"-",33.045125393740342,"-",32.02721881559642,"-",32.217563507182206,"-",36.406016086434107,"-",0]
[null,174,{"$f":"Chegadas!J182","v":149.39000000000004},{"$f":"IF(Chegadas!K182=\"I\",Atendimento!E189,Atendimento!L189)","v":8.5911320886909159},"*",154.08843703201299,"*",150.22205620979241,"*",153.8189694525214,"*",152.50845964218993,"*",160.14646066864131,"*",158.78768269584197,149.39000000000004,157.98113208869097,"-",149.42684721571587,"-",148.67421449442801,"-",133.32735711249995,"-",136.07846626974859,"-",136.83060944284537,"-",140.66887446424042,"-",34.388240562009656,"-",29.236023829000793,"-",33.045125393740342,"-",32.02721881559642,"-",32.217563507182206,"-",36.406016086434107,"-",0]
[null,175,{"$f":"Chegadas!J183","v":149.49000000000004},{"$f":"IF(Chegadas!K183=\"I\",Atendimento!E190,Atendimento!L190)","v":8.3420236442818769},"*",154.08843703201299,"*",150.22205620979241,"*",153.8189694525214,"*",152.50845964218993,"*",160.14646066864131,"*",158.78768269584197,"*",157.98113208869097,149.49000000000004,157.83202364428192,"-",148.67421449442801,"-",133.32735711249995,"-",136.07846626974859,"-",136.83060944284537,"-",140.66887446424042,"-",34.388240562009656,"-",29.236023829000793,"-",33.045125393740342,"-",32.02721881559642,"-",32.217563507182206,"-",36.406016086434107,"-",0]
[null,176,{"$f":"Chegadas!J184","v":149.78000000000003},{"$f":"IF(Chegadas!K184=\"I\",Atendimento!E191,Atendimento!L191)","v":7.9866563442263203},"*",154.08843703201299,"*",150.22205620979241,"*",153.8189694525214,"*",152.50845964218993,"*",160.14646066864131,"*",158.78768269584197,"*",157.98113208869097,"*",157.83202364428192,149.78000000000003,157.76665634422636,"-",133.32735711249995,"-",136.07846626974859,"-",136.83060944284537,"-",140.66887446424042,"-",34.388240562009656,"-",29.236023829000793,"-",33.045125393740342,"-",32.02721881559642,"-",32.217563507182206,"-",36.406016086434107,"-",0]
[null,177,{"$f":"Chegadas!J185","v":150.38000000000002},{"$f":"IF(Chegadas!K185=\"I\",Atendimento!E192,Atendimento!L192)","v":5.2160824068413385},"*",154.08843703201299,150.38000000000002,155.59608240684136,"-",153.8189694525214,"-",152.50845964218993,"-",160.14646066864131,"-",158.78768269584197,"-",157.98113208869097,"-",157.83202364428192,"-",157.76665634422636,"-",133.32735711249995,"-",136.07846626974859,"-",136.83060944284537,"-",140.66887446424042,"-",34.388240562009656,"-",29.236023829000793,"-",33.045125393740342,"-",32.02721881559642,"-",32.217563507182206,"-",36.406016086434107,"-",0]
[null,178,{"$f":"Chegadas!J186","v":151.37000000000003},{"$f":"IF(Chegadas!K186=\"I\",Atendimento!E193,Atendimento!L193)","v":10.028390400659115},"*",154.08843703201299,"*",155.59608240684136,"*",153.8189694525214,"*",152.50845964218993,"*",160.14646066864131,"*",158.78768269584197,"*",157.98113208869097,"*",157.83202364428192,"*",157.76665634422636,151.37000000000003,161.39839040065914,"-",136.07846626974859,"-",136.83060944284537,"-",140.66887446424042,"-",34.388240562009656,"-",29.236023829000793,"-",33.045125393740342,"-",32.02721881559642,"-",32.217563507182206,"-",36.406016086434107,"-",0]
[null,179,{"$f":"Chegadas!J187","v":151.90000000000003},{"$f":"IF(Chegadas!K187=\"I\",Atendimento!E194,Atendimento!L194)","v":4.2377841201936679},"*",154.08843703201299,"*",155.59608240684136,"*",153.8189694525214,"*",152.50845964218993,"*",160.14646066864131,"*",158.78768269584197,"*",157.98113208869097,"*",157.83202364428192,"*",157.76665634422636,"*",161.39839040065914,151.90000000000003,156.13778412019371,"-",136.83060944284537,"-",140.66887446424042,"-",34.388240562009656,"-",29.236023829000793,"-",33.045125393740342,"-",32.02721881559642,"-",32.217563507182206,"-",36.406016086434107,"-",0]
[null,180,{"$f":"Chegadas!J188","v":156.06000000000003},{"$f":"IF(Chegadas!K188=\"I\",Atendimento!E195,Atendimento!L195)","v":9.5532318027183489},156.06000000000003,165.61323180271839,"-",155.59608240684136,"-",153.8189694525214,"-",152.50845964218993,"-",160.14646066864131,"-",158.78768269584197,"-",157.98113208869097,"-",157.83202364428192,"-",157.76665634422636,"-",161.39839040065914,"-",156.13778412019371,"-",136.83060944284537,"-",140.66887446424042,"-",34.388240562009656,"-",29.236023829000793,"-",33.045125393740342,"-",32.02721881559642,"-",32.217563507182206,"-",36.406016086434107,"-",0]
[null,181,{"$f":"Chegadas!J189","v":156.39000000000004},{"$f":"IF(Chegadas!K189=\"I\",Atendimento!E196,Atendimento!L196)","v":6.4175502672912002},"*",165.61323180271839,156.39000000000004,162.80755026729125,"-",153.8189694525214,"-",152.50845964218993,"-",160.14646066864131,"-",158.78768269584197,"-",157.98113208869097,"-",157.83202364428192,"-",157.76665634422636,"-",161.39839040065914,"-",156.13778412019371,"-",136.83060944284537,"-",140.66887446424042,"-",34.388240562009656,"-",29.236023829000793,"-",33.045125393740342,"-",32.02721881559642,"-",32.217563507182206,"-",36.406016086434107,"-",0]
[null,182,{"$f":"Chegadas!J190","v":156.71000000000004},{"$f":"IF(Chegadas!K190=\"I\",Atendimento!E197,Atendimento!L197)","v":2.0671635188706623},"*",165.61323180271839,"*",162.80755026729125,156.71000000000004,158.77716351887071,"-",152.50845964218993,"-",160.14646066864131,"-",158.78768269584197,"-",157.98113208869097,"-",157.83202364428192,"-",157.76665634422636,"-",161.39839040065914,"-",156.13778412019371,"-",136.83060944284537,"-",140.66887446424042,"-",34.388240562009656,"-",29.236023829000793,"-",33.045125393740342,"-",32.02721881559642,"-",32.217563507182206,"-",36.406016086434107,"-",0]
[null,183,{"$f":"Chegadas!J191","v":157.08000000000001},{"$f":"IF(Chegadas!K191=\"I\",Atendimento!E198,Atendimento!L198)","v":1.3302711166546237},"*",165.61323180271839,"*",162.80755026729125,"*",158.77716351887071,157.08000000000001,158.41027111665463,"-",160.14646066864131,"-",158.78768269584197,"-",157.98113208869097,"-",157.83202364428192,"-",157.76665634422636,"-",161.39839040065914,"-",156.13778412019371,"-",136.83060944284537,"-",140.66887446424042,"-",34.388240562009656,"-",29.236023829000793,"-",33.045125393740342,"-",32.02721881559642,"-",32.217563507182206,"-",36.406016086434107,"-",0]
[null,184,{"$f":"Chegadas!J192","v":157.84000000000003},{"$f":"IF(Chegadas!K192=\"I\",Atendimento!E199,Atendimento!L199)","v":14.688782448738813},"*",165.61323180271839,"*",162.80755026729125,"*",158.77716351887071,"*",158.41027111665463,"*",160.14646066864131,"*",158.78768269584197,"*",157.98113208869097,157.84000000000003,172.52878244873884,"-",157.76665634422636,"-",161.39839040065914,"-",156.13778412019371,"-",136.83060944284537,"-",140.66887446424042,"-",34.388240562009656,"-",29.236023829000793,"-",33.045125393740342,"-",32.02721881559642,"-",32.217563507182206,"-",36.406016086434107,"-",0]
[null,185,{"$f":"Chegadas!J193","v":159.32000000000002},{"$f":"IF(Chegadas!K193=\"I\",Atendimento!E200,Atendimento!L200)","v":5.5668662051137305},"*",165.61323180271839,"*",162.80755026729125,159.32000000000002,164.88686620511376,"-",158.41027111665463,"-",160.14646066864131,"-",158.78768269584197,"-",157.98113208869097,"-",172.52878244873884,"-",157.76665634422636,"-",161.39839040065914,"-",156.13778412019371,"-",136.83060944284537,"-",140.66887446424042,"-",34.388240562009656,"-",29.236023829000793,"-",33.045125393740342,"-",32.02721881559642,"-",32.217563507182206,"-",36.406016086434107,"-",0]
[null,186,{"$f":"Chegadas!J194","v":160.20000000000002},{"$f":"IF(Chegadas!K194=\"I\",Atendimento!E201,Atendimento!L201)","v":9.035318831075525},"*",165.61323180271839,"*",162.80755026729125,"*",164.88686620511376,160.20000000000002,169.23531883107555,"-",160.14646066864131,"-",158.78768269584197,"-",157.98113208869097,"-",172.52878244873884,"-",157.76665634422636,"-",161.39839040065914,"-",156.13778412019371,"-",136.83060944284537,"-",140.66887446424042,"-",34.388240562009656,"-",29.236023829000793,"-",33.045125393740342,"-",32.02721881559642,"-",32.217563507182206,"-",36.406016086434107,"-",0]
[null,187,{"$f":"Chegadas!J195","v":160.60000000000002},{"$f":"IF(Chegadas!K195=\"I\",Atendimento!E202,Atendimento!L202)","v":11.311529010267773},"*",165.61323180271839,"*",162.80755026729125,"*",164.88686620511376,"*",169.23531883107555,160.60000000000002,171.9115290102678,"-",158.78768269584197,"-",157.98113208869097,"-",172.52878244873884,"-",157.76665634422636,"-",161.39839040065914,"-",156.13778412019371,"-",136.83060944284537,"-",140.66887446424042,"-",34.388240562009656,"-",29.236023829000793,"-",33.045125393740342,"-",32.02721881559642,"-",32.217563507182206,"-",36.406016086434107,"-",0]
[null,188,{"$f":"Chegadas!J196","v":161.74},{"$f":"IF(Chegadas!K196=\"I\",Atendimento!E203,Atendimento!L203)","v":6.6338297727132378},"*",165.61323180271839,"*",162.80755026729125,"*",164.88686620511376,"*",169.23531883107555,"*",171.9115290102678,161.74,168.37382977271324,"-",157.98113208869097,"-",172.52878244873884,"-",157.76665634422636,"-",161.39839040065914,"-",156.13778412019371,"-",136.83060944284537,"-",140.66887446424042,"-",34.388240562009656,"-",29.236023829000793,"-",33.045125393740342,"-",32.02721881559642,"-",32.217563507182206,"-",36.406016086434107,"-",0]
[null,189,{"$f":"Chegadas!J197","v":162.08000000000001},{"$f":"IF(Chegadas!K197=\"I\",Atendimento!E204,Atendimento!L204)","v":8.555559960191383},"*",165.61323180271839,"*",162.80755026729125,"*",164.88686620511376,"*",169.23531883107555,"*",171.9115290102678,"*",168.37382977271324,162.08000000000001,170.63555996019139,"-",172.52878244873884,"-",157.76665634422636,"-",161.39839040065914,"-",156.13778412019371,"-",136.83060944284537,"-",140.66887446424042,"-",34.388240562009656,"-",29.236023829000793,"-",33.045125393740342,"-",32.02721881559642,"-",32.217563507182206,"-",36.406016086434107,"-",0]
[null,190,{"$f":"Chegadas!J198","v":162.25},{"$f":"IF(Chegadas!K198=\"I\",Atendimento!E205,Atendimento!L205)","v":9.3499945769298769},"*",165.61323180271839,"*",162.80755026729125,"*",164.88686620511376,"*",169.23531883107555,"*",171.9115290102678,"*",168.37382977271324,"*",170.63555996019139,"*",172.52878244873884,162.25,171.59999457692987,"-",161.39839040065914,"-",156.13778412019371,"-",136.83060944284537,"-",140.66887446424042,"-",34.388240562009656,"-",29.236023829000793,"-",33.045125393740342,"-",32.02721881559642,"-",32.217563507182206,"-",36.406016086434107,"-",0]
[null,191,{"$f":"Chegadas!J199","v":163.34},{"$f":"IF(Chegadas!K199=\"I\",Atendimento!E206,Atendimento!L206)","v":2.05462370249231},"*",165.61323180271839,163.34,165.39462370249231,"-",164.88686620511376,"-",169.23531883107555,"-",171.9115290102678,"-",168.37382977271324,"-",170.63555996019139,"-",172.52878244873884,"-",171.59999457692987,"-",161.39839040065914,"-",156.13778412019371,"-",136.83060944284537,"-",140.66887446424042,"-",34.388240562009656,"-",29.236023829000793,"-",33.045125393740342,"-",32.02721881559642,"-",32.217563507182206,"-",36.406016086434107,"-",0]
[null,192,{"$f":"Chegadas!J200","v":163.46},{"$f":"IF(Chegadas!K200=\"I\",Atendimento!E207,Atendimento!L207)","v":8.494796495209668},"*",165.61323180271839,"*",165.39462370249231,"*",164.88686620511376,"*",169.23531883107555,"*",171.9115290102678,"*",168.37382977271324,"*",170.63555996019139,"*",172.52878244873884,"*",171.59999457692987,163.46,171.95479649520968,"-",156.13778412019371,"-",136.83060944284537,"-",140.66887446424042,"-",34.388240562009656,"-",29.236023829000793,"-",33.045125393740342,"-",32.02721881559642,"-",32.217563507182206,"-",36.406016086434107,"-",0]
[null,193,{"$f":"Chegadas!J201","v":165.48000000000002},{"$f":"IF(Chegadas!K201=\"I\",Atendimento!E208,Atendimento!L208)","v":7.8871289381873542},"*",165.61323180271839,165.48000000000002,173.36712893818736,"-",164.88686620511376,"-",169.23531883107555,"-",171.9115290102678,"-",168.37382977271324,"-",170.63555996019139,"-",172.52878244873884,"-",171.59999457692987,"-",171.95479649520968,"-",156.13778412019371,"-",136.83060944284537,"-",140.66887446424042,"-",34.388240562009656,"-",29.236023829000793,"-",33.045125393740342,"-",32.02721881559642,"-",32.217563507182206,"-",36.406016086434107,"-",0]
[null,194,{"$f":"Chegadas!J202","v":165.52},{"$f":"IF(Chegadas!K202=\"I\",Atendimento!E209,Atendimento!L209)","v":3.4677140076713493},"*",165.61323180271839,{"$f":"IF(E201<>\"*\",\"-\",IF($C201>=H200,$C201,\"*\"))","v":"*"},173.36712893818736,{"$f":"IF(G201<>\"*\",\"-\",IF($C201>=J200,$C201,\"*\"))","v":165.52},168.98771400767137,{"$f":"IF(I201<>\"*\",\"-\",IF($C201>=L200,$C201,\"*\"))","v":"-"},169.23531883107555,{"$f":"IF(K201<>\"*\",\"-\",IF($C201>=N200,$C201,\"*\"))","v":"-"},171.9115290102678,{"$f":"IF(M201<>\"*\",\"-\",IF($C201>=P200,$C201,\"*\"))","v":"-"},168.37382977271324,{"$f":"IF(O201<>\"*\",\"-\",IF($C201>=R200,$C201,\"*\"))","v":"-"},170.63555996019139,{"$f":"IF(Q201<>\"*\",\"-\",IF($C201>=T200,$C201,\"*\"))","v":"-"},172.52878244873884,{"$f":"IF(S201<>\"*\",\"-\",IF($C201>=V200,$C201,\"*\"))","v":"-"},171.59999457692987,{"$f":"IF(U201<>\"*\",\"-\",IF($C201>=X200,$C201,\"*\"))","v":"-"},171.95479649520968,{"$f":"IF(W201<>\"*\",\"-\",IF($C201>=Z200,$C201,\"*\"))","v":"-"},156.13778412019371,{"$f":"IF(Y201<>\"*\",\"-\",IF($C201>=AB200,$C201,\"*\"))","v":"-"},136.83060944284537,{"$f":"IF(AA201<>\"*\",\"-\",IF($C201>=AD200,$C201,\"*\"))","v":"-"},140.66887446424042,{"$f":"IF(AC201<>\"*\",\"-\",IF($C201>=AF200,$C201,\"*\"))","v":"-"},34.388240562009656,{"$f":"IF(AE201<>\"*\",\"-\",IF($C201>=AH200,$C201,\"*\"))","v":"-"},29.236023829000793,{"$f":"IF(AG201<>\"*\",\"-\",IF($C201>=AJ200,$C201,\"*\"))","v":"-"},33.045125393740342,{"$f":"IF(AI201<>\"*\",\"-\",IF($C201>=AL200,$C201,\"*\"))","v":"-"},32.02721881559642,{"$f":"IF(AK201<>\"*\",\"-\",IF($C201>=AN200,$C201,\"*\"))","v":"-"},32.217563507182206,{"$f":"IF(AM201<>\"*\",\"-\",IF($C201>=AP200,$C201,\"*\"))","v":"-"},36.406016086434107,{"$f":"IF(AO201<>\"*\",\"-\",IF($C201>=AR200,$C201,\"*\"))","v":"-"},0]
[null,195,{"$f":"Chegadas!J203","v":167.12},{"$f":"IF(Chegadas!K203=\"I\",Atendimento!E210,Atendimento!L210)","v":8.0508209476425847},{"$f":"IF($C202>F201,$C202,\"*\")","v":167.12},{"$f":"IF(E202=\"*\",F201,E202+$D202)","v":175.1708209476426},"-",{"$f":"IF(OR(G202=\"-\",G202=\"*\"),H201,G202+$D202)","v":173.36712893818736},"-",{"$f":"IF(OR(I202=\"-\",I202=\"*\"),J201,I202+$D202)","v":168.98771400767137},"-",169.23531883107555,"-",171.9115290102678,"-",168.37382977271324,"-",170.63555996019139,"-",172.52878244873884,"-",171.59999457692987,"-",171.95479649520968,"-",156.13778412019371,"-",136.83060944284537,"-",140.66887446424042,"-",34.388240562009656,"-",29.236023829000793,"-",33.045125393740342,"-",32.02721881559642,"-",32.217563507182206,"-",36.406016086434107,"-",0]
[null,196,{"$f":"Chegadas!J204","v":169.48000000000002},{"$f":"IF(Chegadas!K204=\"I\",Atendimento!E211,Atendimento!L211)","v":12.058278815549162},"*",175.1708209476426,"*",173.36712893818736,169.48000000000002,181.53827881554918,"-",169.23531883107555,"-",171.9115290102678,"-",168.37382977271324,"-",170.63555996019139,"-",172.52878244873884,"-",171.59999457692987,"-",171.95479649520968,"-",156.13778412019371,"-",136.83060944284537,"-",140.66887446424042,"-",34.388240562009656,"-",29.236023829000793,"-",33.045125393740342,"-",32.02721881559642,"-",32.217563507182206,"-",36.406016086434107,"-",0]
[null,197,{"$f":"Chegadas!J205","v":172.23000000000002},{"$f":"IF(Chegadas!K205=\"I\",Atendimento!E212,Atendimento!L212)","v":0.93332827321092127},"*",175.1708209476426,"*",173.36712893818736,"*",181.53827881554918,172.23000000000002,173.16332827321094,"-",171.9115290102678,"-",168.37382977271324,"-",170.63555996019139,"-",172.52878244873884,"-",171.59999457692987,"-",171.95479649520968,"-",156.13778412019371,"-",136.83060944284537,"-",140.66887446424042,"-",34.388240562009656,"-",29.236023829000793,"-",33.045125393740342,"-",32.02721881559642,"-",32.217563507182206,"-",36.406016086434107,"-",0]
[null,198,{"$f":"Chegadas!J206","v":172.53000000000003},{"$f":"IF(Chegadas!K206=\"I\",Atendimento!E213,Atendimento!L213)","v":8.6078138253319594},"*",175.1708209476426,"*",173.36712893818736,"*",181.53827881554918,"*",173.16332827321094,172.53000000000003,181.13781382533199,"-",168.37382977271324,"-",170.63555996019139,"-",172.52878244873884,"-",171.59999457692987,"-",171.95479649520968,"-",156.13778412019371,"-",136.83060944284537,"-",140.66887446424042,"-",34.388240562009656,"-",29.236023829000793,"-",33.045125393740342,"-",32.02721881559642,"-",32.217563507182206,"-",36.406016086434107,"-",0]
[null,199,{"$f":"Chegadas!J207","v":173.02000000000004},{"$f":"IF(Chegadas!K207=\"I\",Atendimento!E214,Atendimento!L214)","v":4.9592900685095849},"*",175.1708209476426,"*",173.36712893818736,"*",181.53827881554918,"*",173.16332827321094,"*",181.13781382533199,173.02000000000004,177.97929006850961,"-",170.63555996019139,"-",172.52878244873884,"-",171.59999457692987,"-",171.95479649520968,"-",156.13778412019371,"-",136.83060944284537,"-",140.66887446424042,"-",34.388240562009656,"-",29.236023829000793,"-",33.045125393740342,"-",32.02721881559642,"-",32.217563507182206,"-",36.406016086434107,"-",0]
[null,200,{"$f":"Chegadas!J208","v":173.69000000000003},{"$f":"IF(Chegadas!K208=\"I\",Atendimento!E215,Atendimento!L215)","v":6.7431292390513065},"*",175.1708209476426,173.69000000000003,180.43312923905134,"-",181.53827881554918,"-",173.16332827321094,"-",181.13781382533199,"-",177.97929006850961,"-",170.63555996019139,"-",172.52878244873884,"-",171.59999457692987,"-",171.95479649520968,"-",156.13778412019371,"-",136.83060944284537,"-",140.66887446424042,"-",34.388240562009656,"-",29.236023829000793,"-",33.045125393740342,"-",32.02721881559642,"-",32.217563507182206,"-",36.406016086434107,"-",0]
[null,201,{"$f":"Chegadas!J209","v":173.91000000000003},{"$f":"IF(Chegadas!K209=\"I\",Atendimento!E216,Atendimento!L216)","v":8.062091842850089},"*",175.1708209476426,"*",180.43312923905134,"*",181.53827881554918,173.91000000000003,181.97209184285012,"-",181.13781382533199,"-",177.97929006850961,"-",170.63555996019139,"-",172.52878244873884,"-",171.59999457692987,"-",171.95479649520968,"-",156.13778412019371,"-",136.83060944284537,"-",140.66887446424042,"-",34.388240562009656,"-",29.236023829000793,"-",33.045125393740342,"-",32.02721881559642,"-",32.217563507182206,"-",36.406016086434107,"-",0]
[null,202,{"$f":"Chegadas!J210","v":176.34000000000003},{"$f":"IF(Chegadas!K210=\"I\",Atendimento!E217,Atendimento!L217)","v":4.9756254312113999},176.34000000000003,181.31562543121143,"-",180.43312923905134,"-",181.53827881554918,"-",181.97209184285012,"-",181.13781382533199,"-",177.97929006850961,"-",170.63555996019139,"-",172.52878244873884,"-",171.59999457692987,"-",171.95479649520968,"-",{"$f":"IF(OR(Y209=\"-\",Y209=\"*\"),Z208,Y209+$D209)","v":156.13778412019371},"-",136.83060944284537,"-",140.66887446424042,"-",34.388240562009656,"-",29.236023829000793,"-",33.045125393740342,"-",32.02721881559642,"-",32.217563507182206,"-",36.406016086434107,"-",0]
[null,203,{"$f":"Chegadas!J211","v":176.43000000000004},{"$f":"IF(Chegadas!K211=\"I\",Atendimento!E218,Atendimento!L218)","v":4.4714146383686826},"*",181.31562543121143,"*",180.43312923905134,"*",181.53827881554918,"*",181.97209184285012,"*",181.13781382533199,"*",177.97929006850961,176.43000000000004,180.90141463836872,"-",172.52878244873884,"-",171.59999457692987,"-",171.95479649520968,"-",156.13778412019371,"-",{"$f":"IF(OR(AA210=\"-\",AA210=\"*\"),AB209,AA210+$D210)","v":136.83060944284537},"-",140.66887446424042,"-",34.388240562009656,"-",29.236023829000793,"-",33.045125393740342,"-",32.02721881559642,"-",32.217563507182206,"-",36.406016086434107,"-",0]
[null,204,{"$f":"Chegadas!J212","v":178.00000000000003},{"$f":"IF(Chegadas!K212=\"I\",Atendimento!E219,Atendimento!L219)","v":4.7459095089609864},"*",181.31562543121143,"*",180.43312923905134,"*",181.53827881554918,"*",181.97209184285012,"*",181.13781382533199,178.00000000000003,182.74590950896101,"-",180.90141463836872,"-",172.52878244873884,"-",171.59999457692987,"-",171.95479649520968,"-",156.13778412019371,"-",136.83060944284537,"-",{"$f":"IF(OR(AC211=\"-\",AC211=\"*\"),AD210,AC211+$D211)","v":140.66887446424042},"-",34.388240562009656,"-",29.236023829000793,"-",33.045125393740342,"-",32.02721881559642,"-",32.217563507182206,"-",36.406016086434107,"-",0]
[null,205,{"$f":"Chegadas!J213","v":178.07000000000002},{"$f":"IF(Chegadas!K213=\"I\",Atendimento!E220,Atendimento!L220)","v":1.130064145022486},"*",181.31562543121143,"*",180.43312923905134,"*",181.53827881554918,"*",181.97209184285012,"*",181.13781382533199,"*",182.74590950896101,"*",180.90141463836872,178.07000000000002,179.20006414502251,"-",171.59999457692987,"-",171.95479649520968,"-",156.13778412019371,"-",136.83060944284537,"-",140.66887446424042,"-",{"$f":"IF(OR(AE212=\"-\",AE212=\"*\"),AF211,AE212+$D212)","v":34.388240562009656},"-",29.236023829000793,"-",33.045125393740342,"-",32.02721881559642,"-",32.217563507182206,"-",36.406016086434107,"-",0]
[null,206,{"$f":"Chegadas!J214","v":179.57000000000002},{"$f":"IF(Chegadas!K214=\"I\",Atendimento!E221,Atendimento!L221)","v":14.840729157870676},"*",181.31562543121143,"*",180.43312923905134,"*",181.53827881554918,"*",181.97209184285012,"*",181.13781382533199,"*",182.74590950896101,"*",180.90141463836872,179.57000000000002,194.41072915787069,"-",171.59999457692987,"-",171.95479649520968,"-",156.13778412019371,"-",136.83060944284537,"-",140.66887446424042,"-",34.388240562009656,"-",{"$f":"IF(OR(AG213=\"-\",AG213=\"*\"),AH212,AG213+$D213)","v":29.236023829000793},"-",33.045125393740342,"-",32.02721881559642,"-",32.217563507182206,"-",36.406016086434107,"-",0]
[null,207,{"$f":"Chegadas!J215","v":182.28000000000003},{"$f":"IF(Chegadas!K215=\"I\",Atendimento!E222,Atendimento!L222)","v":2.3194037948329607},182.28000000000003,184.59940379483299,"-",180.43312923905134,"-",181.53827881554918,"-",181.97209184285012,"-",181.13781382533199,"-",182.74590950896101,"-",180.90141463836872,"-",194.41072915787069,"-",171.59999457692987,"-",171.95479649520968,"-",156.13778412019371,"-",136.83060944284537,"-",140.66887446424042,"-",34.388240562009656,"-",29.236023829000793,"-",{"$f":"IF(OR(AI214=\"-\",AI214=\"*\"),AJ213,AI214+$D214)","v":33.045125393740342},"-",32.02721881559642,"-",32.217563507182206,"-",36.406016086434107,"-",0]
[null,208,{"$f":"Chegadas!J216","v":183.99000000000004},{"$f":"IF(Chegadas!K216=\"I\",Atendimento!E223,Atendimento!L223)","v":4.8605156758805679},"*",184.59940379483299,183.99000000000004,188.85051567588062,"-",181.53827881554918,"-",181.97209184285012,"-",181.13781382533199,"-",182.74590950896101,"-",180.90141463836872,"-",194.41072915787069,"-",171.59999457692987,"-",171.95479649520968,"-",156.13778412019371,"-",136.83060944284537,"-",140.66887446424042,"-",34.388240562009656,"-",29.236023829000793,"-",33.045125393740342,"-",{"$f":"IF(OR(AK215=\"-\",AK215=\"*\"),AL214,AK215+$D215)","v":32.02721881559642},"-",32.217563507182206,"-",36.406016086434107,"-",0]
[null,209,{"$f":"Chegadas!J217","v":186.91000000000003},{"$f":"IF(Chegadas!K217=\"I\",Atendimento!E224,Atendimento!L224)","v":3.0523288128701229},186.91000000000003,189.96232881287014,"-",188.85051567588062,"-",181.53827881554918,"-",181.97209184285012,"-",181.13781382533199,"-",182.74590950896101,"-",180.90141463836872,"-",194.41072915787069,"-",171.59999457692987,"-",171.95479649520968,"-",156.13778412019371,"-",136.83060944284537,"-",140.66887446424042,"-",34.388240562009656,"-",29.236023829000793,"-",33.045125393740342,"-",32.02721881559642,"-",{"$f":"IF(OR(AM216=\"-\",AM216=\"*\"),AN215,AM216+$D216)","v":32.217563507182206},"-",36.406016086434107,"-",0]
[null,210,{"$f":"Chegadas!J218","v":187.76000000000002},{"$f":"IF(Chegadas!K218=\"I\",Atendimento!E225,Atendimento!L225)","v":13.692916204584353},"*",189.96232881287014,"*",188.85051567588062,187.76000000000002,201.45291620458437,"-",181.97209184285012,"-",181.13781382533199,"-",182.74590950896101,"-",180.90141463836872,"-",194.41072915787069,"-",171.59999457692987,"-",171.95479649520968,"-",156.13778412019371,"-",136.83060944284537,"-",140.66887446424042,"-",34.388240562009656,"-",29.236023829000793,"-",33.045125393740342,"-",32.02721881559642,"-",32.217563507182206,"-",{"$f":"IF(OR(AO217=\"-\",AO217=\"*\"),AP216,AO217+$D217)","v":36.406016086434107},"-",0]
[null,211,{"$f":"Chegadas!J219","v":189.51000000000002},{"$f":"IF(Chegadas!K219=\"I\",Atendimento!E226,Atendimento!L226)","v":2.9183237178935162},"*",189.96232881287014,189.51000000000002,192.42832371789353,"-",201.45291620458437,"-",181.97209184285012,"-",181.13781382533199,"-",182.74590950896101,"-",180.90141463836872,"-",194.41072915787069,"-",171.59999457692987,"-",171.95479649520968,"-",156.13778412019371,"-",136.83060944284537,"-",140.66887446424042,"-",34.388240562009656,"-",29.236023829000793,"-",33.045125393740342,"-",32.02721881559642,"-",32.217563507182206,"-",36.406016086434107,"-",{"$f":"IF(OR(AQ218=\"-\",AQ218=\"*\"),AR217,AQ218+$D218)","v":0}]
[null,212,{"$f":"Chegadas!J220","v":190.87000000000003},{"$f":"IF(Chegadas!K220=\"I\",Atendimento!E227,Atendimento!L227)","v":12.09341629904177},190.87000000000003,202.9634162990418,"-",192.42832371789353,"-",201.45291620458437,"-",181.97209184285012,"-",181.13781382533199,"-",182.74590950896101,"-",180.90141463836872,"-",194.41072915787069,"-",171.59999457692987,"-",171.95479649520968,"-",156.13778412019371,"-",136.83060944284537,"-",140.66887446424042,"-",34.388240562009656,"-",29.236023829000793,"-",33.045125393740342,"-",32.02721881559642,"-",32.217563507182206,"-",36.406016086434107,"-",0]
[null,213,{"$f":"Chegadas!J221","v":191.02000000000004},{"$f":"IF(Chegadas!K221=\"I\",Atendimento!E228,Atendimento!L228)","v":10.752965070696558},"*",202.9634162990418,"*",192.42832371789353,"*",201.45291620458437,191.02000000000004,{"$f":"IF(OR(K220=\"-\",K220=\"*\"),L219,K220+$D220)","v":201.77296507069659},"-",{"$f":"IF(OR(M220=\"-\",M220=\"*\"),N219,M220+$D220)","v":181.13781382533199},"-",{"$f":"IF(OR(O220=\"-\",O220=\"*\"),P219,O220+$D220)","v":182.74590950896101},"-",{"$f":"IF(OR(Q220=\"-\",Q220=\"*\"),R219,Q220+$D220)","v":180.90141463836872},"-",{"$f":"IF(OR(S220=\"-\",S220=\"*\"),T219,S220+$D220)","v":194.41072915787069},"-",{"$f":"IF(OR(U220=\"-\",U220=\"*\"),V219,U220+$D220)","v":171.59999457692987},"-",{"$f":"IF(OR(W220=\"-\",W220=\"*\"),X219,W220+$D220)","v":171.95479649520968},"-",156.13778412019371,"-",136.83060944284537,"-",140.66887446424042,"-",34.388240562009656,"-",29.236023829000793,"-",33.045125393740342,"-",32.02721881559642,"-",32.217563507182206,"-",36.406016086434107,"-",0]
[null,214,{"$f":"Chegadas!J222","v":191.42000000000002},{"$f":"IF(Chegadas!K222=\"I\",Atendimento!E229,Atendimento!L229)","v":1.2291048391283472},"*",202.9634162990418,"*",192.42832371789353,"*",201.45291620458437,"*",201.77296507069659,191.42000000000002,192.64910483912837,"-",182.74590950896101,"-",180.90141463836872,"-",194.41072915787069,"-",171.59999457692987,"-",171.95479649520968,"-",156.13778412019371,"-",136.83060944284537,"-",140.66887446424042,"-",34.388240562009656,"-",29.236023829000793,"-",33.045125393740342,"-",32.02721881559642,"-",32.217563507182206,"-",36.406016086434107,"-",0]
[null,215,{"$f":"Chegadas!J223","v":192.23000000000005},{"$f":"IF(Chegadas!K223=\"I\",Atendimento!E230,Atendimento!L230)","v":5.6584208979623165},"*",202.9634162990418,"*",192.42832371789353,"*",201.45291620458437,"*",201.77296507069659,"*",192.64910483912837,192.23000000000005,197.88842089796236,"-",180.90141463836872,"-",194.41072915787069,"-",171.59999457692987,"-",171.95479649520968,"-",156.13778412019371,"-",136.83060944284537,"-",140.66887446424042,"-",34.388240562009656,"-",29.236023829000793,"-",33.045125393740342,"-",32.02721881559642,"-",32.217563507182206,"-",36.406016086434107,"-",0]
[null,216,{"$f":"Chegadas!J224","v":193.32000000000005},{"$f":"IF(Chegadas!K224=\"I\",Atendimento!E231,Atendimento!L231)","v":7.6308749690307689},"*",202.9634162990418,193.32000000000005,200.95087496903082,"-",201.45291620458437,"-",201.77296507069659,"-",192.64910483912837,"-",197.88842089796236,"-",180.90141463836872,"-",194.41072915787069,"-",171.59999457692987,"-",171.95479649520968,"-",156.13778412019371,"-",136.83060944284537,"-",140.66887446424042,"-",34.388240562009656,"-",29.236023829000793,"-",33.045125393740342,"-",32.02721881559642,"-",32.217563507182206,"-",36.406016086434107,"-",0]
[null,217,{"$f":"Chegadas!J225","v":193.56000000000006},{"$f":"IF(Chegadas!K225=\"I\",Atendimento!E232,Atendimento!L232)","v":4.326729246771321},"*",202.9634162990418,"*",200.95087496903082,"*",201.45291620458437,"*",201.77296507069659,193.56000000000006,197.88672924677138,"-",197.88842089796236,"-",180.90141463836872,"-",194.41072915787069,"-",171.59999457692987,"-",171.95479649520968,"-",156.13778412019371,"-",136.83060944284537,"-",140.66887446424042,"-",34.388240562009656,"-",29.236023829000793,"-",33.045125393740342,"-",32.02721881559642,"-",32.217563507182206,"-",36.406016086434107,"-",0]
[null,218,{"$f":"Chegadas!J226","v":195.04000000000002},{"$f":"IF(Chegadas!K226=\"I\",Atendimento!E233,Atendimento!L233)","v":1.0410973530929959},"*",202.9634162990418,"*",200.95087496903082,"*",201.45291620458437,"*",201.77296507069659,"*",197.88672924677138,"*",197.88842089796236,195.04000000000002,196.08109735309301,"-",194.41072915787069,"-",171.59999457692987,"-",171.95479649520968,"-",156.13778412019371,"-",136.83060944284537,"-",140.66887446424042,"-",34.388240562009656,"-",29.236023829000793,"-",33.045125393740342,"-",32.02721881559642,"-",32.217563507182206,"-",36.406016086434107,"-",0]
[null,219,{"$f":"Chegadas!J227","v":195.18000000000006},{"$f":"IF(Chegadas!K227=\"I\",Atendimento!E234,Atendimento!L234)","v":14.389870948666339},"*",202.9634162990418,"*",200.95087496903082,"*",201.45291620458437,"*",201.77296507069659,"*",197.88672924677138,"*",197.88842089796236,"*",196.08109735309301,195.18000000000006,209.56987094866639,"-",171.59999457692987,"-",171.95479649520968,"-",156.13778412019371,"-",136.83060944284537,"-",140.66887446424042,"-",34.388240562009656,"-",29.236023829000793,"-",33.045125393740342,"-",32.02721881559642,"-",32.217563507182206,"-",36.406016086434107,"-",0]
[null,220,{"$f":"Chegadas!J228","v":195.19000000000005},{"$f":"IF(Chegadas!K228=\"I\",Atendimento!E235,Atendimento!L235)","v":11.441611776606168},"*",202.9634162990418,"*",200.95087496903082,"*",201.45291620458437,"*",201.77296507069659,"*",197.88672924677138,"*",197.88842089796236,"*",196.08109735309301,"*",209.56987094866639,195.19000000000005,206.63161177660623,"-",171.95479649520968,"-",156.13778412019371,"-",136.83060944284537,"-",140.66887446424042,"-",34.388240562009656,"-",29.236023829000793,"-",33.045125393740342,"-",32.02721881559642,"-",32.217563507182206,"-",36.406016086434107,"-",0]
[null,221,{"$f":"Chegadas!J229","v":195.39000000000004},{"$f":"IF(Chegadas!K229=\"I\",Atendimento!E236,Atendimento!L236)","v":10.065325613229005},"*",202.9634162990418,"*",200.95087496903082,"*",201.45291620458437,"*",201.77296507069659,"*",197.88672924677138,"*",197.88842089796236,"*",196.08109735309301,"*",209.56987094866639,"*",206.63161177660623,195.39000000000004,205.45532561322904,"-",156.13778412019371,"-",136.83060944284537,"-",140.66887446424042,"-",34.388240562009656,"-",29.236023829000793,"-",33.045125393740342,"-",32.02721881559642,"-",32.217563507182206,"-",36.406016086434107,"-",0]
[null,222,{"$f":"Chegadas!J230","v":197.32000000000005},{"$f":"IF(Chegadas!K230=\"I\",Atendimento!E237,Atendimento!L237)","v":4.1888141529426868},"*",202.9634162990418,"*",200.95087496903082,"*",201.45291620458437,"*",201.77296507069659,"*",197.88672924677138,"*",197.88842089796236,197.32000000000005,201.50881415294273,"-",209.56987094866639,"-",206.63161177660623,"-",205.45532561322904,"-",156.13778412019371,"-",136.83060944284537,"-",140.66887446424042,"-",34.388240562009656,"-",29.236023829000793,"-",33.045125393740342,"-",32.02721881559642,"-",32.217563507182206,"-",36.406016086434107,"-",0]
[null,223,{"$f":"Chegadas!J231","v":197.49},{"$f":"IF(Chegadas!K231=\"I\",Atendimento!E238,Atendimento!L238)","v":1.0096747639047239},"*",202.9634162990418,"*",200.95087496903082,"*",201.45291620458437,"*",201.77296507069659,"*",197.88672924677138,"*",197.88842089796236,"*",201.50881415294273,"*",209.56987094866639,"*",206.63161177660623,"*",205.45532561322904,197.49,198.49967476390472,"-",136.83060944284537,"-",140.66887446424042,"-",34.388240562009656,"-",29.236023829000793,"-",33.045125393740342,"-",32.02721881559642,"-",32.217563507182206,"-",36.406016086434107,"-",0]
[null,224,{"$f":"Chegadas!J232","v":197.98000000000005},{"$f":"IF(Chegadas!K232=\"I\",Atendimento!E239,Atendimento!L239)","v":5.1062043893427997},"*",202.9634162990418,"*",200.95087496903082,"*",201.45291620458437,"*",201.77296507069659,197.98000000000005,203.08620438934284,"-",197.88842089796236,"-",201.50881415294273,"-",209.56987094866639,"-",206.63161177660623,"-",205.45532561322904,"-",198.49967476390472,"-",136.83060944284537,"-",140.66887446424042,"-",34.388240562009656,"-",29.236023829000793,"-",33.045125393740342,"-",32.02721881559642,"-",32.217563507182206,"-",36.406016086434107,"-",0]
[null,225,{"$f":"Chegadas!J233","v":201.00000000000006},{"$f":"IF(Chegadas!K233=\"I\",Atendimento!E240,Atendimento!L240)","v":9.1519401368088147},"*",202.9634162990418,201.00000000000006,210.15194013680886,"-",201.45291620458437,"-",201.77296507069659,"-",203.08620438934284,"-",197.88842089796236,"-",201.50881415294273,"-",209.56987094866639,"-",206.63161177660623,"-",205.45532561322904,"-",198.49967476390472,"-",136.83060944284537,"-",140.66887446424042,"-",34.388240562009656,"-",29.236023829000793,"-",33.045125393740342,"-",32.02721881559642,"-",32.217563507182206,"-",36.406016086434107,"-",0]
[null,226,{"$f":"Chegadas!J234","v":201.32000000000002},{"$f":"IF(Chegadas!K234=\"I\",Atendimento!E241,Atendimento!L241)","v":1.4864770877036939},"*",202.9634162990418,"*",210.15194013680886,"*",201.45291620458437,"*",201.77296507069659,"*",203.08620438934284,201.32000000000002,202.80647708770371,"-",201.50881415294273,"-",209.56987094866639,"-",206.63161177660623,"-",205.45532561322904,"-",198.49967476390472,"-",136.83060944284537,"-",140.66887446424042,"-",34.388240562009656,"-",29.236023829000793,"-",33.045125393740342,"-",32.02721881559642,"-",32.217563507182206,"-",36.406016086434107,"-",0]
[null,227,{"$f":"Chegadas!J235","v":201.74000000000007},{"$f":"IF(Chegadas!K235=\"I\",Atendimento!E242,Atendimento!L242)","v":4.8489968125235654},"*",202.9634162990418,"*",210.15194013680886,201.74000000000007,206.58899681252362,"-",201.77296507069659,"-",203.08620438934284,"-",202.80647708770371,"-",201.50881415294273,"-",209.56987094866639,"-",206.63161177660623,"-",205.45532561322904,"-",198.49967476390472,"-",136.83060944284537,"-",140.66887446424042,"-",34.388240562009656,"-",29.236023829000793,"-",33.045125393740342,"-",32.02721881559642,"-",32.217563507182206,"-",36.406016086434107,"-",0]
[null,228,{"$f":"Chegadas!J236","v":202.33},{"$f":"IF(Chegadas!K236=\"I\",Atendimento!E243,Atendimento!L243)","v":1.5414827030810332},"*",202.9634162990418,"*",210.15194013680886,"*",206.58899681252362,202.33,203.87148270308106,"-",203.08620438934284,"-",202.80647708770371,"-",201.50881415294273,"-",209.56987094866639,"-",206.63161177660623,"-",205.45532561322904,"-",198.49967476390472,"-",136.83060944284537,"-",140.66887446424042,"-",34.388240562009656,"-",29.236023829000793,"-",33.045125393740342,"-",32.02721881559642,"-",32.217563507182206,"-",36.406016086434107,"-",0]
[null,229,{"$f":"Chegadas!J237","v":202.36000000000007},{"$f":"IF(Chegadas!K237=\"I\",Atendimento!E244,Atendimento!L244)","v":8.9926146869445542},"*",202.9634162990418,"*",210.15194013680886,"*",206.58899681252362,"*",203.87148270308106,"*",203.08620438934284,"*",202.80647708770371,202.36000000000007,211.35261468694463,"-",209.56987094866639,"-",206.63161177660623,"-",205.45532561322904,"-",198.49967476390472,"-",136.83060944284537,"-",140.66887446424042,"-",34.388240562009656,"-",29.236023829000793,"-",33.045125393740342,"-",32.02721881559642,"-",32.217563507182206,"-",36.406016086434107,"-",0]
[null,230,{"$f":"Chegadas!J238","v":202.76000000000008},{"$f":"IF(Chegadas!K238=\"I\",Atendimento!E245,Atendimento!L245)","v":13.657760364356886},"*",202.9634162990418,"*",210.15194013680886,"*",206.58899681252362,"*",203.87148270308106,"*",203.08620438934284,"*",202.80647708770371,"*",211.35261468694463,"*",209.56987094866639,"*",206.63161177660623,"*",205.45532561322904,202.76000000000008,216.41776036435695,"-",136.83060944284537,"-",140.66887446424042,"-",34.388240562009656,"-",29.236023829000793,"-",33.045125393740342,"-",32.02721881559642,"-",32.217563507182206,"-",36.406016086434107,"-",0]
[null,231,{"$f":"Chegadas!J239","v":204.92000000000007},{"$f":"IF(Chegadas!K239=\"I\",Atendimento!E246,Atendimento!L246)","v":8.3899228036572495},204.92000000000007,213.30992280365732,"-",210.15194013680886,"-",206.58899681252362,"-",203.87148270308106,"-",203.08620438934284,"-",202.80647708770371,"-",211.35261468694463,"-",209.56987094866639,"-",206.63161177660623,"-",205.45532561322904,"-",216.41776036435695,"-",136.83060944284537,"-",140.66887446424042,"-",34.388240562009656,"-",29.236023829000793,"-",33.045125393740342,"-",32.02721881559642,"-",32.217563507182206,"-",36.406016086434107,"-",0]
[null,232,{"$f":"Chegadas!J240","v":205.82000000000008},{"$f":"IF(Chegadas!K240=\"I\",Atendimento!E247,Atendimento!L247)","v":11.104506457236509},"*",213.30992280365732,"*",210.15194013680886,"*",206.58899681252362,205.82000000000008,216.92450645723659,"-",203.08620438934284,"-",202.80647708770371,"-",211.35261468694463,"-",209.56987094866639,"-",206.63161177660623,"-",205.45532561322904,"-",216.41776036435695,"-",136.83060944284537,"-",140.66887446424042,"-",34.388240562009656,"-",29.236023829000793,"-",33.045125393740342,"-",32.02721881559642,"-",32.217563507182206,"-",36.406016086434107,"-",0]
[null,233,{"$f":"Chegadas!J241","v":205.93000000000009},{"$f":"IF(Chegadas!K241=\"I\",Atendimento!E248,Atendimento!L248)","v":12.523432555206094},"*",213.30992280365732,"*",210.15194013680886,"*",206.58899681252362,"*",216.92450645723659,205.93000000000009,218.45343255520618,"-",202.80647708770371,"-",211.35261468694463,"-",209.56987094866639,"-",206.63161177660623,"-",205.45532561322904,"-",216.41776036435695,"-",136.83060944284537,"-",140.66887446424042,"-",34.388240562009656,"-",29.236023829000793,"-",33.045125393740342,"-",32.02721881559642,"-",32.217563507182206,"-",36.406016086434107,"-",0]
[null,234,{"$f":"Chegadas!J242","v":205.94000000000008},{"$f":"IF(Chegadas!K242=\"I\",Atendimento!E249,Atendimento!L249)","v":4.9354485217499473},"*",213.30992280365732,"*",210.15194013680886,"*",206.58899681252362,"*",216.92450645723659,"*",218.45343255520618,205.94000000000008,210.87544852175003,"-",211.35261468694463,"-",209.56987094866639,"-",206.63161177660623,"-",205.45532561322904,"-",216.41776036435695,"-",136.83060944284537,"-",140.66887446424042,"-",34.388240562009656,"-",29.236023829000793,"-",33.045125393740342,"-",32.02721881559642,"-",32.217563507182206,"-",36.406016086434107,"-",0]
[null,235,{"$f":"Chegadas!J243","v":208.66000000000008},{"$f":"IF(Chegadas!K243=\"I\",Atendimento!E250,Atendimento!L250)","v":9.2078101332663618},"*",213.30992280365732,"*",210.15194013680886,208.66000000000008,217.86781013326643,"-",216.92450645723659,"-",218.45343255520618,"-",210.87544852175003,"-",211.35261468694463,"-",209.56987094866639,"-",206.63161177660623,"-",205.45532561322904,"-",216.41776036435695,"-",136.83060944284537,"-",140.66887446424042,"-",34.388240562009656,"-",29.236023829000793,"-",33.045125393740342,"-",32.02721881559642,"-",32.217563507182206,"-",36.406016086434107,"-",0]
[null,236,{"$f":"Chegadas!J244","v":208.78000000000009},{"$f":"IF(Chegadas!K244=\"I\",Atendimento!E251,Atendimento!L251)","v":7.8083250286187962},"*",213.30992280365732,"*",210.15194013680886,"*",217.86781013326643,"*",216.92450645723659,"*",218.45343255520618,"*",210.87544852175003,"*",211.35261468694463,"*",209.56987094866639,208.78000000000009,216.5883250286189,"-",205.45532561322904,"-",216.41776036435695,"-",136.83060944284537,"-",140.66887446424042,"-",34.388240562009656,"-",29.236023829000793,"-",33.045125393740342,"-",32.02721881559642,"-",32.217563507182206,"-",36.406016086434107,"-",0]
[null,237,{"$f":"Chegadas!J245","v":210.5500000000001},{"$f":"IF(Chegadas!K245=\"I\",Atendimento!E252,Atendimento!L252)","v":6.2681858126985475},"*",213.30992280365732,210.5500000000001,216.81818581269863,"-",217.86781013326643,"-",216.92450645723659,"-",218.45343255520618,"-",210.87544852175003,"-",211.35261468694463,"-",209.56987094866639,"-",216.5883250286189,"-",205.45532561322904,"-",216.41776036435695,"-",136.83060944284537,"-",140.66887446424042,"-",34.388240562009656,"-",29.236023829000793,"-",33.045125393740342,"-",32.02721881559642,"-",32.217563507182206,"-",36.406016086434107,"-",0]
[null,238,{"$f":"Chegadas!J246","v":211.1700000000001},{"$f":"IF(Chegadas!K246=\"I\",Atendimento!E253,Atendimento!L253)","v":5.1358390051069618},"*",213.30992280365732,"*",216.81818581269863,"*",217.86781013326643,"*",216.92450645723659,"*",218.45343255520618,211.1700000000001,216.30583900510706,"-",211.35261468694463,"-",209.56987094866639,"-",216.5883250286189,"-",205.45532561322904,"-",216.41776036435695,"-",136.83060944284537,"-",140.66887446424042,"-",34.388240562009656,"-",29.236023829000793,"-",33.045125393740342,"-",32.02721881559642,"-",32.217563507182206,"-",36.406016086434107,"-",0]
[null,239,{"$f":"Chegadas!J247","v":211.38000000000011},{"$f":"IF(Chegadas!K247=\"I\",Atendimento!E254,Atendimento!L254)","v":8.2387472803217339},"*",213.30992280365732,"*",216.81818581269863,"*",217.86781013326643,"*",216.92450645723659,"*",218.45343255520618,"*",216.30583900510706,211.38000000000011,219.61874728032186,"-",209.56987094866639,"-",216.5883250286189,"-",205.45532561322904,"-",216.41776036435695,"-",136.83060944284537,"-",140.66887446424042,"-",34.388240562009656,"-",29.236023829000793,"-",33.045125393740342,"-",32.02721881559642,"-",32.217563507182206,"-",36.406016086434107,"-",0]
[null,240,{"$f":"Chegadas!J248","v":211.72000000000011},{"$f":"IF(Chegadas!K248=\"I\",Atendimento!E255,Atendimento!L255)","v":3.0757726482041798},"*",213.30992280365732,"*",216.81818581269863,"*",217.86781013326643,"*",216.92450645723659,"*",218.45343255520618,"*",216.30583900510706,"*",219.61874728032186,211.72000000000011,214.79577264820429,"-",216.5883250286189,"-",205.45532561322904,"-",216.41776036435695,"-",136.83060944284537,"-",140.66887446424042,"-",34.388240562009656,"-",29.236023829000793,"-",33.045125393740342,"-",32.02721881559642,"-",32.217563507182206,"-",36.406016086434107,"-",0]
[null,241,{"$f":"Chegadas!J249","v":216.28},{"$f":"IF(Chegadas!K249=\"I\",Atendimento!E256,Atendimento!L256)","v":0.85345598748714668},216.28,217.13345598748714,"-",216.81818581269863,"-",217.86781013326643,"-",216.92450645723659,"-",218.45343255520618,"-",216.30583900510706,"-",219.61874728032186,"-",214.79577264820429,"-",216.5883250286189,"-",205.45532561322904,"-",216.41776036435695,"-",136.83060944284537,"-",140.66887446424042,"-",34.388240562009656,"-",29.236023829000793,"-",33.045125393740342,"-",32.02721881559642,"-",32.217563507182206,"-",36.406016086434107,"-",0]
[null,242,{"$f":"Chegadas!J250","v":216.77000000000012},{"$f":"IF(Chegadas!K250=\"I\",Atendimento!E257,Atendimento!L257)","v":8.1149917937725426},"*",217.13345598748714,"*",216.81818581269863,"*",217.86781013326643,"*",216.92450645723659,"*",218.45343255520618,216.77000000000012,224.88499179377266,"-",219.61874728032186,"-",214.79577264820429,"-",216.5883250286189,"-",205.45532561322904,"-",216.41776036435695,"-",136.83060944284537,"-",140.66887446424042,"-",34.388240562009656,"-",29.236023829000793,"-",33.045125393740342,"-",32.02721881559642,"-",32.217563507182206,"-",36.406016086434107,"-",0]
[null,243,{"$f":"Chegadas!J251","v":218.08000000000013},{"$f":"IF(Chegadas!K251=\"I\",Atendimento!E258,Atendimento!L258)","v":3.7443626133009413},218.08000000000013,221.82436261330108,"-",216.81818581269863,"-",217.86781013326643,"-",216.92450645723659,"-",218.45343255520618,"-",224.88499179377266,"-",219.61874728032186,"-",214.79577264820429,"-",216.5883250286189,"-",205.45532561322904,"-",216.41776036435695,"-",136.83060944284537,"-",140.66887446424042,"-",34.388240562009656,"-",29.236023829000793,"-",33.045125393740342,"-",32.02721881559642,"-",32.217563507182206,"-",36.406016086434107,"-",0]
[null,244,{"$f":"Chegadas!J252","v":218.47},{"$f":"IF(Chegadas!K252=\"I\",Atendimento!E259,Atendimento!L259)","v":1.0942551434697019},"*",221.82436261330108,218.47,219.56425514346969,"-",217.86781013326643,"-",216.92450645723659,"-",218.45343255520618,"-",224.88499179377266,"-",219.61874728032186,"-",214.79577264820429,"-",216.5883250286189,"-",205.45532561322904,"-",216.41776036435695,"-",136.83060944284537,"-",140.66887446424042,"-",34.388240562009656,"-",29.236023829000793,"-",33.045125393740342,"-",32.02721881559642,"-",32.217563507182206,"-",36.406016086434107,"-",0]
[null,245,{"$f":"Chegadas!J253","v":219.33000000000013},{"$f":"IF(Chegadas!K253=\"I\",Atendimento!E260,Atendimento!L260)","v":3.8841115434510667},"*",221.82436261330108,"*",219.56425514346969,219.33000000000013,223.2141115434512,"-",216.92450645723659,"-",218.45343255520618,"-",224.88499179377266,"-",219.61874728032186,"-",214.79577264820429,"-",216.5883250286189,"-",205.45532561322904,"-",216.41776036435695,"-",136.83060944284537,"-",140.66887446424042,"-",34.388240562009656,"-",29.236023829000793,"-",33.045125393740342,"-",32.02721881559642,"-",32.217563507182206,"-",36.406016086434107,"-",0]
[null,246,{"$f":"Chegadas!J254","v":222.42000000000013},{"$f":"IF(Chegadas!K254=\"I\",Atendimento!E261,Atendimento!L261)","v":11.53896083677143},222.42000000000013,233.95896083677155,"-",219.56425514346969,"-",223.2141115434512,"-",216.92450645723659,"-",218.45343255520618,"-",224.88499179377266,"-",219.61874728032186,"-",214.79577264820429,"-",216.5883250286189,"-",205.45532561322904,"-",216.41776036435695,"-",136.83060944284537,"-",140.66887446424042,"-",34.388240562009656,"-",29.236023829000793,"-",33.045125393740342,"-",32.02721881559642,"-",32.217563507182206,"-",36.406016086434107,"-",0]
[null,247,{"$f":"Chegadas!J255","v":222.71000000000012},{"$f":"IF(Chegadas!K255=\"I\",Atendimento!E262,Atendimento!L262)","v":14.624043598393328},"*",233.95896083677155,222.71000000000012,237.33404359839346,"-",223.2141115434512,"-",216.92450645723659,"-",218.45343255520618,"-",224.88499179377266,"-",219.61874728032186,"-",214.79577264820429,"-",216.5883250286189,"-",205.45532561322904,"-",216.41776036435695,"-",136.83060944284537,"-",140.66887446424042,"-",34.388240562009656,"-",29.236023829000793,"-",33.045125393740342,"-",32.02721881559642,"-",32.217563507182206,"-",36.406016086434107,"-",0]
[null,248,{"$f":"Chegadas!J256","v":223.11000000000013},{"$f":"IF(Chegadas!K256=\"I\",Atendimento!E263,Atendimento!L263)","v":7.3717386988966567},"*",233.95896083677155,"*",237.33404359839346,"*",223.2141115434512,223.11000000000013,230.48173869889678,"-",218.45343255520618,"-",224.88499179377266,"-",219.61874728032186,"-",214.79577264820429,"-",216.5883250286189,"-",205.45532561322904,"-",216.41776036435695,"-",136.83060944284537,"-",140.66887446424042,"-",34.388240562009656,"-",29.236023829000793,"-",33.045125393740342,"-",32.02721881559642,"-",32.217563507182206,"-",36.406016086434107,"-",0]
[null,249,{"$f":"Chegadas!J257","v":224.91000000000014},{"$f":"IF(Chegadas!K257=\"I\",Atendimento!E264,Atendimento!L264)","v":10.038386548436328},"*",233.95896083677155,"*",237.33404359839346,224.91000000000014,234.94838654843647,"-",230.48173869889678,"-",218.45343255520618,"-",224.88499179377266,"-",219.61874728032186,"-",214.79577264820429,"-",216.5883250286189,"-",205.45532561322904,"-",216.41776036435695,"-",136.83060944284537,"-",140.66887446424042,"-",34.388240562009656,"-",29.236023829000793,"-",33.045125393740342,"-",32.02721881559642,"-",32.217563507182206,"-",36.406016086434107,"-",0]
[null,250,{"$f":"Chegadas!J258","v":225.56000000000014},{"$f":"IF(Chegadas!K258=\"I\",Atendimento!E265,Atendimento!L265)","v":8.9892447779212805},"*",233.95896083677155,"*",237.33404359839346,"*",234.94838654843647,"*",230.48173869889678,225.56000000000014,234.54924477792142,"-",224.88499179377266,"-",219.61874728032186,"-",214.79577264820429,"-",216.5883250286189,"-",205.45532561322904,"-",216.41776036435695,"-",136.83060944284537,"-",140.66887446424042,"-",34.388240562009656,"-",29.236023829000793,"-",33.045125393740342,"-",32.02721881559642,"-",32.217563507182206,"-",36.406016086434107,"-",0]
[null,251,{"$f":"Chegadas!J259","v":225.74000000000015},{"$f":"IF(Chegadas!K259=\"I\",Atendimento!E266,Atendimento!L266)","v":3.0355252820474399},"*",233.95896083677155,"*",237.33404359839346,"*",234.94838654843647,"*",230.48173869889678,"*",234.54924477792142,225.74000000000015,228.7755252820476,"-",219.61874728032186,"-",214.79577264820429,"-",216.5883250286189,"-",205.45532561322904,"-",216.41776036435695,"-",136.83060944284537,"-",140.66887446424042,"-",34.388240562009656,"-",29.236023829000793,"-",33.045125393740342,"-",32.02721881559642,"-",32.217563507182206,"-",36.406016086434107,"-",0]
[null,252,{"$f":"Chegadas!J260","v":226.66000000000014},{"$f":"IF(Chegadas!K260=\"I\",Atendimento!E267,Atendimento!L267)","v":1.4487707884170375},"*",233.95896083677155,"*",237.33404359839346,"*",234.94838654843647,"*",230.48173869889678,"*",234.54924477792142,"*",228.7755252820476,226.66000000000014,228.10877078841719,"-",214.79577264820429,"-",216.5883250286189,"-",205.45532561322904,"-",216.41776036435695,"-",136.83060944284537,"-",140.66887446424042,"-",34.388240562009656,"-",29.236023829000793,"-",33.045125393740342,"-",32.02721881559642,"-",32.217563507182206,"-",36.406016086434107,"-",0]
[null,253,{"$f":"Chegadas!J261","v":226.98000000000013},{"$f":"IF(Chegadas!K261=\"I\",Atendimento!E268,Atendimento!L268)","v":8.3650373455323663},"*",233.95896083677155,"*",237.33404359839346,"*",234.94838654843647,"*",230.48173869889678,"*",234.54924477792142,"*",228.7755252820476,"*",228.10877078841719,226.98000000000013,235.34503734553249,"-",216.5883250286189,"-",205.45532561322904,"-",216.41776036435695,"-",136.83060944284537,"-",140.66887446424042,"-",34.388240562009656,"-",29.236023829000793,"-",33.045125393740342,"-",32.02721881559642,"-",32.217563507182206,"-",36.406016086434107,"-",0]
[null,254,{"$f":"Chegadas!J262","v":228.45000000000013},{"$f":"IF(Chegadas!K262=\"I\",Atendimento!E269,Atendimento!L269)","v":2.3066866298188247},"*",233.95896083677155,"*",237.33404359839346,"*",234.94838654843647,"*",230.48173869889678,"*",234.54924477792142,"*",228.7755252820476,228.45000000000013,230.75668662981894,"-",235.34503734553249,"-",216.5883250286189,"-",205.45532561322904,"-",216.41776036435695,"-",136.83060944284537,"-",140.66887446424042,"-",34.388240562009656,"-",29.236023829000793,"-",33.045125393740342,"-",32.02721881559642,"-",32.217563507182206,"-",36.406016086434107,"-",0]
[null,255,{"$f":"Chegadas!J263","v":229.81000000000014},{"$f":"IF(Chegadas!K263=\"I\",Atendimento!E270,Atendimento!L270)","v":4.3077443509182221},"*",233.95896083677155,"*",237.33404359839346,"*",234.94838654843647,"*",230.48173869889678,"*",234.54924477792142,229.81000000000014,234.11774435091837,"-",230.75668662981894,"-",235.34503734553249,"-",216.5883250286189,"-",205.45532561322904,"-",216.41776036435695,"-",136.83060944284537,"-",140.66887446424042,"-",34.388240562009656,"-",29.236023829000793,"-",33.045125393740342,"-",32.02721881559642,"-",32.217563507182206,"-",36.406016086434107,"-",0]
[null,256,{"$f":"Chegadas!J264","v":229.99000000000015},{"$f":"IF(Chegadas!K264=\"I\",Atendimento!E271,Atendimento!L271)","v":7.0293658870627684},"*",233.95896083677155,"*",237.33404359839346,"*",234.94838654843647,"*",230.48173869889678,"*",234.54924477792142,"*",234.11774435091837,"*",230.75668662981894,"*",235.34503734553249,229.99000000000015,237.01936588706292,"-",205.45532561322904,"-",216.41776036435695,"-",136.83060944284537,"-",140.66887446424042,"-",34.388240562009656,"-",29.236023829000793,"-",33.045125393740342,"-",32.02721881559642,"-",32.217563507182206,"-",36.406016086434107,"-",0]
[null,257,{"$f":"Chegadas!J265","v":231.54000000000016},{"$f":"IF(Chegadas!K265=\"I\",Atendimento!E272,Atendimento!L272)","v":5.8260904169493948},"*",233.95896083677155,"*",237.33404359839346,"*",234.94838654843647,231.54000000000016,237.36609041694956,"-",234.54924477792142,"-",234.11774435091837,"-",230.75668662981894,"-",235.34503734553249,"-",237.01936588706292,"-",205.45532561322904,"-",216.41776036435695,"-",136.83060944284537,"-",140.66887446424042,"-",34.388240562009656,"-",29.236023829000793,"-",33.045125393740342,"-",32.02721881559642,"-",32.217563507182206,"-",36.406016086434107,"-",0]
[null,258,{"$f":"Chegadas!J266","v":232.71000000000015},{"$f":"IF(Chegadas!K266=\"I\",Atendimento!E273,Atendimento!L273)","v":7.2947527183305585},"*",233.95896083677155,{"$f":"IF(E265<>\"*\",\"-\",IF($C265>=H264,$C265,\"*\"))","v":"*"},237.33404359839346,{"$f":"IF(G265<>\"*\",\"-\",IF($C265>=J264,$C265,\"*\"))","v":"*"},234.94838654843647,{"$f":"IF(I265<>\"*\",\"-\",IF($C265>=L264,$C265,\"*\"))","v":"*"},237.36609041694956,{"$f":"IF(K265<>\"*\",\"-\",IF($C265>=N264,$C265,\"*\"))","v":"*"},234.54924477792142,{"$f":"IF(M265<>\"*\",\"-\",IF($C265>=P264,$C265,\"*\"))","v":"*"},234.11774435091837,{"$f":"IF(O265<>\"*\",\"-\",IF($C265>=R264,$C265,\"*\"))","v":232.71000000000015},240.00475271833071,{"$f":"IF(Q265<>\"*\",\"-\",IF($C265>=T264,$C265,\"*\"))","v":"-"},235.34503734553249,{"$f":"IF(S265<>\"*\",\"-\",IF($C265>=V264,$C265,\"*\"))","v":"-"},237.01936588706292,{"$f":"IF(U265<>\"*\",\"-\",IF($C265>=X264,$C265,\"*\"))","v":"-"},205.45532561322904,{"$f":"IF(W265<>\"*\",\"-\",IF($C265>=Z264,$C265,\"*\"))","v":"-"},216.41776036435695,{"$f":"IF(Y265<>\"*\",\"-\",IF($C265>=AB264,$C265,\"*\"))","v":"-"},136.83060944284537,{"$f":"IF(AA265<>\"*\",\"-\",IF($C265>=AD264,$C265,\"*\"))","v":"-"},140.66887446424042,{"$f":"IF(AC265<>\"*\",\"-\",IF($C265>=AF264,$C265,\"*\"))","v":"-"},34.388240562009656,{"$f":"IF(AE265<>\"*\",\"-\",IF($C265>=AH264,$C265,\"*\"))","v":"-"},29.236023829000793,{"$f":"IF(AG265<>\"*\",\"-\",IF($C265>=AJ264,$C265,\"*\"))","v":"-"},33.045125393740342,{"$f":"IF(AI265<>\"*\",\"-\",IF($C265>=AL264,$C265,\"*\"))","v":"-"},32.02721881559642,{"$f":"IF(AK265<>\"*\",\"-\",IF($C265>=AN264,$C265,\"*\"))","v":"-"},32.217563507182206,{"$f":"IF(AM265<>\"*\",\"-\",IF($C265>=AP264,$C265,\"*\"))","v":"-"},36.406016086434107,{"$f":"IF(AO265<>\"*\",\"-\",IF($C265>=AR264,$C265,\"*\"))","v":"-"},0]
[null,259,{"$f":"Chegadas!J267","v":236.66000000000014},{"$f":"IF(Chegadas!K267=\"I\",Atendimento!E274,Atendimento!L274)","v":4.7219144115925999},{"$f":"IF($C266>F265,$C266,\"*\")","v":236.66000000000014},{"$f":"IF(E266=\"*\",F265,E266+$D266)","v":241.38191441159273},"-",{"$f":"IF(OR(G266=\"-\",G266=\"*\"),H265,G266+$D266)","v":237.33404359839346},"-",{"$f":"IF(OR(I266=\"-\",I266=\"*\"),J265,I266+$D266)","v":234.94838654843647},"-",237.36609041694956,"-",234.54924477792142,"-",234.11774435091837,"-",240.00475271833071,"-",235.34503734553249,"-",237.01936588706292,"-",205.45532561322904,"-",216.41776036435695,"-",136.83060944284537,"-",140.66887446424042,"-",34.388240562009656,"-",29.236023829000793,"-",33.045125393740342,"-",32.02721881559642,"-",32.217563507182206,"-",36.406016086434107,"-",0]
[null,260,{"$f":"Chegadas!J268","v":236.93000000000015},{"$f":"IF(Chegadas!K268=\"I\",Atendimento!E275,Atendimento!L275)","v":11.181766288475131},"*",241.38191441159273,"*",237.33404359839346,236.93000000000015,248.11176628847528,"-",237.36609041694956,"-",234.54924477792142,"-",234.11774435091837,"-",240.00475271833071,"-",235.34503734553249,"-",237.01936588706292,"-",205.45532561322904,"-",216.41776036435695,"-",136.83060944284537,"-",140.66887446424042,"-",34.388240562009656,"-",29.236023829000793,"-",33.045125393740342,"-",32.02721881559642,"-",32.217563507182206,"-",36.406016086434107,"-",0]
[null,261,{"$f":"Chegadas!J269","v":237.19000000000014},{"$f":"IF(Chegadas!K269=\"I\",Atendimento!E276,Atendimento!L276)","v":12.468044423435657},"*",241.38191441159273,"*",237.33404359839346,"*",248.11176628847528,"*",237.36609041694956,237.19000000000014,249.6580444234358,"-",234.11774435091837,"-",240.00475271833071,"-",235.34503734553249,"-",237.01936588706292,"-",205.45532561322904,"-",216.41776036435695,"-",136.83060944284537,"-",140.66887446424042,"-",34.388240562009656,"-",29.236023829000793,"-",33.045125393740342,"-",32.02721881559642,"-",32.217563507182206,"-",36.406016086434107,"-",0]
[null,262,{"$f":"Chegadas!J270","v":237.77000000000015},{"$f":"IF(Chegadas!K270=\"I\",Atendimento!E277,Atendimento!L277)","v":7.6511683244154396},"*",241.38191441159273,237.77000000000015,245.42116832441559,"-",248.11176628847528,"-",237.36609041694956,"-",249.6580444234358,"-",234.11774435091837,"-",240.00475271833071,"-",235.34503734553249,"-",237.01936588706292,"-",205.45532561322904,"-",216.41776036435695,"-",136.83060944284537,"-",140.66887446424042,"-",34.388240562009656,"-",29.236023829000793,"-",33.045125393740342,"-",32.02721881559642,"-",32.217563507182206,"-",36.406016086434107,"-",0]
[null,263,{"$f":"Chegadas!J271","v":239.38000000000017},{"$f":"IF(Chegadas!K271=\"I\",Atendimento!E278,Atendimento!L278)","v":5.0077863597757908},"*",241.38191441159273,"*",245.42116832441559,"*",248.11176628847528,239.38000000000017,244.38778635977596,"-",249.6580444234358,"-",234.11774435091837,"-",240.00475271833071,"-",235.34503734553249,"-",237.01936588706292,"-",205.45532561322904,"-",216.41776036435695,"-",136.83060944284537,"-",140.66887446424042,"-",34.388240562009656,"-",29.236023829000793,"-",33.045125393740342,"-",32.02721881559642,"-",32.217563507182206,"-",36.406016086434107,"-",0]
[null,264,{"$f":"Chegadas!J272","v":239.39000000000016},{"$f":"IF(Chegadas!K272=\"I\",Atendimento!E279,Atendimento!L279)","v":4.0926471757072749},"*",241.38191441159273,"*",245.42116832441559,"*",248.11176628847528,"*",244.38778635977596,"*",249.6580444234358,239.39000000000016,243.48264717570743,"-",240.00475271833071,"-",235.34503734553249,"-",237.01936588706292,"-",205.45532561322904,"-",216.41776036435695,"-",136.83060944284537,"-",140.66887446424042,"-",34.388240562009656,"-",29.236023829000793,"-",33.045125393740342,"-",32.02721881559642,"-",32.217563507182206,"-",36.406016086434107,"-",0]
[null,265,{"$f":"Chegadas!J273","v":240.33000000000015},{"$f":"IF(Chegadas!K273=\"I\",Atendimento!E280,Atendimento!L280)","v":9.2023244422265051},"*",241.38191441159273,"*",245.42116832441559,"*",248.11176628847528,"*",244.38778635977596,"*",249.6580444234358,"*",243.48264717570743,240.33000000000015,249.53232444222667,"-",235.34503734553249,"-",237.01936588706292,"-",205.45532561322904,"-",216.41776036435695,"-",136.83060944284537,"-",140.66887446424042,"-",34.388240562009656,"-",29.236023829000793,"-",33.045125393740342,"-",32.02721881559642,"-",32.217563507182206,"-",36.406016086434107,"-",0]
[null,266,{"$f":"Chegadas!J274","v":240.54000000000016},{"$f":"IF(Chegadas!K274=\"I\",Atendimento!E281,Atendimento!L281)","v":2.7889610181711331},"*",241.38191441159273,"*",245.42116832441559,"*",248.11176628847528,"*",244.38778635977596,"*",249.6580444234358,"*",243.48264717570743,"*",249.53232444222667,240.54000000000016,243.3289610181713,"-",237.01936588706292,"-",205.45532561322904,"-",{"$f":"IF(OR(Y273=\"-\",Y273=\"*\"),Z272,Y273+$D273)","v":216.41776036435695},"-",136.83060944284537,"-",140.66887446424042,"-",34.388240562009656,"-",29.236023829000793,"-",33.045125393740342,"-",32.02721881559642,"-",32.217563507182206,"-",36.406016086434107,"-",0]
[null,267,{"$f":"Chegadas!J275","v":241.48000000000016},{"$f":"IF(Chegadas!K275=\"I\",Atendimento!E282,Atendimento!L282)","v":10.599468409527329},241.48000000000016,252.07946840952749,"-",245.42116832441559,"-",248.11176628847528,"-",244.38778635977596,"-",249.6580444234358,"-",243.48264717570743,"-",249.53232444222667,"-",243.3289610181713,"-",237.01936588706292,"-",205.45532561322904,"-",216.41776036435695,"-",{"$f":"IF(OR(AA274=\"-\",AA274=\"*\"),AB273,AA274+$D274)","v":136.83060944284537},"-",140.66887446424042,"-",34.388240562009656,"-",29.236023829000793,"-",33.045125393740342,"-",32.02721881559642,"-",32.217563507182206,"-",36.406016086434107,"-",0]
[null,268,{"$f":"Chegadas!J276","v":243.36000000000016},{"$f":"IF(Chegadas!K276=\"I\",Atendimento!E283,Atendimento!L283)","v":8.9329386674863684},"*",252.07946840952749,"*",245.42116832441559,"*",248.11176628847528,"*",244.38778635977596,"*",249.6580444234358,"*",243.48264717570743,"*",249.53232444222667,243.36000000000016,252.29293866748651,"-",237.01936588706292,"-",205.45532561322904,"-",216.41776036435695,"-",136.83060944284537,"-",{"$f":"IF(OR(AC275=\"-\",AC275=\"*\"),AD274,AC275+$D275)","v":140.66887446424042},"-",34.388240562009656,"-",29.236023829000793,"-",33.045125393740342,"-",32.02721881559642,"-",32.217563507182206,"-",36.406016086434107,"-",0]
[null,269,{"$f":"Chegadas!J277","v":243.73000000000016},{"$f":"IF(Chegadas!K277=\"I\",Atendimento!E284,Atendimento!L284)","v":13.549703314946568},"*",252.07946840952749,"*",245.42116832441559,"*",248.11176628847528,"*",244.38778635977596,"*",249.6580444234358,243.73000000000016,257.27970331494674,"-",249.53232444222667,"-",252.29293866748651,"-",237.01936588706292,"-",205.45532561322904,"-",216.41776036435695,"-",136.83060944284537,"-",140.66887446424042,"-",{"$f":"IF(OR(AE276=\"-\",AE276=\"*\"),AF275,AE276+$D276)","v":34.388240562009656},"-",29.236023829000793,"-",33.045125393740342,"-",32.02721881559642,"-",32.217563507182206,"-",36.406016086434107,"-",0]
[null,270,{"$f":"Chegadas!J278","v":244.26000000000016},{"$f":"IF(Chegadas!K278=\"I\",Atendimento!E285,Atendimento!L285)","v":9.932498684543253},"*",252.07946840952749,"*",245.42116832441559,"*",248.11176628847528,"*",244.38778635977596,"*",249.6580444234358,"*",257.27970331494674,"*",249.53232444222667,"*",252.29293866748651,244.26000000000016,254.19249868454341,"-",205.45532561322904,"-",216.41776036435695,"-",136.83060944284537,"-",140.66887446424042,"-",34.388240562009656,"-",{"$f":"IF(OR(AG277=\"-\",AG277=\"*\"),AH276,AG277+$D277)","v":29.236023829000793},"-",33.045125393740342,"-",32.02721881559642,"-",32.217563507182206,"-",36.406016086434107,"-",0]
[null,271,{"$f":"Chegadas!J279","v":244.78000000000017},{"$f":"IF(Chegadas!K279=\"I\",Atendimento!E286,Atendimento!L286)","v":5.8859793978750456},"*",252.07946840952749,"*",245.42116832441559,"*",248.11176628847528,244.78000000000017,250.66597939787522,"-",249.6580444234358,"-",257.27970331494674,"-",249.53232444222667,"-",252.29293866748651,"-",254.19249868454341,"-",205.45532561322904,"-",216.41776036435695,"-",136.83060944284537,"-",140.66887446424042,"-",34.388240562009656,"-",29.236023829000793,"-",{"$f":"IF(OR(AI278=\"-\",AI278=\"*\"),AJ277,AI278+$D278)","v":33.045125393740342},"-",32.02721881559642,"-",32.217563507182206,"-",36.406016086434107,"-",0]
[null,272,{"$f":"Chegadas!J280","v":245.11000000000018},{"$f":"IF(Chegadas!K280=\"I\",Atendimento!E287,Atendimento!L287)","v":14.229119509644088},"*",252.07946840952749,"*",245.42116832441559,"*",248.11176628847528,"*",250.66597939787522,"*",249.6580444234358,"*",257.27970331494674,"*",249.53232444222667,"*",252.29293866748651,"*",254.19249868454341,245.11000000000018,259.33911950964426,"-",216.41776036435695,"-",136.83060944284537,"-",140.66887446424042,"-",34.388240562009656,"-",29.236023829000793,"-",33.045125393740342,"-",{"$f":"IF(OR(AK279=\"-\",AK279=\"*\"),AL278,AK279+$D279)","v":32.02721881559642},"-",32.217563507182206,"-",36.406016086434107,"-",0]
[null,273,{"$f":"Chegadas!J281","v":248.63000000000019},{"$f":"IF(Chegadas!K281=\"I\",Atendimento!E288,Atendimento!L288)","v":9.0171570790628799},"*",252.07946840952749,248.63000000000019,257.64715707906305,"-",248.11176628847528,"-",250.66597939787522,"-",249.6580444234358,"-",257.27970331494674,"-",249.53232444222667,"-",252.29293866748651,"-",254.19249868454341,"-",259.33911950964426,"-",216.41776036435695,"-",136.83060944284537,"-",140.66887446424042,"-",34.388240562009656,"-",29.236023829000793,"-",33.045125393740342,"-",32.02721881559642,"-",{"$f":"IF(OR(AM280=\"-\",AM280=\"*\"),AN279,AM280+$D280)","v":32.217563507182206},"-",36.406016086434107,"-",0]
[null,274,{"$f":"Chegadas!J282","v":249.24000000000021},{"$f":"IF(Chegadas!K282=\"I\",Atendimento!E289,Atendimento!L289)","v":9.2124421092394311},"*",252.07946840952749,"*",257.64715707906305,249.24000000000021,258.45244210923966,"-",250.66597939787522,"-",249.6580444234358,"-",257.27970331494674,"-",249.53232444222667,"-",252.29293866748651,"-",254.19249868454341,"-",259.33911950964426,"-",216.41776036435695,"-",136.83060944284537,"-",140.66887446424042,"-",34.388240562009656,"-",29.236023829000793,"-",33.045125393740342,"-",32.02721881559642,"-",32.217563507182206,"-",{"$f":"IF(OR(AO281=\"-\",AO281=\"*\"),AP280,AO281+$D281)","v":36.406016086434107},"-",0]
[null,275,{"$f":"Chegadas!J283","v":249.80000000000021},{"$f":"IF(Chegadas!K283=\"I\",Atendimento!E290,Atendimento!L290)","v":3.1290384102587416},"*",252.07946840952749,"*",257.64715707906305,"*",258.45244210923966,"*",250.66597939787522,249.80000000000021,252.92903841025895,"-",257.27970331494674,"-",249.53232444222667,"-",252.29293866748651,"-",254.19249868454341,"-",259.33911950964426,"-",216.41776036435695,"-",136.83060944284537,"-",140.66887446424042,"-",34.388240562009656,"-",29.236023829000793,"-",33.045125393740342,"-",32.02721881559642,"-",32.217563507182206,"-",36.406016086434107,"-",{"$f":"IF(OR(AQ282=\"-\",AQ282=\"*\"),AR281,AQ282+$D282)","v":0}]
[null,276,{"$f":"Chegadas!J284","v":250.79000000000022},{"$f":"IF(Chegadas!K284=\"I\",Atendimento!E291,Atendimento!L291)","v":1.9590825673611667},"*",252.07946840952749,"*",257.64715707906305,"*",258.45244210923966,250.79000000000022,252.7490825673614,"-",252.92903841025895,"-",257.27970331494674,"-",249.53232444222667,"-",252.29293866748651,"-",254.19249868454341,"-",259.33911950964426,"-",216.41776036435695,"-",136.83060944284537,"-",140.66887446424042,"-",34.388240562009656,"-",29.236023829000793,"-",33.045125393740342,"-",32.02721881559642,"-",32.217563507182206,"-",36.406016086434107,"-",0]
[null,277,{"$f":"Chegadas!J285","v":251.69000000000023},{"$f":"IF(Chegadas!K285=\"I\",Atendimento!E292,Atendimento!L292)","v":10.945738926152014},"*",252.07946840952749,"*",257.64715707906305,"*",258.45244210923966,"*",{"$f":"IF(OR(K284=\"-\",K284=\"*\"),L283,K284+$D284)","v":252.7490825673614},"*",{"$f":"IF(OR(M284=\"-\",M284=\"*\"),N283,M284+$D284)","v":252.92903841025895},"*",{"$f":"IF(OR(O284=\"-\",O284=\"*\"),P283,O284+$D284)","v":257.27970331494674},251.69000000000023,{"$f":"IF(OR(Q284=\"-\",Q284=\"*\"),R283,Q284+$D284)","v":262.63573892615221},"-",{"$f":"IF(OR(S284=\"-\",S284=\"*\"),T283,S284+$D284)","v":252.29293866748651},"-",{"$f":"IF(OR(U284=\"-\",U284=\"*\"),V283,U284+$D284)","v":254.19249868454341},"-",{"$f":"IF(OR(W284=\"-\",W284=\"*\"),X283,W284+$D284)","v":259.33911950964426},"-",216.41776036435695,"-",136.83060944284537,"-",140.66887446424042,"-",34.388240562009656,"-",29.236023829000793,"-",33.045125393740342,"-",32.02721881559642,"-",32.217563507182206,"-",36.406016086434107,"-",0]
[null,278,{"$f":"Chegadas!J286","v":252.20000000000022},{"$f":"IF(Chegadas!K286=\"I\",Atendimento!E293,Atendimento!L293)","v":9.081996461482392},252.20000000000022,261.28199646148261,"-",257.64715707906305,"-",258.45244210923966,"-",252.7490825673614,"-",252.92903841025895,"-",257.27970331494674,"-",262.63573892615221,"-",252.29293866748651,"-",254.19249868454341,"-",259.33911950964426,"-",216.41776036435695,"-",136.83060944284537,"-",140.66887446424042,"-",34.388240562009656,"-",29.236023829000793,"-",33.045125393740342,"-",32.02721881559642,"-",32.217563507182206,"-",36.406016086434107,"-",0]
[null,279,{"$f":"Chegadas!J287","v":252.22000000000023},{"$f":"IF(Chegadas!K287=\"I\",Atendimento!E294,Atendimento!L294)","v":4.9906658023032477},"*",261.28199646148261,"*",257.64715707906305,"*",258.45244210923966,"*",252.7490825673614,"*",252.92903841025895,"*",257.27970331494674,"*",262.63573892615221,"*",252.29293866748651,"*",254.19249868454341,"*",259.33911950964426,252.22000000000023,257.21066580230348,"-",136.83060944284537,"-",140.66887446424042,"-",34.388240562009656,"-",29.236023829000793,"-",33.045125393740342,"-",32.02721881559642,"-",32.217563507182206,"-",36.406016086434107,"-",0]
[null,280,{"$f":"Chegadas!J288","v":252.81000000000023},{"$f":"IF(Chegadas!K288=\"I\",Atendimento!E295,Atendimento!L295)","v":3.5648254436692888},"*",261.28199646148261,"*",257.64715707906305,"*",258.45244210923966,252.81000000000023,256.37482544366952,"-",252.92903841025895,"-",257.27970331494674,"-",262.63573892615221,"-",252.29293866748651,"-",254.19249868454341,"-",259.33911950964426,"-",257.21066580230348,"-",136.83060944284537,"-",140.66887446424042,"-",34.388240562009656,"-",29.236023829000793,"-",33.045125393740342,"-",32.02721881559642,"-",32.217563507182206,"-",36.406016086434107,"-",0]
[null,281,{"$f":"Chegadas!J289","v":254.94000000000023},{"$f":"IF(Chegadas!K289=\"I\",Atendimento!E296,Atendimento!L296)","v":3.3990589596254646},"*",261.28199646148261,"*",257.64715707906305,"*",258.45244210923966,"*",256.37482544366952,254.94000000000023,258.33905895962567,"-",257.27970331494674,"-",262.63573892615221,"-",252.29293866748651,"-",254.19249868454341,"-",259.33911950964426,"-",257.21066580230348,"-",136.83060944284537,"-",140.66887446424042,"-",34.388240562009656,"-",29.236023829000793,"-",33.045125393740342,"-",32.02721881559642,"-",32.217563507182206,"-",36.406016086434107,"-",0]
[null,282,{"$f":"Chegadas!J290","v":256.44000000000023},{"$f":"IF(Chegadas!K290=\"I\",Atendimento!E297,Atendimento!L297)","v":11.120491191014525},"*",261.28199646148261,"*",257.64715707906305,"*",258.45244210923966,256.44000000000023,267.56049119101476,"-",258.33905895962567,"-",257.27970331494674,"-",262.63573892615221,"-",252.29293866748651,"-",254.19249868454341,"-",259.33911950964426,"-",257.21066580230348,"-",136.83060944284537,"-",140.66887446424042,"-",34.388240562009656,"-",29.236023829000793,"-",33.045125393740342,"-",32.02721881559642,"-",32.217563507182206,"-",36.406016086434107,"-",0]
[null,283,{"$f":"Chegadas!J291","v":257.73000000000025},{"$f":"IF(Chegadas!K291=\"I\",Atendimento!E298,Atendimento!L298)","v":2.9326155161112779},"*",261.28199646148261,257.73000000000025,260.66261551611154,"-",258.45244210923966,"-",267.56049119101476,"-",258.33905895962567,"-",257.27970331494674,"-",262.63573892615221,"-",252.29293866748651,"-",254.19249868454341,"-",259.33911950964426,"-",257.21066580230348,"-",136.83060944284537,"-",140.66887446424042,"-",34.388240562009656,"-",29.236023829000793,"-",33.045125393740342,"-",32.02721881559642,"-",32.217563507182206,"-",36.406016086434107,"-",0]
[null,284,{"$f":"Chegadas!J292","v":259.06000000000023},{"$f":"IF(Chegadas!K292=\"I\",Atendimento!E299,Atendimento!L299)","v":8.5447922963841112},"*",261.28199646148261,"*",260.66261551611154,259.06000000000023,267.60479229638435,"-",267.56049119101476,"-",258.33905895962567,"-",257.27970331494674,"-",262.63573892615221,"-",252.29293866748651,"-",254.19249868454341,"-",259.33911950964426,"-",257.21066580230348,"-",136.83060944284537,"-",140.66887446424042,"-",34.388240562009656,"-",29.236023829000793,"-",33.045125393740342,"-",32.02721881559642,"-",32.217563507182206,"-",36.406016086434107,"-",0]
[null,285,{"$f":"Chegadas!J293","v":261.49000000000024},{"$f":"IF(Chegadas!K293=\"I\",Atendimento!E300,Atendimento!L300)","v":12.145231963211369},261.49000000000024,273.6352319632116,"-",260.66261551611154,"-",267.60479229638435,"-",267.56049119101476,"-",258.33905895962567,"-",257.27970331494674,"-",262.63573892615221,"-",252.29293866748651,"-",254.19249868454341,"-",259.33911950964426,"-",257.21066580230348,"-",136.83060944284537,"-",140.66887446424042,"-",34.388240562009656,"-",29.236023829000793,"-",33.045125393740342,"-",32.02721881559642,"-",32.217563507182206,"-",36.406016086434107,"-",0]
[null,286,{"$f":"Chegadas!J294","v":262.64000000000021},{"$f":"IF(Chegadas!K294=\"I\",Atendimento!E301,Atendimento!L301)","v":6.0488247174036305},"*",273.6352319632116,262.64000000000021,268.68882471740386,"-",267.60479229638435,"-",267.56049119101476,"-",258.33905895962567,"-",257.27970331494674,"-",262.63573892615221,"-",252.29293866748651,"-",254.19249868454341,"-",259.33911950964426,"-",257.21066580230348,"-",136.83060944284537,"-",140.66887446424042,"-",34.388240562009656,"-",29.236023829000793,"-",33.045125393740342,"-",32.02721881559642,"-",32.217563507182206,"-",36.406016086434107,"-",0]
[null,287,{"$f":"Chegadas!J295","v":262.85000000000019},{"$f":"IF(Chegadas!K295=\"I\",Atendimento!E302,Atendimento!L302)","v":5.445112652984422},"*",273.6352319632116,"*",268.68882471740386,"*",267.60479229638435,"*",267.56049119101476,262.85000000000019,268.29511265298464,"-",257.27970331494674,"-",262.63573892615221,"-",252.29293866748651,"-",254.19249868454341,"-",259.33911950964426,"-",257.21066580230348,"-",136.83060944284537,"-",140.66887446424042,"-",34.388240562009656,"-",29.236023829000793,"-",33.045125393740342,"-",32.02721881559642,"-",32.217563507182206,"-",36.406016086434107,"-",0]
[null,288,{"$f":"Chegadas!J296","v":263.20000000000022},{"$f":"IF(Chegadas!K296=\"I\",Atendimento!E303,Atendimento!L303)","v":6.1350801265036718},"*",273.6352319632116,"*",268.68882471740386,"*",267.60479229638435,"*",267.56049119101476,"*",268.29511265298464,263.20000000000022,269.3350801265039,"-",262.63573892615221,"-",252.29293866748651,"-",254.19249868454341,"-",259.33911950964426,"-",257.21066580230348,"-",136.83060944284537,"-",140.66887446424042,"-",34.388240562009656,"-",29.236023829000793,"-",33.045125393740342,"-",32.02721881559642,"-",32.217563507182206,"-",36.406016086434107,"-",0]
[null,289,{"$f":"Chegadas!J297","v":265.2200000000002},{"$f":"IF(Chegadas!K297=\"I\",Atendimento!E304,Atendimento!L304)","v":13.066961137307315},"*",273.6352319632116,"*",268.68882471740386,"*",267.60479229638435,"*",267.56049119101476,"*",268.29511265298464,"*",269.3350801265039,265.2200000000002,278.28696113730751,"-",252.29293866748651,"-",254.19249868454341,"-",259.33911950964426,"-",257.21066580230348,"-",136.83060944284537,"-",140.66887446424042,"-",34.388240562009656,"-",29.236023829000793,"-",33.045125393740342,"-",32.02721881559642,"-",32.217563507182206,"-",36.406016086434107,"-",0]
[null,290,{"$f":"Chegadas!J298","v":269.25000000000017},{"$f":"IF(Chegadas!K298=\"I\",Atendimento!E305,Atendimento!L305)","v":6.6340482907979101},"*",273.6352319632116,269.25000000000017,275.88404829079809,"-",267.60479229638435,"-",267.56049119101476,"-",268.29511265298464,"-",269.3350801265039,"-",278.28696113730751,"-",252.29293866748651,"-",254.19249868454341,"-",259.33911950964426,"-",257.21066580230348,"-",136.83060944284537,"-",140.66887446424042,"-",34.388240562009656,"-",29.236023829000793,"-",33.045125393740342,"-",32.02721881559642,"-",32.217563507182206,"-",36.406016086434107,"-",0]
[null,291,{"$f":"Chegadas!J299","v":270.57},{"$f":"IF(Chegadas!K299=\"I\",Atendimento!E306,Atendimento!L306)","v":1.7465860348024742},"*",273.6352319632116,"*",275.88404829079809,270.57,272.31658603480247,"-",267.56049119101476,"-",268.29511265298464,"-",269.3350801265039,"-",278.28696113730751,"-",252.29293866748651,"-",254.19249868454341,"-",259.33911950964426,"-",257.21066580230348,"-",136.83060944284537,"-",140.66887446424042,"-",34.388240562009656,"-",29.236023829000793,"-",33.045125393740342,"-",32.02721881559642,"-",32.217563507182206,"-",36.406016086434107,"-",0]
[null,292,{"$f":"Chegadas!J300","v":271.40000000000015},{"$f":"IF(Chegadas!K300=\"I\",Atendimento!E307,Atendimento!L307)","v":2.9037836685552301},"*",273.6352319632116,"*",275.88404829079809,"*",272.31658603480247,271.40000000000015,274.30378366855535,"-",268.29511265298464,"-",269.3350801265039,"-",278.28696113730751,"-",252.29293866748651,"-",254.19249868454341,"-",259.33911950964426,"-",257.21066580230348,"-",136.83060944284537,"-",140.66887446424042,"-",34.388240562009656,"-",29.236023829000793,"-",33.045125393740342,"-",32.02721881559642,"-",32.217563507182206,"-",36.406016086434107,"-",0]
[null,293,{"$f":"Chegadas!J301","v":272.23000000000013},{"$f":"IF(Chegadas!K301=\"I\",Atendimento!E308,Atendimento!L308)","v":4.2306331999905398},"*",273.6352319632116,"*",275.88404829079809,"*",272.31658603480247,"*",274.30378366855535,272.23000000000013,276.4606331999907,"-",269.3350801265039,"-",278.28696113730751,"-",252.29293866748651,"-",254.19249868454341,"-",259.33911950964426,"-",257.21066580230348,"-",136.83060944284537,"-",140.66887446424042,"-",34.388240562009656,"-",29.236023829000793,"-",33.045125393740342,"-",32.02721881559642,"-",32.217563507182206,"-",36.406016086434107,"-",0]
[null,294,{"$f":"Chegadas!J302","v":272.42000000000013},{"$f":"IF(Chegadas!K302=\"I\",Atendimento!E309,Atendimento!L309)","v":7.1024908803226277},"*",273.6352319632116,"*",275.88404829079809,272.42000000000013,279.52249088032278,"-",274.30378366855535,"-",276.4606331999907,"-",269.3350801265039,"-",278.28696113730751,"-",252.29293866748651,"-",254.19249868454341,"-",259.33911950964426,"-",257.21066580230348,"-",136.83060944284537,"-",140.66887446424042,"-",34.388240562009656,"-",29.236023829000793,"-",33.045125393740342,"-",32.02721881559642,"-",32.217563507182206,"-",36.406016086434107,"-",0]
[null,295,{"$f":"Chegadas!J303","v":273.57000000000011},{"$f":"IF(Chegadas!K303=\"I\",Atendimento!E310,Atendimento!L310)","v":3.1260012471055463},"*",273.6352319632116,"*",275.88404829079809,"*",279.52249088032278,"*",274.30378366855535,"*",276.4606331999907,273.57000000000011,276.69600124710564,"-",278.28696113730751,"-",252.29293866748651,"-",254.19249868454341,"-",259.33911950964426,"-",257.21066580230348,"-",136.83060944284537,"-",140.66887446424042,"-",34.388240562009656,"-",29.236023829000793,"-",33.045125393740342,"-",32.02721881559642,"-",32.217563507182206,"-",36.406016086434107,"-",0]
[null,296,{"$f":"Chegadas!J304","v":273.65000000000009},{"$f":"IF(Chegadas!K304=\"I\",Atendimento!E311,Atendimento!L311)","v":8.5412037730465791},273.65000000000009,282.19120377304665,"-",275.88404829079809,"-",279.52249088032278,"-",274.30378366855535,"-",276.4606331999907,"-",276.69600124710564,"-",278.28696113730751,"-",252.29293866748651,"-",254.19249868454341,"-",259.33911950964426,"-",257.21066580230348,"-",136.83060944284537,"-",140.66887446424042,"-",34.388240562009656,"-",29.236023829000793,"-",33.045125393740342,"-",32.02721881559642,"-",32.217563507182206,"-",36.406016086434107,"-",0]
[null,297,{"$f":"Chegadas!J305","v":273.8300000000001},{"$f":"IF(Chegadas!K305=\"I\",Atendimento!E312,Atendimento!L312)","v":6.6648773692425722},"*",282.19120377304665,"*",275.88404829079809,"*",279.52249088032278,"*",274.30378366855535,"*",276.4606331999907,"*",276.69600124710564,"*",278.28696113730751,273.8300000000001,280.49487736924266,"-",254.19249868454341,"-",259.33911950964426,"-",257.21066580230348,"-",136.83060944284537,"-",140.66887446424042,"-",34.388240562009656,"-",29.236023829000793,"-",33.045125393740342,"-",32.02721881559642,"-",32.217563507182206,"-",36.406016086434107,"-",0]
[null,298,{"$f":"Chegadas!J306","v":274.15000000000009},{"$f":"IF(Chegadas!K306=\"I\",Atendimento!E313,Atendimento!L313)","v":8.4199677747370352},"*",282.19120377304665,"*",275.88404829079809,"*",279.52249088032278,"*",274.30378366855535,"*",276.4606331999907,"*",276.69600124710564,"*",278.28696113730751,"*",280.49487736924266,274.15000000000009,282.56996777473711,"-",259.33911950964426,"-",257.21066580230348,"-",136.83060944284537,"-",140.66887446424042,"-",34.388240562009656,"-",29.236023829000793,"-",33.045125393740342,"-",32.02721881559642,"-",32.217563507182206,"-",36.406016086434107,"-",0]
[null,299,{"$f":"Chegadas!J307","v":274.17000000000007},{"$f":"IF(Chegadas!K307=\"I\",Atendimento!E314,Atendimento!L314)","v":2.6765439608182904},"*",282.19120377304665,"*",275.88404829079809,"*",279.52249088032278,"*",274.30378366855535,"*",276.4606331999907,"*",276.69600124710564,"*",278.28696113730751,"*",280.49487736924266,"*",282.56996777473711,274.17000000000007,276.84654396081834,"-",257.21066580230348,"-",136.83060944284537,"-",140.66887446424042,"-",34.388240562009656,"-",29.236023829000793,"-",33.045125393740342,"-",32.02721881559642,"-",32.217563507182206,"-",36.406016086434107,"-",0]
[null,300,{"$f":"Chegadas!J308","v":274.88},{"$f":"IF(Chegadas!K308=\"I\",Atendimento!E315,Atendimento!L315)","v":1.3660156557988072},"*",282.19120377304665,"*",275.88404829079809,"*",279.52249088032278,274.88,276.24601565579883,"-",276.4606331999907,"-",276.69600124710564,"-",278.28696113730751,"-",280.49487736924266,"-",282.56996777473711,"-",276.84654396081834,"-",257.21066580230348,"-",136.83060944284537,"-",140.66887446424042,"-",34.388240562009656,"-",29.236023829000793,"-",33.045125393740342,"-",32.02721881559642,"-",32.217563507182206,"-",36.406016086434107,"-",0]
[null,301,{"$f":"Chegadas!J309","v":275.8},{"$f":"IF(Chegadas!K309=\"I\",Atendimento!E316,Atendimento!L316)","v":1.4279152731478737},"*",282.19120377304665,"*",275.88404829079809,"*",279.52249088032278,"*",276.24601565579883,"*",276.4606331999907,"*",276.69600124710564,"*",278.28696113730751,"*",280.49487736924266,"*",282.56996777473711,"*",276.84654396081834,275.8,277.22791527314786,"-",136.83060944284537,"-",140.66887446424042,"-",34.388240562009656,"-",29.236023829000793,"-",33.045125393740342,"-",32.02721881559642,"-",32.217563507182206,"-",36.406016086434107,"-",0]
[null,302,{"$f":"Chegadas!J310","v":275.95000000000005},{"$f":"IF(Chegadas!K310=\"I\",Atendimento!E317,Atendimento!L317)","v":16.022185477937459},"*",282.19120377304665,275.95000000000005,291.9721854779375,"-",279.52249088032278,"-",276.24601565579883,"-",276.4606331999907,"-",276.69600124710564,"-",278.28696113730751,"-",280.49487736924266,"-",282.56996777473711,"-",276.84654396081834,"-",277.22791527314786,"-",136.83060944284537,"-",140.66887446424042,"-",34.388240562009656,"-",29.236023829000793,"-",33.045125393740342,"-",32.02721881559642,"-",32.217563507182206,"-",36.406016086434107,"-",0]
[null,303,{"$f":"Chegadas!J311","v":275.98},{"$f":"IF(Chegadas!K311=\"I\",Atendimento!E318,Atendimento!L318)","v":15.381792320419816},"*",282.19120377304665,"*",291.9721854779375,"*",279.52249088032278,"*",276.24601565579883,"*",276.4606331999907,"*",276.69600124710564,"*",278.28696113730751,"*",280.49487736924266,"*",282.56996777473711,"*",276.84654396081834,"*",277.22791527314786,275.98,291.36179232041985,"-",140.66887446424042,"-",34.388240562009656,"-",29.236023829000793,"-",33.045125393740342,"-",32.02721881559642,"-",32.217563507182206,"-",36.406016086434107,"-",0]
[null,304,{"$f":"Chegadas!J312","v":276.63},{"$f":"IF(Chegadas!K312=\"I\",Atendimento!E319,Atendimento!L319)","v":7.2733512642502074},"*",282.19120377304665,"*",291.9721854779375,"*",279.52249088032278,276.63,283.9033512642502,"-",276.4606331999907,"-",276.69600124710564,"-",278.28696113730751,"-",280.49487736924266,"-",282.56996777473711,"-",276.84654396081834,"-",277.22791527314786,"-",291.36179232041985,"-",140.66887446424042,"-",34.388240562009656,"-",29.236023829000793,"-",33.045125393740342,"-",32.02721881559642,"-",32.217563507182206,"-",36.406016086434107,"-",0]
[null,305,{"$f":"Chegadas!J313","v":276.74},{"$f":"IF(Chegadas!K313=\"I\",Atendimento!E320,Atendimento!L320)","v":7.0673444351718233},"*",282.19120377304665,"*",291.9721854779375,"*",279.52249088032278,"*",283.9033512642502,276.74,283.80734443517184,"-",276.69600124710564,"-",278.28696113730751,"-",280.49487736924266,"-",282.56996777473711,"-",276.84654396081834,"-",277.22791527314786,"-",291.36179232041985,"-",140.66887446424042,"-",34.388240562009656,"-",29.236023829000793,"-",33.045125393740342,"-",32.02721881559642,"-",32.217563507182206,"-",36.406016086434107,"-",0]
[null,306,{"$f":"Chegadas!J314","v":278.94},{"$f":"IF(Chegadas!K314=\"I\",Atendimento!E321,Atendimento!L321)","v":8.6201227575789705},"*",282.19120377304665,"*",291.9721854779375,"*",279.52249088032278,"*",283.9033512642502,"*",283.80734443517184,278.94,287.56012275757899,"-",278.28696113730751,"-",280.49487736924266,"-",282.56996777473711,"-",276.84654396081834,"-",277.22791527314786,"-",291.36179232041985,"-",140.66887446424042,"-",34.388240562009656,"-",29.236023829000793,"-",33.045125393740342,"-",32.02721881559642,"-",32.217563507182206,"-",36.406016086434107,"-",0]
[null,307,{"$f":"Chegadas!J315","v":284.63},{"$f":"IF(Chegadas!K315=\"I\",Atendimento!E322,Atendimento!L322)","v":9.6942955611439725},284.63,294.32429556114397,"-",291.9721854779375,"-",279.52249088032278,"-",283.9033512642502,"-",283.80734443517184,"-",287.56012275757899,"-",278.28696113730751,"-",280.49487736924266,"-",282.56996777473711,"-",276.84654396081834,"-",277.22791527314786,"-",291.36179232041985,"-",140.66887446424042,"-",34.388240562009656,"-",29.236023829000793,"-",33.045125393740342,"-",32.02721881559642,"-",32.217563507182206,"-",36.406016086434107,"-",0]
[null,308,{"$f":"Chegadas!J316","v":285.65999999999997},{"$f":"IF(Chegadas!K316=\"I\",Atendimento!E323,Atendimento!L323)","v":8.0795607425763194},"*",294.32429556114397,"*",291.9721854779375,285.65999999999997,293.73956074257626,"-",283.9033512642502,"-",283.80734443517184,"-",287.56012275757899,"-",278.28696113730751,"-",280.49487736924266,"-",282.56996777473711,"-",276.84654396081834,"-",277.22791527314786,"-",291.36179232041985,"-",140.66887446424042,"-",34.388240562009656,"-",29.236023829000793,"-",33.045125393740342,"-",32.02721881559642,"-",32.217563507182206,"-",36.406016086434107,"-",0]
[null,309,{"$f":"Chegadas!J317","v":285.82},{"$f":"IF(Chegadas!K317=\"I\",Atendimento!E324,Atendimento!L324)","v":6.7407245261918938},"*",294.32429556114397,"*",291.9721854779375,"*",293.73956074257626,285.82,292.5607245261919,"-",283.80734443517184,"-",287.56012275757899,"-",278.28696113730751,"-",280.49487736924266,"-",282.56996777473711,"-",276.84654396081834,"-",277.22791527314786,"-",291.36179232041985,"-",140.66887446424042,"-",34.388240562009656,"-",29.236023829000793,"-",33.045125393740342,"-",32.02721881559642,"-",32.217563507182206,"-",36.406016086434107,"-",0]
[null,310,{"$f":"Chegadas!J318","v":286.17},{"$f":"IF(Chegadas!K318=\"I\",Atendimento!E325,Atendimento!L325)","v":6.4161536126912715},"*",294.32429556114397,"*",291.9721854779375,"*",293.73956074257626,"*",292.5607245261919,286.17,292.58615361269131,"-",287.56012275757899,"-",278.28696113730751,"-",280.49487736924266,"-",282.56996777473711,"-",276.84654396081834,"-",277.22791527314786,"-",291.36179232041985,"-",140.66887446424042,"-",34.388240562009656,"-",29.236023829000793,"-",33.045125393740342,"-",32.02721881559642,"-",32.217563507182206,"-",36.406016086434107,"-",0]
[null,311,{"$f":"Chegadas!J319","v":286.94},{"$f":"IF(Chegadas!K319=\"I\",Atendimento!E326,Atendimento!L326)","v":9.6668957425759885},"*",294.32429556114397,"*",291.9721854779375,"*",293.73956074257626,"*",292.5607245261919,"*",292.58615361269131,"*",287.56012275757899,286.94,296.606895742576,"-",280.49487736924266,"-",282.56996777473711,"-",276.84654396081834,"-",277.22791527314786,"-",291.36179232041985,"-",140.66887446424042,"-",34.388240562009656,"-",29.236023829000793,"-",33.045125393740342,"-",32.02721881559642,"-",32.217563507182206,"-",36.406016086434107,"-",0]
[null,312,{"$f":"Chegadas!J320","v":287.38},{"$f":"IF(Chegadas!K320=\"I\",Atendimento!E327,Atendimento!L327)","v":9.6391989585206108},"*",294.32429556114397,"*",291.9721854779375,"*",293.73956074257626,"*",292.5607245261919,"*",292.58615361269131,"*",287.56012275757899,"*",296.606895742576,287.38,297.01919895852063,"-",282.56996777473711,"-",276.84654396081834,"-",277.22791527314786,"-",291.36179232041985,"-",140.66887446424042,"-",34.388240562009656,"-",29.236023829000793,"-",33.045125393740342,"-",32.02721881559642,"-",32.217563507182206,"-",36.406016086434107,"-",0]
[null,313,{"$f":"Chegadas!J321","v":287.98},{"$f":"IF(Chegadas!K321=\"I\",Atendimento!E328,Atendimento!L328)","v":3.011868426463248},"*",294.32429556114397,"*",291.9721854779375,"*",293.73956074257626,"*",292.5607245261919,"*",292.58615361269131,287.98,290.99186842646327,"-",296.606895742576,"-",297.01919895852063,"-",282.56996777473711,"-",276.84654396081834,"-",277.22791527314786,"-",291.36179232041985,"-",140.66887446424042,"-",34.388240562009656,"-",29.236023829000793,"-",33.045125393740342,"-",32.02721881559642,"-",32.217563507182206,"-",36.406016086434107,"-",0]
[null,314,{"$f":"Chegadas!J322","v":288.02000000000004},{"$f":"IF(Chegadas!K322=\"I\",Atendimento!E329,Atendimento!L329)","v":4.3849728478154013},"*",294.32429556114397,"*",291.9721854779375,"*",293.73956074257626,"*",292.5607245261919,"*",292.58615361269131,"*",290.99186842646327,"*",296.606895742576,"*",297.01919895852063,288.02000000000004,292.40497284781543,"-",276.84654396081834,"-",277.22791527314786,"-",291.36179232041985,"-",140.66887446424042,"-",34.388240562009656,"-",29.236023829000793,"-",33.045125393740342,"-",32.02721881559642,"-",32.217563507182206,"-",36.406016086434107,"-",0]
[null,315,{"$f":"Chegadas!J323","v":290.48},{"$f":"IF(Chegadas!K323=\"I\",Atendimento!E330,Atendimento!L330)","v":8.887441701583942},"*",294.32429556114397,"*",291.9721854779375,"*",293.73956074257626,"*",292.5607245261919,"*",292.58615361269131,"*",290.99186842646327,"*",296.606895742576,"*",297.01919895852063,"*",292.40497284781543,290.48,299.36744170158397,"-",277.22791527314786,"-",291.36179232041985,"-",140.66887446424042,"-",34.388240562009656,"-",29.236023829000793,"-",33.045125393740342,"-",32.02721881559642,"-",32.217563507182206,"-",36.406016086434107,"-",0]
[null,316,{"$f":"Chegadas!J324","v":290.72000000000003},{"$f":"IF(Chegadas!K324=\"I\",Atendimento!E331,Atendimento!L331)","v":12.630608918041062},"*",294.32429556114397,"*",291.9721854779375,"*",293.73956074257626,"*",292.5607245261919,"*",292.58615361269131,"*",290.99186842646327,"*",296.606895742576,"*",297.01919895852063,"*",292.40497284781543,"*",299.36744170158397,290.72000000000003,303.35060891804108,"-",291.36179232041985,"-",140.66887446424042,"-",34.388240562009656,"-",29.236023829000793,"-",33.045125393740342,"-",32.02721881559642,"-",32.217563507182206,"-",36.406016086434107,"-",0]
[null,317,{"$f":"Chegadas!J325","v":292.8},{"$f":"IF(Chegadas!K325=\"I\",Atendimento!E332,Atendimento!L332)","v":5.7296885065824474},"*",294.32429556114397,292.8,298.52968850658243,"-",293.73956074257626,"-",292.5607245261919,"-",292.58615361269131,"-",290.99186842646327,"-",296.606895742576,"-",297.01919895852063,"-",292.40497284781543,"-",299.36744170158397,"-",303.35060891804108,"-",291.36179232041985,"-",140.66887446424042,"-",34.388240562009656,"-",29.236023829000793,"-",33.045125393740342,"-",32.02721881559642,"-",32.217563507182206,"-",36.406016086434107,"-",0]
[null,318,{"$f":"Chegadas!J326","v":292.85000000000002},{"$f":"IF(Chegadas!K326=\"I\",Atendimento!E333,Atendimento!L333)","v":6.4402903848969588},"*",294.32429556114397,"*",298.52968850658243,"*",293.73956074257626,292.85000000000002,299.29029038489699,"-",292.58615361269131,"-",290.99186842646327,"-",296.606895742576,"-",297.01919895852063,"-",292.40497284781543,"-",299.36744170158397,"-",303.35060891804108,"-",291.36179232041985,"-",140.66887446424042,"-",34.388240562009656,"-",29.236023829000793,"-",33.045125393740342,"-",32.02721881559642,"-",32.217563507182206,"-",36.406016086434107,"-",0]
[null,319,{"$f":"Chegadas!J327","v":293.25},{"$f":"IF(Chegadas!K327=\"I\",Atendimento!E334,Atendimento!L334)","v":6.3262211812392763},"*",294.32429556114397,"*",298.52968850658243,"*",293.73956074257626,"*",299.29029038489699,293.25,299.57622118123925,"-",290.99186842646327,"-",296.606895742576,"-",297.01919895852063,"-",292.40497284781543,"-",299.36744170158397,"-",303.35060891804108,"-",291.36179232041985,"-",140.66887446424042,"-",34.388240562009656,"-",29.236023829000793,"-",33.045125393740342,"-",32.02721881559642,"-",32.217563507182206,"-",36.406016086434107,"-",0]
[null,320,{"$f":"Chegadas!J328","v":294.73},{"$f":"IF(Chegadas!K328=\"I\",Atendimento!E335,Atendimento!L335)","v":5.7178083673602114},294.73,300.44780836736021,"-",298.52968850658243,"-",293.73956074257626,"-",299.29029038489699,"-",299.57622118123925,"-",290.99186842646327,"-",296.606895742576,"-",297.01919895852063,"-",292.40497284781543,"-",299.36744170158397,"-",303.35060891804108,"-",291.36179232041985,"-",140.66887446424042,"-",34.388240562009656,"-",29.236023829000793,"-",33.045125393740342,"-",32.02721881559642,"-",32.217563507182206,"-",36.406016086434107,"-",0]
[null,321,{"$f":"Chegadas!J329","v":294.88},{"$f":"IF(Chegadas!K329=\"I\",Atendimento!E336,Atendimento!L336)","v":10.883930972680972},"*",300.44780836736021,"*",298.52968850658243,294.88,305.76393097268095,"-",299.29029038489699,"-",299.57622118123925,"-",290.99186842646327,"-",296.606895742576,"-",297.01919895852063,"-",292.40497284781543,"-",299.36744170158397,"-",303.35060891804108,"-",291.36179232041985,"-",140.66887446424042,"-",34.388240562009656,"-",29.236023829000793,"-",33.045125393740342,"-",32.02721881559642,"-",32.217563507182206,"-",36.406016086434107,"-",0]
[null,322,{"$f":"Chegadas!J330","v":296.24},{"$f":"IF(Chegadas!K330=\"I\",Atendimento!E337,Atendimento!L337)","v":10.669850452037048},"*",300.44780836736021,{"$f":"IF(E329<>\"*\",\"-\",IF($C329>=H328,$C329,\"*\"))","v":"*"},298.52968850658243,{"$f":"IF(G329<>\"*\",\"-\",IF($C329>=J328,$C329,\"*\"))","v":"*"},305.76393097268095,{"$f":"IF(I329<>\"*\",\"-\",IF($C329>=L328,$C329,\"*\"))","v":"*"},299.29029038489699,{"$f":"IF(K329<>\"*\",\"-\",IF($C329>=N328,$C329,\"*\"))","v":"*"},299.57622118123925,{"$f":"IF(M329<>\"*\",\"-\",IF($C329>=P328,$C329,\"*\"))","v":296.24},306.90985045203706,{"$f":"IF(O329<>\"*\",\"-\",IF($C329>=R328,$C329,\"*\"))","v":"-"},296.606895742576,{"$f":"IF(Q329<>\"*\",\"-\",IF($C329>=T328,$C329,\"*\"))","v":"-"},297.01919895852063,{"$f":"IF(S329<>\"*\",\"-\",IF($C329>=V328,$C329,\"*\"))","v":"-"},292.40497284781543,{"$f":"IF(U329<>\"*\",\"-\",IF($C329>=X328,$C329,\"*\"))","v":"-"},299.36744170158397,{"$f":"IF(W329<>\"*\",\"-\",IF($C329>=Z328,$C329,\"*\"))","v":"-"},303.35060891804108,{"$f":"IF(Y329<>\"*\",\"-\",IF($C329>=AB328,$C329,\"*\"))","v":"-"},291.36179232041985,{"$f":"IF(AA329<>\"*\",\"-\",IF($C329>=AD328,$C329,\"*\"))","v":"-"},140.66887446424042,{"$f":"IF(AC329<>\"*\",\"-\",IF($C329>=AF328,$C329,\"*\"))","v":"-"},34.388240562009656,{"$f":"IF(AE329<>\"*\",\"-\",IF($C329>=AH328,$C329,\"*\"))","v":"-"},29.236023829000793,{"$f":"IF(AG329<>\"*\",\"-\",IF($C329>=AJ328,$C329,\"*\"))","v":"-"},33.045125393740342,{"$f":"IF(AI329<>\"*\",\"-\",IF($C329>=AL328,$C329,\"*\"))","v":"-"},32.02721881559642,{"$f":"IF(AK329<>\"*\",\"-\",IF($C329>=AN328,$C329,\"*\"))","v":"-"},32.217563507182206,{"$f":"IF(AM329<>\"*\",\"-\",IF($C329>=AP328,$C329,\"*\"))","v":"-"},36.406016086434107,{"$f":"IF(AO329<>\"*\",\"-\",IF($C329>=AR328,$C329,\"*\"))","v":"-"},0]
[null,323,{"$f":"Chegadas!J331","v":297.39},{"$f":"IF(Chegadas!K331=\"I\",Atendimento!E338,Atendimento!L338)","v":1.0767573598590201},{"$f":"IF($C330>F329,$C330,\"*\")","v":"*"},{"$f":"IF(E330=\"*\",F329,E330+$D330)","v":300.44780836736021},"*",{"$f":"IF(OR(G330=\"-\",G330=\"*\"),H329,G330+$D330)","v":298.52968850658243},"*",{"$f":"IF(OR(I330=\"-\",I330=\"*\"),J329,I330+$D330)","v":305.76393097268095},"*",299.29029038489699,"*",299.57622118123925,"*",306.90985045203706,297.39,298.466757359859,"-",297.01919895852063,"-",292.40497284781543,"-",299.36744170158397,"-",303.35060891804108,"-",291.36179232041985,"-",140.66887446424042,"-",34.388240562009656,"-",29.236023829000793,"-",33.045125393740342,"-",32.02721881559642,"-",32.217563507182206,"-",36.406016086434107,"-",0]
[null,324,{"$f":"Chegadas!J332","v":299.38},{"$f":"IF(Chegadas!K332=\"I\",Atendimento!E339,Atendimento!L339)","v":5.5611067315599323},"*",300.44780836736021,299.38,304.94110673155996,"-",305.76393097268095,"-",299.29029038489699,"-",299.57622118123925,"-",306.90985045203706,"-",298.466757359859,"-",297.01919895852063,"-",292.40497284781543,"-",299.36744170158397,"-",303.35060891804108,"-",291.36179232041985,"-",140.66887446424042,"-",34.388240562009656,"-",29.236023829000793,"-",33.045125393740342,"-",32.02721881559642,"-",32.217563507182206,"-",36.406016086434107,"-",0]
[null,325,{"$f":"Chegadas!J333","v":300.95},{"$f":"IF(Chegadas!K333=\"I\",Atendimento!E340,Atendimento!L340)","v":5.3710535698881436},300.95,306.32105356988814,"-",304.94110673155996,"-",305.76393097268095,"-",299.29029038489699,"-",299.57622118123925,"-",306.90985045203706,"-",298.466757359859,"-",297.01919895852063,"-",292.40497284781543,"-",299.36744170158397,"-",303.35060891804108,"-",291.36179232041985,"-",140.66887446424042,"-",34.388240562009656,"-",29.236023829000793,"-",33.045125393740342,"-",32.02721881559642,"-",32.217563507182206,"-",36.406016086434107,"-",0]
[null,326,{"$f":"Chegadas!J334","v":301.2},{"$f":"IF(Chegadas!K334=\"I\",Atendimento!E341,Atendimento!L341)","v":14.391322450020233},"*",306.32105356988814,"*",304.94110673155996,"*",305.76393097268095,301.2,315.59132245002024,"-",299.57622118123925,"-",306.90985045203706,"-",298.466757359859,"-",297.01919895852063,"-",292.40497284781543,"-",299.36744170158397,"-",303.35060891804108,"-",291.36179232041985,"-",140.66887446424042,"-",34.388240562009656,"-",29.236023829000793,"-",33.045125393740342,"-",32.02721881559642,"-",32.217563507182206,"-",36.406016086434107,"-",0]
[null,327,{"$f":"Chegadas!J335","v":302.33999999999997},{"$f":"IF(Chegadas!K335=\"I\",Atendimento!E342,Atendimento!L342)","v":3.6092509626758016},"*",306.32105356988814,"*",304.94110673155996,"*",305.76393097268095,"*",315.59132245002024,302.33999999999997,305.94925096267576,"-",306.90985045203706,"-",298.466757359859,"-",297.01919895852063,"-",292.40497284781543,"-",299.36744170158397,"-",303.35060891804108,"-",291.36179232041985,"-",140.66887446424042,"-",34.388240562009656,"-",29.236023829000793,"-",33.045125393740342,"-",32.02721881559642,"-",32.217563507182206,"-",36.406016086434107,"-",0]
[null,328,{"$f":"Chegadas!J336","v":302.36},{"$f":"IF(Chegadas!K336=\"I\",Atendimento!E343,Atendimento!L343)","v":1.3508004881685953},"*",306.32105356988814,"*",304.94110673155996,"*",305.76393097268095,"*",315.59132245002024,"*",305.94925096267576,"*",306.90985045203706,302.36,303.71080048816862,"-",297.01919895852063,"-",292.40497284781543,"-",299.36744170158397,"-",303.35060891804108,"-",291.36179232041985,"-",140.66887446424042,"-",34.388240562009656,"-",29.236023829000793,"-",33.045125393740342,"-",32.02721881559642,"-",32.217563507182206,"-",36.406016086434107,"-",0]
[null,329,{"$f":"Chegadas!J337","v":302.88},{"$f":"IF(Chegadas!K337=\"I\",Atendimento!E344,Atendimento!L344)","v":7.1546496311302406},"*",306.32105356988814,"*",304.94110673155996,"*",305.76393097268095,"*",315.59132245002024,"*",305.94925096267576,"*",306.90985045203706,"*",303.71080048816862,302.88,310.03464963113026,"-",292.40497284781543,"-",299.36744170158397,"-",303.35060891804108,"-",291.36179232041985,"-",140.66887446424042,"-",34.388240562009656,"-",29.236023829000793,"-",33.045125393740342,"-",32.02721881559642,"-",32.217563507182206,"-",36.406016086434107,"-",0]
[null,330,{"$f":"Chegadas!J338","v":303.27},{"$f":"IF(Chegadas!K338=\"I\",Atendimento!E345,Atendimento!L345)","v":8.7628904458376002},"*",306.32105356988814,"*",304.94110673155996,"*",305.76393097268095,"*",315.59132245002024,"*",305.94925096267576,"*",306.90985045203706,"*",303.71080048816862,"*",310.03464963113026,303.27,312.03289044583761,"-",299.36744170158397,"-",{"$f":"IF(OR(Y337=\"-\",Y337=\"*\"),Z336,Y337+$D337)","v":303.35060891804108},"-",291.36179232041985,"-",140.66887446424042,"-",34.388240562009656,"-",29.236023829000793,"-",33.045125393740342,"-",32.02721881559642,"-",32.217563507182206,"-",36.406016086434107,"-",0]
[null,331,{"$f":"Chegadas!J339","v":303.91999999999996},{"$f":"IF(Chegadas!K339=\"I\",Atendimento!E346,Atendimento!L346)","v":11.651519682411196},"*",306.32105356988814,"*",304.94110673155996,"*",305.76393097268095,"*",315.59132245002024,"*",305.94925096267576,"*",306.90985045203706,303.91999999999996,315.57151968241118,"-",310.03464963113026,"-",312.03289044583761,"-",299.36744170158397,"-",303.35060891804108,"-",{"$f":"IF(OR(AA338=\"-\",AA338=\"*\"),AB337,AA338+$D338)","v":291.36179232041985},"-",140.66887446424042,"-",34.388240562009656,"-",29.236023829000793,"-",33.045125393740342,"-",32.02721881559642,"-",32.217563507182206,"-",36.406016086434107,"-",0]
[null,332,{"$f":"Chegadas!J340","v":306.43999999999994},{"$f":"IF(Chegadas!K340=\"I\",Atendimento!E347,Atendimento!L347)","v":4.5999069006817717},306.43999999999994,311.03990690068173,"-",304.94110673155996,"-",305.76393097268095,"-",315.59132245002024,"-",305.94925096267576,"-",306.90985045203706,"-",315.57151968241118,"-",310.03464963113026,"-",312.03289044583761,"-",299.36744170158397,"-",303.35060891804108,"-",291.36179232041985,"-",{"$f":"IF(OR(AC339=\"-\",AC339=\"*\"),AD338,AC339+$D339)","v":140.66887446424042},"-",34.388240562009656,"-",29.236023829000793,"-",33.045125393740342,"-",32.02721881559642,"-",32.217563507182206,"-",36.406016086434107,"-",0]
[null,333,{"$f":"Chegadas!J341","v":308.40999999999997},{"$f":"IF(Chegadas!K341=\"I\",Atendimento!E348,Atendimento!L348)","v":8.8809582223418495},"*",311.03990690068173,308.40999999999997,317.29095822234183,"-",305.76393097268095,"-",315.59132245002024,"-",305.94925096267576,"-",306.90985045203706,"-",315.57151968241118,"-",310.03464963113026,"-",312.03289044583761,"-",299.36744170158397,"-",303.35060891804108,"-",291.36179232041985,"-",140.66887446424042,"-",{"$f":"IF(OR(AE340=\"-\",AE340=\"*\"),AF339,AE340+$D340)","v":34.388240562009656},"-",29.236023829000793,"-",33.045125393740342,"-",32.02721881559642,"-",32.217563507182206,"-",36.406016086434107,"-",0]
[null,334,{"$f":"Chegadas!J342","v":308.64},{"$f":"IF(Chegadas!K342=\"I\",Atendimento!E349,Atendimento!L349)","v":16.423819112590948},"*",311.03990690068173,"*",317.29095822234183,308.64,325.06381911259092,"-",315.59132245002024,"-",305.94925096267576,"-",306.90985045203706,"-",315.57151968241118,"-",310.03464963113026,"-",312.03289044583761,"-",299.36744170158397,"-",303.35060891804108,"-",291.36179232041985,"-",140.66887446424042,"-",34.388240562009656,"-",{"$f":"IF(OR(AG341=\"-\",AG341=\"*\"),AH340,AG341+$D341)","v":29.236023829000793},"-",33.045125393740342,"-",32.02721881559642,"-",32.217563507182206,"-",36.406016086434107,"-",0]
[null,335,{"$f":"Chegadas!J343","v":308.89999999999998},{"$f":"IF(Chegadas!K343=\"I\",Atendimento!E350,Atendimento!L350)","v":10.321566091917466},"*",311.03990690068173,"*",317.29095822234183,"*",325.06381911259092,"*",315.59132245002024,308.89999999999998,319.22156609191745,"-",306.90985045203706,"-",315.57151968241118,"-",310.03464963113026,"-",312.03289044583761,"-",299.36744170158397,"-",303.35060891804108,"-",291.36179232041985,"-",140.66887446424042,"-",34.388240562009656,"-",29.236023829000793,"-",{"$f":"IF(OR(AI342=\"-\",AI342=\"*\"),AJ341,AI342+$D342)","v":33.045125393740342},"-",32.02721881559642,"-",32.217563507182206,"-",36.406016086434107,"-",0]
[null,336,{"$f":"Chegadas!J344","v":311.26},{"$f":"IF(Chegadas!K344=\"I\",Atendimento!E351,Atendimento!L351)","v":8.8636887800622031},311.26,320.1236887800622,"-",317.29095822234183,"-",325.06381911259092,"-",315.59132245002024,"-",319.22156609191745,"-",306.90985045203706,"-",315.57151968241118,"-",310.03464963113026,"-",312.03289044583761,"-",299.36744170158397,"-",303.35060891804108,"-",291.36179232041985,"-",140.66887446424042,"-",34.388240562009656,"-",29.236023829000793,"-",33.045125393740342,"-",{"$f":"IF(OR(AK343=\"-\",AK343=\"*\"),AL342,AK343+$D343)","v":32.02721881559642},"-",32.217563507182206,"-",36.406016086434107,"-",0]
[null,337,{"$f":"Chegadas!J345","v":312.37},{"$f":"IF(Chegadas!K345=\"I\",Atendimento!E352,Atendimento!L352)","v":0.98588906878531357},"*",320.1236887800622,"*",317.29095822234183,"*",325.06381911259092,"*",315.59132245002024,"*",319.22156609191745,312.37,313.3558890687853,"-",315.57151968241118,"-",310.03464963113026,"-",312.03289044583761,"-",299.36744170158397,"-",303.35060891804108,"-",291.36179232041985,"-",140.66887446424042,"-",34.388240562009656,"-",29.236023829000793,"-",33.045125393740342,"-",32.02721881559642,"-",{"$f":"IF(OR(AM344=\"-\",AM344=\"*\"),AN343,AM344+$D344)","v":32.217563507182206},"-",36.406016086434107,"-",0]
[null,338,{"$f":"Chegadas!J346","v":313.87},{"$f":"IF(Chegadas!K346=\"I\",Atendimento!E353,Atendimento!L353)","v":1.3073665785759347},"*",320.1236887800622,"*",317.29095822234183,"*",325.06381911259092,"*",315.59132245002024,"*",319.22156609191745,313.87,315.17736657857591,"-",315.57151968241118,"-",310.03464963113026,"-",312.03289044583761,"-",299.36744170158397,"-",303.35060891804108,"-",291.36179232041985,"-",140.66887446424042,"-",34.388240562009656,"-",29.236023829000793,"-",33.045125393740342,"-",32.02721881559642,"-",32.217563507182206,"-",{"$f":"IF(OR(AO345=\"-\",AO345=\"*\"),AP344,AO345+$D345)","v":36.406016086434107},"-",0]
[null,339,{"$f":"Chegadas!J347","v":314.3},{"$f":"IF(Chegadas!K347=\"I\",Atendimento!E354,Atendimento!L354)","v":8.1191036847417202},"*",320.1236887800622,"*",317.29095822234183,"*",325.06381911259092,"*",315.59132245002024,"*",319.22156609191745,"*",315.17736657857591,"*",315.57151968241118,314.3,322.41910368474174,"-",312.03289044583761,"-",299.36744170158397,"-",303.35060891804108,"-",291.36179232041985,"-",140.66887446424042,"-",34.388240562009656,"-",29.236023829000793,"-",33.045125393740342,"-",32.02721881559642,"-",32.217563507182206,"-",36.406016086434107,"-",{"$f":"IF(OR(AQ346=\"-\",AQ346=\"*\"),AR345,AQ346+$D346)","v":0}]
[null,340,{"$f":"Chegadas!J348","v":314.37},{"$f":"IF(Chegadas!K348=\"I\",Atendimento!E355,Atendimento!L355)","v":3.0819770598752858},"*",320.1236887800622,"*",317.29095822234183,"*",325.06381911259092,"*",315.59132245002024,"*",319.22156609191745,"*",315.17736657857591,"*",315.57151968241118,"*",322.41910368474174,314.37,317.45197705987528,"-",299.36744170158397,"-",303.35060891804108,"-",291.36179232041985,"-",140.66887446424042,"-",34.388240562009656,"-",29.236023829000793,"-",33.045125393740342,"-",32.02721881559642,"-",32.217563507182206,"-",36.406016086434107,"-",0]
[null,341,{"$f":"Chegadas!J349","v":315.62},{"$f":"IF(Chegadas!K349=\"I\",Atendimento!E356,Atendimento!L356)","v":6.7375961480883477},"*",320.1236887800622,"*",317.29095822234183,"*",325.06381911259092,315.62,{"$f":"IF(OR(K348=\"-\",K348=\"*\"),L347,K348+$D348)","v":322.35759614808836},"-",{"$f":"IF(OR(M348=\"-\",M348=\"*\"),N347,M348+$D348)","v":319.22156609191745},"-",{"$f":"IF(OR(O348=\"-\",O348=\"*\"),P347,O348+$D348)","v":315.17736657857591},"-",{"$f":"IF(OR(Q348=\"-\",Q348=\"*\"),R347,Q348+$D348)","v":315.57151968241118},"-",{"$f":"IF(OR(S348=\"-\",S348=\"*\"),T347,S348+$D348)","v":322.41910368474174},"-",{"$f":"IF(OR(U348=\"-\",U348=\"*\"),V347,U348+$D348)","v":317.45197705987528},"-",{"$f":"IF(OR(W348=\"-\",W348=\"*\"),X347,W348+$D348)","v":299.36744170158397},"-",303.35060891804108,"-",291.36179232041985,"-",140.66887446424042,"-",34.388240562009656,"-",29.236023829000793,"-",33.045125393740342,"-",32.02721881559642,"-",32.217563507182206,"-",36.406016086434107,"-",0]
[null,342,{"$f":"Chegadas!J350","v":316.5},{"$f":"IF(Chegadas!K350=\"I\",Atendimento!E357,Atendimento!L357)","v":3.1918052017108507},"*",320.1236887800622,"*",317.29095822234183,"*",325.06381911259092,"*",322.35759614808836,"*",319.22156609191745,316.5,319.69180520171085,"-",315.57151968241118,"-",322.41910368474174,"-",317.45197705987528,"-",299.36744170158397,"-",303.35060891804108,"-",291.36179232041985,"-",140.66887446424042,"-",34.388240562009656,"-",29.236023829000793,"-",33.045125393740342,"-",32.02721881559642,"-",32.217563507182206,"-",36.406016086434107,"-",0]
[null,343,{"$f":"Chegadas!J351","v":318.07},{"$f":"IF(Chegadas!K351=\"I\",Atendimento!E358,Atendimento!L358)","v":10.125000735618482},"*",320.1236887800622,318.07,328.19500073561846,"-",325.06381911259092,"-",322.35759614808836,"-",319.22156609191745,"-",319.69180520171085,"-",315.57151968241118,"-",322.41910368474174,"-",317.45197705987528,"-",299.36744170158397,"-",303.35060891804108,"-",291.36179232041985,"-",140.66887446424042,"-",34.388240562009656,"-",29.236023829000793,"-",33.045125393740342,"-",32.02721881559642,"-",32.217563507182206,"-",36.406016086434107,"-",0]
[null,344,{"$f":"Chegadas!J352","v":318.43},{"$f":"IF(Chegadas!K352=\"I\",Atendimento!E359,Atendimento!L359)","v":3.6166034339520907},"*",320.1236887800622,"*",328.19500073561846,"*",325.06381911259092,"*",322.35759614808836,"*",319.22156609191745,"*",319.69180520171085,318.43,322.0466034339521,"-",322.41910368474174,"-",317.45197705987528,"-",299.36744170158397,"-",303.35060891804108,"-",291.36179232041985,"-",140.66887446424042,"-",34.388240562009656,"-",29.236023829000793,"-",33.045125393740342,"-",32.02721881559642,"-",32.217563507182206,"-",36.406016086434107,"-",0]
[null,345,{"$f":"Chegadas!J353","v":322.09000000000003},{"$f":"IF(Chegadas!K353=\"I\",Atendimento!E360,Atendimento!L360)","v":1.1993925602894184},322.09000000000003,323.28939256028946,"-",328.19500073561846,"-",325.06381911259092,"-",322.35759614808836,"-",319.22156609191745,"-",319.69180520171085,"-",322.0466034339521,"-",322.41910368474174,"-",317.45197705987528,"-",299.36744170158397,"-",303.35060891804108,"-",291.36179232041985,"-",140.66887446424042,"-",34.388240562009656,"-",29.236023829000793,"-",33.045125393740342,"-",32.02721881559642,"-",32.217563507182206,"-",36.406016086434107,"-",0]
[null,346,{"$f":"Chegadas!J354","v":324.09000000000003},{"$f":"IF(Chegadas!K354=\"I\",Atendimento!E361,Atendimento!L361)","v":1.483804854595236},324.09000000000003,325.57380485459527,"-",328.19500073561846,"-",325.06381911259092,"-",322.35759614808836,"-",319.22156609191745,"-",319.69180520171085,"-",322.0466034339521,"-",322.41910368474174,"-",317.45197705987528,"-",299.36744170158397,"-",303.35060891804108,"-",291.36179232041985,"-",140.66887446424042,"-",34.388240562009656,"-",29.236023829000793,"-",33.045125393740342,"-",32.02721881559642,"-",32.217563507182206,"-",36.406016086434107,"-",0]
[null,347,{"$f":"Chegadas!J355","v":324.37},{"$f":"IF(Chegadas!K355=\"I\",Atendimento!E362,Atendimento!L362)","v":9.5621441344727849},"*",325.57380485459527,"*",328.19500073561846,"*",325.06381911259092,324.37,333.93214413447276,"-",319.22156609191745,"-",319.69180520171085,"-",322.0466034339521,"-",322.41910368474174,"-",317.45197705987528,"-",299.36744170158397,"-",303.35060891804108,"-",291.36179232041985,"-",140.66887446424042,"-",34.388240562009656,"-",29.236023829000793,"-",33.045125393740342,"-",32.02721881559642,"-",32.217563507182206,"-",36.406016086434107,"-",0]
[null,348,{"$f":"Chegadas!J356","v":325.75},{"$f":"IF(Chegadas!K356=\"I\",Atendimento!E363,Atendimento!L363)","v":9.3766384686283608},325.75,335.12663846862836,"-",328.19500073561846,"-",325.06381911259092,"-",333.93214413447276,"-",319.22156609191745,"-",319.69180520171085,"-",322.0466034339521,"-",322.41910368474174,"-",317.45197705987528,"-",299.36744170158397,"-",303.35060891804108,"-",291.36179232041985,"-",140.66887446424042,"-",34.388240562009656,"-",29.236023829000793,"-",33.045125393740342,"-",32.02721881559642,"-",32.217563507182206,"-",36.406016086434107,"-",0]
[null,349,{"$f":"Chegadas!J357","v":325.95},{"$f":"IF(Chegadas!K357=\"I\",Atendimento!E364,Atendimento!L364)","v":3.1948107882237942},"*",335.12663846862836,"*",328.19500073561846,325.95,329.14481078822377,"-",333.93214413447276,"-",319.22156609191745,"-",319.69180520171085,"-",322.0466034339521,"-",322.41910368474174,"-",317.45197705987528,"-",299.36744170158397,"-",303.35060891804108,"-",291.36179232041985,"-",140.66887446424042,"-",34.388240562009656,"-",29.236023829000793,"-",33.045125393740342,"-",32.02721881559642,"-",32.217563507182206,"-",36.406016086434107,"-",0]
[null,350,{"$f":"Chegadas!J358","v":325.99},{"$f":"IF(Chegadas!K358=\"I\",Atendimento!E365,Atendimento!L365)","v":11.074346943081096},"*",335.12663846862836,"*",328.19500073561846,"*",329.14481078822377,"*",333.93214413447276,325.99,337.06434694308109,"-",319.69180520171085,"-",322.0466034339521,"-",322.41910368474174,"-",317.45197705987528,"-",299.36744170158397,"-",303.35060891804108,"-",291.36179232041985,"-",140.66887446424042,"-",34.388240562009656,"-",29.236023829000793,"-",33.045125393740342,"-",32.02721881559642,"-",32.217563507182206,"-",36.406016086434107,"-",0]
[null,351,{"$f":"Chegadas!J359","v":326.24},{"$f":"IF(Chegadas!K359=\"I\",Atendimento!E366,Atendimento!L366)","v":0.85399591069232605},"*",335.12663846862836,"*",328.19500073561846,"*",329.14481078822377,"*",333.93214413447276,"*",337.06434694308109,326.24,327.09399591069234,"-",322.0466034339521,"-",322.41910368474174,"-",317.45197705987528,"-",299.36744170158397,"-",303.35060891804108,"-",291.36179232041985,"-",140.66887446424042,"-",34.388240562009656,"-",29.236023829000793,"-",33.045125393740342,"-",32.02721881559642,"-",32.217563507182206,"-",36.406016086434107,"-",0]
[null,352,{"$f":"Chegadas!J360","v":326.74},{"$f":"IF(Chegadas!K360=\"I\",Atendimento!E367,Atendimento!L367)","v":10.667173604853833},"*",335.12663846862836,"*",328.19500073561846,"*",329.14481078822377,"*",333.93214413447276,"*",337.06434694308109,"*",327.09399591069234,326.74,337.40717360485382,"-",322.41910368474174,"-",317.45197705987528,"-",299.36744170158397,"-",303.35060891804108,"-",291.36179232041985,"-",140.66887446424042,"-",34.388240562009656,"-",29.236023829000793,"-",33.045125393740342,"-",32.02721881559642,"-",32.217563507182206,"-",36.406016086434107,"-",0]
[null,353,{"$f":"Chegadas!J361","v":327.88},{"$f":"IF(Chegadas!K361=\"I\",Atendimento!E368,Atendimento!L368)","v":4.5573191206815036},"*",335.12663846862836,"*",328.19500073561846,"*",329.14481078822377,"*",333.93214413447276,"*",337.06434694308109,327.88,332.43731912068148,"-",337.40717360485382,"-",322.41910368474174,"-",317.45197705987528,"-",299.36744170158397,"-",303.35060891804108,"-",291.36179232041985,"-",140.66887446424042,"-",34.388240562009656,"-",29.236023829000793,"-",33.045125393740342,"-",32.02721881559642,"-",32.217563507182206,"-",36.406016086434107,"-",0]
[null,354,{"$f":"Chegadas!J362","v":330.02},{"$f":"IF(Chegadas!K362=\"I\",Atendimento!E369,Atendimento!L369)","v":1.1546400930321146},"*",335.12663846862836,330.02,331.17464009303211,"-",329.14481078822377,"-",333.93214413447276,"-",337.06434694308109,"-",332.43731912068148,"-",337.40717360485382,"-",322.41910368474174,"-",317.45197705987528,"-",299.36744170158397,"-",303.35060891804108,"-",291.36179232041985,"-",140.66887446424042,"-",34.388240562009656,"-",29.236023829000793,"-",33.045125393740342,"-",32.02721881559642,"-",32.217563507182206,"-",36.406016086434107,"-",0]
[null,355,{"$f":"Chegadas!J363","v":330.39},{"$f":"IF(Chegadas!K363=\"I\",Atendimento!E370,Atendimento!L370)","v":14.22727548327209},"*",335.12663846862836,"*",331.17464009303211,330.39,344.61727548327207,"-",333.93214413447276,"-",337.06434694308109,"-",332.43731912068148,"-",337.40717360485382,"-",322.41910368474174,"-",317.45197705987528,"-",299.36744170158397,"-",303.35060891804108,"-",291.36179232041985,"-",140.66887446424042,"-",34.388240562009656,"-",29.236023829000793,"-",33.045125393740342,"-",32.02721881559642,"-",32.217563507182206,"-",36.406016086434107,"-",0]
[null,356,{"$f":"Chegadas!J364","v":331.22999999999996},{"$f":"IF(Chegadas!K364=\"I\",Atendimento!E371,Atendimento!L371)","v":2.5809323779324997},"*",335.12663846862836,331.22999999999996,333.81093237793249,"-",344.61727548327207,"-",333.93214413447276,"-",337.06434694308109,"-",332.43731912068148,"-",337.40717360485382,"-",322.41910368474174,"-",317.45197705987528,"-",299.36744170158397,"-",303.35060891804108,"-",291.36179232041985,"-",140.66887446424042,"-",34.388240562009656,"-",29.236023829000793,"-",33.045125393740342,"-",32.02721881559642,"-",32.217563507182206,"-",36.406016086434107,"-",0]
[null,357,{"$f":"Chegadas!J365","v":332.93999999999994},{"$f":"IF(Chegadas!K365=\"I\",Atendimento!E372,Atendimento!L372)","v":7.4553635020837685},"*",335.12663846862836,"*",333.81093237793249,"*",344.61727548327207,"*",333.93214413447276,"*",337.06434694308109,332.93999999999994,340.39536350208368,"-",337.40717360485382,"-",322.41910368474174,"-",317.45197705987528,"-",299.36744170158397,"-",303.35060891804108,"-",291.36179232041985,"-",140.66887446424042,"-",34.388240562009656,"-",29.236023829000793,"-",33.045125393740342,"-",32.02721881559642,"-",32.217563507182206,"-",36.406016086434107,"-",0]
[null,358,{"$f":"Chegadas!J366","v":333.38999999999993},{"$f":"IF(Chegadas!K366=\"I\",Atendimento!E373,Atendimento!L373)","v":6.5208175491971385},"*",335.12663846862836,"*",333.81093237793249,"*",344.61727548327207,"*",333.93214413447276,"*",337.06434694308109,"*",340.39536350208368,"*",337.40717360485382,333.38999999999993,339.91081754919708,"-",317.45197705987528,"-",299.36744170158397,"-",303.35060891804108,"-",291.36179232041985,"-",140.66887446424042,"-",34.388240562009656,"-",29.236023829000793,"-",33.045125393740342,"-",32.02721881559642,"-",32.217563507182206,"-",36.406016086434107,"-",0]
[null,359,{"$f":"Chegadas!J367","v":333.75999999999993},{"$f":"IF(Chegadas!K367=\"I\",Atendimento!E374,Atendimento!L374)","v":11.197919641345909},"*",335.12663846862836,"*",333.81093237793249,"*",344.61727548327207,"*",333.93214413447276,"*",337.06434694308109,"*",340.39536350208368,"*",337.40717360485382,"*",339.91081754919708,333.75999999999993,344.95791964134582,"-",299.36744170158397,"-",303.35060891804108,"-",291.36179232041985,"-",140.66887446424042,"-",34.388240562009656,"-",29.236023829000793,"-",33.045125393740342,"-",32.02721881559642,"-",32.217563507182206,"-",36.406016086434107,"-",0]
[null,360,{"$f":"Chegadas!J368","v":333.86999999999995},{"$f":"IF(Chegadas!K368=\"I\",Atendimento!E375,Atendimento!L375)","v":8.0933207723578384},"*",335.12663846862836,333.86999999999995,341.9633207723578,"-",344.61727548327207,"-",333.93214413447276,"-",337.06434694308109,"-",340.39536350208368,"-",337.40717360485382,"-",339.91081754919708,"-",344.95791964134582,"-",299.36744170158397,"-",303.35060891804108,"-",291.36179232041985,"-",140.66887446424042,"-",34.388240562009656,"-",29.236023829000793,"-",33.045125393740342,"-",32.02721881559642,"-",32.217563507182206,"-",36.406016086434107,"-",0]
[null,361,{"$f":"Chegadas!J369","v":334.06},{"$f":"IF(Chegadas!K369=\"I\",Atendimento!E376,Atendimento!L376)","v":1.0726322425472368},"*",335.12663846862836,"*",341.9633207723578,"*",344.61727548327207,334.06,335.13263224254723,"-",337.06434694308109,"-",340.39536350208368,"-",337.40717360485382,"-",339.91081754919708,"-",344.95791964134582,"-",299.36744170158397,"-",303.35060891804108,"-",291.36179232041985,"-",140.66887446424042,"-",34.388240562009656,"-",29.236023829000793,"-",33.045125393740342,"-",32.02721881559642,"-",32.217563507182206,"-",36.406016086434107,"-",0]
[null,362,{"$f":"Chegadas!J370","v":334.71999999999997},{"$f":"IF(Chegadas!K370=\"I\",Atendimento!E377,Atendimento!L377)","v":15.757954842518719},"*",335.12663846862836,"*",341.9633207723578,"*",344.61727548327207,"*",335.13263224254723,"*",337.06434694308109,"*",340.39536350208368,"*",337.40717360485382,"*",339.91081754919708,"*",344.95791964134582,334.71999999999997,350.47795484251867,"-",303.35060891804108,"-",291.36179232041985,"-",140.66887446424042,"-",34.388240562009656,"-",29.236023829000793,"-",33.045125393740342,"-",32.02721881559642,"-",32.217563507182206,"-",36.406016086434107,"-",0]
[null,363,{"$f":"Chegadas!J371","v":335.03},{"$f":"IF(Chegadas!K371=\"I\",Atendimento!E378,Atendimento!L378)","v":13.089955667210056},"*",335.12663846862836,"*",341.9633207723578,"*",344.61727548327207,"*",335.13263224254723,"*",337.06434694308109,"*",340.39536350208368,"*",337.40717360485382,"*",339.91081754919708,"*",344.95791964134582,"*",350.47795484251867,335.03,348.11995566721004,"-",291.36179232041985,"-",140.66887446424042,"-",34.388240562009656,"-",29.236023829000793,"-",33.045125393740342,"-",32.02721881559642,"-",32.217563507182206,"-",36.406016086434107,"-",0]
[null,364,{"$f":"Chegadas!J372","v":335.98999999999995},{"$f":"IF(Chegadas!K372=\"I\",Atendimento!E379,Atendimento!L379)","v":7.5680458000340503},335.98999999999995,343.55804580003399,"-",341.9633207723578,"-",344.61727548327207,"-",335.13263224254723,"-",337.06434694308109,"-",340.39536350208368,"-",337.40717360485382,"-",339.91081754919708,"-",344.95791964134582,"-",350.47795484251867,"-",348.11995566721004,"-",291.36179232041985,"-",140.66887446424042,"-",34.388240562009656,"-",29.236023829000793,"-",33.045125393740342,"-",32.02721881559642,"-",32.217563507182206,"-",36.406016086434107,"-",0]
[null,365,{"$f":"Chegadas!J373","v":336.19999999999993},{"$f":"IF(Chegadas!K373=\"I\",Atendimento!E380,Atendimento!L380)","v":4.5707799867521173},"*",343.55804580003399,"*",341.9633207723578,"*",344.61727548327207,336.19999999999993,340.77077998675207,"-",337.06434694308109,"-",340.39536350208368,"-",337.40717360485382,"-",339.91081754919708,"-",344.95791964134582,"-",350.47795484251867,"-",348.11995566721004,"-",291.36179232041985,"-",140.66887446424042,"-",34.388240562009656,"-",29.236023829000793,"-",33.045125393740342,"-",32.02721881559642,"-",32.217563507182206,"-",36.406016086434107,"-",0]
[null,366,{"$f":"Chegadas!J374","v":336.44999999999993},{"$f":"IF(Chegadas!K374=\"I\",Atendimento!E381,Atendimento!L381)","v":8.2594371071637713},"*",343.55804580003399,"*",341.9633207723578,"*",344.61727548327207,"*",340.77077998675207,"*",337.06434694308109,"*",340.39536350208368,"*",337.40717360485382,"*",339.91081754919708,"*",344.95791964134582,"*",350.47795484251867,"*",348.11995566721004,336.44999999999993,344.70943710716369,"-",140.66887446424042,"-",34.388240562009656,"-",29.236023829000793,"-",33.045125393740342,"-",32.02721881559642,"-",32.217563507182206,"-",36.406016086434107,"-",0]
[null,367,{"$f":"Chegadas!J375","v":336.80999999999995},{"$f":"IF(Chegadas!K375=\"I\",Atendimento!E382,Atendimento!L382)","v":4.9592008208243854},"*",343.55804580003399,"*",341.9633207723578,"*",344.61727548327207,"*",340.77077998675207,"*",337.06434694308109,"*",340.39536350208368,"*",337.40717360485382,"*",339.91081754919708,"*",344.95791964134582,"*",350.47795484251867,"*",348.11995566721004,"*",344.70943710716369,336.80999999999995,341.76920082082432,"-",34.388240562009656,"-",29.236023829000793,"-",33.045125393740342,"-",32.02721881559642,"-",32.217563507182206,"-",36.406016086434107,"-",0]
[null,368,{"$f":"Chegadas!J376","v":336.86},{"$f":"IF(Chegadas!K376=\"I\",Atendimento!E383,Atendimento!L383)","v":1.120187462312866},"*",343.55804580003399,"*",341.9633207723578,"*",344.61727548327207,"*",340.77077998675207,"*",337.06434694308109,"*",340.39536350208368,"*",337.40717360485382,"*",339.91081754919708,"*",344.95791964134582,"*",350.47795484251867,"*",348.11995566721004,"*",344.70943710716369,"*",341.76920082082432,336.86,337.98018746231287,"-",29.236023829000793,"-",33.045125393740342,"-",32.02721881559642,"-",32.217563507182206,"-",36.406016086434107,"-",0]
[null,369,{"$f":"Chegadas!J377","v":337.73999999999995},{"$f":"IF(Chegadas!K377=\"I\",Atendimento!E384,Atendimento!L384)","v":2.4987849673324272},"*",343.55804580003399,"*",341.9633207723578,"*",344.61727548327207,"*",340.77077998675207,337.73999999999995,340.23878496733238,"-",340.39536350208368,"-",337.40717360485382,"-",339.91081754919708,"-",344.95791964134582,"-",350.47795484251867,"-",348.11995566721004,"-",344.70943710716369,"-",341.76920082082432,"-",337.98018746231287,"-",29.236023829000793,"-",33.045125393740342,"-",32.02721881559642,"-",32.217563507182206,"-",36.406016086434107,"-",0]
[null,370,{"$f":"Chegadas!J378","v":338.07999999999993},{"$f":"IF(Chegadas!K378=\"I\",Atendimento!E385,Atendimento!L385)","v":9.7588422149886327},"*",343.55804580003399,"*",341.9633207723578,"*",344.61727548327207,"*",340.77077998675207,"*",340.23878496733238,"*",340.39536350208368,338.07999999999993,347.83884221498857,"-",339.91081754919708,"-",344.95791964134582,"-",350.47795484251867,"-",348.11995566721004,"-",344.70943710716369,"-",341.76920082082432,"-",337.98018746231287,"-",29.236023829000793,"-",33.045125393740342,"-",32.02721881559642,"-",32.217563507182206,"-",36.406016086434107,"-",0]
[null,371,{"$f":"Chegadas!J379","v":338.1699999999999},{"$f":"IF(Chegadas!K379=\"I\",Atendimento!E386,Atendimento!L386)","v":12.816452573239344},"*",343.55804580003399,"*",341.9633207723578,"*",344.61727548327207,"*",340.77077998675207,"*",340.23878496733238,"*",340.39536350208368,"*",347.83884221498857,"*",339.91081754919708,"*",344.95791964134582,"*",350.47795484251867,"*",348.11995566721004,"*",344.70943710716369,"*",341.76920082082432,338.1699999999999,350.98645257323926,"-",29.236023829000793,"-",33.045125393740342,"-",32.02721881559642,"-",32.217563507182206,"-",36.406016086434107,"-",0]
[null,372,{"$f":"Chegadas!J380","v":339.89999999999992},{"$f":"IF(Chegadas!K380=\"I\",Atendimento!E387,Atendimento!L387)","v":8.7319601363073964},"*",343.55804580003399,"*",341.9633207723578,"*",344.61727548327207,"*",340.77077998675207,"*",340.23878496733238,"*",340.39536350208368,"*",347.83884221498857,"*",339.91081754919708,"*",344.95791964134582,"*",350.47795484251867,"*",348.11995566721004,"*",344.70943710716369,"*",341.76920082082432,"*",350.98645257323926,339.89999999999992,348.63196013630733,"-",33.045125393740342,"-",32.02721881559642,"-",32.217563507182206,"-",36.406016086434107,"-",0]
[null,373,{"$f":"Chegadas!J381","v":341.53999999999991},{"$f":"IF(Chegadas!K381=\"I\",Atendimento!E388,Atendimento!L388)","v":2.50397250630109},"*",343.55804580003399,"*",341.9633207723578,"*",344.61727548327207,341.53999999999991,344.04397250630097,"-",340.23878496733238,"-",340.39536350208368,"-",347.83884221498857,"-",339.91081754919708,"-",344.95791964134582,"-",350.47795484251867,"-",348.11995566721004,"-",344.70943710716369,"-",341.76920082082432,"-",350.98645257323926,"-",348.63196013630733,"-",33.045125393740342,"-",32.02721881559642,"-",32.217563507182206,"-",36.406016086434107,"-",0]
[null,374,{"$f":"Chegadas!J382","v":342.52999999999992},{"$f":"IF(Chegadas!K382=\"I\",Atendimento!E389,Atendimento!L389)","v":8.30947570788231},"*",343.55804580003399,342.52999999999992,350.83947570788223,"-",344.61727548327207,"-",344.04397250630097,"-",340.23878496733238,"-",340.39536350208368,"-",347.83884221498857,"-",339.91081754919708,"-",344.95791964134582,"-",350.47795484251867,"-",348.11995566721004,"-",344.70943710716369,"-",341.76920082082432,"-",350.98645257323926,"-",348.63196013630733,"-",33.045125393740342,"-",32.02721881559642,"-",32.217563507182206,"-",36.406016086434107,"-",0]
[null,375,{"$f":"Chegadas!J383","v":343.25},{"$f":"IF(Chegadas!K383=\"I\",Atendimento!E390,Atendimento!L390)","v":0.75753882848395171},"*",343.55804580003399,"*",350.83947570788223,"*",344.61727548327207,"*",344.04397250630097,343.25,344.00753882848397,"-",340.39536350208368,"-",347.83884221498857,"-",339.91081754919708,"-",344.95791964134582,"-",350.47795484251867,"-",348.11995566721004,"-",344.70943710716369,"-",341.76920082082432,"-",350.98645257323926,"-",348.63196013630733,"-",33.045125393740342,"-",32.02721881559642,"-",32.217563507182206,"-",36.406016086434107,"-",0]
[null,376,{"$f":"Chegadas!J384","v":343.37999999999994},{"$f":"IF(Chegadas!K384=\"I\",Atendimento!E391,Atendimento!L391)","v":6.4642227582358185},"*",343.55804580003399,"*",350.83947570788223,"*",344.61727548327207,"*",344.04397250630097,"*",344.00753882848397,343.37999999999994,349.84422275823573,"-",347.83884221498857,"-",339.91081754919708,"-",344.95791964134582,"-",350.47795484251867,"-",348.11995566721004,"-",344.70943710716369,"-",341.76920082082432,"-",350.98645257323926,"-",348.63196013630733,"-",33.045125393740342,"-",32.02721881559642,"-",32.217563507182206,"-",36.406016086434107,"-",0]
[null,377,{"$f":"Chegadas!J385","v":343.96999999999991},{"$f":"IF(Chegadas!K385=\"I\",Atendimento!E392,Atendimento!L392)","v":3.6125862831644504},343.96999999999991,347.58258628316435,"-",350.83947570788223,"-",344.61727548327207,"-",344.04397250630097,"-",344.00753882848397,"-",349.84422275823573,"-",347.83884221498857,"-",339.91081754919708,"-",344.95791964134582,"-",350.47795484251867,"-",348.11995566721004,"-",344.70943710716369,"-",341.76920082082432,"-",350.98645257323926,"-",348.63196013630733,"-",33.045125393740342,"-",32.02721881559642,"-",32.217563507182206,"-",36.406016086434107,"-",0]
[null,378,{"$f":"Chegadas!J386","v":345.24999999999989},{"$f":"IF(Chegadas!K386=\"I\",Atendimento!E393,Atendimento!L393)","v":11.144353178921559},"*",347.58258628316435,"*",350.83947570788223,345.24999999999989,356.39435317892145,"-",344.04397250630097,"-",344.00753882848397,"-",349.84422275823573,"-",347.83884221498857,"-",339.91081754919708,"-",344.95791964134582,"-",350.47795484251867,"-",348.11995566721004,"-",344.70943710716369,"-",341.76920082082432,"-",350.98645257323926,"-",348.63196013630733,"-",33.045125393740342,"-",32.02721881559642,"-",32.217563507182206,"-",36.406016086434107,"-",0]
[null,379,{"$f":"Chegadas!J387","v":345.71999999999991},{"$f":"IF(Chegadas!K387=\"I\",Atendimento!E394,Atendimento!L394)","v":7.2841913034104833},"*",347.58258628316435,"*",350.83947570788223,"*",356.39435317892145,345.71999999999991,353.00419130341038,"-",344.00753882848397,"-",349.84422275823573,"-",347.83884221498857,"-",339.91081754919708,"-",344.95791964134582,"-",350.47795484251867,"-",348.11995566721004,"-",344.70943710716369,"-",341.76920082082432,"-",350.98645257323926,"-",348.63196013630733,"-",33.045125393740342,"-",32.02721881559642,"-",32.217563507182206,"-",36.406016086434107,"-",0]
[null,380,{"$f":"Chegadas!J388","v":346.59999999999991},{"$f":"IF(Chegadas!K388=\"I\",Atendimento!E395,Atendimento!L395)","v":3.8609055567572268},"*",347.58258628316435,"*",350.83947570788223,"*",356.39435317892145,"*",353.00419130341038,346.59999999999991,350.46090555675715,"-",349.84422275823573,"-",347.83884221498857,"-",339.91081754919708,"-",344.95791964134582,"-",350.47795484251867,"-",348.11995566721004,"-",344.70943710716369,"-",341.76920082082432,"-",350.98645257323926,"-",348.63196013630733,"-",33.045125393740342,"-",32.02721881559642,"-",32.217563507182206,"-",36.406016086434107,"-",0]
[null,381,{"$f":"Chegadas!J389","v":346.63999999999993},{"$f":"IF(Chegadas!K389=\"I\",Atendimento!E396,Atendimento!L396)","v":4.7046115883784676},"*",347.58258628316435,"*",350.83947570788223,"*",356.39435317892145,"*",353.00419130341038,"*",350.46090555675715,"*",349.84422275823573,"*",347.83884221498857,346.63999999999993,351.34461158837837,"-",344.95791964134582,"-",350.47795484251867,"-",348.11995566721004,"-",344.70943710716369,"-",341.76920082082432,"-",350.98645257323926,"-",348.63196013630733,"-",33.045125393740342,"-",32.02721881559642,"-",32.217563507182206,"-",36.406016086434107,"-",0]
[null,382,{"$f":"Chegadas!J390","v":349.51999999999992},{"$f":"IF(Chegadas!K390=\"I\",Atendimento!E397,Atendimento!L397)","v":11.38355688137778},349.51999999999992,360.90355688137771,"-",350.83947570788223,"-",356.39435317892145,"-",353.00419130341038,"-",350.46090555675715,"-",349.84422275823573,"-",347.83884221498857,"-",351.34461158837837,"-",344.95791964134582,"-",350.47795484251867,"-",348.11995566721004,"-",344.70943710716369,"-",341.76920082082432,"-",350.98645257323926,"-",348.63196013630733,"-",33.045125393740342,"-",32.02721881559642,"-",32.217563507182206,"-",36.406016086434107,"-",0]
[null,383,{"$f":"Chegadas!J391","v":350.17999999999995},{"$f":"IF(Chegadas!K391=\"I\",Atendimento!E398,Atendimento!L398)","v":5.4636061413322663},"*",360.90355688137771,"*",350.83947570788223,"*",356.39435317892145,"*",353.00419130341038,"*",350.46090555675715,350.17999999999995,355.64360614133221,"-",347.83884221498857,"-",351.34461158837837,"-",344.95791964134582,"-",350.47795484251867,"-",348.11995566721004,"-",344.70943710716369,"-",341.76920082082432,"-",350.98645257323926,"-",348.63196013630733,"-",33.045125393740342,"-",32.02721881559642,"-",32.217563507182206,"-",36.406016086434107,"-",0]
[null,384,{"$f":"Chegadas!J392","v":350.44},{"$f":"IF(Chegadas!K392=\"I\",Atendimento!E399,Atendimento!L399)","v":0.84519269837002553},"*",360.90355688137771,"*",350.83947570788223,"*",356.39435317892145,"*",353.00419130341038,"*",350.46090555675715,"*",355.64360614133221,350.44,351.28519269837,"-",351.34461158837837,"-",344.95791964134582,"-",350.47795484251867,"-",348.11995566721004,"-",344.70943710716369,"-",341.76920082082432,"-",350.98645257323926,"-",348.63196013630733,"-",33.045125393740342,"-",32.02721881559642,"-",32.217563507182206,"-",36.406016086434107,"-",0]
[null,385,{"$f":"Chegadas!J393","v":351.26999999999992},{"$f":"IF(Chegadas!K393=\"I\",Atendimento!E400,Atendimento!L400)","v":3.1235349825522616},"*",360.90355688137771,351.26999999999992,354.39353498255218,"-",356.39435317892145,"-",353.00419130341038,"-",350.46090555675715,"-",355.64360614133221,"-",351.28519269837,"-",351.34461158837837,"-",344.95791964134582,"-",350.47795484251867,"-",348.11995566721004,"-",344.70943710716369,"-",341.76920082082432,"-",350.98645257323926,"-",348.63196013630733,"-",33.045125393740342,"-",32.02721881559642,"-",32.217563507182206,"-",36.406016086434107,"-",0]
[null,386,{"$f":"Chegadas!J394","v":352.06999999999994},{"$f":"IF(Chegadas!K394=\"I\",Atendimento!E401,Atendimento!L401)","v":12.405765368399297},"*",360.90355688137771,{"$f":"IF(E393<>\"*\",\"-\",IF($C393>=H392,$C393,\"*\"))","v":"*"},354.39353498255218,{"$f":"IF(G393<>\"*\",\"-\",IF($C393>=J392,$C393,\"*\"))","v":"*"},356.39435317892145,{"$f":"IF(I393<>\"*\",\"-\",IF($C393>=L392,$C393,\"*\"))","v":"*"},353.00419130341038,{"$f":"IF(K393<>\"*\",\"-\",IF($C393>=N392,$C393,\"*\"))","v":352.06999999999994},364.47576536839921,{"$f":"IF(M393<>\"*\",\"-\",IF($C393>=P392,$C393,\"*\"))","v":"-"},355.64360614133221,{"$f":"IF(O393<>\"*\",\"-\",IF($C393>=R392,$C393,\"*\"))","v":"-"},351.28519269837,{"$f":"IF(Q393<>\"*\",\"-\",IF($C393>=T392,$C393,\"*\"))","v":"-"},351.34461158837837,{"$f":"IF(S393<>\"*\",\"-\",IF($C393>=V392,$C393,\"*\"))","v":"-"},344.95791964134582,{"$f":"IF(U393<>\"*\",\"-\",IF($C393>=X392,$C393,\"*\"))","v":"-"},350.47795484251867,{"$f":"IF(W393<>\"*\",\"-\",IF($C393>=Z392,$C393,\"*\"))","v":"-"},348.11995566721004,{"$f":"IF(Y393<>\"*\",\"-\",IF($C393>=AB392,$C393,\"*\"))","v":"-"},344.70943710716369,{"$f":"IF(AA393<>\"*\",\"-\",IF($C393>=AD392,$C393,\"*\"))","v":"-"},341.76920082082432,{"$f":"IF(AC393<>\"*\",\"-\",IF($C393>=AF392,$C393,\"*\"))","v":"-"},350.98645257323926,{"$f":"IF(AE393<>\"*\",\"-\",IF($C393>=AH392,$C393,\"*\"))","v":"-"},348.63196013630733,{"$f":"IF(AG393<>\"*\",\"-\",IF($C393>=AJ392,$C393,\"*\"))","v":"-"},33.045125393740342,{"$f":"IF(AI393<>\"*\",\"-\",IF($C393>=AL392,$C393,\"*\"))","v":"-"},32.02721881559642,{"$f":"IF(AK393<>\"*\",\"-\",IF($C393>=AN392,$C393,\"*\"))","v":"-"},32.217563507182206,{"$f":"IF(AM393<>\"*\",\"-\",IF($C393>=AP392,$C393,\"*\"))","v":"-"},36.406016086434107,{"$f":"IF(AO393<>\"*\",\"-\",IF($C393>=AR392,$C393,\"*\"))","v":"-"},0]
[null,387,{"$f":"Chegadas!J395","v":353.28999999999996},{"$f":"IF(Chegadas!K395=\"I\",Atendimento!E402,Atendimento!L402)","v":5.4339411486074738},{"$f":"IF($C394>F393,$C394,\"*\")","v":"*"},{"$f":"IF(E394=\"*\",F393,E394+$D394)","v":360.90355688137771},"*",{"$f":"IF(OR(G394=\"-\",G394=\"*\"),H393,G394+$D394)","v":354.39353498255218},"*",{"$f":"IF(OR(I394=\"-\",I394=\"*\"),J393,I394+$D394)","v":356.39435317892145},353.28999999999996,358.72394114860742,"-",364.47576536839921,"-",355.64360614133221,"-",351.28519269837,"-",351.34461158837837,"-",344.95791964134582,"-",350.47795484251867,"-",348.11995566721004,"-",344.70943710716369,"-",341.76920082082432,"-",350.98645257323926,"-",348.63196013630733,"-",33.045125393740342,"-",32.02721881559642,"-",32.217563507182206,"-",36.406016086434107,"-",0]
[null,388,{"$f":"Chegadas!J396","v":354.55999999999995},{"$f":"IF(Chegadas!K396=\"I\",Atendimento!E403,Atendimento!L403)","v":7.3340948394578636},"*",360.90355688137771,354.55999999999995,361.89409483945781,"-",356.39435317892145,"-",358.72394114860742,"-",364.47576536839921,"-",355.64360614133221,"-",351.28519269837,"-",351.34461158837837,"-",344.95791964134582,"-",350.47795484251867,"-",348.11995566721004,"-",344.70943710716369,"-",341.76920082082432,"-",350.98645257323926,"-",348.63196013630733,"-",33.045125393740342,"-",32.02721881559642,"-",32.217563507182206,"-",36.406016086434107,"-",0]
[null,389,{"$f":"Chegadas!J397","v":356.75999999999993},{"$f":"IF(Chegadas!K397=\"I\",Atendimento!E404,Atendimento!L404)","v":6.8172119197882637},"*",360.90355688137771,"*",361.89409483945781,356.75999999999993,363.57721191978817,"-",358.72394114860742,"-",364.47576536839921,"-",355.64360614133221,"-",351.28519269837,"-",351.34461158837837,"-",344.95791964134582,"-",350.47795484251867,"-",348.11995566721004,"-",344.70943710716369,"-",341.76920082082432,"-",350.98645257323926,"-",348.63196013630733,"-",33.045125393740342,"-",32.02721881559642,"-",32.217563507182206,"-",36.406016086434107,"-",0]
[null,390,{"$f":"Chegadas!J398","v":357.27999999999992},{"$f":"IF(Chegadas!K398=\"I\",Atendimento!E405,Atendimento!L405)","v":10.347631168452574},"*",360.90355688137771,"*",361.89409483945781,"*",363.57721191978817,"*",358.72394114860742,"*",364.47576536839921,357.27999999999992,367.62763116845247,"-",351.28519269837,"-",351.34461158837837,"-",344.95791964134582,"-",350.47795484251867,"-",348.11995566721004,"-",344.70943710716369,"-",341.76920082082432,"-",350.98645257323926,"-",348.63196013630733,"-",33.045125393740342,"-",32.02721881559642,"-",32.217563507182206,"-",36.406016086434107,"-",0]
[null,391,{"$f":"Chegadas!J399","v":357.75999999999993},{"$f":"IF(Chegadas!K399=\"I\",Atendimento!E406,Atendimento!L406)","v":7.1904065622209403},"*",360.90355688137771,"*",361.89409483945781,"*",363.57721191978817,"*",358.72394114860742,"*",364.47576536839921,"*",367.62763116845247,357.75999999999993,364.95040656222085,"-",351.34461158837837,"-",344.95791964134582,"-",350.47795484251867,"-",348.11995566721004,"-",344.70943710716369,"-",341.76920082082432,"-",350.98645257323926,"-",348.63196013630733,"-",33.045125393740342,"-",32.02721881559642,"-",32.217563507182206,"-",36.406016086434107,"-",0]
[null,392,{"$f":"Chegadas!J400","v":358.16999999999996},{"$f":"IF(Chegadas!K400=\"I\",Atendimento!E407,Atendimento!L407)","v":5.974726708273721},"*",360.90355688137771,"*",361.89409483945781,"*",363.57721191978817,"*",358.72394114860742,"*",364.47576536839921,"*",367.62763116845247,"*",364.95040656222085,358.16999999999996,364.14472670827365,"-",344.95791964134582,"-",350.47795484251867,"-",348.11995566721004,"-",344.70943710716369,"-",341.76920082082432,"-",350.98645257323926,"-",348.63196013630733,"-",33.045125393740342,"-",32.02721881559642,"-",32.217563507182206,"-",36.406016086434107,"-",0]
[null,393,{"$f":"Chegadas!J401","v":358.61999999999995},{"$f":"IF(Chegadas!K401=\"I\",Atendimento!E408,Atendimento!L408)","v":4.4066572757604989},"*",360.90355688137771,"*",361.89409483945781,"*",363.57721191978817,"*",358.72394114860742,"*",364.47576536839921,"*",367.62763116845247,"*",364.95040656222085,"*",364.14472670827365,358.61999999999995,363.02665727576044,"-",350.47795484251867,"-",348.11995566721004,"-",344.70943710716369,"-",341.76920082082432,"-",350.98645257323926,"-",348.63196013630733,"-",33.045125393740342,"-",32.02721881559642,"-",32.217563507182206,"-",36.406016086434107,"-",0]
[null,394,{"$f":"Chegadas!J402","v":359.09},{"$f":"IF(Chegadas!K402=\"I\",Atendimento!E409,Atendimento!L409)","v":6.161162430912932},"*",360.90355688137771,"*",361.89409483945781,"*",363.57721191978817,359.09,365.25116243091293,"-",364.47576536839921,"-",367.62763116845247,"-",364.95040656222085,"-",364.14472670827365,"-",363.02665727576044,"-",350.47795484251867,"-",{"$f":"IF(OR(Y401=\"-\",Y401=\"*\"),Z400,Y401+$D401)","v":348.11995566721004},"-",344.70943710716369,"-",341.76920082082432,"-",350.98645257323926,"-",348.63196013630733,"-",33.045125393740342,"-",32.02721881559642,"-",32.217563507182206,"-",36.406016086434107,"-",0]
[null,395,{"$f":"Chegadas!J403","v":359.39},{"$f":"IF(Chegadas!K403=\"I\",Atendimento!E410,Atendimento!L410)","v":8.2909186240384791},"*",360.90355688137771,"*",361.89409483945781,"*",363.57721191978817,"*",365.25116243091293,"*",364.47576536839921,"*",367.62763116845247,"*",364.95040656222085,"*",364.14472670827365,"*",363.02665727576044,359.39,367.68091862403844,"-",348.11995566721004,"-",{"$f":"IF(OR(AA402=\"-\",AA402=\"*\"),AB401,AA402+$D402)","v":344.70943710716369},"-",341.76920082082432,"-",350.98645257323926,"-",348.63196013630733,"-",33.045125393740342,"-",32.02721881559642,"-",32.217563507182206,"-",36.406016086434107,"-",0]
[null,396,{"$f":"Chegadas!J404","v":359.59},{"$f":"IF(Chegadas!K404=\"I\",Atendimento!E411,Atendimento!L411)","v":2.1158997511058897},"*",360.90355688137771,"*",361.89409483945781,"*",363.57721191978817,"*",365.25116243091293,"*",364.47576536839921,"*",367.62763116845247,"*",364.95040656222085,"*",364.14472670827365,"*",363.02665727576044,"*",367.68091862403844,359.59,361.70589975110585,"-",344.70943710716369,"-",{"$f":"IF(OR(AC403=\"-\",AC403=\"*\"),AD402,AC403+$D403)","v":341.76920082082432},"-",350.98645257323926,"-",348.63196013630733,"-",33.045125393740342,"-",32.02721881559642,"-",32.217563507182206,"-",36.406016086434107,"-",0]
[null,397,{"$f":"Chegadas!J405","v":359.94},{"$f":"IF(Chegadas!K405=\"I\",Atendimento!E412,Atendimento!L412)","v":2.3689256901290858},"*",360.90355688137771,"*",361.89409483945781,"*",363.57721191978817,"*",365.25116243091293,"*",364.47576536839921,"*",367.62763116845247,"*",364.95040656222085,"*",364.14472670827365,"*",363.02665727576044,"*",367.68091862403844,"*",361.70589975110585,359.94,362.30892569012906,"-",341.76920082082432,"-",{"$f":"IF(OR(AE404=\"-\",AE404=\"*\"),AF403,AE404+$D404)","v":350.98645257323926},"-",348.63196013630733,"-",33.045125393740342,"-",32.02721881559642,"-",32.217563507182206,"-",36.406016086434107,"-",0]
[null,398,{"$f":"Chegadas!J406","v":360.4},{"$f":"IF(Chegadas!K406=\"I\",Atendimento!E413,Atendimento!L413)","v":4.4831493731939345},"*",360.90355688137771,"*",361.89409483945781,"*",363.57721191978817,"*",365.25116243091293,"*",364.47576536839921,"*",367.62763116845247,"*",364.95040656222085,"*",364.14472670827365,"*",363.02665727576044,"*",367.68091862403844,"*",361.70589975110585,"*",362.30892569012906,360.4,364.88314937319393,"-",350.98645257323926,"-",{"$f":"IF(OR(AG405=\"-\",AG405=\"*\"),AH404,AG405+$D405)","v":348.63196013630733},"-",33.045125393740342,"-",32.02721881559642,"-",32.217563507182206,"-",36.406016086434107,"-",0]
[null,399,{"$f":"Chegadas!J407","v":360.66999999999996},{"$f":"IF(Chegadas!K407=\"I\",Atendimento!E414,Atendimento!L414)","v":3.9411457732567934},"*",360.90355688137771,"*",361.89409483945781,"*",363.57721191978817,"*",365.25116243091293,"*",364.47576536839921,"*",367.62763116845247,"*",364.95040656222085,"*",364.14472670827365,"*",363.02665727576044,"*",367.68091862403844,"*",361.70589975110585,"*",362.30892569012906,"*",364.88314937319393,360.66999999999996,364.61114577325674,"-",348.63196013630733,"-",{"$f":"IF(OR(AI406=\"-\",AI406=\"*\"),AJ405,AI406+$D406)","v":33.045125393740342},"-",32.02721881559642,"-",32.217563507182206,"-",36.406016086434107,"-",0]
[null,400,{"$f":"Chegadas!J408","v":361.19999999999993},{"$f":"IF(Chegadas!K408=\"I\",Atendimento!E415,Atendimento!L415)","v":10.588793884318667},361.19999999999993,371.78879388431858,"-",361.89409483945781,"-",363.57721191978817,"-",365.25116243091293,"-",364.47576536839921,"-",367.62763116845247,"-",364.95040656222085,"-",364.14472670827365,"-",363.02665727576044,"-",367.68091862403844,"-",361.70589975110585,"-",362.30892569012906,"-",364.88314937319393,"-",364.61114577325674,"-",348.63196013630733,"-",33.045125393740342,"-",{"$f":"IF(OR(AK407=\"-\",AK407=\"*\"),AL406,AK407+$D407)","v":32.02721881559642},"-",32.217563507182206,"-",36.406016086434107,"-",0]
[null,401,{"$f":"Chegadas!J409","v":361.83999999999992},{"$f":"IF(Chegadas!K409=\"I\",Atendimento!E416,Atendimento!L416)","v":3.7289357481522276},"*",371.78879388431858,"*",361.89409483945781,"*",363.57721191978817,"*",365.25116243091293,"*",364.47576536839921,"*",367.62763116845247,"*",364.95040656222085,"*",364.14472670827365,"*",363.02665727576044,"*",367.68091862403844,361.83999999999992,365.56893574815217,"-",362.30892569012906,"-",364.88314937319393,"-",364.61114577325674,"-",348.63196013630733,"-",33.045125393740342,"-",32.02721881559642,"-",{"$f":"IF(OR(AM408=\"-\",AM408=\"*\"),AN407,AM408+$D408)","v":32.217563507182206},"-",36.406016086434107,"-",0]
[null,402,{"$f":"Chegadas!J410","v":362.71999999999991},{"$f":"IF(Chegadas!K410=\"I\",Atendimento!E417,Atendimento!L417)","v":11.54565411695835},"*",371.78879388431858,362.71999999999991,374.26565411695827,"-",363.57721191978817,"-",365.25116243091293,"-",364.47576536839921,"-",367.62763116845247,"-",364.95040656222085,"-",364.14472670827365,"-",363.02665727576044,"-",367.68091862403844,"-",365.56893574815217,"-",362.30892569012906,"-",364.88314937319393,"-",364.61114577325674,"-",348.63196013630733,"-",33.045125393740342,"-",32.02721881559642,"-",32.217563507182206,"-",{"$f":"IF(OR(AO409=\"-\",AO409=\"*\"),AP408,AO409+$D409)","v":36.406016086434107},"-",0]
[null,403,{"$f":"Chegadas!J411","v":363.64999999999992},{"$f":"IF(Chegadas!K411=\"I\",Atendimento!E418,Atendimento!L418)","v":11.483295156273321},"*",371.78879388431858,"*",374.26565411695827,363.64999999999992,375.13329515627322,"-",365.25116243091293,"-",364.47576536839921,"-",367.62763116845247,"-",364.95040656222085,"-",364.14472670827365,"-",363.02665727576044,"-",367.68091862403844,"-",365.56893574815217,"-",362.30892569012906,"-",364.88314937319393,"-",364.61114577325674,"-",348.63196013630733,"-",33.045125393740342,"-",32.02721881559642,"-",32.217563507182206,"-",36.406016086434107,"-",{"$f":"IF(OR(AQ410=\"-\",AQ410=\"*\"),AR409,AQ410+$D410)","v":0}]
[null,404,{"$f":"Chegadas!J412","v":363.82999999999993},{"$f":"IF(Chegadas!K412=\"I\",Atendimento!E419,Atendimento!L419)","v":6.4395402557004102},"*",371.78879388431858,"*",374.26565411695827,"*",375.13329515627322,"*",365.25116243091293,"*",364.47576536839921,"*",367.62763116845247,"*",364.95040656222085,"*",364.14472670827365,363.82999999999993,370.26954025570035,"-",367.68091862403844,"-",365.56893574815217,"-",362.30892569012906,"-",364.88314937319393,"-",364.61114577325674,"-",348.63196013630733,"-",33.045125393740342,"-",32.02721881559642,"-",32.217563507182206,"-",36.406016086434107,"-",0]
[null,405,{"$f":"Chegadas!J413","v":363.9799999999999},{"$f":"IF(Chegadas!K413=\"I\",Atendimento!E420,Atendimento!L420)","v":4.9346989838893798},"*",371.78879388431858,"*",374.26565411695827,"*",375.13329515627322,"*",{"$f":"IF(OR(K412=\"-\",K412=\"*\"),L411,K412+$D412)","v":365.25116243091293},"*",{"$f":"IF(OR(M412=\"-\",M412=\"*\"),N411,M412+$D412)","v":364.47576536839921},"*",{"$f":"IF(OR(O412=\"-\",O412=\"*\"),P411,O412+$D412)","v":367.62763116845247},"*",{"$f":"IF(OR(Q412=\"-\",Q412=\"*\"),R411,Q412+$D412)","v":364.95040656222085},"*",{"$f":"IF(OR(S412=\"-\",S412=\"*\"),T411,S412+$D412)","v":364.14472670827365},"*",{"$f":"IF(OR(U412=\"-\",U412=\"*\"),V411,U412+$D412)","v":370.26954025570035},"*",{"$f":"IF(OR(W412=\"-\",W412=\"*\"),X411,W412+$D412)","v":367.68091862403844},"*",365.56893574815217,363.9799999999999,368.91469898388931,"-",364.88314937319393,"-",364.61114577325674,"-",348.63196013630733,"-",33.045125393740342,"-",32.02721881559642,"-",32.217563507182206,"-",36.406016086434107,"-",0]
[null,406,{"$f":"Chegadas!J414","v":364.4199999999999},{"$f":"IF(Chegadas!K414=\"I\",Atendimento!E421,Atendimento!L421)","v":8.688711582351262},"*",371.78879388431858,"*",374.26565411695827,"*",375.13329515627322,"*",365.25116243091293,"*",364.47576536839921,"*",367.62763116845247,"*",364.95040656222085,364.4199999999999,373.10871158235119,"-",370.26954025570035,"-",367.68091862403844,"-",365.56893574815217,"-",368.91469898388931,"-",364.88314937319393,"-",364.61114577325674,"-",348.63196013630733,"-",33.045125393740342,"-",32.02721881559642,"-",32.217563507182206,"-",36.406016086434107,"-",0]
[null,407,{"$f":"Chegadas!J415","v":365.74999999999989},{"$f":"IF(Chegadas!K415=\"I\",Atendimento!E422,Atendimento!L422)","v":7.4706238325658783},"*",371.78879388431858,"*",374.26565411695827,"*",375.13329515627322,365.74999999999989,373.22062383256576,"-",364.47576536839921,"-",367.62763116845247,"-",364.95040656222085,"-",373.10871158235119,"-",370.26954025570035,"-",367.68091862403844,"-",365.56893574815217,"-",368.91469898388931,"-",364.88314937319393,"-",364.61114577325674,"-",348.63196013630733,"-",33.045125393740342,"-",32.02721881559642,"-",32.217563507182206,"-",36.406016086434107,"-",0]
[null,408,{"$f":"Chegadas!J416","v":368.08999999999986},{"$f":"IF(Chegadas!K416=\"I\",Atendimento!E423,Atendimento!L423)","v":14.284992783814342},"*",371.78879388431858,"*",374.26565411695827,"*",375.13329515627322,"*",373.22062383256576,368.08999999999986,382.37499278381421,"-",367.62763116845247,"-",364.95040656222085,"-",373.10871158235119,"-",370.26954025570035,"-",367.68091862403844,"-",365.56893574815217,"-",368.91469898388931,"-",364.88314937319393,"-",364.61114577325674,"-",348.63196013630733,"-",33.045125393740342,"-",32.02721881559642,"-",32.217563507182206,"-",36.406016086434107,"-",0]
[null,409,{"$f":"Chegadas!J417","v":372.49999999999989},{"$f":"IF(Chegadas!K417=\"I\",Atendimento!E424,Atendimento!L424)","v":10.708466672268647},372.49999999999989,383.20846667226851,"-",374.26565411695827,"-",375.13329515627322,"-",373.22062383256576,"-",382.37499278381421,"-",367.62763116845247,"-",364.95040656222085,"-",373.10871158235119,"-",370.26954025570035,"-",367.68091862403844,"-",365.56893574815217,"-",368.91469898388931,"-",364.88314937319393,"-",364.61114577325674,"-",348.63196013630733,"-",33.045125393740342,"-",32.02721881559642,"-",32.217563507182206,"-",36.406016086434107,"-",0]
[null,410,{"$f":"Chegadas!J418","v":373.82999999999987},{"$f":"IF(Chegadas!K418=\"I\",Atendimento!E425,Atendimento!L425)","v":8.3236001593080715},"*",383.20846667226851,"*",374.26565411695827,"*",375.13329515627322,373.82999999999987,382.15360015930793,"-",382.37499278381421,"-",367.62763116845247,"-",364.95040656222085,"-",373.10871158235119,"-",370.26954025570035,"-",367.68091862403844,"-",365.56893574815217,"-",368.91469898388931,"-",364.88314937319393,"-",364.61114577325674,"-",348.63196013630733,"-",33.045125393740342,"-",32.02721881559642,"-",32.217563507182206,"-",36.406016086434107,"-",0]
[null,411,{"$f":"Chegadas!J419","v":374.59999999999985},{"$f":"IF(Chegadas!K419=\"I\",Atendimento!E426,Atendimento!L426)","v":13.719825565910499},"*",383.20846667226851,374.59999999999985,388.31982556591038,"-",375.13329515627322,"-",382.15360015930793,"-",382.37499278381421,"-",367.62763116845247,"-",364.95040656222085,"-",373.10871158235119,"-",370.26954025570035,"-",367.68091862403844,"-",365.56893574815217,"-",368.91469898388931,"-",364.88314937319393,"-",364.61114577325674,"-",348.63196013630733,"-",33.045125393740342,"-",32.02721881559642,"-",32.217563507182206,"-",36.406016086434107,"-",0]
[null,412,{"$f":"Chegadas!J420","v":375.24999999999983},{"$f":"IF(Chegadas!K420=\"I\",Atendimento!E427,Atendimento!L427)","v":13.070551505721996},"*",383.20846667226851,"*",388.31982556591038,375.24999999999983,388.32055150572182,"-",382.15360015930793,"-",382.37499278381421,"-",367.62763116845247,"-",364.95040656222085,"-",373.10871158235119,"-",370.26954025570035,"-",367.68091862403844,"-",365.56893574815217,"-",368.91469898388931,"-",364.88314937319393,"-",364.61114577325674,"-",348.63196013630733,"-",33.045125393740342,"-",32.02721881559642,"-",32.217563507182206,"-",36.406016086434107,"-",0]
[null,413,{"$f":"Chegadas!J421","v":375.62999999999982},{"$f":"IF(Chegadas!K421=\"I\",Atendimento!E428,Atendimento!L428)","v":8.0846181250152043},"*",383.20846667226851,"*",388.31982556591038,"*",388.32055150572182,"*",382.15360015930793,"*",382.37499278381421,375.62999999999982,383.71461812501502,"-",364.95040656222085,"-",373.10871158235119,"-",370.26954025570035,"-",367.68091862403844,"-",365.56893574815217,"-",368.91469898388931,"-",364.88314937319393,"-",364.61114577325674,"-",348.63196013630733,"-",33.045125393740342,"-",32.02721881559642,"-",32.217563507182206,"-",36.406016086434107,"-",0]
[null,414,{"$f":"Chegadas!J422","v":376.37999999999982},{"$f":"IF(Chegadas!K422=\"I\",Atendimento!E429,Atendimento!L429)","v":8.1280808169122949},"*",383.20846667226851,"*",388.31982556591038,"*",388.32055150572182,"*",382.15360015930793,"*",382.37499278381421,"*",383.71461812501502,376.37999999999982,384.50808081691213,"-",373.10871158235119,"-",370.26954025570035,"-",367.68091862403844,"-",365.56893574815217,"-",368.91469898388931,"-",364.88314937319393,"-",364.61114577325674,"-",348.63196013630733,"-",33.045125393740342,"-",32.02721881559642,"-",32.217563507182206,"-",36.406016086434107,"-",0]
[null,415,{"$f":"Chegadas!J423","v":378.47999999999985},{"$f":"IF(Chegadas!K423=\"I\",Atendimento!E430,Atendimento!L430)","v":3.2788023634025589},"*",383.20846667226851,"*",388.31982556591038,"*",388.32055150572182,"*",382.15360015930793,"*",382.37499278381421,"*",383.71461812501502,"*",384.50808081691213,378.47999999999985,381.75880236340242,"-",370.26954025570035,"-",367.68091862403844,"-",365.56893574815217,"-",368.91469898388931,"-",364.88314937319393,"-",364.61114577325674,"-",348.63196013630733,"-",33.045125393740342,"-",32.02721881559642,"-",32.217563507182206,"-",36.406016086434107,"-",0]
[null,416,{"$f":"Chegadas!J424","v":379.11},{"$f":"IF(Chegadas!K424=\"I\",Atendimento!E431,Atendimento!L431)","v":0.86870747231415391},"*",383.20846667226851,"*",388.31982556591038,"*",388.32055150572182,"*",382.15360015930793,"*",382.37499278381421,"*",383.71461812501502,"*",384.50808081691213,"*",381.75880236340242,379.11,379.97870747231417,"-",367.68091862403844,"-",365.56893574815217,"-",368.91469898388931,"-",364.88314937319393,"-",364.61114577325674,"-",348.63196013630733,"-",33.045125393740342,"-",32.02721881559642,"-",32.217563507182206,"-",36.406016086434107,"-",0]
[null,417,{"$f":"Chegadas!J425","v":379.28999999999985},{"$f":"IF(Chegadas!K425=\"I\",Atendimento!E432,Atendimento!L432)","v":12.639480608023291},"*",383.20846667226851,"*",388.31982556591038,"*",388.32055150572182,"*",382.15360015930793,"*",382.37499278381421,"*",383.71461812501502,"*",384.50808081691213,"*",381.75880236340242,"*",379.97870747231417,379.28999999999985,391.92948060802314,"-",365.56893574815217,"-",368.91469898388931,"-",364.88314937319393,"-",364.61114577325674,"-",348.63196013630733,"-",33.045125393740342,"-",32.02721881559642,"-",32.217563507182206,"-",36.406016086434107,"-",0]
[null,418,{"$f":"Chegadas!J426","v":379.59999999999985},{"$f":"IF(Chegadas!K426=\"I\",Atendimento!E433,Atendimento!L433)","v":1.997452245837219},"*",383.20846667226851,"*",388.31982556591038,"*",388.32055150572182,"*",382.15360015930793,"*",382.37499278381421,"*",383.71461812501502,"*",384.50808081691213,"*",381.75880236340242,"*",379.97870747231417,"*",391.92948060802314,379.59999999999985,381.59745224583708,"-",368.91469898388931,"-",364.88314937319393,"-",364.61114577325674,"-",348.63196013630733,"-",33.045125393740342,"-",32.02721881559642,"-",32.217563507182206,"-",36.406016086434107,"-",0]
[null,419,{"$f":"Chegadas!J427","v":380.98},{"$f":"IF(Chegadas!K427=\"I\",Atendimento!E434,Atendimento!L434)","v":1.4236105351211878},"*",383.20846667226851,"*",388.31982556591038,"*",388.32055150572182,"*",382.15360015930793,"*",382.37499278381421,"*",383.71461812501502,"*",384.50808081691213,"*",381.75880236340242,380.98,382.40361053512123,"-",391.92948060802314,"-",381.59745224583708,"-",368.91469898388931,"-",364.88314937319393,"-",364.61114577325674,"-",348.63196013630733,"-",33.045125393740342,"-",32.02721881559642,"-",32.217563507182206,"-",36.406016086434107,"-",0]
[null,420,{"$f":"Chegadas!J428","v":381.49999999999983},{"$f":"IF(Chegadas!K428=\"I\",Atendimento!E435,Atendimento!L435)","v":4.7566185683235052},"*",383.20846667226851,"*",388.31982556591038,"*",388.32055150572182,"*",382.15360015930793,"*",382.37499278381421,"*",383.71461812501502,"*",384.50808081691213,"*",381.75880236340242,"*",382.40361053512123,"*",391.92948060802314,"*",381.59745224583708,381.49999999999983,386.25661856832335,"-",364.88314937319393,"-",364.61114577325674,"-",348.63196013630733,"-",33.045125393740342,"-",32.02721881559642,"-",32.217563507182206,"-",36.406016086434107,"-",0]
[null,421,{"$f":"Chegadas!J429","v":381.5299999999998},{"$f":"IF(Chegadas!K429=\"I\",Atendimento!E436,Atendimento!L436)","v":11.250594002883936},"*",383.20846667226851,"*",388.31982556591038,"*",388.32055150572182,"*",382.15360015930793,"*",382.37499278381421,"*",383.71461812501502,"*",384.50808081691213,"*",381.75880236340242,"*",382.40361053512123,"*",391.92948060802314,"*",381.59745224583708,"*",386.25661856832335,381.5299999999998,392.78059400288373,"-",364.61114577325674,"-",348.63196013630733,"-",33.045125393740342,"-",32.02721881559642,"-",32.217563507182206,"-",36.406016086434107,"-",0]
[null,422,{"$f":"Chegadas!J430","v":382.81999999999982},{"$f":"IF(Chegadas!K430=\"I\",Atendimento!E437,Atendimento!L437)","v":6.262313919452307},"*",383.20846667226851,"*",388.31982556591038,"*",388.32055150572182,382.81999999999982,389.08231391945213,"-",382.37499278381421,"-",383.71461812501502,"-",384.50808081691213,"-",381.75880236340242,"-",382.40361053512123,"-",391.92948060802314,"-",381.59745224583708,"-",386.25661856832335,"-",392.78059400288373,"-",364.61114577325674,"-",348.63196013630733,"-",33.045125393740342,"-",32.02721881559642,"-",32.217563507182206,"-",36.406016086434107,"-",0]
[null,423,{"$f":"Chegadas!J431","v":385.06999999999982},{"$f":"IF(Chegadas!K431=\"I\",Atendimento!E438,Atendimento!L438)","v":8.7125445603327254},385.06999999999982,393.78254456033255,"-",388.31982556591038,"-",388.32055150572182,"-",389.08231391945213,"-",382.37499278381421,"-",383.71461812501502,"-",384.50808081691213,"-",381.75880236340242,"-",382.40361053512123,"-",391.92948060802314,"-",381.59745224583708,"-",386.25661856832335,"-",392.78059400288373,"-",364.61114577325674,"-",348.63196013630733,"-",33.045125393740342,"-",32.02721881559642,"-",32.217563507182206,"-",36.406016086434107,"-",0]
[null,424,{"$f":"Chegadas!J432","v":385.49999999999983},{"$f":"IF(Chegadas!K432=\"I\",Atendimento!E439,Atendimento!L439)","v":4.6693246050727435},"*",393.78254456033255,"*",388.31982556591038,"*",388.32055150572182,"*",389.08231391945213,385.49999999999983,390.16932460507257,"-",383.71461812501502,"-",384.50808081691213,"-",381.75880236340242,"-",382.40361053512123,"-",391.92948060802314,"-",381.59745224583708,"-",386.25661856832335,"-",392.78059400288373,"-",364.61114577325674,"-",348.63196013630733,"-",33.045125393740342,"-",32.02721881559642,"-",32.217563507182206,"-",36.406016086434107,"-",0]
[null,425,{"$f":"Chegadas!J433","v":386.00999999999982},{"$f":"IF(Chegadas!K433=\"I\",Atendimento!E440,Atendimento!L440)","v":8.0406086334363405},"*",393.78254456033255,"*",388.31982556591038,"*",388.32055150572182,"*",389.08231391945213,"*",390.16932460507257,386.00999999999982,394.05060863343618,"-",384.50808081691213,"-",381.75880236340242,"-",382.40361053512123,"-",391.92948060802314,"-",381.59745224583708,"-",386.25661856832335,"-",392.78059400288373,"-",364.61114577325674,"-",348.63196013630733,"-",33.045125393740342,"-",32.02721881559642,"-",32.217563507182206,"-",36.406016086434107,"-",0]
[null,426,{"$f":"Chegadas!J434","v":386.06999999999982},{"$f":"IF(Chegadas!K434=\"I\",Atendimento!E441,Atendimento!L441)","v":10.938451807506311},"*",393.78254456033255,"*",388.31982556591038,"*",388.32055150572182,"*",389.08231391945213,"*",390.16932460507257,"*",394.05060863343618,386.06999999999982,397.00845180750616,"-",381.75880236340242,"-",382.40361053512123,"-",391.92948060802314,"-",381.59745224583708,"-",386.25661856832335,"-",392.78059400288373,"-",364.61114577325674,"-",348.63196013630733,"-",33.045125393740342,"-",32.02721881559642,"-",32.217563507182206,"-",36.406016086434107,"-",0]
[null,427,{"$f":"Chegadas!J435","v":386.5899999999998},{"$f":"IF(Chegadas!K435=\"I\",Atendimento!E442,Atendimento!L442)","v":8.190787003993254},"*",393.78254456033255,"*",388.31982556591038,"*",388.32055150572182,"*",389.08231391945213,"*",390.16932460507257,"*",394.05060863343618,"*",397.00845180750616,386.5899999999998,394.78078700399305,"-",382.40361053512123,"-",391.92948060802314,"-",381.59745224583708,"-",386.25661856832335,"-",392.78059400288373,"-",364.61114577325674,"-",348.63196013630733,"-",33.045125393740342,"-",32.02721881559642,"-",32.217563507182206,"-",36.406016086434107,"-",0]
[null,428,{"$f":"Chegadas!J436","v":387.75999999999982},{"$f":"IF(Chegadas!K436=\"I\",Atendimento!E443,Atendimento!L443)","v":8.0041179814686334},"*",393.78254456033255,"*",388.31982556591038,"*",388.32055150572182,"*",389.08231391945213,"*",390.16932460507257,"*",394.05060863343618,"*",397.00845180750616,"*",394.78078700399305,387.75999999999982,395.76411798146847,"-",391.92948060802314,"-",381.59745224583708,"-",386.25661856832335,"-",392.78059400288373,"-",364.61114577325674,"-",348.63196013630733,"-",33.045125393740342,"-",32.02721881559642,"-",32.217563507182206,"-",36.406016086434107,"-",0]
[null,429,{"$f":"Chegadas!J437","v":388.07999999999981},{"$f":"IF(Chegadas!K437=\"I\",Atendimento!E444,Atendimento!L444)","v":6.7813261153037532},"*",393.78254456033255,"*",388.31982556591038,"*",388.32055150572182,"*",389.08231391945213,"*",390.16932460507257,"*",394.05060863343618,"*",397.00845180750616,"*",394.78078700399305,"*",395.76411798146847,"*",391.92948060802314,388.07999999999981,394.86132611530354,"-",386.25661856832335,"-",392.78059400288373,"-",364.61114577325674,"-",348.63196013630733,"-",33.045125393740342,"-",32.02721881559642,"-",32.217563507182206,"-",36.406016086434107,"-",0]
[null,430,{"$f":"Chegadas!J438","v":388.20999999999981},{"$f":"IF(Chegadas!K438=\"I\",Atendimento!E445,Atendimento!L445)","v":10.720042920732823},"*",393.78254456033255,"*",388.31982556591038,"*",388.32055150572182,"*",389.08231391945213,"*",390.16932460507257,"*",394.05060863343618,"*",397.00845180750616,"*",394.78078700399305,"*",395.76411798146847,"*",391.92948060802314,"*",394.86132611530354,388.20999999999981,398.9300429207326,"-",392.78059400288373,"-",364.61114577325674,"-",348.63196013630733,"-",33.045125393740342,"-",32.02721881559642,"-",32.217563507182206,"-",36.406016086434107,"-",0]
[null,431,{"$f":"Chegadas!J439","v":388.55999999999983},{"$f":"IF(Chegadas!K439=\"I\",Atendimento!E446,Atendimento!L446)","v":10.995209147024767},"*",393.78254456033255,388.55999999999983,399.55520914702458,"-",388.32055150572182,"-",389.08231391945213,"-",390.16932460507257,"-",394.05060863343618,"-",397.00845180750616,"-",394.78078700399305,"-",395.76411798146847,"-",391.92948060802314,"-",394.86132611530354,"-",398.9300429207326,"-",392.78059400288373,"-",364.61114577325674,"-",348.63196013630733,"-",33.045125393740342,"-",32.02721881559642,"-",32.217563507182206,"-",36.406016086434107,"-",0]
[null,432,{"$f":"Chegadas!J440","v":389.17999999999984},{"$f":"IF(Chegadas!K440=\"I\",Atendimento!E447,Atendimento!L447)","v":3.1566083688964799},"*",393.78254456033255,"*",399.55520914702458,389.17999999999984,392.33660836889629,"-",389.08231391945213,"-",390.16932460507257,"-",394.05060863343618,"-",397.00845180750616,"-",394.78078700399305,"-",395.76411798146847,"-",391.92948060802314,"-",394.86132611530354,"-",398.9300429207326,"-",392.78059400288373,"-",364.61114577325674,"-",348.63196013630733,"-",33.045125393740342,"-",32.02721881559642,"-",32.217563507182206,"-",36.406016086434107,"-",0]
[null,433,{"$f":"Chegadas!J441","v":389.70999999999981},{"$f":"IF(Chegadas!K441=\"I\",Atendimento!E448,Atendimento!L448)","v":13.280892219722128},"*",393.78254456033255,"*",399.55520914702458,"*",392.33660836889629,389.70999999999981,402.99089221972196,"-",390.16932460507257,"-",394.05060863343618,"-",397.00845180750616,"-",394.78078700399305,"-",395.76411798146847,"-",391.92948060802314,"-",394.86132611530354,"-",398.9300429207326,"-",392.78059400288373,"-",364.61114577325674,"-",348.63196013630733,"-",33.045125393740342,"-",32.02721881559642,"-",32.217563507182206,"-",36.406016086434107,"-",0]
[null,434,{"$f":"Chegadas!J442","v":390.26999999999981},{"$f":"IF(Chegadas!K442=\"I\",Atendimento!E449,Atendimento!L449)","v":6.9720245035771349},"*",393.78254456033255,"*",399.55520914702458,"*",392.33660836889629,"*",402.99089221972196,390.26999999999981,397.24202450357694,"-",394.05060863343618,"-",397.00845180750616,"-",394.78078700399305,"-",395.76411798146847,"-",391.92948060802314,"-",394.86132611530354,"-",398.9300429207326,"-",392.78059400288373,"-",364.61114577325674,"-",348.63196013630733,"-",33.045125393740342,"-",32.02721881559642,"-",32.217563507182206,"-",36.406016086434107,"-",0]
[null,435,{"$f":"Chegadas!J443","v":390.74},{"$f":"IF(Chegadas!K443=\"I\",Atendimento!E450,Atendimento!L450)","v":1.3277795232820162},"*",393.78254456033255,"*",399.55520914702458,"*",392.33660836889629,"*",402.99089221972196,"*",397.24202450357694,"*",394.05060863343618,"*",397.00845180750616,"*",394.78078700399305,"*",395.76411798146847,"*",391.92948060802314,"*",394.86132611530354,"*",398.9300429207326,"*",392.78059400288373,390.74,392.06777952328201,"-",348.63196013630733,"-",33.045125393740342,"-",32.02721881559642,"-",32.217563507182206,"-",36.406016086434107,"-",0]
[null,436,{"$f":"Chegadas!J444","v":394.22999999999979},{"$f":"IF(Chegadas!K444=\"I\",Atendimento!E451,Atendimento!L451)","v":10.07890067695352},394.22999999999979,404.30890067695333,"-",399.55520914702458,"-",392.33660836889629,"-",402.99089221972196,"-",397.24202450357694,"-",394.05060863343618,"-",397.00845180750616,"-",394.78078700399305,"-",395.76411798146847,"-",391.92948060802314,"-",394.86132611530354,"-",398.9300429207326,"-",392.78059400288373,"-",392.06777952328201,"-",348.63196013630733,"-",33.045125393740342,"-",32.02721881559642,"-",32.217563507182206,"-",36.406016086434107,"-",0]
[null,437,{"$f":"Chegadas!J445","v":396.70999999999981},{"$f":"IF(Chegadas!K445=\"I\",Atendimento!E452,Atendimento!L452)","v":4.9113098448907699},"*",404.30890067695333,"*",399.55520914702458,396.70999999999981,401.62130984489056,"-",402.99089221972196,"-",397.24202450357694,"-",394.05060863343618,"-",397.00845180750616,"-",394.78078700399305,"-",395.76411798146847,"-",391.92948060802314,"-",394.86132611530354,"-",398.9300429207326,"-",392.78059400288373,"-",392.06777952328201,"-",348.63196013630733,"-",33.045125393740342,"-",32.02721881559642,"-",32.217563507182206,"-",36.406016086434107,"-",0]
[null,438,{"$f":"Chegadas!J446","v":396.7199999999998},{"$f":"IF(Chegadas!K446=\"I\",Atendimento!E453,Atendimento!L453)","v":9.9223574106244818},"*",404.30890067695333,"*",399.55520914702458,"*",401.62130984489056,"*",402.99089221972196,"*",397.24202450357694,396.7199999999998,406.6423574106243,"-",397.00845180750616,"-",394.78078700399305,"-",395.76411798146847,"-",391.92948060802314,"-",394.86132611530354,"-",398.9300429207326,"-",392.78059400288373,"-",392.06777952328201,"-",348.63196013630733,"-",33.045125393740342,"-",32.02721881559642,"-",32.217563507182206,"-",36.406016086434107,"-",0]
[null,439,{"$f":"Chegadas!J447","v":396.78999999999979},{"$f":"IF(Chegadas!K447=\"I\",Atendimento!E454,Atendimento!L454)","v":8.8790939226632943},"*",404.30890067695333,"*",399.55520914702458,"*",401.62130984489056,"*",402.99089221972196,"*",397.24202450357694,"*",406.6423574106243,"*",397.00845180750616,396.78999999999979,405.66909392266308,"-",395.76411798146847,"-",391.92948060802314,"-",394.86132611530354,"-",398.9300429207326,"-",392.78059400288373,"-",392.06777952328201,"-",348.63196013630733,"-",33.045125393740342,"-",32.02721881559642,"-",32.217563507182206,"-",36.406016086434107,"-",0]
[null,440,{"$f":"Chegadas!J448","v":399.0999999999998},{"$f":"IF(Chegadas!K448=\"I\",Atendimento!E455,Atendimento!L455)","v":5.4606162743392979},"*",404.30890067695333,"*",399.55520914702458,"*",401.62130984489056,"*",402.99089221972196,399.0999999999998,404.56061627433911,"-",406.6423574106243,"-",397.00845180750616,"-",405.66909392266308,"-",395.76411798146847,"-",391.92948060802314,"-",394.86132611530354,"-",398.9300429207326,"-",392.78059400288373,"-",392.06777952328201,"-",348.63196013630733,"-",33.045125393740342,"-",32.02721881559642,"-",32.217563507182206,"-",36.406016086434107,"-",0]
[null,441,{"$f":"Chegadas!J449","v":399.20999999999981},{"$f":"IF(Chegadas!K449=\"I\",Atendimento!E456,Atendimento!L456)","v":6.5015398788207692},"*",404.30890067695333,"*",399.55520914702458,"*",401.62130984489056,"*",402.99089221972196,"*",404.56061627433911,"*",406.6423574106243,399.20999999999981,405.71153987882059,"-",405.66909392266308,"-",395.76411798146847,"-",391.92948060802314,"-",394.86132611530354,"-",398.9300429207326,"-",392.78059400288373,"-",392.06777952328201,"-",348.63196013630733,"-",33.045125393740342,"-",32.02721881559642,"-",32.217563507182206,"-",36.406016086434107,"-",0]
[null,442,{"$f":"Chegadas!J450","v":399.20999999999981},{"$f":"IF(Chegadas!K450=\"I\",Atendimento!E457,Atendimento!L457)","v":6.89034877843575},"*",404.30890067695333,"*",399.55520914702458,"*",401.62130984489056,"*",402.99089221972196,"*",404.56061627433911,"*",406.6423574106243,"*",405.71153987882059,"*",405.66909392266308,399.20999999999981,406.10034877843555,"-",391.92948060802314,"-",394.86132611530354,"-",398.9300429207326,"-",392.78059400288373,"-",392.06777952328201,"-",348.63196013630733,"-",33.045125393740342,"-",32.02721881559642,"-",32.217563507182206,"-",36.406016086434107,"-",0]
[null,443,{"$f":"Chegadas!J451","v":399.57999999999981},{"$f":"IF(Chegadas!K451=\"I\",Atendimento!E458,Atendimento!L458)","v":8.1240073656175955},"*",404.30890067695333,399.57999999999981,407.70400736561743,"-",401.62130984489056,"-",402.99089221972196,"-",404.56061627433911,"-",406.6423574106243,"-",405.71153987882059,"-",405.66909392266308,"-",406.10034877843555,"-",391.92948060802314,"-",394.86132611530354,"-",398.9300429207326,"-",392.78059400288373,"-",392.06777952328201,"-",348.63196013630733,"-",33.045125393740342,"-",32.02721881559642,"-",32.217563507182206,"-",36.406016086434107,"-",0]
[null,444,{"$f":"Chegadas!J452","v":400.3499999999998},{"$f":"IF(Chegadas!K452=\"I\",Atendimento!E459,Atendimento!L459)","v":10.525416773763189},"*",404.30890067695333,"*",407.70400736561743,"*",401.62130984489056,"*",402.99089221972196,"*",404.56061627433911,"*",406.6423574106243,"*",405.71153987882059,"*",405.66909392266308,"*",406.10034877843555,400.3499999999998,410.87541677376299,"-",394.86132611530354,"-",398.9300429207326,"-",392.78059400288373,"-",392.06777952328201,"-",348.63196013630733,"-",33.045125393740342,"-",32.02721881559642,"-",32.217563507182206,"-",36.406016086434107,"-",0]
[null,445,{"$f":"Chegadas!J453","v":400.90000000000003},{"$f":"IF(Chegadas!K453=\"I\",Atendimento!E460,Atendimento!L460)","v":1.1577774608456111},"*",404.30890067695333,"*",407.70400736561743,"*",401.62130984489056,"*",402.99089221972196,"*",404.56061627433911,"*",406.6423574106243,"*",405.71153987882059,"*",405.66909392266308,"*",406.10034877843555,"*",410.87541677376299,400.90000000000003,402.05777746084567,"-",398.9300429207326,"-",392.78059400288373,"-",392.06777952328201,"-",348.63196013630733,"-",33.045125393740342,"-",32.02721881559642,"-",32.217563507182206,"-",36.406016086434107,"-",0]
[null,446,{"$f":"Chegadas!J454","v":402.0999999999998},{"$f":"IF(Chegadas!K454=\"I\",Atendimento!E461,Atendimento!L461)","v":9.5041800280241873},"*",404.30890067695333,"*",407.70400736561743,402.0999999999998,411.60418002802396,"-",402.99089221972196,"-",404.56061627433911,"-",406.6423574106243,"-",405.71153987882059,"-",405.66909392266308,"-",406.10034877843555,"-",410.87541677376299,"-",402.05777746084567,"-",398.9300429207326,"-",392.78059400288373,"-",392.06777952328201,"-",348.63196013630733,"-",33.045125393740342,"-",32.02721881559642,"-",32.217563507182206,"-",36.406016086434107,"-",0]
[null,447,{"$f":"Chegadas!J455","v":402.11999999999978},{"$f":"IF(Chegadas!K455=\"I\",Atendimento!E462,Atendimento!L462)","v":7.3983911297514195},"*",404.30890067695333,"*",407.70400736561743,"*",411.60418002802396,"*",402.99089221972196,"*",404.56061627433911,"*",406.6423574106243,"*",405.71153987882059,"*",405.66909392266308,"*",406.10034877843555,"*",410.87541677376299,402.11999999999978,409.51839112975119,"-",398.9300429207326,"-",392.78059400288373,"-",392.06777952328201,"-",348.63196013630733,"-",33.045125393740342,"-",32.02721881559642,"-",32.217563507182206,"-",36.406016086434107,"-",0]
[null,448,{"$f":"Chegadas!J456","v":403.22999999999979},{"$f":"IF(Chegadas!K456=\"I\",Atendimento!E463,Atendimento!L463)","v":5.0177885938178024},"*",404.30890067695333,"*",407.70400736561743,"*",411.60418002802396,403.22999999999979,408.24778859381757,"-",404.56061627433911,"-",406.6423574106243,"-",405.71153987882059,"-",405.66909392266308,"-",406.10034877843555,"-",410.87541677376299,"-",409.51839112975119,"-",398.9300429207326,"-",392.78059400288373,"-",392.06777952328201,"-",348.63196013630733,"-",33.045125393740342,"-",32.02721881559642,"-",32.217563507182206,"-",36.406016086434107,"-",0]
[null,449,{"$f":"Chegadas!J457","v":403.64999999999981},{"$f":"IF(Chegadas!K457=\"I\",Atendimento!E464,Atendimento!L464)","v":11.447004090303702},"*",404.30890067695333,"*",407.70400736561743,"*",411.60418002802396,"*",408.24778859381757,"*",404.56061627433911,"*",406.6423574106243,"*",405.71153987882059,"*",405.66909392266308,"*",406.10034877843555,"*",410.87541677376299,"*",409.51839112975119,403.64999999999981,415.09700409030353,"-",392.78059400288373,"-",392.06777952328201,"-",348.63196013630733,"-",33.045125393740342,"-",32.02721881559642,"-",32.217563507182206,"-",36.406016086434107,"-",0]
[null,450,{"$f":"Chegadas!J458","v":405.19999999999982},{"$f":"IF(Chegadas!K458=\"I\",Atendimento!E465,Atendimento!L465)","v":8.0593295358433465},405.19999999999982,413.25932953584316,{"$f":"IF(E457<>\"*\",\"-\",IF($C457>=H456,$C457,\"*\"))","v":"-"},407.70400736561743,{"$f":"IF(G457<>\"*\",\"-\",IF($C457>=J456,$C457,\"*\"))","v":"-"},411.60418002802396,{"$f":"IF(I457<>\"*\",\"-\",IF($C457>=L456,$C457,\"*\"))","v":"-"},408.24778859381757,{"$f":"IF(K457<>\"*\",\"-\",IF($C457>=N456,$C457,\"*\"))","v":"-"},404.56061627433911,{"$f":"IF(M457<>\"*\",\"-\",IF($C457>=P456,$C457,\"*\"))","v":"-"},406.6423574106243,{"$f":"IF(O457<>\"*\",\"-\",IF($C457>=R456,$C457,\"*\"))","v":"-"},405.71153987882059,{"$f":"IF(Q457<>\"*\",\"-\",IF($C457>=T456,$C457,\"*\"))","v":"-"},405.66909392266308,{"$f":"IF(S457<>\"*\",\"-\",IF($C457>=V456,$C457,\"*\"))","v":"-"},406.10034877843555,{"$f":"IF(U457<>\"*\",\"-\",IF($C457>=X456,$C457,\"*\"))","v":"-"},410.87541677376299,{"$f":"IF(W457<>\"*\",\"-\",IF($C457>=Z456,$C457,\"*\"))","v":"-"},409.51839112975119,{"$f":"IF(Y457<>\"*\",\"-\",IF($C457>=AB456,$C457,\"*\"))","v":"-"},415.09700409030353,{"$f":"IF(AA457<>\"*\",\"-\",IF($C457>=AD456,$C457,\"*\"))","v":"-"},392.78059400288373,{"$f":"IF(AC457<>\"*\",\"-\",IF($C457>=AF456,$C457,\"*\"))","v":"-"},392.06777952328201,{"$f":"IF(AE457<>\"*\",\"-\",IF($C457>=AH456,$C457,\"*\"))","v":"-"},348.63196013630733,{"$f":"IF(AG457<>\"*\",\"-\",IF($C457>=AJ456,$C457,\"*\"))","v":"-"},33.045125393740342,{"$f":"IF(AI457<>\"*\",\"-\",IF($C457>=AL456,$C457,\"*\"))","v":"-"},32.02721881559642,{"$f":"IF(AK457<>\"*\",\"-\",IF($C457>=AN456,$C457,\"*\"))","v":"-"},32.217563507182206,{"$f":"IF(AM457<>\"*\",\"-\",IF($C457>=AP456,$C457,\"*\"))","v":"-"},36.406016086434107,{"$f":"IF(AO457<>\"*\",\"-\",IF($C457>=AR456,$C457,\"*\"))","v":"-"},0]
[null,451,{"$f":"Chegadas!J459","v":406.45999999999981},{"$f":"IF(Chegadas!K459=\"I\",Atendimento!E466,Atendimento!L466)","v":7.5475697331323897},{"$f":"IF($C458>F457,$C458,\"*\")","v":"*"},{"$f":"IF(E458=\"*\",F457,E458+$D458)","v":413.25932953584316},"*",{"$f":"IF(OR(G458=\"-\",G458=\"*\"),H457,G458+$D458)","v":407.70400736561743},"*",{"$f":"IF(OR(I458=\"-\",I458=\"*\"),J457,I458+$D458)","v":411.60418002802396},"*",408.24778859381757,406.45999999999981,414.00756973313219,"-",406.6423574106243,"-",405.71153987882059,"-",405.66909392266308,"-",406.10034877843555,"-",410.87541677376299,"-",409.51839112975119,"-",415.09700409030353,"-",392.78059400288373,"-",392.06777952328201,"-",348.63196013630733,"-",33.045125393740342,"-",32.02721881559642,"-",32.217563507182206,"-",36.406016086434107,"-",0]
[null,452,{"$f":"Chegadas!J460","v":407.9699999999998},{"$f":"IF(Chegadas!K460=\"I\",Atendimento!E467,Atendimento!L467)","v":13.791269684282646},"*",413.25932953584316,407.9699999999998,421.76126968428247,"-",411.60418002802396,"-",408.24778859381757,"-",414.00756973313219,"-",406.6423574106243,"-",405.71153987882059,"-",405.66909392266308,"-",406.10034877843555,"-",410.87541677376299,"-",409.51839112975119,"-",415.09700409030353,"-",392.78059400288373,"-",392.06777952328201,"-",348.63196013630733,"-",33.045125393740342,"-",32.02721881559642,"-",32.217563507182206,"-",36.406016086434107,"-",0]
[null,453,{"$f":"Chegadas!J461","v":409.86999999999978},{"$f":"IF(Chegadas!K461=\"I\",Atendimento!E468,Atendimento!L468)","v":14.17950372964351},"*",413.25932953584316,"*",421.76126968428247,"*",411.60418002802396,409.86999999999978,424.04950372964328,"-",414.00756973313219,"-",406.6423574106243,"-",405.71153987882059,"-",405.66909392266308,"-",406.10034877843555,"-",410.87541677376299,"-",409.51839112975119,"-",415.09700409030353,"-",392.78059400288373,"-",392.06777952328201,"-",348.63196013630733,"-",33.045125393740342,"-",32.02721881559642,"-",32.217563507182206,"-",36.406016086434107,"-",0]
[null,454,{"$f":"Chegadas!J462","v":410.20999999999975},{"$f":"IF(Chegadas!K462=\"I\",Atendimento!E469,Atendimento!L469)","v":7.9041942974026522},"*",413.25932953584316,"*",421.76126968428247,"*",411.60418002802396,"*",424.04950372964328,"*",414.00756973313219,410.20999999999975,418.11419429740238,"-",405.71153987882059,"-",405.66909392266308,"-",406.10034877843555,"-",410.87541677376299,"-",409.51839112975119,"-",415.09700409030353,"-",392.78059400288373,"-",392.06777952328201,"-",348.63196013630733,"-",33.045125393740342,"-",32.02721881559642,"-",32.217563507182206,"-",36.406016086434107,"-",0]
[null,455,{"$f":"Chegadas!J463","v":410.24999999999977},{"$f":"IF(Chegadas!K463=\"I\",Atendimento!E470,Atendimento!L470)","v":2.663630462419269},"*",413.25932953584316,"*",421.76126968428247,"*",411.60418002802396,"*",424.04950372964328,"*",414.00756973313219,"*",418.11419429740238,410.24999999999977,412.91363046241906,"-",405.66909392266308,"-",406.10034877843555,"-",410.87541677376299,"-",409.51839112975119,"-",415.09700409030353,"-",392.78059400288373,"-",392.06777952328201,"-",348.63196013630733,"-",33.045125393740342,"-",32.02721881559642,"-",32.217563507182206,"-",36.406016086434107,"-",0]
[null,456,{"$f":"Chegadas!J464","v":411.31999999999977},{"$f":"IF(Chegadas!K464=\"I\",Atendimento!E471,Atendimento!L471)","v":9.3707248570323287},"*",413.25932953584316,"*",421.76126968428247,"*",411.60418002802396,"*",424.04950372964328,"*",414.00756973313219,"*",418.11419429740238,"*",412.91363046241906,411.31999999999977,420.69072485703208,"-",406.10034877843555,"-",410.87541677376299,"-",409.51839112975119,"-",415.09700409030353,"-",392.78059400288373,"-",392.06777952328201,"-",348.63196013630733,"-",33.045125393740342,"-",32.02721881559642,"-",32.217563507182206,"-",36.406016086434107,"-",0]
[null,457,{"$f":"Chegadas!J465","v":412.18},{"$f":"IF(Chegadas!K465=\"I\",Atendimento!E472,Atendimento!L472)","v":0.75317945664986441},"*",413.25932953584316,"*",421.76126968428247,412.18,412.9331794566499,"-",424.04950372964328,"-",414.00756973313219,"-",418.11419429740238,"-",412.91363046241906,"-",420.69072485703208,"-",406.10034877843555,"-",410.87541677376299,"-",409.51839112975119,"-",415.09700409030353,"-",392.78059400288373,"-",392.06777952328201,"-",348.63196013630733,"-",33.045125393740342,"-",32.02721881559642,"-",32.217563507182206,"-",36.406016086434107,"-",0]
[null,458,{"$f":"Chegadas!J466","v":413.25},{"$f":"IF(Chegadas!K466=\"I\",Atendimento!E473,Atendimento!L473)","v":1.2073167074507003},"*",413.25932953584316,"*",421.76126968428247,413.25,414.45731670745067,"-",424.04950372964328,"-",414.00756973313219,"-",418.11419429740238,"-",412.91363046241906,"-",420.69072485703208,"-",406.10034877843555,"-",410.87541677376299,"-",{"$f":"IF(OR(Y465=\"-\",Y465=\"*\"),Z464,Y465+$D465)","v":409.51839112975119},"-",415.09700409030353,"-",392.78059400288373,"-",392.06777952328201,"-",348.63196013630733,"-",33.045125393740342,"-",32.02721881559642,"-",32.217563507182206,"-",36.406016086434107,"-",0]
[null,459,{"$f":"Chegadas!J467","v":414.10999999999979},{"$f":"IF(Chegadas!K467=\"I\",Atendimento!E474,Atendimento!L474)","v":9.6556847958739702},414.10999999999979,423.76568479587377,"-",421.76126968428247,"-",414.45731670745067,"-",424.04950372964328,"-",414.00756973313219,"-",418.11419429740238,"-",412.91363046241906,"-",420.69072485703208,"-",406.10034877843555,"-",410.87541677376299,"-",409.51839112975119,"-",{"$f":"IF(OR(AA466=\"-\",AA466=\"*\"),AB465,AA466+$D466)","v":415.09700409030353},"-",392.78059400288373,"-",392.06777952328201,"-",348.63196013630733,"-",33.045125393740342,"-",32.02721881559642,"-",32.217563507182206,"-",36.406016086434107,"-",0]
[null,460,{"$f":"Chegadas!J468","v":414.51999999999981},{"$f":"IF(Chegadas!K468=\"I\",Atendimento!E475,Atendimento!L475)","v":2.9866938586249119},"*",423.76568479587377,"*",421.76126968428247,414.51999999999981,417.50669385862471,"-",424.04950372964328,"-",414.00756973313219,"-",418.11419429740238,"-",412.91363046241906,"-",420.69072485703208,"-",406.10034877843555,"-",410.87541677376299,"-",409.51839112975119,"-",415.09700409030353,"-",{"$f":"IF(OR(AC467=\"-\",AC467=\"*\"),AD466,AC467+$D467)","v":392.78059400288373},"-",392.06777952328201,"-",348.63196013630733,"-",33.045125393740342,"-",32.02721881559642,"-",32.217563507182206,"-",36.406016086434107,"-",0]
[null,461,{"$f":"Chegadas!J469","v":415.92999999999984},{"$f":"IF(Chegadas!K469=\"I\",Atendimento!E476,Atendimento!L476)","v":7.5525531429208943},"*",423.76568479587377,"*",421.76126968428247,"*",417.50669385862471,"*",424.04950372964328,415.92999999999984,423.48255314292072,"-",418.11419429740238,"-",412.91363046241906,"-",420.69072485703208,"-",406.10034877843555,"-",410.87541677376299,"-",409.51839112975119,"-",415.09700409030353,"-",392.78059400288373,"-",{"$f":"IF(OR(AE468=\"-\",AE468=\"*\"),AF467,AE468+$D468)","v":392.06777952328201},"-",348.63196013630733,"-",33.045125393740342,"-",32.02721881559642,"-",32.217563507182206,"-",36.406016086434107,"-",0]
[null,462,{"$f":"Chegadas!J470","v":416.08999999999986},{"$f":"IF(Chegadas!K470=\"I\",Atendimento!E477,Atendimento!L477)","v":9.7405657652967221},"*",423.76568479587377,"*",421.76126968428247,"*",417.50669385862471,"*",424.04950372964328,"*",423.48255314292072,"*",418.11419429740238,416.08999999999986,425.83056576529657,"-",420.69072485703208,"-",406.10034877843555,"-",410.87541677376299,"-",409.51839112975119,"-",415.09700409030353,"-",392.78059400288373,"-",392.06777952328201,"-",{"$f":"IF(OR(AG469=\"-\",AG469=\"*\"),AH468,AG469+$D469)","v":348.63196013630733},"-",33.045125393740342,"-",32.02721881559642,"-",32.217563507182206,"-",36.406016086434107,"-",0]
[null,463,{"$f":"Chegadas!J471","v":416.69999999999987},{"$f":"IF(Chegadas!K471=\"I\",Atendimento!E478,Atendimento!L478)","v":6.588979326808202},"*",423.76568479587377,"*",421.76126968428247,"*",417.50669385862471,"*",424.04950372964328,"*",423.48255314292072,"*",418.11419429740238,"*",425.83056576529657,"*",420.69072485703208,416.69999999999987,423.28897932680809,"-",410.87541677376299,"-",409.51839112975119,"-",415.09700409030353,"-",392.78059400288373,"-",392.06777952328201,"-",348.63196013630733,"-",{"$f":"IF(OR(AI470=\"-\",AI470=\"*\"),AJ469,AI470+$D470)","v":33.045125393740342},"-",32.02721881559642,"-",32.217563507182206,"-",36.406016086434107,"-",0]
[null,464,{"$f":"Chegadas!J472","v":418.2999999999999},{"$f":"IF(Chegadas!K472=\"I\",Atendimento!E479,Atendimento!L479)","v":3.6712763191536992},"*",423.76568479587377,"*",421.76126968428247,418.2999999999999,421.97127631915362,"-",424.04950372964328,"-",423.48255314292072,"-",418.11419429740238,"-",425.83056576529657,"-",420.69072485703208,"-",423.28897932680809,"-",410.87541677376299,"-",409.51839112975119,"-",415.09700409030353,"-",392.78059400288373,"-",392.06777952328201,"-",348.63196013630733,"-",33.045125393740342,"-",{"$f":"IF(OR(AK471=\"-\",AK471=\"*\"),AL470,AK471+$D471)","v":32.02721881559642},"-",32.217563507182206,"-",36.406016086434107,"-",0]
[null,465,{"$f":"Chegadas!J473","v":420.1099999999999},{"$f":"IF(Chegadas!K473=\"I\",Atendimento!E480,Atendimento!L480)","v":5.0003400051190905},"*",423.76568479587377,"*",421.76126968428247,"*",421.97127631915362,"*",424.04950372964328,"*",423.48255314292072,420.1099999999999,425.11034000511899,"-",425.83056576529657,"-",420.69072485703208,"-",423.28897932680809,"-",410.87541677376299,"-",409.51839112975119,"-",415.09700409030353,"-",392.78059400288373,"-",392.06777952328201,"-",348.63196013630733,"-",33.045125393740342,"-",32.02721881559642,"-",{"$f":"IF(OR(AM472=\"-\",AM472=\"*\"),AN471,AM472+$D472)","v":32.217563507182206},"-",36.406016086434107,"-",0]
[null,466,{"$f":"Chegadas!J474","v":420.81999999999988},{"$f":"IF(Chegadas!K474=\"I\",Atendimento!E481,Atendimento!L481)","v":1.7388629976393544},"*",423.76568479587377,"*",421.76126968428247,"*",421.97127631915362,"*",424.04950372964328,"*",423.48255314292072,"*",425.11034000511899,"*",425.83056576529657,420.81999999999988,422.55886299763921,"-",423.28897932680809,"-",410.87541677376299,"-",409.51839112975119,"-",415.09700409030353,"-",392.78059400288373,"-",392.06777952328201,"-",348.63196013630733,"-",33.045125393740342,"-",32.02721881559642,"-",32.217563507182206,"-",{"$f":"IF(OR(AO473=\"-\",AO473=\"*\"),AP472,AO473+$D473)","v":36.406016086434107},"-",0]
[null,467,{"$f":"Chegadas!J475","v":421.5499999999999},{"$f":"IF(Chegadas!K475=\"I\",Atendimento!E482,Atendimento!L482)","v":4.2734171482426557},"*",423.76568479587377,"*",421.76126968428247,"*",421.97127631915362,"*",424.04950372964328,"*",423.48255314292072,"*",425.11034000511899,"*",425.83056576529657,"*",422.55886299763921,"*",423.28897932680809,421.5499999999999,425.82341714824253,"-",409.51839112975119,"-",415.09700409030353,"-",392.78059400288373,"-",392.06777952328201,"-",348.63196013630733,"-",33.045125393740342,"-",32.02721881559642,"-",32.217563507182206,"-",36.406016086434107,"-",{"$f":"IF(OR(AQ474=\"-\",AQ474=\"*\"),AR473,AQ474+$D474)","v":0}]
[null,468,{"$f":"Chegadas!J476","v":421.68999999999988},{"$f":"IF(Chegadas!K476=\"I\",Atendimento!E483,Atendimento!L483)","v":4.5547225932459572},"*",423.76568479587377,"*",421.76126968428247,"*",421.97127631915362,"*",424.04950372964328,"*",423.48255314292072,"*",425.11034000511899,"*",425.83056576529657,"*",422.55886299763921,"*",423.28897932680809,"*",425.82341714824253,421.68999999999988,426.24472259324585,"-",415.09700409030353,"-",392.78059400288373,"-",392.06777952328201,"-",348.63196013630733,"-",33.045125393740342,"-",32.02721881559642,"-",32.217563507182206,"-",36.406016086434107,"-",0]
[null,469,{"$f":"Chegadas!J477","v":421.7299999999999},{"$f":"IF(Chegadas!K477=\"I\",Atendimento!E484,Atendimento!L484)","v":3.039142654211608},"*",423.76568479587377,"*",421.76126968428247,"*",421.97127631915362,"*",{"$f":"IF(OR(K476=\"-\",K476=\"*\"),L475,K476+$D476)","v":424.04950372964328},"*",{"$f":"IF(OR(M476=\"-\",M476=\"*\"),N475,M476+$D476)","v":423.48255314292072},"*",{"$f":"IF(OR(O476=\"-\",O476=\"*\"),P475,O476+$D476)","v":425.11034000511899},"*",{"$f":"IF(OR(Q476=\"-\",Q476=\"*\"),R475,Q476+$D476)","v":425.83056576529657},"*",{"$f":"IF(OR(S476=\"-\",S476=\"*\"),T475,S476+$D476)","v":422.55886299763921},"*",{"$f":"IF(OR(U476=\"-\",U476=\"*\"),V475,U476+$D476)","v":423.28897932680809},"*",{"$f":"IF(OR(W476=\"-\",W476=\"*\"),X475,W476+$D476)","v":425.82341714824253},"*",426.24472259324585,421.7299999999999,424.76914265421152,"-",392.78059400288373,"-",392.06777952328201,"-",348.63196013630733,"-",33.045125393740342,"-",32.02721881559642,"-",32.217563507182206,"-",36.406016086434107,"-",0]
[null,470,{"$f":"Chegadas!J478","v":421.83999999999992},{"$f":"IF(Chegadas!K478=\"I\",Atendimento!E485,Atendimento!L485)","v":10.920959624246169},"*",423.76568479587377,421.83999999999992,432.76095962424608,"-",421.97127631915362,"-",424.04950372964328,"-",423.48255314292072,"-",425.11034000511899,"-",425.83056576529657,"-",422.55886299763921,"-",423.28897932680809,"-",425.82341714824253,"-",426.24472259324585,"-",424.76914265421152,"-",392.78059400288373,"-",392.06777952328201,"-",348.63196013630733,"-",33.045125393740342,"-",32.02721881559642,"-",32.217563507182206,"-",36.406016086434107,"-",0]
[null,471,{"$f":"Chegadas!J479","v":421.95999999999992},{"$f":"IF(Chegadas!K479=\"I\",Atendimento!E486,Atendimento!L486)","v":5.8011025505678466},"*",423.76568479587377,"*",432.76095962424608,"*",421.97127631915362,"*",424.04950372964328,"*",423.48255314292072,"*",425.11034000511899,"*",425.83056576529657,"*",422.55886299763921,"*",423.28897932680809,"*",425.82341714824253,"*",426.24472259324585,"*",424.76914265421152,421.95999999999992,427.76110255056778,"-",392.06777952328201,"-",348.63196013630733,"-",33.045125393740342,"-",32.02721881559642,"-",32.217563507182206,"-",36.406016086434107,"-",0]
[null,472,{"$f":"Chegadas!J480","v":422.12999999999994},{"$f":"IF(Chegadas!K480=\"I\",Atendimento!E487,Atendimento!L487)","v":9.0910390620399308},"*",423.76568479587377,"*",432.76095962424608,422.12999999999994,431.22103906203989,"-",424.04950372964328,"-",423.48255314292072,"-",425.11034000511899,"-",425.83056576529657,"-",422.55886299763921,"-",423.28897932680809,"-",425.82341714824253,"-",426.24472259324585,"-",424.76914265421152,"-",427.76110255056778,"-",392.06777952328201,"-",348.63196013630733,"-",33.045125393740342,"-",32.02721881559642,"-",32.217563507182206,"-",36.406016086434107,"-",0]
[null,473,{"$f":"Chegadas!J481","v":423.23999999999995},{"$f":"IF(Chegadas!K481=\"I\",Atendimento!E488,Atendimento!L488)","v":6.6168942986792567},"*",423.76568479587377,"*",432.76095962424608,"*",431.22103906203989,"*",424.04950372964328,"*",423.48255314292072,"*",425.11034000511899,"*",425.83056576529657,423.23999999999995,429.85689429867921,"-",423.28897932680809,"-",425.82341714824253,"-",426.24472259324585,"-",424.76914265421152,"-",427.76110255056778,"-",392.06777952328201,"-",348.63196013630733,"-",33.045125393740342,"-",32.02721881559642,"-",32.217563507182206,"-",36.406016086434107,"-",0]
[null,474,{"$f":"Chegadas!J482","v":423.74},{"$f":"IF(Chegadas!K482=\"I\",Atendimento!E489,Atendimento!L489)","v":1.0918193981511606},"*",423.76568479587377,"*",432.76095962424608,"*",431.22103906203989,"*",424.04950372964328,423.74,424.8318193981512,"-",425.11034000511899,"-",425.83056576529657,"-",429.85689429867921,"-",423.28897932680809,"-",425.82341714824253,"-",426.24472259324585,"-",424.76914265421152,"-",427.76110255056778,"-",392.06777952328201,"-",348.63196013630733,"-",33.045125393740342,"-",32.02721881559642,"-",32.217563507182206,"-",36.406016086434107,"-",0]
[null,475,{"$f":"Chegadas!J483","v":425.07999999999993},{"$f":"IF(Chegadas!K483=\"I\",Atendimento!E490,Atendimento!L490)","v":8.0379402717428903},425.07999999999993,433.11794027174284,"-",432.76095962424608,"-",431.22103906203989,"-",424.04950372964328,"-",424.8318193981512,"-",425.11034000511899,"-",425.83056576529657,"-",429.85689429867921,"-",423.28897932680809,"-",425.82341714824253,"-",426.24472259324585,"-",424.76914265421152,"-",427.76110255056778,"-",392.06777952328201,"-",348.63196013630733,"-",33.045125393740342,"-",32.02721881559642,"-",32.217563507182206,"-",36.406016086434107,"-",0]
[null,476,{"$f":"Chegadas!J484","v":426.06999999999994},{"$f":"IF(Chegadas!K484=\"I\",Atendimento!E491,Atendimento!L491)","v":4.4032769978852482},"*",433.11794027174284,"*",432.76095962424608,"*",431.22103906203989,426.06999999999994,430.47327699788519,"-",424.8318193981512,"-",425.11034000511899,"-",425.83056576529657,"-",429.85689429867921,"-",423.28897932680809,"-",425.82341714824253,"-",426.24472259324585,"-",424.76914265421152,"-",427.76110255056778,"-",392.06777952328201,"-",348.63196013630733,"-",33.045125393740342,"-",32.02721881559642,"-",32.217563507182206,"-",36.406016086434107,"-",0]
[null,477,{"$f":"Chegadas!J485","v":428.95999999999992},{"$f":"IF(Chegadas!K485=\"I\",Atendimento!E492,Atendimento!L492)","v":5.2955528164668291},"*",433.11794027174284,"*",432.76095962424608,"*",431.22103906203989,"*",430.47327699788519,428.95999999999992,434.25555281646677,"-",425.11034000511899,"-",425.83056576529657,"-",429.85689429867921,"-",423.28897932680809,"-",425.82341714824253,"-",426.24472259324585,"-",424.76914265421152,"-",427.76110255056778,"-",392.06777952328201,"-",348.63196013630733,"-",33.045125393740342,"-",32.02721881559642,"-",32.217563507182206,"-",36.406016086434107,"-",0]
[null,478,{"$f":"Chegadas!J486","v":429.9199999999999},{"$f":"IF(Chegadas!K486=\"I\",Atendimento!E493,Atendimento!L493)","v":9.2379911340743828},"*",433.11794027174284,"*",432.76095962424608,"*",431.22103906203989,"*",430.47327699788519,"*",434.25555281646677,429.9199999999999,439.15799113407428,"-",425.83056576529657,"-",429.85689429867921,"-",423.28897932680809,"-",425.82341714824253,"-",426.24472259324585,"-",424.76914265421152,"-",427.76110255056778,"-",392.06777952328201,"-",348.63196013630733,"-",33.045125393740342,"-",32.02721881559642,"-",32.217563507182206,"-",36.406016086434107,"-",0]
[null,479,{"$f":"Chegadas!J487","v":429.9199999999999},{"$f":"IF(Chegadas!K487=\"I\",Atendimento!E494,Atendimento!L494)","v":2.1424615157777946},"*",433.11794027174284,"*",432.76095962424608,"*",431.22103906203989,"*",430.47327699788519,"*",434.25555281646677,"*",439.15799113407428,429.9199999999999,432.06246151577767,"-",429.85689429867921,"-",423.28897932680809,"-",425.82341714824253,"-",426.24472259324585,"-",424.76914265421152,"-",427.76110255056778,"-",392.06777952328201,"-",348.63196013630733,"-",33.045125393740342,"-",32.02721881559642,"-",32.217563507182206,"-",36.406016086434107,"-",0]
[null,480,{"$f":"Chegadas!J488","v":432.07999999999993},{"$f":"IF(Chegadas!K488=\"I\",Atendimento!E495,Atendimento!L495)","v":6.8249428491627633},"*",433.11794027174284,"*",432.76095962424608,432.07999999999993,438.90494284916269,"-",430.47327699788519,"-",434.25555281646677,"-",439.15799113407428,"-",432.06246151577767,"-",429.85689429867921,"-",423.28897932680809,"-",425.82341714824253,"-",426.24472259324585,"-",424.76914265421152,"-",427.76110255056778,"-",392.06777952328201,"-",348.63196013630733,"-",33.045125393740342,"-",32.02721881559642,"-",32.217563507182206,"-",36.406016086434107,"-",0]
[null,481,{"$f":"Chegadas!J489","v":432.19999999999993},{"$f":"IF(Chegadas!K489=\"I\",Atendimento!E496,Atendimento!L496)","v":12.25804814976728},"*",433.11794027174284,"*",432.76095962424608,"*",438.90494284916269,432.19999999999993,444.45804814976719,"-",434.25555281646677,"-",439.15799113407428,"-",432.06246151577767,"-",429.85689429867921,"-",423.28897932680809,"-",425.82341714824253,"-",426.24472259324585,"-",424.76914265421152,"-",427.76110255056778,"-",392.06777952328201,"-",348.63196013630733,"-",33.045125393740342,"-",32.02721881559642,"-",32.217563507182206,"-",36.406016086434107,"-",0]
[null,482,{"$f":"Chegadas!J490","v":432.19999999999993},{"$f":"IF(Chegadas!K490=\"I\",Atendimento!E497,Atendimento!L497)","v":14.597420080710476},"*",433.11794027174284,"*",432.76095962424608,"*",438.90494284916269,"*",444.45804814976719,"*",434.25555281646677,"*",439.15799113407428,432.19999999999993,446.79742008071042,"-",429.85689429867921,"-",423.28897932680809,"-",425.82341714824253,"-",426.24472259324585,"-",424.76914265421152,"-",427.76110255056778,"-",392.06777952328201,"-",348.63196013630733,"-",33.045125393740342,"-",32.02721881559642,"-",32.217563507182206,"-",36.406016086434107,"-",0]
[null,483,{"$f":"Chegadas!J491","v":432.96999999999991},{"$f":"IF(Chegadas!K491=\"I\",Atendimento!E498,Atendimento!L498)","v":6.9175258068097571},"*",433.11794027174284,432.96999999999991,439.88752580680966,"-",438.90494284916269,"-",444.45804814976719,"-",434.25555281646677,"-",439.15799113407428,"-",446.79742008071042,"-",429.85689429867921,"-",423.28897932680809,"-",425.82341714824253,"-",426.24472259324585,"-",424.76914265421152,"-",427.76110255056778,"-",392.06777952328201,"-",348.63196013630733,"-",33.045125393740342,"-",32.02721881559642,"-",32.217563507182206,"-",36.406016086434107,"-",0]
[null,484,{"$f":"Chegadas!J492","v":433.86999999999989},{"$f":"IF(Chegadas!K492=\"I\",Atendimento!E499,Atendimento!L499)","v":9.7149602815015967},433.86999999999989,443.58496028150148,"-",439.88752580680966,"-",438.90494284916269,"-",444.45804814976719,"-",434.25555281646677,"-",439.15799113407428,"-",446.79742008071042,"-",429.85689429867921,"-",423.28897932680809,"-",425.82341714824253,"-",426.24472259324585,"-",424.76914265421152,"-",427.76110255056778,"-",392.06777952328201,"-",348.63196013630733,"-",33.045125393740342,"-",32.02721881559642,"-",32.217563507182206,"-",36.406016086434107,"-",0]
[null,485,{"$f":"Chegadas!J493","v":434.15999999999991},{"$f":"IF(Chegadas!K493=\"I\",Atendimento!E500,Atendimento!L500)","v":9.101829418726556},"*",443.58496028150148,"*",439.88752580680966,"*",438.90494284916269,"*",444.45804814976719,"*",434.25555281646677,"*",439.15799113407428,"*",446.79742008071042,434.15999999999991,443.26182941872645,"-",423.28897932680809,"-",425.82341714824253,"-",426.24472259324585,"-",424.76914265421152,"-",427.76110255056778,"-",392.06777952328201,"-",348.63196013630733,"-",33.045125393740342,"-",32.02721881559642,"-",32.217563507182206,"-",36.406016086434107,"-",0]
[null,486,{"$f":"Chegadas!J494","v":435.26999999999992},{"$f":"IF(Chegadas!K494=\"I\",Atendimento!E501,Atendimento!L501)","v":6.0601845180518161},"*",443.58496028150148,"*",439.88752580680966,"*",438.90494284916269,"*",444.45804814976719,435.26999999999992,441.33018451805174,"-",439.15799113407428,"-",446.79742008071042,"-",443.26182941872645,"-",423.28897932680809,"-",425.82341714824253,"-",426.24472259324585,"-",424.76914265421152,"-",427.76110255056778,"-",392.06777952328201,"-",348.63196013630733,"-",33.045125393740342,"-",32.02721881559642,"-",32.217563507182206,"-",36.406016086434107,"-",0]
[null,487,{"$f":"Chegadas!J495","v":436.42999999999995},{"$f":"IF(Chegadas!K495=\"I\",Atendimento!E502,Atendimento!L502)","v":11.645194144698078},"*",443.58496028150148,"*",439.88752580680966,"*",438.90494284916269,"*",444.45804814976719,"*",441.33018451805174,"*",439.15799113407428,"*",446.79742008071042,"*",443.26182941872645,436.42999999999995,448.075194144698,"-",425.82341714824253,"-",426.24472259324585,"-",424.76914265421152,"-",427.76110255056778,"-",392.06777952328201,"-",348.63196013630733,"-",33.045125393740342,"-",32.02721881559642,"-",32.217563507182206,"-",36.406016086434107,"-",0]
[null,488,{"$f":"Chegadas!J496","v":437.03},{"$f":"IF(Chegadas!K496=\"I\",Atendimento!E503,Atendimento!L503)","v":4.0158327387359041},"*",443.58496028150148,"*",439.88752580680966,"*",438.90494284916269,"*",444.45804814976719,"*",441.33018451805174,"*",439.15799113407428,"*",446.79742008071042,"*",443.26182941872645,"*",448.075194144698,437.03,441.0458327387359,"-",426.24472259324585,"-",424.76914265421152,"-",427.76110255056778,"-",392.06777952328201,"-",348.63196013630733,"-",33.045125393740342,"-",32.02721881559642,"-",32.217563507182206,"-",36.406016086434107,"-",0]
[null,489,{"$f":"Chegadas!J497","v":437.71999999999997},{"$f":"IF(Chegadas!K497=\"I\",Atendimento!E504,Atendimento!L504)","v":6.5155036184638595},"*",443.58496028150148,"*",439.88752580680966,"*",438.90494284916269,"*",444.45804814976719,"*",441.33018451805174,"*",439.15799113407428,"*",446.79742008071042,"*",443.26182941872645,"*",448.075194144698,"*",441.0458327387359,437.71999999999997,444.23550361846384,"-",424.76914265421152,"-",427.76110255056778,"-",392.06777952328201,"-",348.63196013630733,"-",33.045125393740342,"-",32.02721881559642,"-",32.217563507182206,"-",36.406016086434107,"-",0]
[null,490,{"$f":"Chegadas!J498","v":438.34},{"$f":"IF(Chegadas!K498=\"I\",Atendimento!E505,Atendimento!L505)","v":5.3567459688600891},"*",443.58496028150148,"*",439.88752580680966,"*",438.90494284916269,"*",444.45804814976719,"*",441.33018451805174,"*",439.15799113407428,"*",446.79742008071042,"*",443.26182941872645,"*",448.075194144698,"*",441.0458327387359,"*",444.23550361846384,438.34,443.69674596886006,"-",427.76110255056778,"-",392.06777952328201,"-",348.63196013630733,"-",33.045125393740342,"-",32.02721881559642,"-",32.217563507182206,"-",36.406016086434107,"-",0]
[null,491,{"$f":"Chegadas!J499","v":439.17999999999995},{"$f":"IF(Chegadas!K499=\"I\",Atendimento!E506,Atendimento!L506)","v":9.9967870639073446},"*",443.58496028150148,"*",439.88752580680966,439.17999999999995,449.17678706390728,"-",444.45804814976719,"-",441.33018451805174,"-",439.15799113407428,"-",446.79742008071042,"-",443.26182941872645,"-",448.075194144698,"-",441.0458327387359,"-",444.23550361846384,"-",443.69674596886006,"-",427.76110255056778,"-",392.06777952328201,"-",348.63196013630733,"-",33.045125393740342,"-",32.02721881559642,"-",32.217563507182206,"-",36.406016086434107,"-",0]
[null,492,{"$f":"Chegadas!J500","v":440.17999999999995},{"$f":"IF(Chegadas!K500=\"I\",Atendimento!E507,Atendimento!L507)","v":9.5636170375554865},"*",443.58496028150148,440.17999999999995,449.74361703755545,"-",449.17678706390728,"-",444.45804814976719,"-",441.33018451805174,"-",439.15799113407428,"-",446.79742008071042,"-",443.26182941872645,"-",448.075194144698,"-",441.0458327387359,"-",444.23550361846384,"-",443.69674596886006,"-",427.76110255056778,"-",392.06777952328201,"-",348.63196013630733,"-",33.045125393740342,"-",32.02721881559642,"-",32.217563507182206,"-",36.406016086434107,"-",0]
[null,493,{"$f":"Chegadas!J501","v":442.9},{"$f":"IF(Chegadas!K501=\"I\",Atendimento!E508,Atendimento!L508)","v":11.099755056372523},"*",443.58496028150148,"*",449.74361703755545,"*",449.17678706390728,"*",444.45804814976719,442.9,453.99975505637252,"-",439.15799113407428,"-",446.79742008071042,"-",443.26182941872645,"-",448.075194144698,"-",441.0458327387359,"-",444.23550361846384,"-",443.69674596886006,"-",427.76110255056778,"-",392.06777952328201,"-",348.63196013630733,"-",33.045125393740342,"-",32.02721881559642,"-",32.217563507182206,"-",36.406016086434107,"-",0]
[null,494,{"$f":"Chegadas!J502","v":445.02},{"$f":"IF(Chegadas!K502=\"I\",Atendimento!E509,Atendimento!L509)","v":9.7309975251250798},445.02,454.75099752512506,"-",449.74361703755545,"-",449.17678706390728,"-",444.45804814976719,"-",453.99975505637252,"-",439.15799113407428,"-",446.79742008071042,"-",443.26182941872645,"-",448.075194144698,"-",441.0458327387359,"-",444.23550361846384,"-",443.69674596886006,"-",427.76110255056778,"-",392.06777952328201,"-",348.63196013630733,"-",33.045125393740342,"-",32.02721881559642,"-",32.217563507182206,"-",36.406016086434107,"-",0]
[null,495,{"$f":"Chegadas!J503","v":446},{"$f":"IF(Chegadas!K503=\"I\",Atendimento!E510,Atendimento!L510)","v":2.9254252902966762},"*",454.75099752512506,"*",449.74361703755545,"*",449.17678706390728,446,448.92542529029669,"-",453.99975505637252,"-",439.15799113407428,"-",446.79742008071042,"-",443.26182941872645,"-",448.075194144698,"-",441.0458327387359,"-",444.23550361846384,"-",443.69674596886006,"-",427.76110255056778,"-",392.06777952328201,"-",348.63196013630733,"-",33.045125393740342,"-",32.02721881559642,"-",32.217563507182206,"-",36.406016086434107,"-",0]
[null,496,{"$f":"Chegadas!J504","v":446.39},{"$f":"IF(Chegadas!K504=\"I\",Atendimento!E511,Atendimento!L511)","v":6.5725274131671343},"*",454.75099752512506,"*",449.74361703755545,"*",449.17678706390728,"*",448.92542529029669,"*",453.99975505637252,446.39,452.96252741316709,"-",446.79742008071042,"-",443.26182941872645,"-",448.075194144698,"-",441.0458327387359,"-",444.23550361846384,"-",443.69674596886006,"-",427.76110255056778,"-",392.06777952328201,"-",348.63196013630733,"-",33.045125393740342,"-",32.02721881559642,"-",32.217563507182206,"-",36.406016086434107,"-",0]
[null,497,{"$f":"Chegadas!J505","v":447.13},{"$f":"IF(Chegadas!K505=\"I\",Atendimento!E512,Atendimento!L512)","v":5.9859651176776545},"*",454.75099752512506,"*",449.74361703755545,"*",449.17678706390728,"*",448.92542529029669,"*",453.99975505637252,"*",452.96252741316709,447.13,453.11596511767766,"-",443.26182941872645,"-",448.075194144698,"-",441.0458327387359,"-",444.23550361846384,"-",443.69674596886006,"-",427.76110255056778,"-",392.06777952328201,"-",348.63196013630733,"-",33.045125393740342,"-",32.02721881559642,"-",32.217563507182206,"-",36.406016086434107,"-",0]
[null,498,{"$f":"Chegadas!J506","v":447.21999999999997},{"$f":"IF(Chegadas!K506=\"I\",Atendimento!E513,Atendimento!L513)","v":10.950767131954578},"*",454.75099752512506,"*",449.74361703755545,"*",449.17678706390728,"*",448.92542529029669,"*",453.99975505637252,"*",452.96252741316709,"*",453.11596511767766,447.21999999999997,458.17076713195456,"-",448.075194144698,"-",441.0458327387359,"-",444.23550361846384,"-",443.69674596886006,"-",427.76110255056778,"-",392.06777952328201,"-",348.63196013630733,"-",33.045125393740342,"-",32.02721881559642,"-",32.217563507182206,"-",36.406016086434107,"-",0]
[null,499,{"$f":"Chegadas!J507","v":447.40999999999997},{"$f":"IF(Chegadas!K507=\"I\",Atendimento!E514,Atendimento!L514)","v":6.5316230838533995},"*",454.75099752512506,"*",449.74361703755545,"*",449.17678706390728,"*",448.92542529029669,"*",453.99975505637252,"*",452.96252741316709,"*",453.11596511767766,"*",458.17076713195456,"*",448.075194144698,447.40999999999997,453.94162308385336,"-",444.23550361846384,"-",443.69674596886006,"-",427.76110255056778,"-",392.06777952328201,"-",348.63196013630733,"-",33.045125393740342,"-",32.02721881559642,"-",32.217563507182206,"-",36.406016086434107,"-",0]
[null,500,{"$f":"Chegadas!J508","v":447.51},{"$f":"IF(Chegadas!K508=\"I\",Atendimento!E515,Atendimento!L515)","v":2.8227632357848043},"*",454.75099752512506,"*",449.74361703755545,"*",449.17678706390728,"*",448.92542529029669,"*",453.99975505637252,"*",452.96252741316709,"*",453.11596511767766,"*",458.17076713195456,"*",448.075194144698,"*",453.94162308385336,447.51,450.3327632357848,"-",443.69674596886006,"-",427.76110255056778,"-",392.06777952328201,"-",348.63196013630733,"-",33.045125393740342,"-",32.02721881559642,"-",32.217563507182206,"-",36.406016086434107,"-",0]

{"sheet":"Filtro","index":4,"n_rows":507,"n_cols":44,"rows_kept":507,"cut":false,"hidden":false,"merged":[[5,36,5,37],[5,38,5,39],[5,40,5,41],[5,42,5,43],[5,24,5,25],[5,26,5,27],[5,28,5,29],[5,30,5,31],[5,32,5,33],[5,34,5,35],[5,22,5,23],[5,2,6,2],[5,3,6,3],[5,4,5,5],[5,6,5,7],[5,8,5,9],[5,10,5,11],[5,12,5,13],[5,14,5,15],[5,16,5,17],[5,18,5,19],[5,20,5,21]]}
[null,null,null,"Nº de atendimentos =",{"$f":"COUNT(E8:E508)","v":54},null,{"$f":"COUNT(G9:G508)","v":56},null,{"$f":"COUNT(I9:I508)","v":49},null,{"$f":"COUNT(K9:K508)","v":53},null,{"$f":"COUNT(M9:M508)","v":47},null,{"$f":"COUNT(O9:O508)","v":49},null,{"$f":"COUNT(Q9:Q508)","v":43},null,{"$f":"COUNT(S9:S508)","v":37},null,{"$f":"COUNT(U9:U508)","v":30},null,{"$f":"COUNT(W9:W508)","v":23},null,{"$f":"COUNT(Y9:Y508)","v":23},null,{"$f":"COUNT(AA9:AA508)","v":16},null,{"$f":"COUNT(AC9:AC508)","v":8},null,{"$f":"COUNT(AE9:AE508)","v":6},null,{"$f":"COUNT(AG9:AG508)","v":2},null,{"$f":"COUNT(AI9:AI508)","v":1},null,{"$f":"COUNT(AK9:AK508)","v":1},null,{"$f":"COUNT(AM9:AM508)","v":1},null,{"$f":"COUNT(AO9:AO508)","v":1},null,{"$f":"COUNT(AQ9:AQ508)","v":0}]
[null,null,null,"Nº acumulado de atendimentos =",{"$f":"E1","v":54},null,{"$f":"SUM($E1:G1)","v":110},null,{"$f":"SUM($E1:I1)","v":159},null,{"$f":"SUM($E1:K1)","v":212},null,{"$f":"SUM($E1:M1)","v":259},null,{"$f":"SUM($E1:O1)","v":308},null,{"$f":"SUM($E1:Q1)","v":351},null,{"$f":"SUM($E1:S1)","v":388},null,{"$f":"SUM($E1:U1)","v":418},null,{"$f":"SUM($E1:W1)","v":441},null,{"$f":"SUM($E1:Y1)","v":464},null,{"$f":"SUM($E1:AA1)","v":480},null,{"$f":"SUM($E1:AC1)","v":488},null,{"$f":"SUM($E1:AE1)","v":494},null,{"$f":"SUM($E1:AG1)","v":496},null,{"$f":"SUM($E1:AI1)","v":497},null,{"$f":"SUM($E1:AK1)","v":498},null,{"$f":"SUM($E1:AM1)","v":499},null,{"$f":"SUM($E1:AO1)","v":500},null,{"$f":"SUM($E1:AQ1)","v":500}]
[null,null,null,"Prontidão =",{"$f":"E2/500","v":0.108},null,{"$f":"G2/500","v":0.22},null,{"$f":"I2/500","v":0.318},null,{"$f":"K2/500","v":0.42399999999999999},null,{"$f":"M2/500","v":0.51800000000000002},null,{"$f":"O2/500","v":0.61599999999999999},null,{"$f":"Q2/500","v":0.70199999999999996},null,{"$f":"S2/500","v":0.77600000000000002},null,{"$f":"U2/500","v":0.83599999999999997},null,{"$f":"W2/500","v":0.88200000000000001},null,{"$f":"Y2/500","v":0.92800000000000005},null,{"$f":"AA2/500","v":0.96},null,{"$f":"AC2/500","v":0.97599999999999998},null,{"$f":"AE2/500","v":0.98799999999999999},null,{"$f":"AG2/500","v":0.99199999999999999},null,{"$f":"AI2/500","v":0.99399999999999999},null,{"$f":"AK2/500","v":0.996},null,{"$f":"AM2/500","v":0.998},null,{"$f":"AO2/500","v":1},null,{"$f":"AQ2/500","v":1}]
[]
[null,"Horizonte =",{"$f":"MIN(Chegadas!E508,Chegadas!H508)","v":489.28},"dias"]
[null,null,"Chegada à fila","Tempo atendimento","1º Ventilador",null,"2º Ventilador",null,"3º Ventilador",null,"4º Ventilador",null,"5º Ventilador",null,"6º Ventilador",null,"7º Ventilador",null,"8º Ventilador",null,"9º Ventilador",null,"10º Ventilador",null,"11º Ventilador",null,"12º Ventilador",null,"13º Ventilador",null,"14º Ventilador",null,"15º Ventilador",null,"16º Ventilador",null,"17º Ventilador",null,"18º Ventilador",null,"19º Ventilador",null,"20º Ventilador"]
[null,"Ordem",null,null,"Início","Fim","Início","Fim","Início","Fim","Início","Fim","Início","Fim","Início","Fim","Início","Fim","Início","Fim","Início","Fim","Início","Fim","Início","Fim","Início","Fim","Início","Fim","Início","Fim","Início","Fim","Início","Fim","Início","Fim","Início","Fim","Início","Fim","Início","Fim"]
[null,1,{"$f":"Chegadas!J9","v":0.71},{"$f":"IF($C8=\"\",\"\",Simulação!D8)","v":7.9637373456250895},{"$f":"IF($C8=\"\",\"\",Simulação!E8)","v":0.71},{"$f":"IF($C8=\"\",\"\",Simulação!F8)","v":8.6737373456250886},"-",0,"-",0,"-",0,"-",0,"-",0,"-",0,"-",0,"-",0,"-",0,"-",0,"-",0,"-",0,"-",0,"-",0,"-",0,"-",0,"-",0,"-",0,"-",0]
[null,2,{"$f":"IF(Chegadas!J10<=$C$5,Chegadas!J10,\"\")","v":6.14},{"$f":"IF($C9=\"\",\"\",Simulação!D9)","v":8.3173593846973262},{"$f":"IF($C9=\"\",\"\",Simulação!E9)","v":"*"},{"$f":"IF($C9=\"\",\"\",Simulação!F9)","v":8.6737373456250886},{"$f":"IF($C9=\"\",\"\",Simulação!G9)","v":6.14},{"$f":"IF($C9=\"\",\"\",Simulação!H9)","v":14.457359384697327},{"$f":"IF($C9=\"\",\"\",Simulação!I9)","v":"-"},{"$f":"IF($C9=\"\",\"\",Simulação!J9)","v":0},{"$f":"IF($C9=\"\",\"\",Simulação!K9)","v":"-"},{"$f":"IF($C9=\"\",\"\",Simulação!L9)","v":0},{"$f":"IF($C9=\"\",\"\",Simulação!M9)","v":"-"},{"$f":"IF($C9=\"\",\"\",Simulação!N9)","v":0},{"$f":"IF($C9=\"\",\"\",Simulação!O9)","v":"-"},{"$f":"IF($C9=\"\",\"\",Simulação!P9)","v":0},{"$f":"IF($C9=\"\",\"\",Simulação!Q9)","v":"-"},{"$f":"IF($C9=\"\",\"\",Simulação!R9)","v":0},{"$f":"IF($C9=\"\",\"\",Simulação!S9)","v":"-"},{"$f":"IF($C9=\"\",\"\",Simulação!T9)","v":0},{"$f":"IF($C9=\"\",\"\",Simulação!U9)","v":"-"},{"$f":"IF($C9=\"\",\"\",Simulação!V9)","v":0},{"$f":"IF($C9=\"\",\"\",Simulação!W9)","v":"-"},{"$f":"IF($C9=\"\",\"\",Simulação!X9)","v":0},{"$f":"IF($C9=\"\",\"\",Simulação!Y9)","v":"-"},{"$f":"IF($C9=\"\",\"\",Simulação!Z9)","v":0},{"$f":"IF($C9=\"\",\"\",Simulação!AA9)","v":"-"},{"$f":"IF($C9=\"\",\"\",Simulação!AB9)","v":0},{"$f":"IF($C9=\"\",\"\",Simulação!AC9)","v":"-"},{"$f":"IF($C9=\"\",\"\",Simulação!AD9)","v":0},{"$f":"IF($C9=\"\",\"\",Simulação!AE9)","v":"-"},{"$f":"IF($C9=\"\",\"\",Simulação!AF9)","v":0},{"$f":"IF($C9=\"\",\"\",Simulação!AG9)","v":"-"},{"$f":"IF($C9=\"\",\"\",Simulação!AH9)","v":0},{"$f":"IF($C9=\"\",\"\",Simulação!AI9)","v":"-"},{"$f":"IF($C9=\"\",\"\",Simulação!AJ9)","v":0},{"$f":"IF($C9=\"\",\"\",Simulação!AK9)","v":"-"},{"$f":"IF($C9=\"\",\"\",Simulação!AL9)","v":0},{"$f":"IF($C9=\"\",\"\",Simulação!AM9)","v":"-"},{"$f":"IF($C9=\"\",\"\",Simulação!AN9)","v":0},{"$f":"IF($C9=\"\",\"\",Simulação!AO9)","v":"-"},{"$f":"IF($C9=\"\",\"\",Simulação!AP9)","v":0},{"$f":"IF($C9=\"\",\"\",Simulação!AQ9)","v":"-"},{"$f":"IF($C9=\"\",\"\",Simulação!AR9)","v":0}]
[null,3,{"$f":"IF(Chegadas!J11<=$C$5,Chegadas!J11,\"\")","v":6.9799999999999995},{"$f":"IF($C10=\"\",\"\",Simulação!D10)","v":7.1512338560999886},{"$f":"IF($C10=\"\",\"\",Simulação!E10)","v":"*"},{"$f":"IF($C10=\"\",\"\",Simulação!F10)","v":8.6737373456250886},{"$f":"IF($C10=\"\",\"\",Simulação!G10)","v":"*"},{"$f":"IF($C10=\"\",\"\",Simulação!H10)","v":14.457359384697327},{"$f":"IF($C10=\"\",\"\",Simulação!I10)","v":6.9799999999999995},{"$f":"IF($C10=\"\",\"\",Simulação!J10)","v":14.131233856099989},{"$f":"IF($C10=\"\",\"\",Simulação!K10)","v":"-"},{"$f":"IF($C10=\"\",\"\",Simulação!L10)","v":0},{"$f":"IF($C10=\"\",\"\",Simulação!M10)","v":"-"},{"$f":"IF($C10=\"\",\"\",Simulação!N10)","v":0},{"$f":"IF($C10=\"\",\"\",Simulação!O10)","v":"-"},{"$f":"IF($C10=\"\",\"\",Simulação!P10)","v":0},{"$f":"IF($C10=\"\",\"\",Simulação!Q10)","v":"-"},{"$f":"IF($C10=\"\",\"\",Simulação!R10)","v":0},{"$f":"IF($C10=\"\",\"\",Simulação!S10)","v":"-"},{"$f":"IF($C10=\"\",\"\",Simulação!T10)","v":0},{"$f":"IF($C10=\"\",\"\",Simulação!U10)","v":"-"},{"$f":"IF($C10=\"\",\"\",Simulação!V10)","v":0},{"$f":"IF($C10=\"\",\"\",Simulação!W10)","v":"-"},{"$f":"IF($C10=\"\",\"\",Simulação!X10)","v":0},{"$f":"IF($C10=\"\",\"\",Simulação!Y10)","v":"-"},{"$f":"IF($C10=\"\",\"\",Simulação!Z10)","v":0},{"$f":"IF($C10=\"\",\"\",Simulação!AA10)","v":"-"},{"$f":"IF($C10=\"\",\"\",Simulação!AB10)","v":0},{"$f":"IF($C10=\"\",\"\",Simulação!AC10)","v":"-"},{"$f":"IF($C10=\"\",\"\",Simulação!AD10)","v":0},{"$f":"IF($C10=\"\",\"\",Simulação!AE10)","v":"-"},{"$f":"IF($C10=\"\",\"\",Simulação!AF10)","v":0},{"$f":"IF($C10=\"\",\"\",Simulação!AG10)","v":"-"},{"$f":"IF($C10=\"\",\"\",Simulação!AH10)","v":0},{"$f":"IF($C10=\"\",\"\",Simulação!AI10)","v":"-"},{"$f":"IF($C10=\"\",\"\",Simulação!AJ10)","v":0},{"$f":"IF($C10=\"\",\"\",Simulação!AK10)","v":"-"},{"$f":"IF($C10=\"\",\"\",Simulação!AL10)","v":0},{"$f":"IF($C10=\"\",\"\",Simulação!AM10)","v":"-"},{"$f":"IF($C10=\"\",\"\",Simulação!AN10)","v":0},{"$f":"IF($C10=\"\",\"\",Simulação!AO10)","v":"-"},{"$f":"IF($C10=\"\",\"\",Simulação!AP10)","v":0},{"$f":"IF($C10=\"\",\"\",Simulação!AQ10)","v":"-"},{"$f":"IF($C10=\"\",\"\",Simulação!AR10)","v":0}]
[null,4,{"$f":"IF(Chegadas!J12<=$C$5,Chegadas!J12,\"\")","v":7.3599999999999994},{"$f":"IF($C11=\"\",\"\",Simulação!D11)","v":6.1724307097007589},{"$f":"IF($C11=\"\",\"\",Simulação!E11)","v":"*"},{"$f":"IF($C11=\"\",\"\",Simulação!F11)","v":8.6737373456250886},{"$f":"IF($C11=\"\",\"\",Simulação!G11)","v":"*"},{"$f":"IF($C11=\"\",\"\",Simulação!H11)","v":14.457359384697327},{"$f":"IF($C11=\"\",\"\",Simulação!I11)","v":"*"},{"$f":"IF($C11=\"\",\"\",Simulação!J11)","v":14.131233856099989},{"$f":"IF($C11=\"\",\"\",Simulação!K11)","v":7.3599999999999994},{"$f":"IF($C11=\"\",\"\",Simulação!L11)","v":13.532430709700758},{"$f":"IF($C11=\"\",\"\",Simulação!M11)","v":"-"},{"$f":"IF($C11=\"\",\"\",Simulação!N11)","v":0},{"$f":"IF($C11=\"\",\"\",Simulação!O11)","v":"-"},{"$f":"IF($C11=\"\",\"\",Simulação!P11)","v":0},{"$f":"IF($C11=\"\",\"\",Simulação!Q11)","v":"-"},{"$f":"IF($C11=\"\",\"\",Simulação!R11)","v":0},{"$f":"IF($C11=\"\",\"\",Simulação!S11)","v":"-"},{"$f":"IF($C11=\"\",\"\",Simulação!T11)","v":0},{"$f":"IF($C11=\"\",\"\",Simulação!U11)","v":"-"},{"$f":"IF($C11=\"\",\"\",Simulação!V11)","v":0},{"$f":"IF($C11=\"\",\"\",Simulação!W11)","v":"-"},{"$f":"IF($C11=\"\",\"\",Simulação!X11)","v":0},{"$f":"IF($C11=\"\",\"\",Simulação!Y11)","v":"-"},{"$f":"IF($C11=\"\",\"\",Simulação!Z11)","v":0},{"$f":"IF($C11=\"\",\"\",Simulação!AA11)","v":"-"},{"$f":"IF($C11=\"\",\"\",Simulação!AB11)","v":0},{"$f":"IF($C11=\"\",\"\",Simulação!AC11)","v":"-"},{"$f":"IF($C11=\"\",\"\",Simulação!AD11)","v":0},{"$f":"IF($C11=\"\",\"\",Simulação!AE11)","v":"-"},{"$f":"IF($C11=\"\",\"\",Simulação!AF11)","v":0},{"$f":"IF($C11=\"\",\"\",Simulação!AG11)","v":"-"},{"$f":"IF($C11=\"\",\"\",Simulação!AH11)","v":0},{"$f":"IF($C11=\"\",\"\",Simulação!AI11)","v":"-"},{"$f":"IF($C11=\"\",\"\",Simulação!AJ11)","v":0},{"$f":"IF($C11=\"\",\"\",Simulação!AK11)","v":"-"},{"$f":"IF($C11=\"\",\"\",Simulação!AL11)","v":0},{"$f":"IF($C11=\"\",\"\",Simulação!AM11)","v":"-"},{"$f":"IF($C11=\"\",\"\",Simulação!AN11)","v":0},{"$f":"IF($C11=\"\",\"\",Simulação!AO11)","v":"-"},{"$f":"IF($C11=\"\",\"\",Simulação!AP11)","v":0},{"$f":"IF($C11=\"\",\"\",Simulação!AQ11)","v":"-"},{"$f":"IF($C11=\"\",\"\",Simulação!AR11)","v":0}]
[null,5,{"$f":"IF(Chegadas!J13<=$C$5,Chegadas!J13,\"\")","v":7.3699999999999992},{"$f":"IF($C12=\"\",\"\",Simulação!D12)","v":2.8536102713130189},{"$f":"IF($C12=\"\",\"\",Simulação!E12)","v":"*"},{"$f":"IF($C12=\"\",\"\",Simulação!F12)","v":8.6737373456250886},{"$f":"IF($C12=\"\",\"\",Simulação!G12)","v":"*"},{"$f":"IF($C12=\"\",\"\",Simulação!H12)","v":14.457359384697327},{"$f":"IF($C12=\"\",\"\",Simulação!I12)","v":"*"},{"$f":"IF($C12=\"\",\"\",Simulação!J12)","v":14.131233856099989},{"$f":"IF($C12=\"\",\"\",Simulação!K12)","v":"*"},{"$f":"IF($C12=\"\",\"\",Simulação!L12)","v":13.532430709700758},{"$f":"IF($C12=\"\",\"\",Simulação!M12)","v":7.3699999999999992},{"$f":"IF($C12=\"\",\"\",Simulação!N12)","v":10.223610271313017},{"$f":"IF($C12=\"\",\"\",Simulação!O12)","v":"-"},{"$f":"IF($C12=\"\",\"\",Simulação!P12)","v":0},{"$f":"IF($C12=\"\",\"\",Simulação!Q12)","v":"-"},{"$f":"IF($C12=\"\",\"\",Simulação!R12)","v":0},{"$f":"IF($C12=\"\",\"\",Simulação!S12)","v":"-"},{"$f":"IF($C12=\"\",\"\",Simulação!T12)","v":0},{"$f":"IF($C12=\"\",\"\",Simulação!U12)","v":"-"},{"$f":"IF($C12=\"\",\"\",Simulação!V12)","v":0},{"$f":"IF($C12=\"\",\"\",Simulação!W12)","v":"-"},{"$f":"IF($C12=\"\",\"\",Simulação!X12)","v":0},{"$f":"IF($C12=\"\",\"\",Simulação!Y12)","v":"-"},{"$f":"IF($C12=\"\",\"\",Simulação!Z12)","v":0},{"$f":"IF($C12=\"\",\"\",Simulação!AA12)","v":"-"},{"$f":"IF($C12=\"\",\"\",Simulação!AB12)","v":0},{"$f":"IF($C12=\"\",\"\",Simulação!AC12)","v":"-"},{"$f":"IF($C12=\"\",\"\",Simulação!AD12)","v":0},{"$f":"IF($C12=\"\",\"\",Simulação!AE12)","v":"-"},{"$f":"IF($C12=\"\",\"\",Simulação!AF12)","v":0},{"$f":"IF($C12=\"\",\"\",Simulação!AG12)","v":"-"},{"$f":"IF($C12=\"\",\"\",Simulação!AH12)","v":0},{"$f":"IF($C12=\"\",\"\",Simulação!AI12)","v":"-"},{"$f":"IF($C12=\"\",\"\",Simulação!AJ12)","v":0},{"$f":"IF($C12=\"\",\"\",Simulação!AK12)","v":"-"},{"$f":"IF($C12=\"\",\"\",Simulação!AL12)","v":0},{"$f":"IF($C12=\"\",\"\",Simulação!AM12)","v":"-"},{"$f":"IF($C12=\"\",\"\",Simulação!AN12)","v":0},{"$f":"IF($C12=\"\",\"\",Simulação!AO12)","v":"-"},{"$f":"IF($C12=\"\",\"\",Simulação!AP12)","v":0},{"$f":"IF($C12=\"\",\"\",Simulação!AQ12)","v":"-"},{"$f":"IF($C12=\"\",\"\",Simulação!AR12)","v":0}]
[null,6,{"$f":"IF(Chegadas!J14<=$C$5,Chegadas!J14,\"\")","v":7.4899999999999993},{"$f":"IF($C13=\"\",\"\",Simulação!D13)","v":8.179792260576555},{"$f":"IF($C13=\"\",\"\",Simulação!E13)","v":"*"},{"$f":"IF($C13=\"\",\"\",Simulação!F13)","v":8.6737373456250886},{"$f":"IF($C13=\"\",\"\",Simulação!G13)","v":"*"},{"$f":"IF($C13=\"\",\"\",Simulação!H13)","v":14.457359384697327},{"$f":"IF($C13=\"\",\"\",Simulação!I13)","v":"*"},{"$f":"IF($C13=\"\",\"\",Simulação!J13)","v":14.131233856099989},{"$f":"IF($C13=\"\",\"\",Simulação!K13)","v":"*"},{"$f":"IF($C13=\"\",\"\",Simulação!L13)","v":13.532430709700758},{"$f":"IF($C13=\"\",\"\",Simulação!M13)","v":"*"},{"$f":"IF($C13=\"\",\"\",Simulação!N13)","v":10.223610271313017},{"$f":"IF($C13=\"\",\"\",Simulação!O13)","v":7.4899999999999993},{"$f":"IF($C13=\"\",\"\",Simulação!P13)","v":15.669792260576553},{"$f":"IF($C13=\"\",\"\",Simulação!Q13)","v":"-"},{"$f":"IF($C13=\"\",\"\",Simulação!R13)","v":0},{"$f":"IF($C13=\"\",\"\",Simulação!S13)","v":"-"},{"$f":"IF($C13=\"\",\"\",Simulação!T13)","v":0},{"$f":"IF($C13=\"\",\"\",Simulação!U13)","v":"-"},{"$f":"IF($C13=\"\",\"\",Simulação!V13)","v":0},{"$f":"IF($C13=\"\",\"\",Simulação!W13)","v":"-"},{"$f":"IF($C13=\"\",\"\",Simulação!X13)","v":0},{"$f":"IF($C13=\"\",\"\",Simulação!Y13)","v":"-"},{"$f":"IF($C13=\"\",\"\",Simulação!Z13)","v":0},{"$f":"IF($C13=\"\",\"\",Simulação!AA13)","v":"-"},{"$f":"IF($C13=\"\",\"\",Simulação!AB13)","v":0},{"$f":"IF($C13=\"\",\"\",Simulação!AC13)","v":"-"},{"$f":"IF($C13=\"\",\"\",Simulação!AD13)","v":0},{"$f":"IF($C13=\"\",\"\",Simulação!AE13)","v":"-"},{"$f":"IF($C13=\"\",\"\",Simulação!AF13)","v":0},{"$f":"IF($C13=\"\",\"\",Simulação!AG13)","v":"-"},{"$f":"IF($C13=\"\",\"\",Simulação!AH13)","v":0},{"$f":"IF($C13=\"\",\"\",Simulação!AI13)","v":"-"},{"$f":"IF($C13=\"\",\"\",Simulação!AJ13)","v":0},{"$f":"IF($C13=\"\",\"\",Simulação!AK13)","v":"-"},{"$f":"IF($C13=\"\",\"\",Simulação!AL13)","v":0},{"$f":"IF($C13=\"\",\"\",Simulação!AM13)","v":"-"},{"$f":"IF($C13=\"\",\"\",Simulação!AN13)","v":0},{"$f":"IF($C13=\"\",\"\",Simulação!AO13)","v":"-"},{"$f":"IF($C13=\"\",\"\",Simulação!AP13)","v":0},{"$f":"IF($C13=\"\",\"\",Simulação!AQ13)","v":"-"},{"$f":"IF($C13=\"\",\"\",Simulação!AR13)","v":0}]
[null,7,{"$f":"IF(Chegadas!J15<=$C$5,Chegadas!J15,\"\")","v":7.68},{"$f":"IF($C14=\"\",\"\",Simulação!D14)","v":3.7643934688674827},{"$f":"IF($C14=\"\",\"\",Simulação!E14)","v":"*"},{"$f":"IF($C14=\"\",\"\",Simulação!F14)","v":8.6737373456250886},{"$f":"IF($C14=\"\",\"\",Simulação!G14)","v":"*"},{"$f":"IF($C14=\"\",\"\",Simulação!H14)","v":14.457359384697327},{"$f":"IF($C14=\"\",\"\",Simulação!I14)","v":"*"},{"$f":"IF($C14=\"\",\"\",Simulação!J14)","v":14.131233856099989},{"$f":"IF($C14=\"\",\"\",Simulação!K14)","v":"*"},{"$f":"IF($C14=\"\",\"\",Simulação!L14)","v":13.532430709700758},{"$f":"IF($C14=\"\",\"\",Simulação!M14)","v":"*"},{"$f":"IF($C14=\"\",\"\",Simulação!N14)","v":10.223610271313017},{"$f":"IF($C14=\"\",\"\",Simulação!O14)","v":"*"},{"$f":"IF($C14=\"\",\"\",Simulação!P14)","v":15.669792260576553},{"$f":"IF($C14=\"\",\"\",Simulação!Q14)","v":7.68},{"$f":"IF($C14=\"\",\"\",Simulação!R14)","v":11.444393468867482},{"$f":"IF($C14=\"\",\"\",Simulação!S14)","v":"-"},{"$f":"IF($C14=\"\",\"\",Simulação!T14)","v":0},{"$f":"IF($C14=\"\",\"\",Simulação!U14)","v":"-"},{"$f":"IF($C14=\"\",\"\",Simulação!V14)","v":0},{"$f":"IF($C14=\"\",\"\",Simulação!W14)","v":"-"},{"$f":"IF($C14=\"\",\"\",Simulação!X14)","v":0},{"$f":"IF($C14=\"\",\"\",Simulação!Y14)","v":"-"},{"$f":"IF($C14=\"\",\"\",Simulação!Z14)","v":0},{"$f":"IF($C14=\"\",\"\",Simulação!AA14)","v":"-"},{"$f":"IF($C14=\"\",\"\",Simulação!AB14)","v":0},{"$f":"IF($C14=\"\",\"\",Simulação!AC14)","v":"-"},{"$f":"IF($C14=\"\",\"\",Simulação!AD14)","v":0},{"$f":"IF($C14=\"\",\"\",Simulação!AE14)","v":"-"},{"$f":"IF($C14=\"\",\"\",Simulação!AF14)","v":0},{"$f":"IF($C14=\"\",\"\",Simulação!AG14)","v":"-"},{"$f":"IF($C14=\"\",\"\",Simulação!AH14)","v":0},{"$f":"IF($C14=\"\",\"\",Simulação!AI14)","v":"-"},{"$f":"IF($C14=\"\",\"\",Simulação!AJ14)","v":0},{"$f":"IF($C14=\"\",\"\",Simulação!AK14)","v":"-"},{"$f":"IF($C14=\"\",\"\",Simulação!AL14)","v":0},{"$f":"IF($C14=\"\",\"\",Simulação!AM14)","v":"-"},{"$f":"IF($C14=\"\",\"\",Simulação!AN14)","v":0},{"$f":"IF($C14=\"\",\"\",Simulação!AO14)","v":"-"},{"$f":"IF($C14=\"\",\"\",Simulação!AP14)","v":0},{"$f":"IF($C14=\"\",\"\",Simulação!AQ14)","v":"-"},{"$f":"IF($C14=\"\",\"\",Simulação!AR14)","v":0}]
[null,8,{"$f":"IF(Chegadas!J16<=$C$5,Chegadas!J16,\"\")","v":8.4699999999999989},{"$f":"IF($C15=\"\",\"\",Simulação!D15)","v":8.6836336966765266},{"$f":"IF($C15=\"\",\"\",Simulação!E15)","v":"*"},{"$f":"IF($C15=\"\",\"\",Simulação!F15)","v":8.6737373456250886},{"$f":"IF($C15=\"\",\"\",Simulação!G15)","v":"*"},{"$f":"IF($C15=\"\",\"\",Simulação!H15)","v":14.457359384697327},{"$f":"IF($C15=\"\",\"\",Simulação!I15)","v":"*"},{"$f":"IF($C15=\"\",\"\",Simulação!J15)","v":14.131233856099989},{"$f":"IF($C15=\"\",\"\",Simulação!K15)","v":"*"},{"$f":"IF($C15=\"\",\"\",Simulação!L15)","v":13.532430709700758},{"$f":"IF($C15=\"\",\"\",Simulação!M15)","v":"*"},{"$f":"IF($C15=\"\",\"\",Simulação!N15)","v":10.223610271313017},{"$f":"IF($C15=\"\",\"\",Simulação!O15)","v":"*"},{"$f":"IF($C15=\"\",\"\",Simulação!P15)","v":15.669792260576553},{"$f":"IF($C15=\"\",\"\",Simulação!Q15)","v":"*"},{"$f":"IF($C15=\"\",\"\",Simulação!R15)","v":11.444393468867482},{"$f":"IF($C15=\"\",\"\",Simulação!S15)","v":8.4699999999999989},{"$f":"IF($C15=\"\",\"\",Simulação!T15)","v":17.153633696676525},{"$f":"IF($C15=\"\",\"\",Simulação!U15)","v":"-"},{"$f":"IF($C15=\"\",\"\",Simulação!V15)","v":0},{"$f":"IF($C15=\"\",\"\",Simulação!W15)","v":"-"},{"$f":"IF($C15=\"\",\"\",Simulação!X15)","v":0},{"$f":"IF($C15=\"\",\"\",Simulação!Y15)","v":"-"},{"$f":"IF($C15=\"\",\"\",Simulação!Z15)","v":0},{"$f":"IF($C15=\"\",\"\",Simulação!AA15)","v":"-"},{"$f":"IF($C15=\"\",\"\",Simulação!AB15)","v":0},{"$f":"IF($C15=\"\",\"\",Simulação!AC15)","v":"-"},{"$f":"IF($C15=\"\",\"\",Simulação!AD15)","v":0},{"$f":"IF($C15=\"\",\"\",Simulação!AE15)","v":"-"},{"$f":"IF($C15=\"\",\"\",Simulação!AF15)","v":0},{"$f":"IF($C15=\"\",\"\",Simulação!AG15)","v":"-"},{"$f":"IF($C15=\"\",\"\",Simulação!AH15)","v":0},{"$f":"IF($C15=\"\",\"\",Simulação!AI15)","v":"-"},{"$f":"IF($C15=\"\",\"\",Simulação!AJ15)","v":0},{"$f":"IF($C15=\"\",\"\",Simulação!AK15)","v":"-"},{"$f":"IF($C15=\"\",\"\",Simulação!AL15)","v":0},{"$f":"IF($C15=\"\",\"\",Simulação!AM15)","v":"-"},{"$f":"IF($C15=\"\",\"\",Simulação!AN15)","v":0},{"$f":"IF($C15=\"\",\"\",Simulação!AO15)","v":"-"},{"$f":"IF($C15=\"\",\"\",Simulação!AP15)","v":0},{"$f":"IF($C15=\"\",\"\",Simulação!AQ15)","v":"-"},{"$f":"IF($C15=\"\",\"\",Simulação!AR15)","v":0}]
[null,9,{"$f":"IF(Chegadas!J17<=$C$5,Chegadas!J17,\"\")","v":9.379999999999999},{"$f":"IF($C16=\"\",\"\",Simulação!D16)","v":11.53280700833362},{"$f":"IF($C16=\"\",\"\",Simulação!E16)","v":9.379999999999999},{"$f":"IF($C16=\"\",\"\",Simulação!F16)","v":20.912807008333619},{"$f":"IF($C16=\"\",\"\",Simulação!G16)","v":"-"},{"$f":"IF($C16=\"\",\"\",Simulação!H16)","v":14.457359384697327},{"$f":"IF($C16=\"\",\"\",Simulação!I16)","v":"-"},{"$f":"IF($C16=\"\",\"\",Simulação!J16)","v":14.131233856099989},{"$f":"IF($C16=\"\",\"\",Simulação!K16)","v":"-"},{"$f":"IF($C16=\"\",\"\",Simulação!L16)","v":13.532430709700758},{"$f":"IF($C16=\"\",\"\",Simulação!M16)","v":"-"},{"$f":"IF($C16=\"\",\"\",Simulação!N16)","v":10.223610271313017},{"$f":"IF($C16=\"\",\"\",Simulação!O16)","v":"-"},{"$f":"IF($C16=\"\",\"\",Simulação!P16)","v":15.669792260576553},{"$f":"IF($C16=\"\",\"\",Simulação!Q16)","v":"-"},{"$f":"IF($C16=\"\",\"\",Simulação!R16)","v":11.444393468867482},{"$f":"IF($C16=\"\",\"\",Simulação!S16)","v":"-"},{"$f":"IF($C16=\"\",\"\",Simulação!T16)","v":17.153633696676525},{"$f":"IF($C16=\"\",\"\",Simulação!U16)","v":"-"},{"$f":"IF($C16=\"\",\"\",Simulação!V16)","v":0},{"$f":"IF($C16=\"\",\"\",Simulação!W16)","v":"-"},{"$f":"IF($C16=\"\",\"\",Simulação!X16)","v":0},{"$f":"IF($C16=\"\",\"\",Simulação!Y16)","v":"-"},{"$f":"IF($C16=\"\",\"\",Simulação!Z16)","v":0},{"$f":"IF($C16=\"\",\"\",Simulação!AA16)","v":"-"},{"$f":"IF($C16=\"\",\"\",Simulação!AB16)","v":0},{"$f":"IF($C16=\"\",\"\",Simulação!AC16)","v":"-"},{"$f":"IF($C16=\"\",\"\",Simulação!AD16)","v":0},{"$f":"IF($C16=\"\",\"\",Simulação!AE16)","v":"-"},{"$f":"IF($C16=\"\",\"\",Simulação!AF16)","v":0},{"$f":"IF($C16=\"\",\"\",Simulação!AG16)","v":"-"},{"$f":"IF($C16=\"\",\"\",Simulação!AH16)","v":0},{"$f":"IF($C16=\"\",\"\",Simulação!AI16)","v":"-"},{"$f":"IF($C16=\"\",\"\",Simulação!AJ16)","v":0},{"$f":"IF($C16=\"\",\"\",Simulação!AK16)","v":"-"},{"$f":"IF($C16=\"\",\"\",Simulação!AL16)","v":0},{"$f":"IF($C16=\"\",\"\",Simulação!AM16)","v":"-"},{"$f":"IF($C16=\"\",\"\",Simulação!AN16)","v":0},{"$f":"IF($C16=\"\",\"\",Simulação!AO16)","v":"-"},{"$f":"IF($C16=\"\",\"\",Simulação!AP16)","v":0},{"$f":"IF($C16=\"\",\"\",Simulação!AQ16)","v":"-"},{"$f":"IF($C16=\"\",\"\",Simulação!AR16)","v":0}]
[null,10,{"$f":"IF(Chegadas!J18<=$C$5,Chegadas!J18,\"\")","v":9.41},{"$f":"IF($C17=\"\",\"\",Simulação!D17)","v":0.94234724117807489},{"$f":"IF($C17=\"\",\"\",Simulação!E17)","v":"*"},{"$f":"IF($C17=\"\",\"\",Simulação!F17)","v":20.912807008333619},{"$f":"IF($C17=\"\",\"\",Simulação!G17)","v":"*"},{"$f":"IF($C17=\"\",\"\",Simulação!H17)","v":14.457359384697327},{"$f":"IF($C17=\"\",\"\",Simulação!I17)","v":"*"},{"$f":"IF($C17=\"\",\"\",Simulação!J17)","v":14.131233856099989},{"$f":"IF($C17=\"\",\"\",Simulação!K17)","v":"*"},{"$f":"IF($C17=\"\",\"\",Simulação!L17)","v":13.532430709700758},{"$f":"IF($C17=\"\",\"\",Simulação!M17)","v":"*"},{"$f":"IF($C17=\"\",\"\",Simulação!N17)","v":10.223610271313017},{"$f":"IF($C17=\"\",\"\",Simulação!O17)","v":"*"},{"$f":"IF($C17=\"\",\"\",Simulação!P17)","v":15.669792260576553},{"$f":"IF($C17=\"\",\"\",Simulação!Q17)","v":"*"},{"$f":"IF($C17=\"\",\"\",Simulação!R17)","v":11.444393468867482},{"$f":"IF($C17=\"\",\"\",Simulação!S17)","v":"*"},{"$f":"IF($C17=\"\",\"\",Simulação!T17)","v":17.153633696676525},{"$f":"IF($C17=\"\",\"\",Simulação!U17)","v":9.41},{"$f":"IF($C17=\"\",\"\",Simulação!V17)","v":10.352347241178075},{"$f":"IF($C17=\"\",\"\",Simulação!W17)","v":"-"},{"$f":"IF($C17=\"\",\"\",Simulação!X17)","v":0},{"$f":"IF($C17=\"\",\"\",Simulação!Y17)","v":"-"},{"$f":"IF($C17=\"\",\"\",Simulação!Z17)","v":0},{"$f":"IF($C17=\"\",\"\",Simulação!AA17)","v":"-"},{"$f":"IF($C17=\"\",\"\",Simulação!AB17)","v":0},{"$f":"IF($C17=\"\",\"\",Simulação!AC17)","v":"-"},{"$f":"IF($C17=\"\",\"\",Simulação!AD17)","v":0},{"$f":"IF($C17=\"\",\"\",Simulação!AE17)","v":"-"},{"$f":"IF($C17=\"\",\"\",Simulação!AF17)","v":0},{"$f":"IF($C17=\"\",\"\",Simulação!AG17)","v":"-"},{"$f":"IF($C17=\"\",\"\",Simulação!AH17)","v":0},{"$f":"IF($C17=\"\",\"\",Simulação!AI17)","v":"-"},{"$f":"IF($C17=\"\",\"\",Simulação!AJ17)","v":0},{"$f":"IF($C17=\"\",\"\",Simulação!AK17)","v":"-"},{"$f":"IF($C17=\"\",\"\",Simulação!AL17)","v":0},{"$f":"IF($C17=\"\",\"\",Simulação!AM17)","v":"-"},{"$f":"IF($C17=\"\",\"\",Simulação!AN17)","v":0},{"$f":"IF($C17=\"\",\"\",Simulação!AO17)","v":"-"},{"$f":"IF($C17=\"\",\"\",Simulação!AP17)","v":0},{"$f":"IF($C17=\"\",\"\",Simulação!AQ17)","v":"-"},{"$f":"IF($C17=\"\",\"\",Simulação!AR17)","v":0}]
[null,11,{"$f":"IF(Chegadas!J19<=$C$5,Chegadas!J19,\"\")","v":10.26},{"$f":"IF($C18=\"\",\"\",Simulação!D18)","v":7.0946198623272956},{"$f":"IF($C18=\"\",\"\",Simulação!E18)","v":"*"},{"$f":"IF($C18=\"\",\"\",Simulação!F18)","v":20.912807008333619},{"$f":"IF($C18=\"\",\"\",Simulação!G18)","v":"*"},{"$f":"IF($C18=\"\",\"\",Simulação!H18)","v":14.457359384697327},{"$f":"IF($C18=\"\",\"\",Simulação!I18)","v":"*"},{"$f":"IF($C18=\"\",\"\",Simulação!J18)","v":14.131233856099989},{"$f":"IF($C18=\"\",\"\",Simulação!K18)","v":"*"},{"$f":"IF($C18=\"\",\"\",Simulação!L18)","v":13.532430709700758},{"$f":"IF($C18=\"\",\"\",Simulação!M18)","v":10.26},{"$f":"IF($C18=\"\",\"\",Simulação!N18)","v":17.354619862327297},{"$f":"IF($C18=\"\",\"\",Simulação!O18)","v":"-"},{"$f":"IF($C18=\"\",\"\",Simulação!P18)","v":15.669792260576553},{"$f":"IF($C18=\"\",\"\",Simulação!Q18)","v":"-"},{"$f":"IF($C18=\"\",\"\",Simulação!R18)","v":11.444393468867482},{"$f":"IF($C18=\"\",\"\",Simulação!S18)","v":"-"},{"$f":"IF($C18=\"\",\"\",Simulação!T18)","v":17.153633696676525},{"$f":"IF($C18=\"\",\"\",Simulação!U18)","v":"-"},{"$f":"IF($C18=\"\",\"\",Simulação!V18)","v":10.352347241178075},{"$f":"IF($C18=\"\",\"\",Simulação!W18)","v":"-"},{"$f":"IF($C18=\"\",\"\",Simulação!X18)","v":0},{"$f":"IF($C18=\"\",\"\",Simulação!Y18)","v":"-"},{"$f":"IF($C18=\"\",\"\",Simulação!Z18)","v":0},{"$f":"IF($C18=\"\",\"\",Simulação!AA18)","v":"-"},{"$f":"IF($C18=\"\",\"\",Simulação!AB18)","v":0},{"$f":"IF($C18=\"\",\"\",Simulação!AC18)","v":"-"},{"$f":"IF($C18=\"\",\"\",Simulação!AD18)","v":0},{"$f":"IF($C18=\"\",\"\",Simulação!AE18)","v":"-"},{"$f":"IF($C18=\"\",\"\",Simulação!AF18)","v":0},{"$f":"IF($C18=\"\",\"\",Simulação!AG18)","v":"-"},{"$f":"IF($C18=\"\",\"\",Simulação!AH18)","v":0},{"$f":"IF($C18=\"\",\"\",Simulação!AI18)","v":"-"},{"$f":"IF($C18=\"\",\"\",Simulação!AJ18)","v":0},{"$f":"IF($C18=\"\",\"\",Simulação!AK18)","v":"-"},{"$f":"IF($C18=\"\",\"\",Simulação!AL18)","v":0},{"$f":"IF($C18=\"\",\"\",Simulação!AM18)","v":"-"},{"$f":"IF($C18=\"\",\"\",Simulação!AN18)","v":0},{"$f":"IF($C18=\"\",\"\",Simulação!AO18)","v":"-"},{"$f":"IF($C18=\"\",\"\",Simulação!AP18)","v":0},{"$f":"IF($C18=\"\",\"\",Simulação!AQ18)","v":"-"},{"$f":"IF($C18=\"\",\"\",Simulação!AR18)","v":0}]
[null,12,{"$f":"IF(Chegadas!J20<=$C$5,Chegadas!J20,\"\")","v":14.3},{"$f":"IF($C19=\"\",\"\",Simulação!D19)","v":3.5367995251333553},{"$f":"IF($C19=\"\",\"\",Simulação!E19)","v":"*"},{"$f":"IF($C19=\"\",\"\",Simulação!F19)","v":20.912807008333619},{"$f":"IF($C19=\"\",\"\",Simulação!G19)","v":"*"},{"$f":"IF($C19=\"\",\"\",Simulação!H19)","v":14.457359384697327},{"$f":"IF($C19=\"\",\"\",Simulação!I19)","v":14.3},{"$f":"IF($C19=\"\",\"\",Simulação!J19)","v":17.836799525133355},{"$f":"IF($C19=\"\",\"\",Simulação!K19)","v":"-"},{"$f":"IF($C19=\"\",\"\",Simulação!L19)","v":13.532430709700758},{"$f":"IF($C19=\"\",\"\",Simulação!M19)","v":"-"},{"$f":"IF($C19=\"\",\"\",Simulação!N19)","v":17.354619862327297},{"$f":"IF($C19=\"\",\"\",Simulação!O19)","v":"-"},{"$f":"IF($C19=\"\",\"\",Simulação!P19)","v":15.669792260576553},{"$f":"IF($C19=\"\",\"\",Simulação!Q19)","v":"-"},{"$f":"IF($C19=\"\",\"\",Simulação!R19)","v":11.444393468867482},{"$f":"IF($C19=\"\",\"\",Simulação!S19)","v":"-"},{"$f":"IF($C19=\"\",\"\",Simulação!T19)","v":17.153633696676525},{"$f":"IF($C19=\"\",\"\",Simulação!U19)","v":"-"},{"$f":"IF($C19=\"\",\"\",Simulação!V19)","v":10.352347241178075},{"$f":"IF($C19=\"\",\"\",Simulação!W19)","v":"-"},{"$f":"IF($C19=\"\",\"\",Simulação!X19)","v":0},{"$f":"IF($C19=\"\",\"\",Simulação!Y19)","v":"-"},{"$f":"IF($C19=\"\",\"\",Simulação!Z19)","v":0},{"$f":"IF($C19=\"\",\"\",Simulação!AA19)","v":"-"},{"$f":"IF($C19=\"\",\"\",Simulação!AB19)","v":0},{"$f":"IF($C19=\"\",\"\",Simulação!AC19)","v":"-"},{"$f":"IF($C19=\"\",\"\",Simulação!AD19)","v":0},{"$f":"IF($C19=\"\",\"\",Simulação!AE19)","v":"-"},{"$f":"IF($C19=\"\",\"\",Simulação!AF19)","v":0},{"$f":"IF($C19=\"\",\"\",Simulação!AG19)","v":"-"},{"$f":"IF($C19=\"\",\"\",Simulação!AH19)","v":0},{"$f":"IF($C19=\"\",\"\",Simulação!AI19)","v":"-"},{"$f":"IF($C19=\"\",\"\",Simulação!AJ19)","v":0},{"$f":"IF($C19=\"\",\"\",Simulação!AK19)","v":"-"},{"$f":"IF($C19=\"\",\"\",Simulação!AL19)","v":0},{"$f":"IF($C19=\"\",\"\",Simulação!AM19)","v":"-"},{"$f":"IF($C19=\"\",\"\",Simulação!AN19)","v":0},{"$f":"IF($C19=\"\",\"\",Simulação!AO19)","v":"-"},{"$f":"IF($C19=\"\",\"\",Simulação!AP19)","v":0},{"$f":"IF($C19=\"\",\"\",Simulação!AQ19)","v":"-"},{"$f":"IF($C19=\"\",\"\",Simulação!AR19)","v":0}]
[null,13,{"$f":"IF(Chegadas!J21<=$C$5,Chegadas!J21,\"\")","v":16.32},{"$f":"IF($C20=\"\",\"\",Simulação!D20)","v":4.5152905496577738},{"$f":"IF($C20=\"\",\"\",Simulação!E20)","v":"*"},{"$f":"IF($C20=\"\",\"\",Simulação!F20)","v":20.912807008333619},{"$f":"IF($C20=\"\",\"\",Simulação!G20)","v":16.32},{"$f":"IF($C20=\"\",\"\",Simulação!H20)","v":20.835290549657774},{"$f":"IF($C20=\"\",\"\",Simulação!I20)","v":"-"},{"$f":"IF($C20=\"\",\"\",Simulação!J20)","v":17.836799525133355},{"$f":"IF($C20=\"\",\"\",Simulação!K20)","v":"-"},{"$f":"IF($C20=\"\",\"\",Simulação!L20)","v":13.532430709700758},{"$f":"IF($C20=\"\",\"\",Simulação!M20)","v":"-"},{"$f":"IF($C20=\"\",\"\",Simulação!N20)","v":17.354619862327297},{"$f":"IF($C20=\"\",\"\",Simulação!O20)","v":"-"},{"$f":"IF($C20=\"\",\"\",Simulação!P20)","v":15.669792260576553},{"$f":"IF($C20=\"\",\"\",Simulação!Q20)","v":"-"},{"$f":"IF($C20=\"\",\"\",Simulação!R20)","v":11.444393468867482},{"$f":"IF($C20=\"\",\"\",Simulação!S20)","v":"-"},{"$f":"IF($C20=\"\",\"\",Simulação!T20)","v":17.153633696676525},{"$f":"IF($C20=\"\",\"\",Simulação!U20)","v":"-"},{"$f":"IF($C20=\"\",\"\",Simulação!V20)","v":10.352347241178075},{"$f":"IF($C20=\"\",\"\",Simulação!W20)","v":"-"},{"$f":"IF($C20=\"\",\"\",Simulação!X20)","v":0},{"$f":"IF($C20=\"\",\"\",Simulação!Y20)","v":"-"},{"$f":"IF($C20=\"\",\"\",Simulação!Z20)","v":0},{"$f":"IF($C20=\"\",\"\",Simulação!AA20)","v":"-"},{"$f":"IF($C20=\"\",\"\",Simulação!AB20)","v":0},{"$f":"IF($C20=\"\",\"\",Simulação!AC20)","v":"-"},{"$f":"IF($C20=\"\",\"\",Simulação!AD20)","v":0},{"$f":"IF($C20=\"\",\"\",Simulação!AE20)","v":"-"},{"$f":"IF($C20=\"\",\"\",Simulação!AF20)","v":0},{"$f":"IF($C20=\"\",\"\",Simulação!AG20)","v":"-"},{"$f":"IF($C20=\"\",\"\",Simulação!AH20)","v":0},{"$f":"IF($C20=\"\",\"\",Simulação!AI20)","v":"-"},{"$f":"IF($C20=\"\",\"\",Simulação!AJ20)","v":0},{"$f":"IF($C20=\"\",\"\",Simulação!AK20)","v":"-"},{"$f":"IF($C20=\"\",\"\",Simulação!AL20)","v":0},{"$f":"IF($C20=\"\",\"\",Simulação!AM20)","v":"-"},{"$f":"IF($C20=\"\",\"\",Simulação!AN20)","v":0},{"$f":"IF($C20=\"\",\"\",Simulação!AO20)","v":"-"},{"$f":"IF($C20=\"\",\"\",Simulação!AP20)","v":0},{"$f":"IF($C20=\"\",\"\",Simulação!AQ20)","v":"-"},{"$f":"IF($C20=\"\",\"\",Simulação!AR20)","v":0}]
[null,14,{"$f":"IF(Chegadas!J22<=$C$5,Chegadas!J22,\"\")","v":16.5},{"$f":"IF($C21=\"\",\"\",Simulação!D21)","v":10.846207123823836},{"$f":"IF($C21=\"\",\"\",Simulação!E21)","v":"*"},{"$f":"IF($C21=\"\",\"\",Simulação!F21)","v":20.912807008333619},{"$f":"IF($C21=\"\",\"\",Simulação!G21)","v":"*"},{"$f":"IF($C21=\"\",\"\",Simulação!H21)","v":20.835290549657774},{"$f":"IF($C21=\"\",\"\",Simulação!I21)","v":"*"},{"$f":"IF($C21=\"\",\"\",Simulação!J21)","v":17.836799525133355},{"$f":"IF($C21=\"\",\"\",Simulação!K21)","v":16.5},{"$f":"IF($C21=\"\",\"\",Simulação!L21)","v":27.346207123823838},{"$f":"IF($C21=\"\",\"\",Simulação!M21)","v":"-"},{"$f":"IF($C21=\"\",\"\",Simulação!N21)","v":17.354619862327297},{"$f":"IF($C21=\"\",\"\",Simulação!O21)","v":"-"},{"$f":"IF($C21=\"\",\"\",Simulação!P21)","v":15.669792260576553},{"$f":"IF($C21=\"\",\"\",Simulação!Q21)","v":"-"},{"$f":"IF($C21=\"\",\"\",Simulação!R21)","v":11.444393468867482},{"$f":"IF($C21=\"\",\"\",Simulação!S21)","v":"-"},{"$f":"IF($C21=\"\",\"\",Simulação!T21)","v":17.153633696676525},{"$f":"IF($C21=\"\",\"\",Simulação!U21)","v":"-"},{"$f":"IF($C21=\"\",\"\",Simulação!V21)","v":10.352347241178075},{"$f":"IF($C21=\"\",\"\",Simulação!W21)","v":"-"},{"$f":"IF($C21=\"\",\"\",Simulação!X21)","v":0},{"$f":"IF($C21=\"\",\"\",Simulação!Y21)","v":"-"},{"$f":"IF($C21=\"\",\"\",Simulação!Z21)","v":0},{"$f":"IF($C21=\"\",\"\",Simulação!AA21)","v":"-"},{"$f":"IF($C21=\"\",\"\",Simulação!AB21)","v":0},{"$f":"IF($C21=\"\",\"\",Simulação!AC21)","v":"-"},{"$f":"IF($C21=\"\",\"\",Simulação!AD21)","v":0},{"$f":"IF($C21=\"\",\"\",Simulação!AE21)","v":"-"},{"$f":"IF($C21=\"\",\"\",Simulação!AF21)","v":0},{"$f":"IF($C21=\"\",\"\",Simulação!AG21)","v":"-"},{"$f":"IF($C21=\"\",\"\",Simulação!AH21)","v":0},{"$f":"IF($C21=\"\",\"\",Simulação!AI21)","v":"-"},{"$f":"IF($C21=\"\",\"\",Simulação!AJ21)","v":0},{"$f":"IF($C21=\"\",\"\",Simulação!AK21)","v":"-"},{"$f":"IF($C21=\"\",\"\",Simulação!AL21)","v":0},{"$f":"IF($C21=\"\",\"\",Simulação!AM21)","v":"-"},{"$f":"IF($C21=\"\",\"\",Simulação!AN21)","v":0},{"$f":"IF($C21=\"\",\"\",Simulação!AO21)","v":"-"},{"$f":"IF($C21=\"\",\"\",Simulação!AP21)","v":0},{"$f":"IF($C21=\"\",\"\",Simulação!AQ21)","v":"-"},{"$f":"IF($C21=\"\",\"\",Simulação!AR21)","v":0}]
[null,15,{"$f":"IF(Chegadas!J23<=$C$5,Chegadas!J23,\"\")","v":16.71},{"$f":"IF($C22=\"\",\"\",Simulação!D22)","v":6.645756120464112},{"$f":"IF($C22=\"\",\"\",Simulação!E22)","v":"*"},{"$f":"IF($C22=\"\",\"\",Simulação!F22)","v":20.912807008333619},{"$f":"IF($C22=\"\",\"\",Simulação!G22)","v":"*"},{"$f":"IF($C22=\"\",\"\",Simulação!H22)","v":20.835290549657774},{"$f":"IF($C22=\"\",\"\",Simulação!I22)","v":"*"},{"$f":"IF($C22=\"\",\"\",Simulação!J22)","v":17.836799525133355},{"$f":"IF($C22=\"\",\"\",Simulação!K22)","v":"*"},{"$f":"IF($C22=\"\",\"\",Simulação!L22)","v":27.346207123823838},{"$f":"IF($C22=\"\",\"\",Simulação!M22)","v":"*"},{"$f":"IF($C22=\"\",\"\",Simulação!N22)","v":17.354619862327297},{"$f":"IF($C22=\"\",\"\",Simulação!O22)","v":16.71},{"$f":"IF($C22=\"\",\"\",Simulação!P22)","v":23.355756120464115},{"$f":"IF($C22=\"\",\"\",Simulação!Q22)","v":"-"},{"$f":"IF($C22=\"\",\"\",Simulação!R22)","v":11.444393468867482},{"$f":"IF($C22=\"\",\"\",Simulação!S22)","v":"-"},{"$f":"IF($C22=\"\",\"\",Simulação!T22)","v":17.153633696676525},{"$f":"IF($C22=\"\",\"\",Simulação!U22)","v":"-"},{"$f":"IF($C22=\"\",\"\",Simulação!V22)","v":10.352347241178075},{"$f":"IF($C22=\"\",\"\",Simulação!W22)","v":"-"},{"$f":"IF($C22=\"\",\"\",Simulação!X22)","v":0},{"$f":"IF($C22=\"\",\"\",Simulação!Y22)","v":"-"},{"$f":"IF($C22=\"\",\"\",Simulação!Z22)","v":0},{"$f":"IF($C22=\"\",\"\",Simulação!AA22)","v":"-"},{"$f":"IF($C22=\"\",\"\",Simulação!AB22)","v":0},{"$f":"IF($C22=\"\",\"\",Simulação!AC22)","v":"-"},{"$f":"IF($C22=\"\",\"\",Simulação!AD22)","v":0},{"$f":"IF($C22=\"\",\"\",Simulação!AE22)","v":"-"},{"$f":"IF($C22=\"\",\"\",Simulação!AF22)","v":0},{"$f":"IF($C22=\"\",\"\",Simulação!AG22)","v":"-"},{"$f":"IF($C22=\"\",\"\",Simulação!AH22)","v":0},{"$f":"IF($C22=\"\",\"\",Simulação!AI22)","v":"-"},{"$f":"IF($C22=\"\",\"\",Simulação!AJ22)","v":0},{"$f":"IF($C22=\"\",\"\",Simulação!AK22)","v":"-"},{"$f":"IF($C22=\"\",\"\",Simulação!AL22)","v":0},{"$f":"IF($C22=\"\",\"\",Simulação!AM22)","v":"-"},{"$f":"IF($C22=\"\",\"\",Simulação!AN22)","v":0},{"$f":"IF($C22=\"\",\"\",Simulação!AO22)","v":"-"},{"$f":"IF($C22=\"\",\"\",Simulação!AP22)","v":0},{"$f":"IF($C22=\"\",\"\",Simulação!AQ22)","v":"-"},{"$f":"IF($C22=\"\",\"\",Simulação!AR22)","v":0}]
[null,16,{"$f":"IF(Chegadas!J24<=$C$5,Chegadas!J24,\"\")","v":16.990000000000002},{"$f":"IF($C23=\"\",\"\",Simulação!D23)","v":6.7874917476555519},{"$f":"IF($C23=\"\",\"\",Simulação!E23)","v":"*"},{"$f":"IF($C23=\"\",\"\",Simulação!F23)","v":20.912807008333619},{"$f":"IF($C23=\"\",\"\",Simulação!G23)","v":"*"},{"$f":"IF($C23=\"\",\"\",Simulação!H23)","v":20.835290549657774},{"$f":"IF($C23=\"\",\"\",Simulação!I23)","v":"*"},{"$f":"IF($C23=\"\",\"\",Simulação!J23)","v":17.836799525133355},{"$f":"IF($C23=\"\",\"\",Simulação!K23)","v":"*"},{"$f":"IF($C23=\"\",\"\",Simulação!L23)","v":27.346207123823838},{"$f":"IF($C23=\"\",\"\",Simulação!M23)","v":"*"},{"$f":"IF($C23=\"\",\"\",Simulação!N23)","v":17.354619862327297},{"$f":"IF($C23=\"\",\"\",Simulação!O23)","v":"*"},{"$f":"IF($C23=\"\",\"\",Simulação!P23)","v":23.355756120464115},{"$f":"IF($C23=\"\",\"\",Simulação!Q23)","v":16.990000000000002},{"$f":"IF($C23=\"\",\"\",Simulação!R23)","v":23.777491747655553},{"$f":"IF($C23=\"\",\"\",Simulação!S23)","v":"-"},{"$f":"IF($C23=\"\",\"\",Simulação!T23)","v":17.153633696676525},{"$f":"IF($C23=\"\",\"\",Simulação!U23)","v":"-"},{"$f":"IF($C23=\"\",\"\",Simulação!V23)","v":10.352347241178075},{"$f":"IF($C23=\"\",\"\",Simulação!W23)","v":"-"},{"$f":"IF($C23=\"\",\"\",Simulação!X23)","v":0},{"$f":"IF($C23=\"\",\"\",Simulação!Y23)","v":"-"},{"$f":"IF($C23=\"\",\"\",Simulação!Z23)","v":0},{"$f":"IF($C23=\"\",\"\",Simulação!AA23)","v":"-"},{"$f":"IF($C23=\"\",\"\",Simulação!AB23)","v":0},{"$f":"IF($C23=\"\",\"\",Simulação!AC23)","v":"-"},{"$f":"IF($C23=\"\",\"\",Simulação!AD23)","v":0},{"$f":"IF($C23=\"\",\"\",Simulação!AE23)","v":"-"},{"$f":"IF($C23=\"\",\"\",Simulação!AF23)","v":0},{"$f":"IF($C23=\"\",\"\",Simulação!AG23)","v":"-"},{"$f":"IF($C23=\"\",\"\",Simulação!AH23)","v":0},{"$f":"IF($C23=\"\",\"\",Simulação!AI23)","v":"-"},{"$f":"IF($C23=\"\",\"\",Simulação!AJ23)","v":0},{"$f":"IF($C23=\"\",\"\",Simulação!AK23)","v":"-"},{"$f":"IF($C23=\"\",\"\",Simulação!AL23)","v":0},{"$f":"IF($C23=\"\",\"\",Simulação!AM23)","v":"-"},{"$f":"IF($C23=\"\",\"\",Simulação!AN23)","v":0},{"$f":"IF($C23=\"\",\"\",Simulação!AO23)","v":"-"},{"$f":"IF($C23=\"\",\"\",Simulação!AP23)","v":0},{"$f":"IF($C23=\"\",\"\",Simulação!AQ23)","v":"-"},{"$f":"IF($C23=\"\",\"\",Simulação!AR23)","v":0}]
[null,17,{"$f":"IF(Chegadas!J25<=$C$5,Chegadas!J25,\"\")","v":17.400000000000002},{"$f":"IF($C24=\"\",\"\",Simulação!D24)","v":6.5164382381894406},{"$f":"IF($C24=\"\",\"\",Simulação!E24)","v":"*"},{"$f":"IF($C24=\"\",\"\",Simulação!F24)","v":20.912807008333619},{"$f":"IF($C24=\"\",\"\",Simulação!G24)","v":"*"},{"$f":"IF($C24=\"\",\"\",Simulação!H24)","v":20.835290549657774},{"$f":"IF($C24=\"\",\"\",Simulação!I24)","v":"*"},{"$f":"IF($C24=\"\",\"\",Simulação!J24)","v":17.836799525133355},{"$f":"IF($C24=\"\",\"\",Simulação!K24)","v":"*"},{"$f":"IF($C24=\"\",\"\",Simulação!L24)","v":27.346207123823838},{"$f":"IF($C24=\"\",\"\",Simulação!M24)","v":17.400000000000002},{"$f":"IF($C24=\"\",\"\",Simulação!N24)","v":23.916438238189443},{"$f":"IF($C24=\"\",\"\",Simulação!O24)","v":"-"},{"$f":"IF($C24=\"\",\"\",Simulação!P24)","v":23.355756120464115},{"$f":"IF($C24=\"\",\"\",Simulação!Q24)","v":"-"},{"$f":"IF($C24=\"\",\"\",Simulação!R24)","v":23.777491747655553},{"$f":"IF($C24=\"\",\"\",Simulação!S24)","v":"-"},{"$f":"IF($C24=\"\",\"\",Simulação!T24)","v":17.153633696676525},{"$f":"IF($C24=\"\",\"\",Simulação!U24)","v":"-"},{"$f":"IF($C24=\"\",\"\",Simulação!V24)","v":10.352347241178075},{"$f":"IF($C24=\"\",\"\",Simulação!W24)","v":"-"},{"$f":"IF($C24=\"\",\"\",Simulação!X24)","v":0},{"$f":"IF($C24=\"\",\"\",Simulação!Y24)","v":"-"},{"$f":"IF($C24=\"\",\"\",Simulação!Z24)","v":0},{"$f":"IF($C24=\"\",\"\",Simulação!AA24)","v":"-"},{"$f":"IF($C24=\"\",\"\",Simulação!AB24)","v":0},{"$f":"IF($C24=\"\",\"\",Simulação!AC24)","v":"-"},{"$f":"IF($C24=\"\",\"\",Simulação!AD24)","v":0},{"$f":"IF($C24=\"\",\"\",Simulação!AE24)","v":"-"},{"$f":"IF($C24=\"\",\"\",Simulação!AF24)","v":0},{"$f":"IF($C24=\"\",\"\",Simulação!AG24)","v":"-"},{"$f":"IF($C24=\"\",\"\",Simulação!AH24)","v":0},{"$f":"IF($C24=\"\",\"\",Simulação!AI24)","v":"-"},{"$f":"IF($C24=\"\",\"\",Simulação!AJ24)","v":0},{"$f":"IF($C24=\"\",\"\",Simulação!AK24)","v":"-"},{"$f":"IF($C24=\"\",\"\",Simulação!AL24)","v":0},{"$f":"IF($C24=\"\",\"\",Simulação!AM24)","v":"-"},{"$f":"IF($C24=\"\",\"\",Simulação!AN24)","v":0},{"$f":"IF($C24=\"\",\"\",Simulação!AO24)","v":"-"},{"$f":"IF($C24=\"\",\"\",Simulação!AP24)","v":0},{"$f":"IF($C24=\"\",\"\",Simulação!AQ24)","v":"-"},{"$f":"IF($C24=\"\",\"\",Simulação!AR24)","v":0}]
[null,18,{"$f":"IF(Chegadas!J26<=$C$5,Chegadas!J26,\"\")","v":17.470000000000002},{"$f":"IF($C25=\"\",\"\",Simulação!D25)","v":6.4091225772664311},{"$f":"IF($C25=\"\",\"\",Simulação!E25)","v":"*"},{"$f":"IF($C25=\"\",\"\",Simulação!F25)","v":20.912807008333619},{"$f":"IF($C25=\"\",\"\",Simulação!G25)","v":"*"},{"$f":"IF($C25=\"\",\"\",Simulação!H25)","v":20.835290549657774},{"$f":"IF($C25=\"\",\"\",Simulação!I25)","v":"*"},{"$f":"IF($C25=\"\",\"\",Simulação!J25)","v":17.836799525133355},{"$f":"IF($C25=\"\",\"\",Simulação!K25)","v":"*"},{"$f":"IF($C25=\"\",\"\",Simulação!L25)","v":27.346207123823838},{"$f":"IF($C25=\"\",\"\",Simulação!M25)","v":"*"},{"$f":"IF($C25=\"\",\"\",Simulação!N25)","v":23.916438238189443},{"$f":"IF($C25=\"\",\"\",Simulação!O25)","v":"*"},{"$f":"IF($C25=\"\",\"\",Simulação!P25)","v":23.355756120464115},{"$f":"IF($C25=\"\",\"\",Simulação!Q25)","v":"*"},{"$f":"IF($C25=\"\",\"\",Simulação!R25)","v":23.777491747655553},{"$f":"IF($C25=\"\",\"\",Simulação!S25)","v":17.470000000000002},{"$f":"IF($C25=\"\",\"\",Simulação!T25)","v":23.879122577266433},{"$f":"IF($C25=\"\",\"\",Simulação!U25)","v":"-"},{"$f":"IF($C25=\"\",\"\",Simulação!V25)","v":10.352347241178075},{"$f":"IF($C25=\"\",\"\",Simulação!W25)","v":"-"},{"$f":"IF($C25=\"\",\"\",Simulação!X25)","v":0},{"$f":"IF($C25=\"\",\"\",Simulação!Y25)","v":"-"},{"$f":"IF($C25=\"\",\"\",Simulação!Z25)","v":0},{"$f":"IF($C25=\"\",\"\",Simulação!AA25)","v":"-"},{"$f":"IF($C25=\"\",\"\",Simulação!AB25)","v":0},{"$f":"IF($C25=\"\",\"\",Simulação!AC25)","v":"-"},{"$f":"IF($C25=\"\",\"\",Simulação!AD25)","v":0},{"$f":"IF($C25=\"\",\"\",Simulação!AE25)","v":"-"},{"$f":"IF($C25=\"\",\"\",Simulação!AF25)","v":0},{"$f":"IF($C25=\"\",\"\",Simulação!AG25)","v":"-"},{"$f":"IF($C25=\"\",\"\",Simulação!AH25)","v":0},{"$f":"IF($C25=\"\",\"\",Simulação!AI25)","v":"-"},{"$f":"IF($C25=\"\",\"\",Simulação!AJ25)","v":0},{"$f":"IF($C25=\"\",\"\",Simulação!AK25)","v":"-"},{"$f":"IF($C25=\"\",\"\",Simulação!AL25)","v":0},{"$f":"IF($C25=\"\",\"\",Simulação!AM25)","v":"-"},{"$f":"IF($C25=\"\",\"\",Simulação!AN25)","v":0},{"$f":"IF($C25=\"\",\"\",Simulação!AO25)","v":"-"},{"$f":"IF($C25=\"\",\"\",Simulação!AP25)","v":0},{"$f":"IF($C25=\"\",\"\",Simulação!AQ25)","v":"-"},{"$f":"IF($C25=\"\",\"\",Simulação!AR25)","v":0}]
[null,19,{"$f":"IF(Chegadas!J27<=$C$5,Chegadas!J27,\"\")","v":18.630000000000003},{"$f":"IF($C26=\"\",\"\",Simulação!D26)","v":10.544170424687216},{"$f":"IF($C26=\"\",\"\",Simulação!E26)","v":"*"},{"$f":"IF($C26=\"\",\"\",Simulação!F26)","v":20.912807008333619},{"$f":"IF($C26=\"\",\"\",Simulação!G26)","v":"*"},{"$f":"IF($C26=\"\",\"\",Simulação!H26)","v":20.835290549657774},{"$f":"IF($C26=\"\",\"\",Simulação!I26)","v":18.630000000000003},{"$f":"IF($C26=\"\",\"\",Simulação!J26)","v":29.174170424687219},{"$f":"IF($C26=\"\",\"\",Simulação!K26)","v":"-"},{"$f":"IF($C26=\"\",\"\",Simulação!L26)","v":27.346207123823838},{"$f":"IF($C26=\"\",\"\",Simulação!M26)","v":"-"},{"$f":"IF($C26=\"\",\"\",Simulação!N26)","v":23.916438238189443},{"$f":"IF($C26=\"\",\"\",Simulação!O26)","v":"-"},{"$f":"IF($C26=\"\",\"\",Simulação!P26)","v":23.355756120464115},{"$f":"IF($C26=\"\",\"\",Simulação!Q26)","v":"-"},{"$f":"IF($C26=\"\",\"\",Simulação!R26)","v":23.777491747655553},{"$f":"IF($C26=\"\",\"\",Simulação!S26)","v":"-"},{"$f":"IF($C26=\"\",\"\",Simulação!T26)","v":23.879122577266433},{"$f":"IF($C26=\"\",\"\",Simulação!U26)","v":"-"},{"$f":"IF($C26=\"\",\"\",Simulação!V26)","v":10.352347241178075},{"$f":"IF($C26=\"\",\"\",Simulação!W26)","v":"-"},{"$f":"IF($C26=\"\",\"\",Simulação!X26)","v":0},{"$f":"IF($C26=\"\",\"\",Simulação!Y26)","v":"-"},{"$f":"IF($C26=\"\",\"\",Simulação!Z26)","v":0},{"$f":"IF($C26=\"\",\"\",Simulação!AA26)","v":"-"},{"$f":"IF($C26=\"\",\"\",Simulação!AB26)","v":0},{"$f":"IF($C26=\"\",\"\",Simulação!AC26)","v":"-"},{"$f":"IF($C26=\"\",\"\",Simulação!AD26)","v":0},{"$f":"IF($C26=\"\",\"\",Simulação!AE26)","v":"-"},{"$f":"IF($C26=\"\",\"\",Simulação!AF26)","v":0},{"$f":"IF($C26=\"\",\"\",Simulação!AG26)","v":"-"},{"$f":"IF($C26=\"\",\"\",Simulação!AH26)","v":0},{"$f":"IF($C26=\"\",\"\",Simulação!AI26)","v":"-"},{"$f":"IF($C26=\"\",\"\",Simulação!AJ26)","v":0},{"$f":"IF($C26=\"\",\"\",Simulação!AK26)","v":"-"},{"$f":"IF($C26=\"\",\"\",Simulação!AL26)","v":0},{"$f":"IF($C26=\"\",\"\",Simulação!AM26)","v":"-"},{"$f":"IF($C26=\"\",\"\",Simulação!AN26)","v":0},{"$f":"IF($C26=\"\",\"\",Simulação!AO26)","v":"-"},{"$f":"IF($C26=\"\",\"\",Simulação!AP26)","v":0},{"$f":"IF($C26=\"\",\"\",Simulação!AQ26)","v":"-"},{"$f":"IF($C26=\"\",\"\",Simulação!AR26)","v":0}]
[null,20,{"$f":"IF(Chegadas!J28<=$C$5,Chegadas!J28,\"\")","v":18.800000000000004},{"$f":"IF($C27=\"\",\"\",Simulação!D27)","v":2.226945873812856},{"$f":"IF($C27=\"\",\"\",Simulação!E27)","v":"*"},{"$f":"IF($C27=\"\",\"\",Simulação!F27)","v":20.912807008333619},{"$f":"IF($C27=\"\",\"\",Simulação!G27)","v":"*"},{"$f":"IF($C27=\"\",\"\",Simulação!H27)","v":20.835290549657774},{"$f":"IF($C27=\"\",\"\",Simulação!I27)","v":"*"},{"$f":"IF($C27=\"\",\"\",Simulação!J27)","v":29.174170424687219},{"$f":"IF($C27=\"\",\"\",Simulação!K27)","v":"*"},{"$f":"IF($C27=\"\",\"\",Simulação!L27)","v":27.346207123823838},{"$f":"IF($C27=\"\",\"\",Simulação!M27)","v":"*"},{"$f":"IF($C27=\"\",\"\",Simulação!N27)","v":23.916438238189443},{"$f":"IF($C27=\"\",\"\",Simulação!O27)","v":"*"},{"$f":"IF($C27=\"\",\"\",Simulação!P27)","v":23.355756120464115},{"$f":"IF($C27=\"\",\"\",Simulação!Q27)","v":"*"},{"$f":"IF($C27=\"\",\"\",Simulação!R27)","v":23.777491747655553},{"$f":"IF($C27=\"\",\"\",Simulação!S27)","v":"*"},{"$f":"IF($C27=\"\",\"\",Simulação!T27)","v":23.879122577266433},{"$f":"IF($C27=\"\",\"\",Simulação!U27)","v":18.800000000000004},{"$f":"IF($C27=\"\",\"\",Simulação!V27)","v":21.02694587381286},{"$f":"IF($C27=\"\",\"\",Simulação!W27)","v":"-"},{"$f":"IF($C27=\"\",\"\",Simulação!X27)","v":0},{"$f":"IF($C27=\"\",\"\",Simulação!Y27)","v":"-"},{"$f":"IF($C27=\"\",\"\",Simulação!Z27)","v":0},{"$f":"IF($C27=\"\",\"\",Simulação!AA27)","v":"-"},{"$f":"IF($C27=\"\",\"\",Simulação!AB27)","v":0},{"$f":"IF($C27=\"\",\"\",Simulação!AC27)","v":"-"},{"$f":"IF($C27=\"\",\"\",Simulação!AD27)","v":0},{"$f":"IF($C27=\"\",\"\",Simulação!AE27)","v":"-"},{"$f":"IF($C27=\"\",\"\",Simulação!AF27)","v":0},{"$f":"IF($C27=\"\",\"\",Simulação!AG27)","v":"-"},{"$f":"IF($C27=\"\",\"\",Simulação!AH27)","v":0},{"$f":"IF($C27=\"\",\"\",Simulação!AI27)","v":"-"},{"$f":"IF($C27=\"\",\"\",Simulação!AJ27)","v":0},{"$f":"IF($C27=\"\",\"\",Simulação!AK27)","v":"-"},{"$f":"IF($C27=\"\",\"\",Simulação!AL27)","v":0},{"$f":"IF($C27=\"\",\"\",Simulação!AM27)","v":"-"},{"$f":"IF($C27=\"\",\"\",Simulação!AN27)","v":0},{"$f":"IF($C27=\"\",\"\",Simulação!AO27)","v":"-"},{"$f":"IF($C27=\"\",\"\",Simulação!AP27)","v":0},{"$f":"IF($C27=\"\",\"\",Simulação!AQ27)","v":"-"},{"$f":"IF($C27=\"\",\"\",Simulação!AR27)","v":0}]
[null,21,{"$f":"IF(Chegadas!J29<=$C$5,Chegadas!J29,\"\")","v":19.370000000000005},{"$f":"IF($C28=\"\",\"\",Simulação!D28)","v":2.1764373175563598},{"$f":"IF($C28=\"\",\"\",Simulação!E28)","v":"*"},{"$f":"IF($C28=\"\",\"\",Simulação!F28)","v":20.912807008333619},{"$f":"IF($C28=\"\",\"\",Simulação!G28)","v":"*"},{"$f":"IF($C28=\"\",\"\",Simulação!H28)","v":20.835290549657774},{"$f":"IF($C28=\"\",\"\",Simulação!I28)","v":"*"},{"$f":"IF($C28=\"\",\"\",Simulação!J28)","v":29.174170424687219},{"$f":"IF($C28=\"\",\"\",Simulação!K28)","v":"*"},{"$f":"IF($C28=\"\",\"\",Simulação!L28)","v":27.346207123823838},{"$f":"IF($C28=\"\",\"\",Simulação!M28)","v":"*"},{"$f":"IF($C28=\"\",\"\",Simulação!N28)","v":23.916438238189443},{"$f":"IF($C28=\"\",\"\",Simulação!O28)","v":"*"},{"$f":"IF($C28=\"\",\"\",Simulação!P28)","v":23.355756120464115},{"$f":"IF($C28=\"\",\"\",Simulação!Q28)","v":"*"},{"$f":"IF($C28=\"\",\"\",Simulação!R28)","v":23.777491747655553},{"$f":"IF($C28=\"\",\"\",Simulação!S28)","v":"*"},{"$f":"IF($C28=\"\",\"\",Simulação!T28)","v":23.879122577266433},{"$f":"IF($C28=\"\",\"\",Simulação!U28)","v":"*"},{"$f":"IF($C28=\"\",\"\",Simulação!V28)","v":21.02694587381286},{"$f":"IF($C28=\"\",\"\",Simulação!W28)","v":19.370000000000005},{"$f":"IF($C28=\"\",\"\",Simulação!X28)","v":21.546437317556364},{"$f":"IF($C28=\"\",\"\",Simulação!Y28)","v":"-"},{"$f":"IF($C28=\"\",\"\",Simulação!Z28)","v":0},{"$f":"IF($C28=\"\",\"\",Simulação!AA28)","v":"-"},{"$f":"IF($C28=\"\",\"\",Simulação!AB28)","v":0},{"$f":"IF($C28=\"\",\"\",Simulação!AC28)","v":"-"},{"$f":"IF($C28=\"\",\"\",Simulação!AD28)","v":0},{"$f":"IF($C28=\"\",\"\",Simulação!AE28)","v":"-"},{"$f":"IF($C28=\"\",\"\",Simulação!AF28)","v":0},{"$f":"IF($C28=\"\",\"\",Simulação!AG28)","v":"-"},{"$f":"IF($C28=\"\",\"\",Simulação!AH28)","v":0},{"$f":"IF($C28=\"\",\"\",Simulação!AI28)","v":"-"},{"$f":"IF($C28=\"\",\"\",Simulação!AJ28)","v":0},{"$f":"IF($C28=\"\",\"\",Simulação!AK28)","v":"-"},{"$f":"IF($C28=\"\",\"\",Simulação!AL28)","v":0},{"$f":"IF($C28=\"\",\"\",Simulação!AM28)","v":"-"},{"$f":"IF($C28=\"\",\"\",Simulação!AN28)","v":0},{"$f":"IF($C28=\"\",\"\",Simulação!AO28)","v":"-"},{"$f":"IF($C28=\"\",\"\",Simulação!AP28)","v":0},{"$f":"IF($C28=\"\",\"\",Simulação!AQ28)","v":"-"},{"$f":"IF($C28=\"\",\"\",Simulação!AR28)","v":0}]
[null,22,{"$f":"IF(Chegadas!J30<=$C$5,Chegadas!J30,\"\")","v":19.640000000000004},{"$f":"IF($C29=\"\",\"\",Simulação!D29)","v":11.88263888577905},{"$f":"IF($C29=\"\",\"\",Simulação!E29)","v":"*"},{"$f":"IF($C29=\"\",\"\",Simulação!F29)","v":20.912807008333619},{"$f":"IF($C29=\"\",\"\",Simulação!G29)","v":"*"},{"$f":"IF($C29=\"\",\"\",Simulação!H29)","v":20.835290549657774},{"$f":"IF($C29=\"\",\"\",Simulação!I29)","v":"*"},{"$f":"IF($C29=\"\",\"\",Simulação!J29)","v":29.174170424687219},{"$f":"IF($C29=\"\",\"\",Simulação!K29)","v":"*"},{"$f":"IF($C29=\"\",\"\",Simulação!L29)","v":27.346207123823838},{"$f":"IF($C29=\"\",\"\",Simulação!M29)","v":"*"},{"$f":"IF($C29=\"\",\"\",Simulação!N29)","v":23.916438238189443},{"$f":"IF($C29=\"\",\"\",Simulação!O29)","v":"*"},{"$f":"IF($C29=\"\",\"\",Simulação!P29)","v":23.355756120464115},{"$f":"IF($C29=\"\",\"\",Simulação!Q29)","v":"*"},{"$f":"IF($C29=\"\",\"\",Simulação!R29)","v":23.777491747655553},{"$f":"IF($C29=\"\",\"\",Simulação!S29)","v":"*"},{"$f":"IF($C29=\"\",\"\",Simulação!T29)","v":23.879122577266433},{"$f":"IF($C29=\"\",\"\",Simulação!U29)","v":"*"},{"$f":"IF($C29=\"\",\"\",Simulação!V29)","v":21.02694587381286},{"$f":"IF($C29=\"\",\"\",Simulação!W29)","v":"*"},{"$f":"IF($C29=\"\",\"\",Simulação!X29)","v":21.546437317556364},{"$f":"IF($C29=\"\",\"\",Simulação!Y29)","v":19.640000000000004},{"$f":"IF($C29=\"\",\"\",Simulação!Z29)","v":31.522638885779052},{"$f":"IF($C29=\"\",\"\",Simulação!AA29)","v":"-"},{"$f":"IF($C29=\"\",\"\",Simulação!AB29)","v":0},{"$f":"IF($C29=\"\",\"\",Simulação!AC29)","v":"-"},{"$f":"IF($C29=\"\",\"\",Simulação!AD29)","v":0},{"$f":"IF($C29=\"\",\"\",Simulação!AE29)","v":"-"},{"$f":"IF($C29=\"\",\"\",Simulação!AF29)","v":0},{"$f":"IF($C29=\"\",\"\",Simulação!AG29)","v":"-"},{"$f":"IF($C29=\"\",\"\",Simulação!AH29)","v":0},{"$f":"IF($C29=\"\",\"\",Simulação!AI29)","v":"-"},{"$f":"IF($C29=\"\",\"\",Simulação!AJ29)","v":0},{"$f":"IF($C29=\"\",\"\",Simulação!AK29)","v":"-"},{"$f":"IF($C29=\"\",\"\",Simulação!AL29)","v":0},{"$f":"IF($C29=\"\",\"\",Simulação!AM29)","v":"-"},{"$f":"IF($C29=\"\",\"\",Simulação!AN29)","v":0},{"$f":"IF($C29=\"\",\"\",Simulação!AO29)","v":"-"},{"$f":"IF($C29=\"\",\"\",Simulação!AP29)","v":0},{"$f":"IF($C29=\"\",\"\",Simulação!AQ29)","v":"-"},{"$f":"IF($C29=\"\",\"\",Simulação!AR29)","v":0}]
[null,23,{"$f":"IF(Chegadas!J31<=$C$5,Chegadas!J31,\"\")","v":19.670000000000005},{"$f":"IF($C30=\"\",\"\",Simulação!D30)","v":8.9615550142833413},{"$f":"IF($C30=\"\",\"\",Simulação!E30)","v":"*"},{"$f":"IF($C30=\"\",\"\",Simulação!F30)","v":20.912807008333619},{"$f":"IF($C30=\"\",\"\",Simulação!G30)","v":"*"},{"$f":"IF($C30=\"\",\"\",Simulação!H30)","v":20.835290549657774},{"$f":"IF($C30=\"\",\"\",Simulação!I30)","v":"*"},{"$f":"IF($C30=\"\",\"\",Simulação!J30)","v":29.174170424687219},{"$f":"IF($C30=\"\",\"\",Simulação!K30)","v":"*"},{"$f":"IF($C30=\"\",\"\",Simulação!L30)","v":27.346207123823838},{"$f":"IF($C30=\"\",\"\",Simulação!M30)","v":"*"},{"$f":"IF($C30=\"\",\"\",Simulação!N30)","v":23.916438238189443},{"$f":"IF($C30=\"\",\"\",Simulação!O30)","v":"*"},{"$f":"IF($C30=\"\",\"\",Simulação!P30)","v":23.355756120464115},{"$f":"IF($C30=\"\",\"\",Simulação!Q30)","v":"*"},{"$f":"IF($C30=\"\",\"\",Simulação!R30)","v":23.777491747655553},{"$f":"IF($C30=\"\",\"\",Simulação!S30)","v":"*"},{"$f":"IF($C30=\"\",\"\",Simulação!T30)","v":23.879122577266433},{"$f":"IF($C30=\"\",\"\",Simulação!U30)","v":"*"},{"$f":"IF($C30=\"\",\"\",Simulação!V30)","v":21.02694587381286},{"$f":"IF($C30=\"\",\"\",Simulação!W30)","v":"*"},{"$f":"IF($C30=\"\",\"\",Simulação!X30)","v":21.546437317556364},{"$f":"IF($C30=\"\",\"\",Simulação!Y30)","v":"*"},{"$f":"IF($C30=\"\",\"\",Simulação!Z30)","v":31.522638885779052},{"$f":"IF($C30=\"\",\"\",Simulação!AA30)","v":19.670000000000005},{"$f":"IF($C30=\"\",\"\",Simulação!AB30)","v":28.631555014283347},{"$f":"IF($C30=\"\",\"\",Simulação!AC30)","v":"-"},{"$f":"IF($C30=\"\",\"\",Simulação!AD30)","v":0},{"$f":"IF($C30=\"\",\"\",Simulação!AE30)","v":"-"},{"$f":"IF($C30=\"\",\"\",Simulação!AF30)","v":0},{"$f":"IF($C30=\"\",\"\",Simulação!AG30)","v":"-"},{"$f":"IF($C30=\"\",\"\",Simulação!AH30)","v":0},{"$f":"IF($C30=\"\",\"\",Simulação!AI30)","v":"-"},{"$f":"IF($C30=\"\",\"\",Simulação!AJ30)","v":0},{"$f":"IF($C30=\"\",\"\",Simulação!AK30)","v":"-"},{"$f":"IF($C30=\"\",\"\",Simulação!AL30)","v":0},{"$f":"IF($C30=\"\",\"\",Simulação!AM30)","v":"-"},{"$f":"IF($C30=\"\",\"\",Simulação!AN30)","v":0},{"$f":"IF($C30=\"\",\"\",Simulação!AO30)","v":"-"},{"$f":"IF($C30=\"\",\"\",Simulação!AP30)","v":0},{"$f":"IF($C30=\"\",\"\",Simulação!AQ30)","v":"-"},{"$f":"IF($C30=\"\",\"\",Simulação!AR30)","v":0}]
[null,24,{"$f":"IF(Chegadas!J32<=$C$5,Chegadas!J32,\"\")","v":20.080000000000005},{"$f":"IF($C31=\"\",\"\",Simulação!D31)","v":8.5464742276384822},{"$f":"IF($C31=\"\",\"\",Simulação!E31)","v":"*"},{"$f":"IF($C31=\"\",\"\",Simulação!F31)","v":20.912807008333619},{"$f":"IF($C31=\"\",\"\",Simulação!G31)","v":"*"},{"$f":"IF($C31=\"\",\"\",Simulação!H31)","v":20.835290549657774},{"$f":"IF($C31=\"\",\"\",Simulação!I31)","v":"*"},{"$f":"IF($C31=\"\",\"\",Simulação!J31)","v":29.174170424687219},{"$f":"IF($C31=\"\",\"\",Simulação!K31)","v":"*"},{"$f":"IF($C31=\"\",\"\",Simulação!L31)","v":27.346207123823838},{"$f":"IF($C31=\"\",\"\",Simulação!M31)","v":"*"},{"$f":"IF($C31=\"\",\"\",Simulação!N31)","v":23.916438238189443},{"$f":"IF($C31=\"\",\"\",Simulação!O31)","v":"*"},{"$f":"IF($C31=\"\",\"\",Simulação!P31)","v":23.355756120464115},{"$f":"IF($C31=\"\",\"\",Simulação!Q31)","v":"*"},{"$f":"IF($C31=\"\",\"\",Simulação!R31)","v":23.777491747655553},{"$f":"IF($C31=\"\",\"\",Simulação!S31)","v":"*"},{"$f":"IF($C31=\"\",\"\",Simulação!T31)","v":23.879122577266433},{"$f":"IF($C31=\"\",\"\",Simulação!U31)","v":"*"},{"$f":"IF($C31=\"\",\"\",Simulação!V31)","v":21.02694587381286},{"$f":"IF($C31=\"\",\"\",Simulação!W31)","v":"*"},{"$f":"IF($C31=\"\",\"\",Simulação!X31)","v":21.546437317556364},{"$f":"IF($C31=\"\",\"\",Simulação!Y31)","v":"*"},{"$f":"IF($C31=\"\",\"\",Simulação!Z31)","v":31.522638885779052},{"$f":"IF($C31=\"\",\"\",Simulação!AA31)","v":"*"},{"$f":"IF($C31=\"\",\"\",Simulação!AB31)","v":28.631555014283347},{"$f":"IF($C31=\"\",\"\",Simulação!AC31)","v":20.080000000000005},{"$f":"IF($C31=\"\",\"\",Simulação!AD31)","v":28.626474227638489},{"$f":"IF($C31=\"\",\"\",Simulação!AE31)","v":"-"},{"$f":"IF($C31=\"\",\"\",Simulação!AF31)","v":0},{"$f":"IF($C31=\"\",\"\",Simulação!AG31)","v":"-"},{"$f":"IF($C31=\"\",\"\",Simulação!AH31)","v":0},{"$f":"IF($C31=\"\",\"\",Simulação!AI31)","v":"-"},{"$f":"IF($C31=\"\",\"\",Simulação!AJ31)","v":0},{"$f":"IF($C31=\"\",\"\",Simulação!AK31)","v":"-"},{"$f":"IF($C31=\"\",\"\",Simulação!AL31)","v":0},{"$f":"IF($C31=\"\",\"\",Simulação!AM31)","v":"-"},{"$f":"IF($C31=\"\",\"\",Simulação!AN31)","v":0},{"$f":"IF($C31=\"\",\"\",Simulação!AO31)","v":"-"},{"$f":"IF($C31=\"\",\"\",Simulação!AP31)","v":0},{"$f":"IF($C31=\"\",\"\",Simulação!AQ31)","v":"-"},{"$f":"IF($C31=\"\",\"\",Simulação!AR31)","v":0}]
[null,25,{"$f":"IF(Chegadas!J33<=$C$5,Chegadas!J33,\"\")","v":20.450000000000006},{"$f":"IF($C32=\"\",\"\",Simulação!D32)","v":3.2409399032147004},{"$f":"IF($C32=\"\",\"\",Simulação!E32)","v":"*"},{"$f":"IF($C32=\"\",\"\",Simulação!F32)","v":20.912807008333619},{"$f":"IF($C32=\"\",\"\",Simulação!G32)","v":"*"},{"$f":"IF($C32=\"\",\"\",Simulação!H32)","v":20.835290549657774},{"$f":"IF($C32=\"\",\"\",Simulação!I32)","v":"*"},{"$f":"IF($C32=\"\",\"\",Simulação!J32)","v":29.174170424687219},{"$f":"IF($C32=\"\",\"\",Simulação!K32)","v":"*"},{"$f":"IF($C32=\"\",\"\",Simulação!L32)","v":27.346207123823838},{"$f":"IF($C32=\"\",\"\",Simulação!M32)","v":"*"},{"$f":"IF($C32=\"\",\"\",Simulação!N32)","v":23.916438238189443},{"$f":"IF($C32=\"\",\"\",Simulação!O32)","v":"*"},{"$f":"IF($C32=\"\",\"\",Simulação!P32)","v":23.355756120464115},{"$f":"IF($C32=\"\",\"\",Simulação!Q32)","v":"*"},{"$f":"IF($C32=\"\",\"\",Simulação!R32)","v":23.777491747655553},{"$f":"IF($C32=\"\",\"\",Simulação!S32)","v":"*"},{"$f":"IF($C32=\"\",\"\",Simulação!T32)","v":23.879122577266433},{"$f":"IF($C32=\"\",\"\",Simulação!U32)","v":"*"},{"$f":"IF($C32=\"\",\"\",Simulação!V32)","v":21.02694587381286},{"$f":"IF($C32=\"\",\"\",Simulação!W32)","v":"*"},{"$f":"IF($C32=\"\",\"\",Simulação!X32)","v":21.546437317556364},{"$f":"IF($C32=\"\",\"\",Simulação!Y32)","v":"*"},{"$f":"IF($C32=\"\",\"\",Simulação!Z32)","v":31.522638885779052},{"$f":"IF($C32=\"\",\"\",Simulação!AA32)","v":"*"},{"$f":"IF($C32=\"\",\"\",Simulação!AB32)","v":28.631555014283347},{"$f":"IF($C32=\"\",\"\",Simulação!AC32)","v":"*"},{"$f":"IF($C32=\"\",\"\",Simulação!AD32)","v":28.626474227638489},{"$f":"IF($C32=\"\",\"\",Simulação!AE32)","v":20.450000000000006},{"$f":"IF($C32=\"\",\"\",Simulação!AF32)","v":23.690939903214705},{"$f":"IF($C32=\"\",\"\",Simulação!AG32)","v":"-"},{"$f":"IF($C32=\"\",\"\",Simulação!AH32)","v":0},{"$f":"IF($C32=\"\",\"\",Simulação!AI32)","v":"-"},{"$f":"IF($C32=\"\",\"\",Simulação!AJ32)","v":0},{"$f":"IF($C32=\"\",\"\",Simulação!AK32)","v":"-"},{"$f":"IF($C32=\"\",\"\",Simulação!AL32)","v":0},{"$f":"IF($C32=\"\",\"\",Simulação!AM32)","v":"-"},{"$f":"IF($C32=\"\",\"\",Simulação!AN32)","v":0},{"$f":"IF($C32=\"\",\"\",Simulação!AO32)","v":"-"},{"$f":"IF($C32=\"\",\"\",Simulação!AP32)","v":0},{"$f":"IF($C32=\"\",\"\",Simulação!AQ32)","v":"-"},{"$f":"IF($C32=\"\",\"\",Simulação!AR32)","v":0}]
[null,26,{"$f":"IF(Chegadas!J34<=$C$5,Chegadas!J34,\"\")","v":21.550000000000008},{"$f":"IF($C33=\"\",\"\",Simulação!D33)","v":10.471468662453068},{"$f":"IF($C33=\"\",\"\",Simulação!E33)","v":21.550000000000008},{"$f":"IF($C33=\"\",\"\",Simulação!F33)","v":32.021468662453074},{"$f":"IF($C33=\"\",\"\",Simulação!G33)","v":"-"},{"$f":"IF($C33=\"\",\"\",Simulação!H33)","v":20.835290549657774},{"$f":"IF($C33=\"\",\"\",Simulação!I33)","v":"-"},{"$f":"IF($C33=\"\",\"\",Simulação!J33)","v":29.174170424687219},{"$f":"IF($C33=\"\",\"\",Simulação!K33)","v":"-"},{"$f":"IF($C33=\"\",\"\",Simulação!L33)","v":27.346207123823838},{"$f":"IF($C33=\"\",\"\",Simulação!M33)","v":"-"},{"$f":"IF($C33=\"\",\"\",Simulação!N33)","v":23.916438238189443},{"$f":"IF($C33=\"\",\"\",Simulação!O33)","v":"-"},{"$f":"IF($C33=\"\",\"\",Simulação!P33)","v":23.355756120464115},{"$f":"IF($C33=\"\",\"\",Simulação!Q33)","v":"-"},{"$f":"IF($C33=\"\",\"\",Simulação!R33)","v":23.777491747655553},{"$f":"IF($C33=\"\",\"\",Simulação!S33)","v":"-"},{"$f":"IF($C33=\"\",\"\",Simulação!T33)","v":23.879122577266433},{"$f":"IF($C33=\"\",\"\",Simulação!U33)","v":"-"},{"$f":"IF($C33=\"\",\"\",Simulação!V33)","v":21.02694587381286},{"$f":"IF($C33=\"\",\"\",Simulação!W33)","v":"-"},{"$f":"IF($C33=\"\",\"\",Simulação!X33)","v":21.546437317556364},{"$f":"IF($C33=\"\",\"\",Simulação!Y33)","v":"-"},{"$f":"IF($C33=\"\",\"\",Simulação!Z33)","v":31.522638885779052},{"$f":"IF($C33=\"\",\"\",Simulação!AA33)","v":"-"},{"$f":"IF($C33=\"\",\"\",Simulação!AB33)","v":28.631555014283347},{"$f":"IF($C33=\"\",\"\",Simulação!AC33)","v":"-"},{"$f":"IF($C33=\"\",\"\",Simulação!AD33)","v":28.626474227638489},{"$f":"IF($C33=\"\",\"\",Simulação!AE33)","v":"-"},{"$f":"IF($C33=\"\",\"\",Simulação!AF33)","v":23.690939903214705},{"$f":"IF($C33=\"\",\"\",Simulação!AG33)","v":"-"},{"$f":"IF($C33=\"\",\"\",Simulação!AH33)","v":0},{"$f":"IF($C33=\"\",\"\",Simulação!AI33)","v":"-"},{"$f":"IF($C33=\"\",\"\",Simulação!AJ33)","v":0},{"$f":"IF($C33=\"\",\"\",Simulação!AK33)","v":"-"},{"$f":"IF($C33=\"\",\"\",Simulação!AL33)","v":0},{"$f":"IF($C33=\"\",\"\",Simulação!AM33)","v":"-"},{"$f":"IF($C33=\"\",\"\",Simulação!AN33)","v":0},{"$f":"IF($C33=\"\",\"\",Simulação!AO33)","v":"-"},{"$f":"IF($C33=\"\",\"\",Simulação!AP33)","v":0},{"$f":"IF($C33=\"\",\"\",Simulação!AQ33)","v":"-"},{"$f":"IF($C33=\"\",\"\",Simulação!AR33)","v":0}]
[null,27,{"$f":"IF(Chegadas!J35<=$C$5,Chegadas!J35,\"\")","v":22.050000000000008},{"$f":"IF($C34=\"\",\"\",Simulação!D34)","v":8.4554891707169713},{"$f":"IF($C34=\"\",\"\",Simulação!E34)","v":"*"},{"$f":"IF($C34=\"\",\"\",Simulação!F34)","v":32.021468662453074},{"$f":"IF($C34=\"\",\"\",Simulação!G34)","v":22.050000000000008},{"$f":"IF($C34=\"\",\"\",Simulação!H34)","v":30.505489170716977},{"$f":"IF($C34=\"\",\"\",Simulação!I34)","v":"-"},{"$f":"IF($C34=\"\",\"\",Simulação!J34)","v":29.174170424687219},{"$f":"IF($C34=\"\",\"\",Simulação!K34)","v":"-"},{"$f":"IF($C34=\"\",\"\",Simulação!L34)","v":27.346207123823838},{"$f":"IF($C34=\"\",\"\",Simulação!M34)","v":"-"},{"$f":"IF($C34=\"\",\"\",Simulação!N34)","v":23.916438238189443},{"$f":"IF($C34=\"\",\"\",Simulação!O34)","v":"-"},{"$f":"IF($C34=\"\",\"\",Simulação!P34)","v":23.355756120464115},{"$f":"IF($C34=\"\",\"\",Simulação!Q34)","v":"-"},{"$f":"IF($C34=\"\",\"\",Simulação!R34)","v":23.777491747655553},{"$f":"IF($C34=\"\",\"\",Simulação!S34)","v":"-"},{"$f":"IF($C34=\"\",\"\",Simulação!T34)","v":23.879122577266433},{"$f":"IF($C34=\"\",\"\",Simulação!U34)","v":"-"},{"$f":"IF($C34=\"\",\"\",Simulação!V34)","v":21.02694587381286},{"$f":"IF($C34=\"\",\"\",Simulação!W34)","v":"-"},{"$f":"IF($C34=\"\",\"\",Simulação!X34)","v":21.546437317556364},{"$f":"IF($C34=\"\",\"\",Simulação!Y34)","v":"-"},{"$f":"IF($C34=\"\",\"\",Simulação!Z34)","v":31.522638885779052},{"$f":"IF($C34=\"\",\"\",Simulação!AA34)","v":"-"},{"$f":"IF($C34=\"\",\"\",Simulação!AB34)","v":28.631555014283347},{"$f":"IF($C34=\"\",\"\",Simulação!AC34)","v":"-"},{"$f":"IF($C34=\"\",\"\",Simulação!AD34)","v":28.626474227638489},{"$f":"IF($C34=\"\",\"\",Simulação!AE34)","v":"-"},{"$f":"IF($C34=\"\",\"\",Simulação!AF34)","v":23.690939903214705},{"$f":"IF($C34=\"\",\"\",Simulação!AG34)","v":"-"},{"$f":"IF($C34=\"\",\"\",Simulação!AH34)","v":0},{"$f":"IF($C34=\"\",\"\",Simulação!AI34)","v":"-"},{"$f":"IF($C34=\"\",\"\",Simulação!AJ34)","v":0},{"$f":"IF($C34=\"\",\"\",Simulação!AK34)","v":"-"},{"$f":"IF($C34=\"\",\"\",Simulação!AL34)","v":0},{"$f":"IF($C34=\"\",\"\",Simulação!AM34)","v":"-"},{"$f":"IF($C34=\"\",\"\",Simulação!AN34)","v":0},{"$f":"IF($C34=\"\",\"\",Simulação!AO34)","v":"-"},{"$f":"IF($C34=\"\",\"\",Simulação!AP34)","v":0},{"$f":"IF($C34=\"\",\"\",Simulação!AQ34)","v":"-"},{"$f":"IF($C34=\"\",\"\",Simulação!AR34)","v":0}]
[null,28,{"$f":"IF(Chegadas!J36<=$C$5,Chegadas!J36,\"\")","v":22.490000000000009},{"$f":"IF($C35=\"\",\"\",Simulação!D35)","v":5.7150784975143836},{"$f":"IF($C35=\"\",\"\",Simulação!E35)","v":"*"},{"$f":"IF($C35=\"\",\"\",Simulação!F35)","v":32.021468662453074},{"$f":"IF($C35=\"\",\"\",Simulação!G35)","v":"*"},{"$f":"IF($C35=\"\",\"\",Simulação!H35)","v":30.505489170716977},{"$f":"IF($C35=\"\",\"\",Simulação!I35)","v":"*"},{"$f":"IF($C35=\"\",\"\",Simulação!J35)","v":29.174170424687219},{"$f":"IF($C35=\"\",\"\",Simulação!K35)","v":"*"},{"$f":"IF($C35=\"\",\"\",Simulação!L35)","v":27.346207123823838},{"$f":"IF($C35=\"\",\"\",Simulação!M35)","v":"*"},{"$f":"IF($C35=\"\",\"\",Simulação!N35)","v":23.916438238189443},{"$f":"IF($C35=\"\",\"\",Simulação!O35)","v":"*"},{"$f":"IF($C35=\"\",\"\",Simulação!P35)","v":23.355756120464115},{"$f":"IF($C35=\"\",\"\",Simulação!Q35)","v":"*"},{"$f":"IF($C35=\"\",\"\",Simulação!R35)","v":23.777491747655553},{"$f":"IF($C35=\"\",\"\",Simulação!S35)","v":"*"},{"$f":"IF($C35=\"\",\"\",Simulação!T35)","v":23.879122577266433},{"$f":"IF($C35=\"\",\"\",Simulação!U35)","v":22.490000000000009},{"$f":"IF($C35=\"\",\"\",Simulação!V35)","v":28.205078497514393},{"$f":"IF($C35=\"\",\"\",Simulação!W35)","v":"-"},{"$f":"IF($C35=\"\",\"\",Simulação!X35)","v":21.546437317556364},{"$f":"IF($C35=\"\",\"\",Simulação!Y35)","v":"-"},{"$f":"IF($C35=\"\",\"\",Simulação!Z35)","v":31.522638885779052},{"$f":"IF($C35=\"\",\"\",Simulação!AA35)","v":"-"},{"$f":"IF($C35=\"\",\"\",Simulação!AB35)","v":28.631555014283347},{"$f":"IF($C35=\"\",\"\",Simulação!AC35)","v":"-"},{"$f":"IF($C35=\"\",\"\",Simulação!AD35)","v":28.626474227638489},{"$f":"IF($C35=\"\",\"\",Simulação!AE35)","v":"-"},{"$f":"IF($C35=\"\",\"\",Simulação!AF35)","v":23.690939903214705},{"$f":"IF($C35=\"\",\"\",Simulação!AG35)","v":"-"},{"$f":"IF($C35=\"\",\"\",Simulação!AH35)","v":0},{"$f":"IF($C35=\"\",\"\",Simulação!AI35)","v":"-"},{"$f":"IF($C35=\"\",\"\",Simulação!AJ35)","v":0},{"$f":"IF($C35=\"\",\"\",Simulação!AK35)","v":"-"},{"$f":"IF($C35=\"\",\"\",Simulação!AL35)","v":0},{"$f":"IF($C35=\"\",\"\",Simulação!AM35)","v":"-"},{"$f":"IF($C35=\"\",\"\",Simulação!AN35)","v":0},{"$f":"IF($C35=\"\",\"\",Simulação!AO35)","v":"-"},{"$f":"IF($C35=\"\",\"\",Simulação!AP35)","v":0},{"$f":"IF($C35=\"\",\"\",Simulação!AQ35)","v":"-"},{"$f":"IF($C35=\"\",\"\",Simulação!AR35)","v":0}]
[null,29,{"$f":"IF(Chegadas!J37<=$C$5,Chegadas!J37,\"\")","v":22.570000000000007},{"$f":"IF($C36=\"\",\"\",Simulação!D36)","v":5.0552557401551645},{"$f":"IF($C36=\"\",\"\",Simulação!E36)","v":"*"},{"$f":"IF($C36=\"\",\"\",Simulação!F36)","v":32.021468662453074},{"$f":"IF($C36=\"\",\"\",Simulação!G36)","v":"*"},{"$f":"IF($C36=\"\",\"\",Simulação!H36)","v":30.505489170716977},{"$f":"IF($C36=\"\",\"\",Simulação!I36)","v":"*"},{"$f":"IF($C36=\"\",\"\",Simulação!J36)","v":29.174170424687219},{"$f":"IF($C36=\"\",\"\",Simulação!K36)","v":"*"},{"$f":"IF($C36=\"\",\"\",Simulação!L36)","v":27.346207123823838},{"$f":"IF($C36=\"\",\"\",Simulação!M36)","v":"*"},{"$f":"IF($C36=\"\",\"\",Simulação!N36)","v":23.916438238189443},{"$f":"IF($C36=\"\",\"\",Simulação!O36)","v":"*"},{"$f":"IF($C36=\"\",\"\",Simulação!P36)","v":23.355756120464115},{"$f":"IF($C36=\"\",\"\",Simulação!Q36)","v":"*"},{"$f":"IF($C36=\"\",\"\",Simulação!R36)","v":23.777491747655553},{"$f":"IF($C36=\"\",\"\",Simulação!S36)","v":"*"},{"$f":"IF($C36=\"\",\"\",Simulação!T36)","v":23.879122577266433},{"$f":"IF($C36=\"\",\"\",Simulação!U36)","v":"*"},{"$f":"IF($C36=\"\",\"\",Simulação!V36)","v":28.205078497514393},{"$f":"IF($C36=\"\",\"\",Simulação!W36)","v":22.570000000000007},{"$f":"IF($C36=\"\",\"\",Simulação!X36)","v":27.625255740155172},{"$f":"IF($C36=\"\",\"\",Simulação!Y36)","v":"-"},{"$f":"IF($C36=\"\",\"\",Simulação!Z36)","v":31.522638885779052},{"$f":"IF($C36=\"\",\"\",Simulação!AA36)","v":"-"},{"$f":"IF($C36=\"\",\"\",Simulação!AB36)","v":28.631555014283347},{"$f":"IF($C36=\"\",\"\",Simulação!AC36)","v":"-"},{"$f":"IF($C36=\"\",\"\",Simulação!AD36)","v":28.626474227638489},{"$f":"IF($C36=\"\",\"\",Simulação!AE36)","v":"-"},{"$f":"IF($C36=\"\",\"\",Simulação!AF36)","v":23.690939903214705},{"$f":"IF($C36=\"\",\"\",Simulação!AG36)","v":"-"},{"$f":"IF($C36=\"\",\"\",Simulação!AH36)","v":0},{"$f":"IF($C36=\"\",\"\",Simulação!AI36)","v":"-"},{"$f":"IF($C36=\"\",\"\",Simulação!AJ36)","v":0},{"$f":"IF($C36=\"\",\"\",Simulação!AK36)","v":"-"},{"$f":"IF($C36=\"\",\"\",Simulação!AL36)","v":0},{"$f":"IF($C36=\"\",\"\",Simulação!AM36)","v":"-"},{"$f":"IF($C36=\"\",\"\",Simulação!AN36)","v":0},{"$f":"IF($C36=\"\",\"\",Simulação!AO36)","v":"-"},{"$f":"IF($C36=\"\",\"\",Simulação!AP36)","v":0},{"$f":"IF($C36=\"\",\"\",Simulação!AQ36)","v":"-"},{"$f":"IF($C36=\"\",\"\",Simulação!AR36)","v":0}]
[null,30,{"$f":"IF(Chegadas!J38<=$C$5,Chegadas!J38,\"\")","v":23.020000000000007},{"$f":"IF($C37=\"\",\"\",Simulação!D37)","v":6.2160238290007861},{"$f":"IF($C37=\"\",\"\",Simulação!E37)","v":"*"},{"$f":"IF($C37=\"\",\"\",Simulação!F37)","v":32.021468662453074},{"$f":"IF($C37=\"\",\"\",Simulação!G37)","v":"*"},{"$f":"IF($C37=\"\",\"\",Simulação!H37)","v":30.505489170716977},{"$f":"IF($C37=\"\",\"\",Simulação!I37)","v":"*"},{"$f":"IF($C37=\"\",\"\",Simulação!J37)","v":29.174170424687219},{"$f":"IF($C37=\"\",\"\",Simulação!K37)","v":"*"},{"$f":"IF($C37=\"\",\"\",Simulação!L37)","v":27.346207123823838},{"$f":"IF($C37=\"\",\"\",Simulação!M37)","v":"*"},{"$f":"IF($C37=\"\",\"\",Simulação!N37)","v":23.916438238189443},{"$f":"IF($C37=\"\",\"\",Simulação!O37)","v":"*"},{"$f":"IF($C37=\"\",\"\",Simulação!P37)","v":23.355756120464115},{"$f":"IF($C37=\"\",\"\",Simulação!Q37)","v":"*"},{"$f":"IF($C37=\"\",\"\",Simulação!R37)","v":23.777491747655553},{"$f":"IF($C37=\"\",\"\",Simulação!S37)","v":"*"},{"$f":"IF($C37=\"\",\"\",Simulação!T37)","v":23.879122577266433},{"$f":"IF($C37=\"\",\"\",Simulação!U37)","v":"*"},{"$f":"IF($C37=\"\",\"\",Simulação!V37)","v":28.205078497514393},{"$f":"IF($C37=\"\",\"\",Simulação!W37)","v":"*"},{"$f":"IF($C37=\"\",\"\",Simulação!X37)","v":27.625255740155172},{"$f":"IF($C37=\"\",\"\",Simulação!Y37)","v":"*"},{"$f":"IF($C37=\"\",\"\",Simulação!Z37)","v":31.522638885779052},{"$f":"IF($C37=\"\",\"\",Simulação!AA37)","v":"*"},{"$f":"IF($C37=\"\",\"\",Simulação!AB37)","v":28.631555014283347},{"$f":"IF($C37=\"\",\"\",Simulação!AC37)","v":"*"},{"$f":"IF($C37=\"\",\"\",Simulação!AD37)","v":28.626474227638489},{"$f":"IF($C37=\"\",\"\",Simulação!AE37)","v":"*"},{"$f":"IF($C37=\"\",\"\",Simulação!AF37)","v":23.690939903214705},{"$f":"IF($C37=\"\",\"\",Simulação!AG37)","v":23.020000000000007},{"$f":"IF($C37=\"\",\"\",Simulação!AH37)","v":29.236023829000793},{"$f":"IF($C37=\"\",\"\",Simulação!AI37)","v":"-"},{"$f":"IF($C37=\"\",\"\",Simulação!AJ37)","v":0},{"$f":"IF($C37=\"\",\"\",Simulação!AK37)","v":"-"},{"$f":"IF($C37=\"\",\"\",Simulação!AL37)","v":0},{"$f":"IF($C37=\"\",\"\",Simulação!AM37)","v":"-"},{"$f":"IF($C37=\"\",\"\",Simulação!AN37)","v":0},{"$f":"IF($C37=\"\",\"\",Simulação!AO37)","v":"-"},{"$f":"IF($C37=\"\",\"\",Simulação!AP37)","v":0},{"$f":"IF($C37=\"\",\"\",Simulação!AQ37)","v":"-"},{"$f":"IF($C37=\"\",\"\",Simulação!AR37)","v":0}]
[null,31,{"$f":"IF(Chegadas!J39<=$C$5,Chegadas!J39,\"\")","v":23.130000000000006},{"$f":"IF($C38=\"\",\"\",Simulação!D38)","v":9.9151253937403361},{"$f":"IF($C38=\"\",\"\",Simulação!E38)","v":"*"},{"$f":"IF($C38=\"\",\"\",Simulação!F38)","v":32.021468662453074},{"$f":"IF($C38=\"\",\"\",Simulação!G38)","v":"*"},{"$f":"IF($C38=\"\",\"\",Simulação!H38)","v":30.505489170716977},{"$f":"IF($C38=\"\",\"\",Simulação!I38)","v":"*"},{"$f":"IF($C38=\"\",\"\",Simulação!J38)","v":29.174170424687219},{"$f":"IF($C38=\"\",\"\",Simulação!K38)","v":"*"},{"$f":"IF($C38=\"\",\"\",Simulação!L38)","v":27.346207123823838},{"$f":"IF($C38=\"\",\"\",Simulação!M38)","v":"*"},{"$f":"IF($C38=\"\",\"\",Simulação!N38)","v":23.916438238189443},{"$f":"IF($C38=\"\",\"\",Simulação!O38)","v":"*"},{"$f":"IF($C38=\"\",\"\",Simulação!P38)","v":23.355756120464115},{"$f":"IF($C38=\"\",\"\",Simulação!Q38)","v":"*"},{"$f":"IF($C38=\"\",\"\",Simulação!R38)","v":23.777491747655553},{"$f":"IF($C38=\"\",\"\",Simulação!S38)","v":"*"},{"$f":"IF($C38=\"\",\"\",Simulação!T38)","v":23.879122577266433},{"$f":"IF($C38=\"\",\"\",Simulação!U38)","v":"*"},{"$f":"IF($C38=\"\",\"\",Simulação!V38)","v":28.205078497514393},{"$f":"IF($C38=\"\",\"\",Simulação!W38)","v":"*"},{"$f":"IF($C38=\"\",\"\",Simulação!X38)","v":27.625255740155172},{"$f":"IF($C38=\"\",\"\",Simulação!Y38)","v":"*"},{"$f":"IF($C38=\"\",\"\",Simulação!Z38)","v":31.522638885779052},{"$f":"IF($C38=\"\",\"\",Simulação!AA38)","v":"*"},{"$f":"IF($C38=\"\",\"\",Simulação!AB38)","v":28.631555014283347},{"$f":"IF($C38=\"\",\"\",Simulação!AC38)","v":"*"},{"$f":"IF($C38=\"\",\"\",Simulação!AD38)","v":28.626474227638489},{"$f":"IF($C38=\"\",\"\",Simulação!AE38)","v":"*"},{"$f":"IF($C38=\"\",\"\",Simulação!AF38)","v":23.690939903214705},{"$f":"IF($C38=\"\",\"\",Simulação!AG38)","v":"*"},{"$f":"IF($C38=\"\",\"\",Simulação!AH38)","v":29.236023829000793},{"$f":"IF($C38=\"\",\"\",Simulação!AI38)","v":23.130000000000006},{"$f":"IF($C38=\"\",\"\",Simulação!AJ38)","v":33.045125393740342},{"$f":"IF($C38=\"\",\"\",Simulação!AK38)","v":"-"},{"$f":"IF($C38=\"\",\"\",Simulação!AL38)","v":0},{"$f":"IF($C38=\"\",\"\",Simulação!AM38)","v":"-"},{"$f":"IF($C38=\"\",\"\",Simulação!AN38)","v":0},{"$f":"IF($C38=\"\",\"\",Simulação!AO38)","v":"-"},{"$f":"IF($C38=\"\",\"\",Simulação!AP38)","v":0},{"$f":"IF($C38=\"\",\"\",Simulação!AQ38)","v":"-"},{"$f":"IF($C38=\"\",\"\",Simulação!AR38)","v":0}]
[null,32,{"$f":"IF(Chegadas!J40<=$C$5,Chegadas!J40,\"\")","v":23.45},{"$f":"IF($C39=\"\",\"\",Simulação!D39)","v":1.2347129657892832},{"$f":"IF($C39=\"\",\"\",Simulação!E39)","v":"*"},{"$f":"IF($C39=\"\",\"\",Simulação!F39)","v":32.021468662453074},{"$f":"IF($C39=\"\",\"\",Simulação!G39)","v":"*"},{"$f":"IF($C39=\"\",\"\",Simulação!H39)","v":30.505489170716977},{"$f":"IF($C39=\"\",\"\",Simulação!I39)","v":"*"},{"$f":"IF($C39=\"\",\"\",Simulação!J39)","v":29.174170424687219},{"$f":"IF($C39=\"\",\"\",Simulação!K39)","v":"*"},{"$f":"IF($C39=\"\",\"\",Simulação!L39)","v":27.346207123823838},{"$f":"IF($C39=\"\",\"\",Simulação!M39)","v":"*"},{"$f":"IF($C39=\"\",\"\",Simulação!N39)","v":23.916438238189443},{"$f":"IF($C39=\"\",\"\",Simulação!O39)","v":23.45},{"$f":"IF($C39=\"\",\"\",Simulação!P39)","v":24.684712965789281},{"$f":"IF($C39=\"\",\"\",Simulação!Q39)","v":"-"},{"$f":"IF($C39=\"\",\"\",Simulação!R39)","v":23.777491747655553},{"$f":"IF($C39=\"\",\"\",Simulação!S39)","v":"-"},{"$f":"IF($C39=\"\",\"\",Simulação!T39)","v":23.879122577266433},{"$f":"IF($C39=\"\",\"\",Simulação!U39)","v":"-"},{"$f":"IF($C39=\"\",\"\",Simulação!V39)","v":28.205078497514393},{"$f":"IF($C39=\"\",\"\",Simulação!W39)","v":"-"},{"$f":"IF($C39=\"\",\"\",Simulação!X39)","v":27.625255740155172},{"$f":"IF($C39=\"\",\"\",Simulação!Y39)","v":"-"},{"$f":"IF($C39=\"\",\"\",Simulação!Z39)","v":31.522638885779052},{"$f":"IF($C39=\"\",\"\",Simulação!AA39)","v":"-"},{"$f":"IF($C39=\"\",\"\",Simulação!AB39)","v":28.631555014283347},{"$f":"IF($C39=\"\",\"\",Simulação!AC39)","v":"-"},{"$f":"IF($C39=\"\",\"\",Simulação!AD39)","v":28.626474227638489},{"$f":"IF($C39=\"\",\"\",Simulação!AE39)","v":"-"},{"$f":"IF($C39=\"\",\"\",Simulação!AF39)","v":23.690939903214705},{"$f":"IF($C39=\"\",\"\",Simulação!AG39)","v":"-"},{"$f":"IF($C39=\"\",\"\",Simulação!AH39)","v":29.236023829000793},{"$f":"IF($C39=\"\",\"\",Simulação!AI39)","v":"-"},{"$f":"IF($C39=\"\",\"\",Simulação!AJ39)","v":33.045125393740342},{"$f":"IF($C39=\"\",\"\",Simulação!AK39)","v":"-"},{"$f":"IF($C39=\"\",\"\",Simulação!AL39)","v":0},{"$f":"IF($C39=\"\",\"\",Simulação!AM39)","v":"-"},{"$f":"IF($C39=\"\",\"\",Simulação!AN39)","v":0},{"$f":"IF($C39=\"\",\"\",Simulação!AO39)","v":"-"},{"$f":"IF($C39=\"\",\"\",Simulação!AP39)","v":0},{"$f":"IF($C39=\"\",\"\",Simulação!AQ39)","v":"-"},{"$f":"IF($C39=\"\",\"\",Simulação!AR39)","v":0}]
[null,33,{"$f":"IF(Chegadas!J41<=$C$5,Chegadas!J41,\"\")","v":23.450000000000006},{"$f":"IF($C40=\"\",\"\",Simulação!D40)","v":8.577218815596412},{"$f":"IF($C40=\"\",\"\",Simulação!E40)","v":"*"},{"$f":"IF($C40=\"\",\"\",Simulação!F40)","v":32.021468662453074},{"$f":"IF($C40=\"\",\"\",Simulação!G40)","v":"*"},{"$f":"IF($C40=\"\",\"\",Simulação!H40)","v":30.505489170716977},{"$f":"IF($C40=\"\",\"\",Simulação!I40)","v":"*"},{"$f":"IF($C40=\"\",\"\",Simulação!J40)","v":29.174170424687219},{"$f":"IF($C40=\"\",\"\",Simulação!K40)","v":"*"},{"$f":"IF($C40=\"\",\"\",Simulação!L40)","v":27.346207123823838},{"$f":"IF($C40=\"\",\"\",Simulação!M40)","v":"*"},{"$f":"IF($C40=\"\",\"\",Simulação!N40)","v":23.916438238189443},{"$f":"IF($C40=\"\",\"\",Simulação!O40)","v":"*"},{"$f":"IF($C40=\"\",\"\",Simulação!P40)","v":24.684712965789281},{"$f":"IF($C40=\"\",\"\",Simulação!Q40)","v":"*"},{"$f":"IF($C40=\"\",\"\",Simulação!R40)","v":23.777491747655553},{"$f":"IF($C40=\"\",\"\",Simulação!S40)","v":"*"},{"$f":"IF($C40=\"\",\"\",Simulação!T40)","v":23.879122577266433},{"$f":"IF($C40=\"\",\"\",Simulação!U40)","v":"*"},{"$f":"IF($C40=\"\",\"\",Simulação!V40)","v":28.205078497514393},{"$f":"IF($C40=\"\",\"\",Simulação!W40)","v":"*"},{"$f":"IF($C40=\"\",\"\",Simulação!X40)","v":27.625255740155172},{"$f":"IF($C40=\"\",\"\",Simulação!Y40)","v":"*"},{"$f":"IF($C40=\"\",\"\",Simulação!Z40)","v":31.522638885779052},{"$f":"IF($C40=\"\",\"\",Simulação!AA40)","v":"*"},{"$f":"IF($C40=\"\",\"\",Simulação!AB40)","v":28.631555014283347},{"$f":"IF($C40=\"\",\"\",Simulação!AC40)","v":"*"},{"$f":"IF($C40=\"\",\"\",Simulação!AD40)","v":28.626474227638489},{"$f":"IF($C40=\"\",\"\",Simulação!AE40)","v":"*"},{"$f":"IF($C40=\"\",\"\",Simulação!AF40)","v":23.690939903214705},{"$f":"IF($C40=\"\",\"\",Simulação!AG40)","v":"*"},{"$f":"IF($C40=\"\",\"\",Simulação!AH40)","v":29.236023829000793},{"$f":"IF($C40=\"\",\"\",Simulação!AI40)","v":"*"},{"$f":"IF($C40=\"\",\"\",Simulação!AJ40)","v":33.045125393740342},{"$f":"IF($C40=\"\",\"\",Simulação!AK40)","v":23.450000000000006},{"$f":"IF($C40=\"\",\"\",Simulação!AL40)","v":32.02721881559642},{"$f":"IF($C40=\"\",\"\",Simulação!AM40)","v":"-"},{"$f":"IF($C40=\"\",\"\",Simulação!AN40)","v":0},{"$f":"IF($C40=\"\",\"\",Simulação!AO40)","v":"-"},{"$f":"IF($C40=\"\",\"\",Simulação!AP40)","v":0},{"$f":"IF($C40=\"\",\"\",Simulação!AQ40)","v":"-"},{"$f":"IF($C40=\"\",\"\",Simulação!AR40)","v":0}]
[null,34,{"$f":"IF(Chegadas!J42<=$C$5,Chegadas!J42,\"\")","v":23.870000000000008},{"$f":"IF($C41=\"\",\"\",Simulação!D41)","v":7.5138815036099018},{"$f":"IF($C41=\"\",\"\",Simulação!E41)","v":"*"},{"$f":"IF($C41=\"\",\"\",Simulação!F41)","v":32.021468662453074},{"$f":"IF($C41=\"\",\"\",Simulação!G41)","v":"*"},{"$f":"IF($C41=\"\",\"\",Simulação!H41)","v":30.505489170716977},{"$f":"IF($C41=\"\",\"\",Simulação!I41)","v":"*"},{"$f":"IF($C41=\"\",\"\",Simulação!J41)","v":29.174170424687219},{"$f":"IF($C41=\"\",\"\",Simulação!K41)","v":"*"},{"$f":"IF($C41=\"\",\"\",Simulação!L41)","v":27.346207123823838},{"$f":"IF($C41=\"\",\"\",Simulação!M41)","v":"*"},{"$f":"IF($C41=\"\",\"\",Simulação!N41)","v":23.916438238189443},{"$f":"IF($C41=\"\",\"\",Simulação!O41)","v":"*"},{"$f":"IF($C41=\"\",\"\",Simulação!P41)","v":24.684712965789281},{"$f":"IF($C41=\"\",\"\",Simulação!Q41)","v":23.870000000000008},{"$f":"IF($C41=\"\",\"\",Simulação!R41)","v":31.38388150360991},{"$f":"IF($C41=\"\",\"\",Simulação!S41)","v":"-"},{"$f":"IF($C41=\"\",\"\",Simulação!T41)","v":23.879122577266433},{"$f":"IF($C41=\"\",\"\",Simulação!U41)","v":"-"},{"$f":"IF($C41=\"\",\"\",Simulação!V41)","v":28.205078497514393},{"$f":"IF($C41=\"\",\"\",Simulação!W41)","v":"-"},{"$f":"IF($C41=\"\",\"\",Simulação!X41)","v":27.625255740155172},{"$f":"IF($C41=\"\",\"\",Simulação!Y41)","v":"-"},{"$f":"IF($C41=\"\",\"\",Simulação!Z41)","v":31.522638885779052},{"$f":"IF($C41=\"\",\"\",Simulação!AA41)","v":"-"},{"$f":"IF($C41=\"\",\"\",Simulação!AB41)","v":28.631555014283347},{"$f":"IF($C41=\"\",\"\",Simulação!AC41)","v":"-"},{"$f":"IF($C41=\"\",\"\",Simulação!AD41)","v":28.626474227638489},{"$f":"IF($C41=\"\",\"\",Simulação!AE41)","v":"-"},{"$f":"IF($C41=\"\",\"\",Simulação!AF41)","v":23.690939903214705},{"$f":"IF($C41=\"\",\"\",Simulação!AG41)","v":"-"},{"$f":"IF($C41=\"\",\"\",Simulação!AH41)","v":29.236023829000793},{"$f":"IF($C41=\"\",\"\",Simulação!AI41)","v":"-"},{"$f":"IF($C41=\"\",\"\",Simulação!AJ41)","v":33.045125393740342},{"$f":"IF($C41=\"\",\"\",Simulação!AK41)","v":"-"},{"$f":"IF($C41=\"\",\"\",Simulação!AL41)","v":32.02721881559642},{"$f":"IF($C41=\"\",\"\",Simulação!AM41)","v":"-"},{"$f":"IF($C41=\"\",\"\",Simulação!AN41)","v":0},{"$f":"IF($C41=\"\",\"\",Simulação!AO41)","v":"-"},{"$f":"IF($C41=\"\",\"\",Simulação!AP41)","v":0},{"$f":"IF($C41=\"\",\"\",Simulação!AQ41)","v":"-"},{"$f":"IF($C41=\"\",\"\",Simulação!AR41)","v":0}]
[null,35,{"$f":"IF(Chegadas!J43<=$C$5,Chegadas!J43,\"\")","v":24.080000000000009},{"$f":"IF($C42=\"\",\"\",Simulação!D42)","v":8.3231208557750094},{"$f":"IF($C42=\"\",\"\",Simulação!E42)","v":"*"},{"$f":"IF($C42=\"\",\"\",Simulação!F42)","v":32.021468662453074},{"$f":"IF($C42=\"\",\"\",Simulação!G42)","v":"*"},{"$f":"IF($C42=\"\",\"\",Simulação!H42)","v":30.505489170716977},{"$f":"IF($C42=\"\",\"\",Simulação!I42)","v":"*"},{"$f":"IF($C42=\"\",\"\",Simulação!J42)","v":29.174170424687219},{"$f":"IF($C42=\"\",\"\",Simulação!K42)","v":"*"},{"$f":"IF($C42=\"\",\"\",Simulação!L42)","v":27.346207123823838},{"$f":"IF($C42=\"\",\"\",Simulação!M42)","v":24.080000000000009},{"$f":"IF($C42=\"\",\"\",Simulação!N42)","v":32.403120855775015},{"$f":"IF($C42=\"\",\"\",Simulação!O42)","v":"-"},{"$f":"IF($C42=\"\",\"\",Simulação!P42)","v":24.684712965789281},{"$f":"IF($C42=\"\",\"\",Simulação!Q42)","v":"-"},{"$f":"IF($C42=\"\",\"\",Simulação!R42)","v":31.38388150360991},{"$f":"IF($C42=\"\",\"\",Simulação!S42)","v":"-"},{"$f":"IF($C42=\"\",\"\",Simulação!T42)","v":23.879122577266433},{"$f":"IF($C42=\"\",\"\",Simulação!U42)","v":"-"},{"$f":"IF($C42=\"\",\"\",Simulação!V42)","v":28.205078497514393},{"$f":"IF($C42=\"\",\"\",Simulação!W42)","v":"-"},{"$f":"IF($C42=\"\",\"\",Simulação!X42)","v":27.625255740155172},{"$f":"IF($C42=\"\",\"\",Simulação!Y42)","v":"-"},{"$f":"IF($C42=\"\",\"\",Simulação!Z42)","v":31.522638885779052},{"$f":"IF($C42=\"\",\"\",Simulação!AA42)","v":"-"},{"$f":"IF($C42=\"\",\"\",Simulação!AB42)","v":28.631555014283347},{"$f":"IF($C42=\"\",\"\",Simulação!AC42)","v":"-"},{"$f":"IF($C42=\"\",\"\",Simulação!AD42)","v":28.626474227638489},{"$f":"IF($C42=\"\",\"\",Simulação!AE42)","v":"-"},{"$f":"IF($C42=\"\",\"\",Simulação!AF42)","v":23.690939903214705},{"$f":"IF($C42=\"\",\"\",Simulação!AG42)","v":"-"},{"$f":"IF($C42=\"\",\"\",Simulação!AH42)","v":29.236023829000793},{"$f":"IF($C42=\"\",\"\",Simulação!AI42)","v":"-"},{"$f":"IF($C42=\"\",\"\",Simulação!AJ42)","v":33.045125393740342},{"$f":"IF($C42=\"\",\"\",Simulação!AK42)","v":"-"},{"$f":"IF($C42=\"\",\"\",Simulação!AL42)","v":32.02721881559642},{"$f":"IF($C42=\"\",\"\",Simulação!AM42)","v":"-"},{"$f":"IF($C42=\"\",\"\",Simulação!AN42)","v":0},{"$f":"IF($C42=\"\",\"\",Simulação!AO42)","v":"-"},{"$f":"IF($C42=\"\",\"\",Simulação!AP42)","v":0},{"$f":"IF($C42=\"\",\"\",Simulação!AQ42)","v":"-"},{"$f":"IF($C42=\"\",\"\",Simulação!AR42)","v":0}]
[null,36,{"$f":"IF(Chegadas!J44<=$C$5,Chegadas!J44,\"\")","v":25.099999999999998},{"$f":"IF($C43=\"\",\"\",Simulação!D43)","v":1.5643885486928681},{"$f":"IF($C43=\"\",\"\",Simulação!E43)","v":"*"},{"$f":"IF($C43=\"\",\"\",Simulação!F43)","v":32.021468662453074},{"$f":"IF($C43=\"\",\"\",Simulação!G43)","v":"*"},{"$f":"IF($C43=\"\",\"\",Simulação!H43)","v":30.505489170716977},{"$f":"IF($C43=\"\",\"\",Simulação!I43)","v":"*"},{"$f":"IF($C43=\"\",\"\",Simulação!J43)","v":29.174170424687219},{"$f":"IF($C43=\"\",\"\",Simulação!K43)","v":"*"},{"$f":"IF($C43=\"\",\"\",Simulação!L43)","v":27.346207123823838},{"$f":"IF($C43=\"\",\"\",Simulação!M43)","v":"*"},{"$f":"IF($C43=\"\",\"\",Simulação!N43)","v":32.403120855775015},{"$f":"IF($C43=\"\",\"\",Simulação!O43)","v":25.099999999999998},{"$f":"IF($C43=\"\",\"\",Simulação!P43)","v":26.664388548692866},{"$f":"IF($C43=\"\",\"\",Simulação!Q43)","v":"-"},{"$f":"IF($C43=\"\",\"\",Simulação!R43)","v":31.38388150360991},{"$f":"IF($C43=\"\",\"\",Simulação!S43)","v":"-"},{"$f":"IF($C43=\"\",\"\",Simulação!T43)","v":23.879122577266433},{"$f":"IF($C43=\"\",\"\",Simulação!U43)","v":"-"},{"$f":"IF($C43=\"\",\"\",Simulação!V43)","v":28.205078497514393},{"$f":"IF($C43=\"\",\"\",Simulação!W43)","v":"-"},{"$f":"IF($C43=\"\",\"\",Simulação!X43)","v":27.625255740155172},{"$f":"IF($C43=\"\",\"\",Simulação!Y43)","v":"-"},{"$f":"IF($C43=\"\",\"\",Simulação!Z43)","v":31.522638885779052},{"$f":"IF($C43=\"\",\"\",Simulação!AA43)","v":"-"},{"$f":"IF($C43=\"\",\"\",Simulação!AB43)","v":28.631555014283347},{"$f":"IF($C43=\"\",\"\",Simulação!AC43)","v":"-"},{"$f":"IF($C43=\"\",\"\",Simulação!AD43)","v":28.626474227638489},{"$f":"IF($C43=\"\",\"\",Simulação!AE43)","v":"-"},{"$f":"IF($C43=\"\",\"\",Simulação!AF43)","v":23.690939903214705},{"$f":"IF($C43=\"\",\"\",Simulação!AG43)","v":"-"},{"$f":"IF($C43=\"\",\"\",Simulação!AH43)","v":29.236023829000793},{"$f":"IF($C43=\"\",\"\",Simulação!AI43)","v":"-"},{"$f":"IF($C43=\"\",\"\",Simulação!AJ43)","v":33.045125393740342},{"$f":"IF($C43=\"\",\"\",Simulação!AK43)","v":"-"},{"$f":"IF($C43=\"\",\"\",Simulação!AL43)","v":32.02721881559642},{"$f":"IF($C43=\"\",\"\",Simulação!AM43)","v":"-"},{"$f":"IF($C43=\"\",\"\",Simulação!AN43)","v":0},{"$f":"IF($C43=\"\",\"\",Simulação!AO43)","v":"-"},{"$f":"IF($C43=\"\",\"\",Simulação!AP43)","v":0},{"$f":"IF($C43=\"\",\"\",Simulação!AQ43)","v":"-"},{"$f":"IF($C43=\"\",\"\",Simulação!AR43)","v":0}]
[null,37,{"$f":"IF(Chegadas!J45<=$C$5,Chegadas!J45,\"\")","v":25.440000000000008},{"$f":"IF($C44=\"\",\"\",Simulação!D44)","v":11.009394726654355},{"$f":"IF($C44=\"\",\"\",Simulação!E44)","v":"*"},{"$f":"IF($C44=\"\",\"\",Simulação!F44)","v":32.021468662453074},{"$f":"IF($C44=\"\",\"\",Simulação!G44)","v":"*"},{"$f":"IF($C44=\"\",\"\",Simulação!H44)","v":30.505489170716977},{"$f":"IF($C44=\"\",\"\",Simulação!I44)","v":"*"},{"$f":"IF($C44=\"\",\"\",Simulação!J44)","v":29.174170424687219},{"$f":"IF($C44=\"\",\"\",Simulação!K44)","v":"*"},{"$f":"IF($C44=\"\",\"\",Simulação!L44)","v":27.346207123823838},{"$f":"IF($C44=\"\",\"\",Simulação!M44)","v":"*"},{"$f":"IF($C44=\"\",\"\",Simulação!N44)","v":32.403120855775015},{"$f":"IF($C44=\"\",\"\",Simulação!O44)","v":"*"},{"$f":"IF($C44=\"\",\"\",Simulação!P44)","v":26.664388548692866},{"$f":"IF($C44=\"\",\"\",Simulação!Q44)","v":"*"},{"$f":"IF($C44=\"\",\"\",Simulação!R44)","v":31.38388150360991},{"$f":"IF($C44=\"\",\"\",Simulação!S44)","v":25.440000000000008},{"$f":"IF($C44=\"\",\"\",Simulação!T44)","v":36.449394726654361},{"$f":"IF($C44=\"\",\"\",Simulação!U44)","v":"-"},{"$f":"IF($C44=\"\",\"\",Simulação!V44)","v":28.205078497514393},{"$f":"IF($C44=\"\",\"\",Simulação!W44)","v":"-"},{"$f":"IF($C44=\"\",\"\",Simulação!X44)","v":27.625255740155172},{"$f":"IF($C44=\"\",\"\",Simulação!Y44)","v":"-"},{"$f":"IF($C44=\"\",\"\",Simulação!Z44)","v":31.522638885779052},{"$f":"IF($C44=\"\",\"\",Simulação!AA44)","v":"-"},{"$f":"IF($C44=\"\",\"\",Simulação!AB44)","v":28.631555014283347},{"$f":"IF($C44=\"\",\"\",Simulação!AC44)","v":"-"},{"$f":"IF($C44=\"\",\"\",Simulação!AD44)","v":28.626474227638489},{"$f":"IF($C44=\"\",\"\",Simulação!AE44)","v":"-"},{"$f":"IF($C44=\"\",\"\",Simulação!AF44)","v":23.690939903214705},{"$f":"IF($C44=\"\",\"\",Simulação!AG44)","v":"-"},{"$f":"IF($C44=\"\",\"\",Simulação!AH44)","v":29.236023829000793},{"$f":"IF($C44=\"\",\"\",Simulação!AI44)","v":"-"},{"$f":"IF($C44=\"\",\"\",Simulação!AJ44)","v":33.045125393740342},{"$f":"IF($C44=\"\",\"\",Simulação!AK44)","v":"-"},{"$f":"IF($C44=\"\",\"\",Simulação!AL44)","v":32.02721881559642},{"$f":"IF($C44=\"\",\"\",Simulação!AM44)","v":"-"},{"$f":"IF($C44=\"\",\"\",Simulação!AN44)","v":0},{"$f":"IF($C44=\"\",\"\",Simulação!AO44)","v":"-"},{"$f":"IF($C44=\"\",\"\",Simulação!AP44)","v":0},{"$f":"IF($C44=\"\",\"\",Simulação!AQ44)","v":"-"},{"$f":"IF($C44=\"\",\"\",Simulação!AR44)","v":0}]
[null,38,{"$f":"IF(Chegadas!J46<=$C$5,Chegadas!J46,\"\")","v":25.63000000000001},{"$f":"IF($C45=\"\",\"\",Simulação!D45)","v":8.7582405620096484},{"$f":"IF($C45=\"\",\"\",Simulação!E45)","v":"*"},{"$f":"IF($C45=\"\",\"\",Simulação!F45)","v":32.021468662453074},{"$f":"IF($C45=\"\",\"\",Simulação!G45)","v":"*"},{"$f":"IF($C45=\"\",\"\",Simulação!H45)","v":30.505489170716977},{"$f":"IF($C45=\"\",\"\",Simulação!I45)","v":"*"},{"$f":"IF($C45=\"\",\"\",Simulação!J45)","v":29.174170424687219},{"$f":"IF($C45=\"\",\"\",Simulação!K45)","v":"*"},{"$f":"IF($C45=\"\",\"\",Simulação!L45)","v":27.346207123823838},{"$f":"IF($C45=\"\",\"\",Simulação!M45)","v":"*"},{"$f":"IF($C45=\"\",\"\",Simulação!N45)","v":32.403120855775015},{"$f":"IF($C45=\"\",\"\",Simulação!O45)","v":"*"},{"$f":"IF($C45=\"\",\"\",Simulação!P45)","v":26.664388548692866},{"$f":"IF($C45=\"\",\"\",Simulação!Q45)","v":"*"},{"$f":"IF($C45=\"\",\"\",Simulação!R45)","v":31.38388150360991},{"$f":"IF($C45=\"\",\"\",Simulação!S45)","v":"*"},{"$f":"IF($C45=\"\",\"\",Simulação!T45)","v":36.449394726654361},{"$f":"IF($C45=\"\",\"\",Simulação!U45)","v":"*"},{"$f":"IF($C45=\"\",\"\",Simulação!V45)","v":28.205078497514393},{"$f":"IF($C45=\"\",\"\",Simulação!W45)","v":"*"},{"$f":"IF($C45=\"\",\"\",Simulação!X45)","v":27.625255740155172},{"$f":"IF($C45=\"\",\"\",Simulação!Y45)","v":"*"},{"$f":"IF($C45=\"\",\"\",Simulação!Z45)","v":31.522638885779052},{"$f":"IF($C45=\"\",\"\",Simulação!AA45)","v":"*"},{"$f":"IF($C45=\"\",\"\",Simulação!AB45)","v":28.631555014283347},{"$f":"IF($C45=\"\",\"\",Simulação!AC45)","v":"*"},{"$f":"IF($C45=\"\",\"\",Simulação!AD45)","v":28.626474227638489},{"$f":"IF($C45=\"\",\"\",Simulação!AE45)","v":25.63000000000001},{"$f":"IF($C45=\"\",\"\",Simulação!AF45)","v":34.388240562009656},{"$f":"IF($C45=\"\",\"\",Simulação!AG45)","v":"-"},{"$f":"IF($C45=\"\",\"\",Simulação!AH45)","v":29.236023829000793},{"$f":"IF($C45=\"\",\"\",Simulação!AI45)","v":"-"},{"$f":"IF($C45=\"\",\"\",Simulação!AJ45)","v":33.045125393740342},{"$f":"IF($C45=\"\",\"\",Simulação!AK45)","v":"-"},{"$f":"IF($C45=\"\",\"\",Simulação!AL45)","v":32.02721881559642},{"$f":"IF($C45=\"\",\"\",Simulação!AM45)","v":"-"},{"$f":"IF($C45=\"\",\"\",Simulação!AN45)","v":0},{"$f":"IF($C45=\"\",\"\",Simulação!AO45)","v":"-"},{"$f":"IF($C45=\"\",\"\",Simulação!AP45)","v":0},{"$f":"IF($C45=\"\",\"\",Simulação!AQ45)","v":"-"},{"$f":"IF($C45=\"\",\"\",Simulação!AR45)","v":0}]
[null,39,{"$f":"IF(Chegadas!J47<=$C$5,Chegadas!J47,\"\")","v":25.68000000000001},{"$f":"IF($C46=\"\",\"\",Simulação!D46)","v":6.5375635071821963},{"$f":"IF($C46=\"\",\"\",Simulação!E46)","v":"*"},{"$f":"IF($C46=\"\",\"\",Simulação!F46)","v":32.021468662453074},{"$f":"IF($C46=\"\",\"\",Simulação!G46)","v":"*"},{"$f":"IF($C46=\"\",\"\",Simulação!H46)","v":30.505489170716977},{"$f":"IF($C46=\"\",\"\",Simulação!I46)","v":"*"},{"$f":"IF($C46=\"\",\"\",Simulação!J46)","v":29.174170424687219},{"$f":"IF($C46=\"\",\"\",Simulação!K46)","v":"*"},{"$f":"IF($C46=\"\",\"\",Simulação!L46)","v":27.346207123823838},{"$f":"IF($C46=\"\",\"\",Simulação!M46)","v":"*"},{"$f":"IF($C46=\"\",\"\",Simulação!N46)","v":32.403120855775015},{"$f":"IF($C46=\"\",\"\",Simulação!O46)","v":"*"},{"$f":"IF($C46=\"\",\"\",Simulação!P46)","v":26.664388548692866},{"$f":"IF($C46=\"\",\"\",Simulação!Q46)","v":"*"},{"$f":"IF($C46=\"\",\"\",Simulação!R46)","v":31.38388150360991},{"$f":"IF($C46=\"\",\"\",Simulação!S46)","v":"*"},{"$f":"IF($C46=\"\",\"\",Simulação!T46)","v":36.449394726654361},{"$f":"IF($C46=\"\",\"\",Simulação!U46)","v":"*"},{"$f":"IF($C46=\"\",\"\",Simulação!V46)","v":28.205078497514393},{"$f":"IF($C46=\"\",\"\",Simulação!W46)","v":"*"},{"$f":"IF($C46=\"\",\"\",Simulação!X46)","v":27.625255740155172},{"$f":"IF($C46=\"\",\"\",Simulação!Y46)","v":"*"},{"$f":"IF($C46=\"\",\"\",Simulação!Z46)","v":31.522638885779052},{"$f":"IF($C46=\"\",\"\",Simulação!AA46)","v":"*"},{"$f":"IF($C46=\"\",\"\",Simulação!AB46)","v":28.631555014283347},{"$f":"IF($C46=\"\",\"\",Simulação!AC46)","v":"*"},{"$f":"IF($C46=\"\",\"\",Simulação!AD46)","v":28.626474227638489},{"$f":"IF($C46=\"\",\"\",Simulação!AE46)","v":"*"},{"$f":"IF($C46=\"\",\"\",Simulação!AF46)","v":34.388240562009656},{"$f":"IF($C46=\"\",\"\",Simulação!AG46)","v":"*"},{"$f":"IF($C46=\"\",\"\",Simulação!AH46)","v":29.236023829000793},{"$f":"IF($C46=\"\",\"\",Simulação!AI46)","v":"*"},{"$f":"IF($C46=\"\",\"\",Simulação!AJ46)","v":33.045125393740342},{"$f":"IF($C46=\"\",\"\",Simulação!AK46)","v":"*"},{"$f":"IF($C46=\"\",\"\",Simulação!AL46)","v":32.02721881559642},{"$f":"IF($C46=\"\",\"\",Simulação!AM46)","v":25.68000000000001},{"$f":"IF($C46=\"\",\"\",Simulação!AN46)","v":32.217563507182206},{"$f":"IF($C46=\"\",\"\",Simulação!AO46)","v":"-"},{"$f":"IF($C46=\"\",\"\",Simulação!AP46)","v":0},{"$f":"IF($C46=\"\",\"\",Simulação!AQ46)","v":"-"},{"$f":"IF($C46=\"\",\"\",Simulação!AR46)","v":0}]
[null,40,{"$f":"IF(Chegadas!J48<=$C$5,Chegadas!J48,\"\")","v":26.88000000000001},{"$f":"IF($C47=\"\",\"\",Simulação!D47)","v":3.8812275596590675},{"$f":"IF($C47=\"\",\"\",Simulação!E47)","v":"*"},{"$f":"IF($C47=\"\",\"\",Simulação!F47)","v":32.021468662453074},{"$f":"IF($C47=\"\",\"\",Simulação!G47)","v":"*"},{"$f":"IF($C47=\"\",\"\",Simulação!H47)","v":30.505489170716977},{"$f":"IF($C47=\"\",\"\",Simulação!I47)","v":"*"},{"$f":"IF($C47=\"\",\"\",Simulação!J47)","v":29.174170424687219},{"$f":"IF($C47=\"\",\"\",Simulação!K47)","v":"*"},{"$f":"IF($C47=\"\",\"\",Simulação!L47)","v":27.346207123823838},{"$f":"IF($C47=\"\",\"\",Simulação!M47)","v":"*"},{"$f":"IF($C47=\"\",\"\",Simulação!N47)","v":32.403120855775015},{"$f":"IF($C47=\"\",\"\",Simulação!O47)","v":26.88000000000001},{"$f":"IF($C47=\"\",\"\",Simulação!P47)","v":30.761227559659076},{"$f":"IF($C47=\"\",\"\",Simulação!Q47)","v":"-"},{"$f":"IF($C47=\"\",\"\",Simulação!R47)","v":31.38388150360991},{"$f":"IF($C47=\"\",\"\",Simulação!S47)","v":"-"},{"$f":"IF($C47=\"\",\"\",Simulação!T47)","v":36.449394726654361},{"$f":"IF($C47=\"\",\"\",Simulação!U47)","v":"-"},{"$f":"IF($C47=\"\",\"\",Simulação!V47)","v":28.205078497514393},{"$f":"IF($C47=\"\",\"\",Simulação!W47)","v":"-"},{"$f":"IF($C47=\"\",\"\",Simulação!X47)","v":27.625255740155172},{"$f":"IF($C47=\"\",\"\",Simulação!Y47)","v":"-"},{"$f":"IF($C47=\"\",\"\",Simulação!Z47)","v":31.522638885779052},{"$f":"IF($C47=\"\",\"\",Simulação!AA47)","v":"-"},{"$f":"IF($C47=\"\",\"\",Simulação!AB47)","v":28.631555014283347},{"$f":"IF($C47=\"\",\"\",Simulação!AC47)","v":"-"},{"$f":"IF($C47=\"\",\"\",Simulação!AD47)","v":28.626474227638489},{"$f":"IF($C47=\"\",\"\",Simulação!AE47)","v":"-"},{"$f":"IF($C47=\"\",\"\",Simulação!AF47)","v":34.388240562009656},{"$f":"IF($C47=\"\",\"\",Simulação!AG47)","v":"-"},{"$f":"IF($C47=\"\",\"\",Simulação!AH47)","v":29.236023829000793},{"$f":"IF($C47=\"\",\"\",Simulação!AI47)","v":"-"},{"$f":"IF($C47=\"\",\"\",Simulação!AJ47)","v":33.045125393740342},{"$f":"IF($C47=\"\",\"\",Simulação!AK47)","v":"-"},{"$f":"IF($C47=\"\",\"\",Simulação!AL47)","v":32.02721881559642},{"$f":"IF($C47=\"\",\"\",Simulação!AM47)","v":"-"},{"$f":"IF($C47=\"\",\"\",Simulação!AN47)","v":32.217563507182206},{"$f":"IF($C47=\"\",\"\",Simulação!AO47)","v":"-"},{"$f":"IF($C47=\"\",\"\",Simulação!AP47)","v":0},{"$f":"IF($C47=\"\",\"\",Simulação!AQ47)","v":"-"},{"$f":"IF($C47=\"\",\"\",Simulação!AR47)","v":0}]
[null,41,{"$f":"IF(Chegadas!J49<=$C$5,Chegadas!J49,\"\")","v":27.02000000000001},{"$f":"IF($C48=\"\",\"\",Simulação!D48)","v":9.3860160864340934},{"$f":"IF($C48=\"\",\"\",Simulação!E48)","v":"*"},{"$f":"IF($C48=\"\",\"\",Simulação!F48)","v":32.021468662453074},{"$f":"IF($C48=\"\",\"\",Simulação!G48)","v":"*"},{"$f":"IF($C48=\"\",\"\",Simulação!H48)","v":30.505489170716977},{"$f":"IF($C48=\"\",\"\",Simulação!I48)","v":"*"},{"$f":"IF($C48=\"\",\"\",Simulação!J48)","v":29.174170424687219},{"$f":"IF($C48=\"\",\"\",Simulação!K48)","v":"*"},{"$f":"IF($C48=\"\",\"\",Simulação!L48)","v":27.346207123823838},{"$f":"IF($C48=\"\",\"\",Simulação!M48)","v":"*"},{"$f":"IF($C48=\"\",\"\",Simulação!N48)","v":32.403120855775015},{"$f":"IF($C48=\"\",\"\",Simulação!O48)","v":"*"},{"$f":"IF($C48=\"\",\"\",Simulação!P48)","v":30.761227559659076},{"$f":"IF($C48=\"\",\"\",Simulação!Q48)","v":"*"},{"$f":"IF($C48=\"\",\"\",Simulação!R48)","v":31.38388150360991},{"$f":"IF($C48=\"\",\"\",Simulação!S48)","v":"*"},{"$f":"IF($C48=\"\",\"\",Simulação!T48)","v":36.449394726654361},{"$f":"IF($C48=\"\",\"\",Simulação!U48)","v":"*"},{"$f":"IF($C48=\"\",\"\",Simulação!V48)","v":28.205078497514393},{"$f":"IF($C48=\"\",\"\",Simulação!W48)","v":"*"},{"$f":"IF($C48=\"\",\"\",Simulação!X48)","v":27.625255740155172},{"$f":"IF($C48=\"\",\"\",Simulação!Y48)","v":"*"},{"$f":"IF($C48=\"\",\"\",Simulação!Z48)","v":31.522638885779052},{"$f":"IF($C48=\"\",\"\",Simulação!AA48)","v":"*"},{"$f":"IF($C48=\"\",\"\",Simulação!AB48)","v":28.631555014283347},{"$f":"IF($C48=\"\",\"\",Simulação!AC48)","v":"*"},{"$f":"IF($C48=\"\",\"\",Simulação!AD48)","v":28.626474227638489},{"$f":"IF($C48=\"\",\"\",Simulação!AE48)","v":"*"},{"$f":"IF($C48=\"\",\"\",Simulação!AF48)","v":34.388240562009656},{"$f":"IF($C48=\"\",\"\",Simulação!AG48)","v":"*"},{"$f":"IF($C48=\"\",\"\",Simulação!AH48)","v":29.236023829000793},{"$f":"IF($C48=\"\",\"\",Simulação!AI48)","v":"*"},{"$f":"IF($C48=\"\",\"\",Simulação!AJ48)","v":33.045125393740342},{"$f":"IF($C48=\"\",\"\",Simulação!AK48)","v":"*"},{"$f":"IF($C48=\"\",\"\",Simulação!AL48)","v":32.02721881559642},{"$f":"IF($C48=\"\",\"\",Simulação!AM48)","v":"*"},{"$f":"IF($C48=\"\",\"\",Simulação!AN48)","v":32.217563507182206},{"$f":"IF($C48=\"\",\"\",Simulação!AO48)","v":27.02000000000001},{"$f":"IF($C48=\"\",\"\",Simulação!AP48)","v":36.406016086434107},{"$f":"IF($C48=\"\",\"\",Simulação!AQ48)","v":"-"},{"$f":"IF($C48=\"\",\"\",Simulação!AR48)","v":0}]
[null,42,{"$f":"IF(Chegadas!J50<=$C$5,Chegadas!J50,\"\")","v":28.250000000000011},{"$f":"IF($C49=\"\",\"\",Simulação!D49)","v":7.7938915365034358},{"$f":"IF($C49=\"\",\"\",Simulação!E49)","v":"*"},{"$f":"IF($C49=\"\",\"\",Simulação!F49)","v":32.021468662453074},{"$f":"IF($C49=\"\",\"\",Simulação!G49)","v":"*"},{"$f":"IF($C49=\"\",\"\",Simulação!H49)","v":30.505489170716977},{"$f":"IF($C49=\"\",\"\",Simulação!I49)","v":"*"},{"$f":"IF($C49=\"\",\"\",Simulação!J49)","v":29.174170424687219},{"$f":"IF($C49=\"\",\"\",Simulação!K49)","v":28.250000000000011},{"$f":"IF($C49=\"\",\"\",Simulação!L49)","v":36.043891536503445},{"$f":"IF($C49=\"\",\"\",Simulação!M49)","v":"-"},{"$f":"IF($C49=\"\",\"\",Simulação!N49)","v":32.403120855775015},{"$f":"IF($C49=\"\",\"\",Simulação!O49)","v":"-"},{"$f":"IF($C49=\"\",\"\",Simulação!P49)","v":30.761227559659076},{"$f":"IF($C49=\"\",\"\",Simulação!Q49)","v":"-"},{"$f":"IF($C49=\"\",\"\",Simulação!R49)","v":31.38388150360991},{"$f":"IF($C49=\"\",\"\",Simulação!S49)","v":"-"},{"$f":"IF($C49=\"\",\"\",Simulação!T49)","v":36.449394726654361},{"$f":"IF($C49=\"\",\"\",Simulação!U49)","v":"-"},{"$f":"IF($C49=\"\",\"\",Simulação!V49)","v":28.205078497514393},{"$f":"IF($C49=\"\",\"\",Simulação!W49)","v":"-"},{"$f":"IF($C49=\"\",\"\",Simulação!X49)","v":27.625255740155172},{"$f":"IF($C49=\"\",\"\",Simulação!Y49)","v":"-"},{"$f":"IF($C49=\"\",\"\",Simulação!Z49)","v":31.522638885779052},{"$f":"IF($C49=\"\",\"\",Simulação!AA49)","v":"-"},{"$f":"IF($C49=\"\",\"\",Simulação!AB49)","v":28.631555014283347},{"$f":"IF($C49=\"\",\"\",Simulação!AC49)","v":"-"},{"$f":"IF($C49=\"\",\"\",Simulação!AD49)","v":28.626474227638489},{"$f":"IF($C49=\"\",\"\",Simulação!AE49)","v":"-"},{"$f":"IF($C49=\"\",\"\",Simulação!AF49)","v":34.388240562009656},{"$f":"IF($C49=\"\",\"\",Simulação!AG49)","v":"-"},{"$f":"IF($C49=\"\",\"\",Simulação!AH49)","v":29.236023829000793},{"$f":"IF($C49=\"\",\"\",Simulação!AI49)","v":"-"},{"$f":"IF($C49=\"\",\"\",Simulação!AJ49)","v":33.045125393740342},{"$f":"IF($C49=\"\",\"\",Simulação!AK49)","v":"-"},{"$f":"IF($C49=\"\",\"\",Simulação!AL49)","v":32.02721881559642},{"$f":"IF($C49=\"\",\"\",Simulação!AM49)","v":"-"},{"$f":"IF($C49=\"\",\"\",Simulação!AN49)","v":32.217563507182206},{"$f":"IF($C49=\"\",\"\",Simulação!AO49)","v":"-"},{"$f":"IF($C49=\"\",\"\",Simulação!AP49)","v":36.406016086434107},{"$f":"IF($C49=\"\",\"\",Simulação!AQ49)","v":"-"},{"$f":"IF($C49=\"\",\"\",Simulação!AR49)","v":0}]
[null,43,{"$f":"IF(Chegadas!J51<=$C$5,Chegadas!J51,\"\")","v":28.390000000000011},{"$f":"IF($C50=\"\",\"\",Simulação!D50)","v":11.956954056665726},{"$f":"IF($C50=\"\",\"\",Simulação!E50)","v":"*"},{"$f":"IF($C50=\"\",\"\",Simulação!F50)","v":32.021468662453074},{"$f":"IF($C50=\"\",\"\",Simulação!G50)","v":"*"},{"$f":"IF($C50=\"\",\"\",Simulação!H50)","v":30.505489170716977},{"$f":"IF($C50=\"\",\"\",Simulação!I50)","v":"*"},{"$f":"IF($C50=\"\",\"\",Simulação!J50)","v":29.174170424687219},{"$f":"IF($C50=\"\",\"\",Simulação!K50)","v":"*"},{"$f":"IF($C50=\"\",\"\",Simulação!L50)","v":36.043891536503445},{"$f":"IF($C50=\"\",\"\",Simulação!M50)","v":"*"},{"$f":"IF($C50=\"\",\"\",Simulação!N50)","v":32.403120855775015},{"$f":"IF($C50=\"\",\"\",Simulação!O50)","v":"*"},{"$f":"IF($C50=\"\",\"\",Simulação!P50)","v":30.761227559659076},{"$f":"IF($C50=\"\",\"\",Simulação!Q50)","v":"*"},{"$f":"IF($C50=\"\",\"\",Simulação!R50)","v":31.38388150360991},{"$f":"IF($C50=\"\",\"\",Simulação!S50)","v":"*"},{"$f":"IF($C50=\"\",\"\",Simulação!T50)","v":36.449394726654361},{"$f":"IF($C50=\"\",\"\",Simulação!U50)","v":28.390000000000011},{"$f":"IF($C50=\"\",\"\",Simulação!V50)","v":40.346954056665737},{"$f":"IF($C50=\"\",\"\",Simulação!W50)","v":"-"},{"$f":"IF($C50=\"\",\"\",Simulação!X50)","v":27.625255740155172},{"$f":"IF($C50=\"\",\"\",Simulação!Y50)","v":"-"},{"$f":"IF($C50=\"\",\"\",Simulação!Z50)","v":31.522638885779052},{"$f":"IF($C50=\"\",\"\",Simulação!AA50)","v":"-"},{"$f":"IF($C50=\"\",\"\",Simulação!AB50)","v":28.631555014283347},{"$f":"IF($C50=\"\",\"\",Simulação!AC50)","v":"-"},{"$f":"IF($C50=\"\",\"\",Simulação!AD50)","v":28.626474227638489},{"$f":"IF($C50=\"\",\"\",Simulação!AE50)","v":"-"},{"$f":"IF($C50=\"\",\"\",Simulação!AF50)","v":34.388240562009656},{"$f":"IF($C50=\"\",\"\",Simulação!AG50)","v":"-"},{"$f":"IF($C50=\"\",\"\",Simulação!AH50)","v":29.236023829000793},{"$f":"IF($C50=\"\",\"\",Simulação!AI50)","v":"-"},{"$f":"IF($C50=\"\",\"\",Simulação!AJ50)","v":33.045125393740342},{"$f":"IF($C50=\"\",\"\",Simulação!AK50)","v":"-"},{"$f":"IF($C50=\"\",\"\",Simulação!AL50)","v":32.02721881559642},{"$f":"IF($C50=\"\",\"\",Simulação!AM50)","v":"-"},{"$f":"IF($C50=\"\",\"\",Simulação!AN50)","v":32.217563507182206},{"$f":"IF($C50=\"\",\"\",Simulação!AO50)","v":"-"},{"$f":"IF($C50=\"\",\"\",Simulação!AP50)","v":36.406016086434107},{"$f":"IF($C50=\"\",\"\",Simulação!AQ50)","v":"-"},{"$f":"IF($C50=\"\",\"\",Simulação!AR50)","v":0}]
[null,44,{"$f":"IF(Chegadas!J52<=$C$5,Chegadas!J52,\"\")","v":29.940000000000012},{"$f":"IF($C51=\"\",\"\",Simulação!D51)","v":8.4649494034938115},{"$f":"IF($C51=\"\",\"\",Simulação!E51)","v":"*"},{"$f":"IF($C51=\"\",\"\",Simulação!F51)","v":32.021468662453074},{"$f":"IF($C51=\"\",\"\",Simulação!G51)","v":"*"},{"$f":"IF($C51=\"\",\"\",Simulação!H51)","v":30.505489170716977},{"$f":"IF($C51=\"\",\"\",Simulação!I51)","v":29.940000000000012},{"$f":"IF($C51=\"\",\"\",Simulação!J51)","v":38.404949403493823},{"$f":"IF($C51=\"\",\"\",Simulação!K51)","v":"-"},{"$f":"IF($C51=\"\",\"\",Simulação!L51)","v":36.043891536503445},{"$f":"IF($C51=\"\",\"\",Simulação!M51)","v":"-"},{"$f":"IF($C51=\"\",\"\",Simulação!N51)","v":32.403120855775015},{"$f":"IF($C51=\"\",\"\",Simulação!O51)","v":"-"},{"$f":"IF($C51=\"\",\"\",Simulação!P51)","v":30.761227559659076},{"$f":"IF($C51=\"\",\"\",Simulação!Q51)","v":"-"},{"$f":"IF($C51=\"\",\"\",Simulação!R51)","v":31.38388150360991},{"$f":"IF($C51=\"\",\"\",Simulação!S51)","v":"-"},{"$f":"IF($C51=\"\",\"\",Simulação!T51)","v":36.449394726654361},{"$f":"IF($C51=\"\",\"\",Simulação!U51)","v":"-"},{"$f":"IF($C51=\"\",\"\",Simulação!V51)","v":40.346954056665737},{"$f":"IF($C51=\"\",\"\",Simulação!W51)","v":"-"},{"$f":"IF($C51=\"\",\"\",Simulação!X51)","v":27.625255740155172},{"$f":"IF($C51=\"\",\"\",Simulação!Y51)","v":"-"},{"$f":"IF($C51=\"\",\"\",Simulação!Z51)","v":31.522638885779052},{"$f":"IF($C51=\"\",\"\",Simulação!AA51)","v":"-"},{"$f":"IF($C51=\"\",\"\",Simulação!AB51)","v":28.631555014283347},{"$f":"IF($C51=\"\",\"\",Simulação!AC51)","v":"-"},{"$f":"IF($C51=\"\",\"\",Simulação!AD51)","v":28.626474227638489},{"$f":"IF($C51=\"\",\"\",Simulação!AE51)","v":"-"},{"$f":"IF($C51=\"\",\"\",Simulação!AF51)","v":34.388240562009656},{"$f":"IF($C51=\"\",\"\",Simulação!AG51)","v":"-"},{"$f":"IF($C51=\"\",\"\",Simulação!AH51)","v":29.236023829000793},{"$f":"IF($C51=\"\",\"\",Simulação!AI51)","v":"-"},{"$f":"IF($C51=\"\",\"\",Simulação!AJ51)","v":33.045125393740342},{"$f":"IF($C51=\"\",\"\",Simulação!AK51)","v":"-"},{"$f":"IF($C51=\"\",\"\",Simulação!AL51)","v":32.02721881559642},{"$f":"IF($C51=\"\",\"\",Simulação!AM51)","v":"-"},{"$f":"IF($C51=\"\",\"\",Simulação!AN51)","v":32.217563507182206},{"$f":"IF($C51=\"\",\"\",Simulação!AO51)","v":"-"},{"$f":"IF($C51=\"\",\"\",Simulação!AP51)","v":36.406016086434107},{"$f":"IF($C51=\"\",\"\",Simulação!AQ51)","v":"-"},{"$f":"IF($C51=\"\",\"\",Simulação!AR51)","v":0}]
[null,45,{"$f":"IF(Chegadas!J53<=$C$5,Chegadas!J53,\"\")","v":30.330000000000013},{"$f":"IF($C52=\"\",\"\",Simulação!D52)","v":6.3724472590880543},{"$f":"IF($C52=\"\",\"\",Simulação!E52)","v":"*"},{"$f":"IF($C52=\"\",\"\",Simulação!F52)","v":32.021468662453074},{"$f":"IF($C52=\"\",\"\",Simulação!G52)","v":"*"},{"$f":"IF($C52=\"\",\"\",Simulação!H52)","v":30.505489170716977},{"$f":"IF($C52=\"\",\"\",Simulação!I52)","v":"*"},{"$f":"IF($C52=\"\",\"\",Simulação!J52)","v":38.404949403493823},{"$f":"IF($C52=\"\",\"\",Simulação!K52)","v":"*"},{"$f":"IF($C52=\"\",\"\",Simulação!L52)","v":36.043891536503445},{"$f":"IF($C52=\"\",\"\",Simulação!M52)","v":"*"},{"$f":"IF($C52=\"\",\"\",Simulação!N52)","v":32.403120855775015},{"$f":"IF($C52=\"\",\"\",Simulação!O52)","v":"*"},{"$f":"IF($C52=\"\",\"\",Simulação!P52)","v":30.761227559659076},{"$f":"IF($C52=\"\",\"\",Simulação!Q52)","v":"*"},{"$f":"IF($C52=\"\",\"\",Simulação!R52)","v":31.38388150360991},{"$f":"IF($C52=\"\",\"\",Simulação!S52)","v":"*"},{"$f":"IF($C52=\"\",\"\",Simulação!T52)","v":36.449394726654361},{"$f":"IF($C52=\"\",\"\",Simulação!U52)","v":"*"},{"$f":"IF($C52=\"\",\"\",Simulação!V52)","v":40.346954056665737},{"$f":"IF($C52=\"\",\"\",Simulação!W52)","v":30.330000000000013},{"$f":"IF($C52=\"\",\"\",Simulação!X52)","v":36.702447259088068},{"$f":"IF($C52=\"\",\"\",Simulação!Y52)","v":"-"},{"$f":"IF($C52=\"\",\"\",Simulação!Z52)","v":31.522638885779052},{"$f":"IF($C52=\"\",\"\",Simulação!AA52)","v":"-"},{"$f":"IF($C52=\"\",\"\",Simulação!AB52)","v":28.631555014283347},{"$f":"IF($C52=\"\",\"\",Simulação!AC52)","v":"-"},{"$f":"IF($C52=\"\",\"\",Simulação!AD52)","v":28.626474227638489},{"$f":"IF($C52=\"\",\"\",Simulação!AE52)","v":"-"},{"$f":"IF($C52=\"\",\"\",Simulação!AF52)","v":34.388240562009656},{"$f":"IF($C52=\"\",\"\",Simulação!AG52)","v":"-"},{"$f":"IF($C52=\"\",\"\",Simulação!AH52)","v":29.236023829000793},{"$f":"IF($C52=\"\",\"\",Simulação!AI52)","v":"-"},{"$f":"IF($C52=\"\",\"\",Simulação!AJ52)","v":33.045125393740342},{"$f":"IF($C52=\"\",\"\",Simulação!AK52)","v":"-"},{"$f":"IF($C52=\"\",\"\",Simulação!AL52)","v":32.02721881559642},{"$f":"IF($C52=\"\",\"\",Simulação!AM52)","v":"-"},{"$f":"IF($C52=\"\",\"\",Simulação!AN52)","v":32.217563507182206},{"$f":"IF($C52=\"\",\"\",Simulação!AO52)","v":"-"},{"$f":"IF($C52=\"\",\"\",Simulação!AP52)","v":36.406016086434107},{"$f":"IF($C52=\"\",\"\",Simulação!AQ52)","v":"-"},{"$f":"IF($C52=\"\",\"\",Simulação!AR52)","v":0}]
[null,46,{"$f":"IF(Chegadas!J54<=$C$5,Chegadas!J54,\"\")","v":31.990000000000013},{"$f":"IF($C53=\"\",\"\",Simulação!D53)","v":7.2709097479749163},{"$f":"IF($C53=\"\",\"\",Simulação!E53)","v":"*"},{"$f":"IF($C53=\"\",\"\",Simulação!F53)","v":32.021468662453074},{"$f":"IF($C53=\"\",\"\",Simulação!G53)","v":31.990000000000013},{"$f":"IF($C53=\"\",\"\",Simulação!H53)","v":39.260909747974928},{"$f":"IF($C53=\"\",\"\",Simulação!I53)","v":"-"},{"$f":"IF($C53=\"\",\"\",Simulação!J53)","v":38.404949403493823},{"$f":"IF($C53=\"\",\"\",Simulação!K53)","v":"-"},{"$f":"IF($C53=\"\",\"\",Simulação!L53)","v":36.043891536503445},{"$f":"IF($C53=\"\",\"\",Simulação!M53)","v":"-"},{"$f":"IF($C53=\"\",\"\",Simulação!N53)","v":32.403120855775015},{"$f":"IF($C53=\"\",\"\",Simulação!O53)","v":"-"},{"$f":"IF($C53=\"\",\"\",Simulação!P53)","v":30.761227559659076},{"$f":"IF($C53=\"\",\"\",Simulação!Q53)","v":"-"},{"$f":"IF($C53=\"\",\"\",Simulação!R53)","v":31.38388150360991},{"$f":"IF($C53=\"\",\"\",Simulação!S53)","v":"-"},{"$f":"IF($C53=\"\",\"\",Simulação!T53)","v":36.449394726654361},{"$f":"IF($C53=\"\",\"\",Simulação!U53)","v":"-"},{"$f":"IF($C53=\"\",\"\",Simulação!V53)","v":40.346954056665737},{"$f":"IF($C53=\"\",\"\",Simulação!W53)","v":"-"},{"$f":"IF($C53=\"\",\"\",Simulação!X53)","v":36.702447259088068},{"$f":"IF($C53=\"\",\"\",Simulação!Y53)","v":"-"},{"$f":"IF($C53=\"\",\"\",Simulação!Z53)","v":31.522638885779052},{"$f":"IF($C53=\"\",\"\",Simulação!AA53)","v":"-"},{"$f":"IF($C53=\"\",\"\",Simulação!AB53)","v":28.631555014283347},{"$f":"IF($C53=\"\",\"\",Simulação!AC53)","v":"-"},{"$f":"IF($C53=\"\",\"\",Simulação!AD53)","v":28.626474227638489},{"$f":"IF($C53=\"\",\"\",Simulação!AE53)","v":"-"},{"$f":"IF($C53=\"\",\"\",Simulação!AF53)","v":34.388240562009656},{"$f":"IF($C53=\"\",\"\",Simulação!AG53)","v":"-"},{"$f":"IF($C53=\"\",\"\",Simulação!AH53)","v":29.236023829000793},{"$f":"IF($C53=\"\",\"\",Simulação!AI53)","v":"-"},{"$f":"IF($C53=\"\",\"\",Simulação!AJ53)","v":33.045125393740342},{"$f":"IF($C53=\"\",\"\",Simulação!AK53)","v":"-"},{"$f":"IF($C53=\"\",\"\",Simulação!AL53)","v":32.02721881559642},{"$f":"IF($C53=\"\",\"\",Simulação!AM53)","v":"-"},{"$f":"IF($C53=\"\",\"\",Simulação!AN53)","v":32.217563507182206},{"$f":"IF($C53=\"\",\"\",Simulação!AO53)","v":"-"},{"$f":"IF($C53=\"\",\"\",Simulação!AP53)","v":36.406016086434107},{"$f":"IF($C53=\"\",\"\",Simulação!AQ53)","v":"-"},{"$f":"IF($C53=\"\",\"\",Simulação!AR53)","v":0}]
[null,47,{"$f":"IF(Chegadas!J55<=$C$5,Chegadas!J55,\"\")","v":32.150000000000013},{"$f":"IF($C54=\"\",\"\",Simulação!D54)","v":4.7349652559002049},{"$f":"IF($C54=\"\",\"\",Simulação!E54)","v":32.150000000000013},{"$f":"IF($C54=\"\",\"\",Simulação!F54)","v":36.884965255900219},{"$f":"IF($C54=\"\",\"\",Simulação!G54)","v":"-"},{"$f":"IF($C54=\"\",\"\",Simulação!H54)","v":39.260909747974928},{"$f":"IF($C54=\"\",\"\",Simulação!I54)","v":"-"},{"$f":"IF($C54=\"\",\"\",Simulação!J54)","v":38.404949403493823},{"$f":"IF($C54=\"\",\"\",Simulação!K54)","v":"-"},{"$f":"IF($C54=\"\",\"\",Simulação!L54)","v":36.043891536503445},{"$f":"IF($C54=\"\",\"\",Simulação!M54)","v":"-"},{"$f":"IF($C54=\"\",\"\",Simulação!N54)","v":32.403120855775015},{"$f":"IF($C54=\"\",\"\",Simulação!O54)","v":"-"},{"$f":"IF($C54=\"\",\"\",Simulação!P54)","v":30.761227559659076},{"$f":"IF($C54=\"\",\"\",Simulação!Q54)","v":"-"},{"$f":"IF($C54=\"\",\"\",Simulação!R54)","v":31.38388150360991},{"$f":"IF($C54=\"\",\"\",Simulação!S54)","v":"-"},{"$f":"IF($C54=\"\",\"\",Simulação!T54)","v":36.449394726654361},{"$f":"IF($C54=\"\",\"\",Simulação!U54)","v":"-"},{"$f":"IF($C54=\"\",\"\",Simulação!V54)","v":40.346954056665737},{"$f":"IF($C54=\"\",\"\",Simulação!W54)","v":"-"},{"$f":"IF($C54=\"\",\"\",Simulação!X54)","v":36.702447259088068},{"$f":"IF($C54=\"\",\"\",Simulação!Y54)","v":"-"},{"$f":"IF($C54=\"\",\"\",Simulação!Z54)","v":31.522638885779052},{"$f":"IF($C54=\"\",\"\",Simulação!AA54)","v":"-"},{"$f":"IF($C54=\"\",\"\",Simulação!AB54)","v":28.631555014283347},{"$f":"IF($C54=\"\",\"\",Simulação!AC54)","v":"-"},{"$f":"IF($C54=\"\",\"\",Simulação!AD54)","v":28.626474227638489},{"$f":"IF($C54=\"\",\"\",Simulação!AE54)","v":"-"},{"$f":"IF($C54=\"\",\"\",Simulação!AF54)","v":34.388240562009656},{"$f":"IF($C54=\"\",\"\",Simulação!AG54)","v":"-"},{"$f":"IF($C54=\"\",\"\",Simulação!AH54)","v":29.236023829000793},{"$f":"IF($C54=\"\",\"\",Simulação!AI54)","v":"-"},{"$f":"IF($C54=\"\",\"\",Simulação!AJ54)","v":33.045125393740342},{"$f":"IF($C54=\"\",\"\",Simulação!AK54)","v":"-"},{"$f":"IF($C54=\"\",\"\",Simulação!AL54)","v":32.02721881559642},{"$f":"IF($C54=\"\",\"\",Simulação!AM54)","v":"-"},{"$f":"IF($C54=\"\",\"\",Simulação!AN54)","v":32.217563507182206},{"$f":"IF($C54=\"\",\"\",Simulação!AO54)","v":"-"},{"$f":"IF($C54=\"\",\"\",Simulação!AP54)","v":36.406016086434107},{"$f":"IF($C54=\"\",\"\",Simulação!AQ54)","v":"-"},{"$f":"IF($C54=\"\",\"\",Simulação!AR54)","v":0}]
[null,48,{"$f":"IF(Chegadas!J56<=$C$5,Chegadas!J56,\"\")","v":33.840000000000011},{"$f":"IF($C55=\"\",\"\",Simulação!D55)","v":3.6071370786435559},{"$f":"IF($C55=\"\",\"\",Simulação!E55)","v":"*"},{"$f":"IF($C55=\"\",\"\",Simulação!F55)","v":36.884965255900219},{"$f":"IF($C55=\"\",\"\",Simulação!G55)","v":"*"},{"$f":"IF($C55=\"\",\"\",Simulação!H55)","v":39.260909747974928},{"$f":"IF($C55=\"\",\"\",Simulação!I55)","v":"*"},{"$f":"IF($C55=\"\",\"\",Simulação!J55)","v":38.404949403493823},{"$f":"IF($C55=\"\",\"\",Simulação!K55)","v":"*"},{"$f":"IF($C55=\"\",\"\",Simulação!L55)","v":36.043891536503445},{"$f":"IF($C55=\"\",\"\",Simulação!M55)","v":33.840000000000011},{"$f":"IF($C55=\"\",\"\",Simulação!N55)","v":37.447137078643564},{"$f":"IF($C55=\"\",\"\",Simulação!O55)","v":"-"},{"$f":"IF($C55=\"\",\"\",Simulação!P55)","v":30.761227559659076},{"$f":"IF($C55=\"\",\"\",Simulação!Q55)","v":"-"},{"$f":"IF($C55=\"\",\"\",Simulação!R55)","v":31.38388150360991},{"$f":"IF($C55=\"\",\"\",Simulação!S55)","v":"-"},{"$f":"IF($C55=\"\",\"\",Simulação!T55)","v":36.449394726654361},{"$f":"IF($C55=\"\",\"\",Simulação!U55)","v":"-"},{"$f":"IF($C55=\"\",\"\",Simulação!V55)","v":40.346954056665737},{"$f":"IF($C55=\"\",\"\",Simulação!W55)","v":"-"},{"$f":"IF($C55=\"\",\"\",Simulação!X55)","v":36.702447259088068},{"$f":"IF($C55=\"\",\"\",Simulação!Y55)","v":"-"},{"$f":"IF($C55=\"\",\"\",Simulação!Z55)","v":31.522638885779052},{"$f":"IF($C55=\"\",\"\",Simulação!AA55)","v":"-"},{"$f":"IF($C55=\"\",\"\",Simulação!AB55)","v":28.631555014283347},{"$f":"IF($C55=\"\",\"\",Simulação!AC55)","v":"-"},{"$f":"IF($C55=\"\",\"\",Simulação!AD55)","v":28.626474227638489},{"$f":"IF($C55=\"\",\"\",Simulação!AE55)","v":"-"},{"$f":"IF($C55=\"\",\"\",Simulação!AF55)","v":34.388240562009656},{"$f":"IF($C55=\"\",\"\",Simulação!AG55)","v":"-"},{"$f":"IF($C55=\"\",\"\",Simulação!AH55)","v":29.236023829000793},{"$f":"IF($C55=\"\",\"\",Simulação!AI55)","v":"-"},{"$f":"IF($C55=\"\",\"\",Simulação!AJ55)","v":33.045125393740342},{"$f":"IF($C55=\"\",\"\",Simulação!AK55)","v":"-"},{"$f":"IF($C55=\"\",\"\",Simulação!AL55)","v":32.02721881559642},{"$f":"IF($C55=\"\",\"\",Simulação!AM55)","v":"-"},{"$f":"IF($C55=\"\",\"\",Simulação!AN55)","v":32.217563507182206},{"$f":"IF($C55=\"\",\"\",Simulação!AO55)","v":"-"},{"$f":"IF($C55=\"\",\"\",Simulação!AP55)","v":36.406016086434107},{"$f":"IF($C55=\"\",\"\",Simulação!AQ55)","v":"-"},{"$f":"IF($C55=\"\",\"\",Simulação!AR55)","v":0}]
[null,49,{"$f":"IF(Chegadas!J57<=$C$5,Chegadas!J57,\"\")","v":36.150000000000013},{"$f":"IF($C56=\"\",\"\",Simulação!D56)","v":5.4216761646717204},{"$f":"IF($C56=\"\",\"\",Simulação!E56)","v":"*"},{"$f":"IF($C56=\"\",\"\",Simulação!F56)","v":36.884965255900219},{"$f":"IF($C56=\"\",\"\",Simulação!G56)","v":"*"},{"$f":"IF($C56=\"\",\"\",Simulação!H56)","v":39.260909747974928},{"$f":"IF($C56=\"\",\"\",Simulação!I56)","v":"*"},{"$f":"IF($C56=\"\",\"\",Simulação!J56)","v":38.404949403493823},{"$f":"IF($C56=\"\",\"\",Simulação!K56)","v":36.150000000000013},{"$f":"IF($C56=\"\",\"\",Simulação!L56)","v":41.571676164671736},{"$f":"IF($C56=\"\",\"\",Simulação!M56)","v":"-"},{"$f":"IF($C56=\"\",\"\",Simulação!N56)","v":37.447137078643564},{"$f":"IF($C56=\"\",\"\",Simulação!O56)","v":"-"},{"$f":"IF($C56=\"\",\"\",Simulação!P56)","v":30.761227559659076},{"$f":"IF($C56=\"\",\"\",Simulação!Q56)","v":"-"},{"$f":"IF($C56=\"\",\"\",Simulação!R56)","v":31.38388150360991},{"$f":"IF($C56=\"\",\"\",Simulação!S56)","v":"-"},{"$f":"IF($C56=\"\",\"\",Simulação!T56)","v":36.449394726654361},{"$f":"IF($C56=\"\",\"\",Simulação!U56)","v":"-"},{"$f":"IF($C56=\"\",\"\",Simulação!V56)","v":40.346954056665737},{"$f":"IF($C56=\"\",\"\",Simulação!W56)","v":"-"},{"$f":"IF($C56=\"\",\"\",Simulação!X56)","v":36.702447259088068},{"$f":"IF($C56=\"\",\"\",Simulação!Y56)","v":"-"},{"$f":"IF($C56=\"\",\"\",Simulação!Z56)","v":31.522638885779052},{"$f":"IF($C56=\"\",\"\",Simulação!AA56)","v":"-"},{"$f":"IF($C56=\"\",\"\",Simulação!AB56)","v":28.631555014283347},{"$f":"IF($C56=\"\",\"\",Simulação!AC56)","v":"-"},{"$f":"IF($C56=\"\",\"\",Simulação!AD56)","v":28.626474227638489},{"$f":"IF($C56=\"\",\"\",Simulação!AE56)","v":"-"},{"$f":"IF($C56=\"\",\"\",Simulação!AF56)","v":34.388240562009656},{"$f":"IF($C56=\"\",\"\",Simulação!AG56)","v":"-"},{"$f":"IF($C56=\"\",\"\",Simulação!AH56)","v":29.236023829000793},{"$f":"IF($C56=\"\",\"\",Simulação!AI56)","v":"-"},{"$f":"IF($C56=\"\",\"\",Simulação!AJ56)","v":33.045125393740342},{"$f":"IF($C56=\"\",\"\",Simulação!AK56)","v":"-"},{"$f":"IF($C56=\"\",\"\",Simulação!AL56)","v":32.02721881559642},{"$f":"IF($C56=\"\",\"\",Simulação!AM56)","v":"-"},{"$f":"IF($C56=\"\",\"\",Simulação!AN56)","v":32.217563507182206},{"$f":"IF($C56=\"\",\"\",Simulação!AO56)","v":"-"},{"$f":"IF($C56=\"\",\"\",Simulação!AP56)","v":36.406016086434107},{"$f":"IF($C56=\"\",\"\",Simulação!AQ56)","v":"-"},{"$f":"IF($C56=\"\",\"\",Simulação!AR56)","v":0}]
[null,50,{"$f":"IF(Chegadas!J58<=$C$5,Chegadas!J58,\"\")","v":36.230000000000011},{"$f":"IF($C57=\"\",\"\",Simulação!D57)","v":4.5107033220988528},{"$f":"IF($C57=\"\",\"\",Simulação!E57)","v":"*"},{"$f":"IF($C57=\"\",\"\",Simulação!F57)","v":36.884965255900219},{"$f":"IF($C57=\"\",\"\",Simulação!G57)","v":"*"},{"$f":"IF($C57=\"\",\"\",Simulação!H57)","v":39.260909747974928},{"$f":"IF($C57=\"\",\"\",Simulação!I57)","v":"*"},{"$f":"IF($C57=\"\",\"\",Simulação!J57)","v":38.404949403493823},{"$f":"IF($C57=\"\",\"\",Simulação!K57)","v":"*"},{"$f":"IF($C57=\"\",\"\",Simulação!L57)","v":41.571676164671736},{"$f":"IF($C57=\"\",\"\",Simulação!M57)","v":"*"},{"$f":"IF($C57=\"\",\"\",Simulação!N57)","v":37.447137078643564},{"$f":"IF($C57=\"\",\"\",Simulação!O57)","v":36.230000000000011},{"$f":"IF($C57=\"\",\"\",Simulação!P57)","v":40.740703322098867},{"$f":"IF($C57=\"\",\"\",Simulação!Q57)","v":"-"},{"$f":"IF($C57=\"\",\"\",Simulação!R57)","v":31.38388150360991},{"$f":"IF($C57=\"\",\"\",Simulação!S57)","v":"-"},{"$f":"IF($C57=\"\",\"\",Simulação!T57)","v":36.449394726654361},{"$f":"IF($C57=\"\",\"\",Simulação!U57)","v":"-"},{"$f":"IF($C57=\"\",\"\",Simulação!V57)","v":40.346954056665737},{"$f":"IF($C57=\"\",\"\",Simulação!W57)","v":"-"},{"$f":"IF($C57=\"\",\"\",Simulação!X57)","v":36.702447259088068},{"$f":"IF($C57=\"\",\"\",Simulação!Y57)","v":"-"},{"$f":"IF($C57=\"\",\"\",Simulação!Z57)","v":31.522638885779052},{"$f":"IF($C57=\"\",\"\",Simulação!AA57)","v":"-"},{"$f":"IF($C57=\"\",\"\",Simulação!AB57)","v":28.631555014283347},{"$f":"IF($C57=\"\",\"\",Simulação!AC57)","v":"-"},{"$f":"IF($C57=\"\",\"\",Simulação!AD57)","v":28.626474227638489},{"$f":"IF($C57=\"\",\"\",Simulação!AE57)","v":"-"},{"$f":"IF($C57=\"\",\"\",Simulação!AF57)","v":34.388240562009656},{"$f":"IF($C57=\"\",\"\",Simulação!AG57)","v":"-"},{"$f":"IF($C57=\"\",\"\",Simulação!AH57)","v":29.236023829000793},{"$f":"IF($C57=\"\",\"\",Simulação!AI57)","v":"-"},{"$f":"IF($C57=\"\",\"\",Simulação!AJ57)","v":33.045125393740342},{"$f":"IF($C57=\"\",\"\",Simulação!AK57)","v":"-"},{"$f":"IF($C57=\"\",\"\",Simulação!AL57)","v":32.02721881559642},{"$f":"IF($C57=\"\",\"\",Simulação!AM57)","v":"-"},{"$f":"IF($C57=\"\",\"\",Simulação!AN57)","v":32.217563507182206},{"$f":"IF($C57=\"\",\"\",Simulação!AO57)","v":"-"},{"$f":"IF($C57=\"\",\"\",Simulação!AP57)","v":36.406016086434107},{"$f":"IF($C57=\"\",\"\",Simulação!AQ57)","v":"-"},{"$f":"IF($C57=\"\",\"\",Simulação!AR57)","v":0}]
[null,51,{"$f":"IF(Chegadas!J59<=$C$5,Chegadas!J59,\"\")","v":41.570000000000007},{"$f":"IF($C58=\"\",\"\",Simulação!D58)","v":2.7582872694816962},{"$f":"IF($C58=\"\",\"\",Simulação!E58)","v":41.570000000000007},{"$f":"IF($C58=\"\",\"\",Simulação!F58)","v":44.328287269481706},{"$f":"IF($C58=\"\",\"\",Simulação!G58)","v":"-"},{"$f":"IF($C58=\"\",\"\",Simulação!H58)","v":39.260909747974928},{"$f":"IF($C58=\"\",\"\",Simulação!I58)","v":"-"},{"$f":"IF($C58=\"\",\"\",Simulação!J58)","v":38.404949403493823},{"$f":"IF($C58=\"\",\"\",Simulação!K58)","v":"-"},{"$f":"IF($C58=\"\",\"\",Simulação!L58)","v":41.571676164671736},{"$f":"IF($C58=\"\",\"\",Simulação!M58)","v":"-"},{"$f":"IF($C58=\"\",\"\",Simulação!N58)","v":37.447137078643564},{"$f":"IF($C58=\"\",\"\",Simulação!O58)","v":"-"},{"$f":"IF($C58=\"\",\"\",Simulação!P58)","v":40.740703322098867},{"$f":"IF($C58=\"\",\"\",Simulação!Q58)","v":"-"},{"$f":"IF($C58=\"\",\"\",Simulação!R58)","v":31.38388150360991},{"$f":"IF($C58=\"\",\"\",Simulação!S58)","v":"-"},{"$f":"IF($C58=\"\",\"\",Simulação!T58)","v":36.449394726654361},{"$f":"IF($C58=\"\",\"\",Simulação!U58)","v":"-"},{"$f":"IF($C58=\"\",\"\",Simulação!V58)","v":40.346954056665737},{"$f":"IF($C58=\"\",\"\",Simulação!W58)","v":"-"},{"$f":"IF($C58=\"\",\"\",Simulação!X58)","v":36.702447259088068},{"$f":"IF($C58=\"\",\"\",Simulação!Y58)","v":"-"},{"$f":"IF($C58=\"\",\"\",Simulação!Z58)","v":31.522638885779052},{"$f":"IF($C58=\"\",\"\",Simulação!AA58)","v":"-"},{"$f":"IF($C58=\"\",\"\",Simulação!AB58)","v":28.631555014283347},{"$f":"IF($C58=\"\",\"\",Simulação!AC58)","v":"-"},{"$f":"IF($C58=\"\",\"\",Simulação!AD58)","v":28.626474227638489},{"$f":"IF($C58=\"\",\"\",Simulação!AE58)","v":"-"},{"$f":"IF($C58=\"\",\"\",Simulação!AF58)","v":34.388240562009656},{"$f":"IF($C58=\"\",\"\",Simulação!AG58)","v":"-"},{"$f":"IF($C58=\"\",\"\",Simulação!AH58)","v":29.236023829000793},{"$f":"IF($C58=\"\",\"\",Simulação!AI58)","v":"-"},{"$f":"IF($C58=\"\",\"\",Simulação!AJ58)","v":33.045125393740342},{"$f":"IF($C58=\"\",\"\",Simulação!AK58)","v":"-"},{"$f":"IF($C58=\"\",\"\",Simulação!AL58)","v":32.02721881559642},{"$f":"IF($C58=\"\",\"\",Simulação!AM58)","v":"-"},{"$f":"IF($C58=\"\",\"\",Simulação!AN58)","v":32.217563507182206},{"$f":"IF($C58=\"\",\"\",Simulação!AO58)","v":"-"},{"$f":"IF($C58=\"\",\"\",Simulação!AP58)","v":36.406016086434107},{"$f":"IF($C58=\"\",\"\",Simulação!AQ58)","v":"-"},{"$f":"IF($C58=\"\",\"\",Simulação!AR58)","v":0}]
[null,52,{"$f":"IF(Chegadas!J60<=$C$5,Chegadas!J60,\"\")","v":41.600000000000009},{"$f":"IF($C59=\"\",\"\",Simulação!D59)","v":3.4346233194066196},{"$f":"IF($C59=\"\",\"\",Simulação!E59)","v":"*"},{"$f":"IF($C59=\"\",\"\",Simulação!F59)","v":44.328287269481706},{"$f":"IF($C59=\"\",\"\",Simulação!G59)","v":41.600000000000009},{"$f":"IF($C59=\"\",\"\",Simulação!H59)","v":45.034623319406627},{"$f":"IF($C59=\"\",\"\",Simulação!I59)","v":"-"},{"$f":"IF($C59=\"\",\"\",Simulação!J59)","v":38.404949403493823},{"$f":"IF($C59=\"\",\"\",Simulação!K59)","v":"-"},{"$f":"IF($C59=\"\",\"\",Simulação!L59)","v":41.571676164671736},{"$f":"IF($C59=\"\",\"\",Simulação!M59)","v":"-"},{"$f":"IF($C59=\"\",\"\",Simulação!N59)","v":37.447137078643564},{"$f":"IF($C59=\"\",\"\",Simulação!O59)","v":"-"},{"$f":"IF($C59=\"\",\"\",Simulação!P59)","v":40.740703322098867},{"$f":"IF($C59=\"\",\"\",Simulação!Q59)","v":"-"},{"$f":"IF($C59=\"\",\"\",Simulação!R59)","v":31.38388150360991},{"$f":"IF($C59=\"\",\"\",Simulação!S59)","v":"-"},{"$f":"IF($C59=\"\",\"\",Simulação!T59)","v":36.449394726654361},{"$f":"IF($C59=\"\",\"\",Simulação!U59)","v":"-"},{"$f":"IF($C59=\"\",\"\",Simulação!V59)","v":40.346954056665737},{"$f":"IF($C59=\"\",\"\",Simulação!W59)","v":"-"},{"$f":"IF($C59=\"\",\"\",Simulação!X59)","v":36.702447259088068},{"$f":"IF($C59=\"\",\"\",Simulação!Y59)","v":"-"},{"$f":"IF($C59=\"\",\"\",Simulação!Z59)","v":31.522638885779052},{"$f":"IF($C59=\"\",\"\",Simulação!AA59)","v":"-"},{"$f":"IF($C59=\"\",\"\",Simulação!AB59)","v":28.631555014283347},{"$f":"IF($C59=\"\",\"\",Simulação!AC59)","v":"-"},{"$f":"IF($C59=\"\",\"\",Simulação!AD59)","v":28.626474227638489},{"$f":"IF($C59=\"\",\"\",Simulação!AE59)","v":"-"},{"$f":"IF($C59=\"\",\"\",Simulação!AF59)","v":34.388240562009656},{"$f":"IF($C59=\"\",\"\",Simulação!AG59)","v":"-"},{"$f":"IF($C59=\"\",\"\",Simulação!AH59)","v":29.236023829000793},{"$f":"IF($C59=\"\",\"\",Simulação!AI59)","v":"-"},{"$f":"IF($C59=\"\",\"\",Simulação!AJ59)","v":33.045125393740342},{"$f":"IF($C59=\"\",\"\",Simulação!AK59)","v":"-"},{"$f":"IF($C59=\"\",\"\",Simulação!AL59)","v":32.02721881559642},{"$f":"IF($C59=\"\",\"\",Simulação!AM59)","v":"-"},{"$f":"IF($C59=\"\",\"\",Simulação!AN59)","v":32.217563507182206},{"$f":"IF($C59=\"\",\"\",Simulação!AO59)","v":"-"},{"$f":"IF($C59=\"\",\"\",Simulação!AP59)","v":36.406016086434107},{"$f":"IF($C59=\"\",\"\",Simulação!AQ59)","v":"-"},{"$f":"IF($C59=\"\",\"\",Simulação!AR59)","v":0}]
[null,53,{"$f":"IF(Chegadas!J61<=$C$5,Chegadas!J61,\"\")","v":41.820000000000007},{"$f":"IF($C60=\"\",\"\",Simulação!D60)","v":8.001649607860287},{"$f":"IF($C60=\"\",\"\",Simulação!E60)","v":"*"},{"$f":"IF($C60=\"\",\"\",Simulação!F60)","v":44.328287269481706},{"$f":"IF($C60=\"\",\"\",Simulação!G60)","v":"*"},{"$f":"IF($C60=\"\",\"\",Simulação!H60)","v":45.034623319406627},{"$f":"IF($C60=\"\",\"\",Simulação!I60)","v":41.820000000000007},{"$f":"IF($C60=\"\",\"\",Simulação!J60)","v":49.821649607860294},{"$f":"IF($C60=\"\",\"\",Simulação!K60)","v":"-"},{"$f":"IF($C60=\"\",\"\",Simulação!L60)","v":41.571676164671736},{"$f":"IF($C60=\"\",\"\",Simulação!M60)","v":"-"},{"$f":"IF($C60=\"\",\"\",Simulação!N60)","v":37.447137078643564},{"$f":"IF($C60=\"\",\"\",Simulação!O60)","v":"-"},{"$f":"IF($C60=\"\",\"\",Simulação!P60)","v":40.740703322098867},{"$f":"IF($C60=\"\",\"\",Simulação!Q60)","v":"-"},{"$f":"IF($C60=\"\",\"\",Simulação!R60)","v":31.38388150360991},{"$f":"IF($C60=\"\",\"\",Simulação!S60)","v":"-"},{"$f":"IF($C60=\"\",\"\",Simulação!T60)","v":36.449394726654361},{"$f":"IF($C60=\"\",\"\",Simulação!U60)","v":"-"},{"$f":"IF($C60=\"\",\"\",Simulação!V60)","v":40.346954056665737},{"$f":"IF($C60=\"\",\"\",Simulação!W60)","v":"-"},{"$f":"IF($C60=\"\",\"\",Simulação!X60)","v":36.702447259088068},{"$f":"IF($C60=\"\",\"\",Simulação!Y60)","v":"-"},{"$f":"IF($C60=\"\",\"\",Simulação!Z60)","v":31.522638885779052},{"$f":"IF($C60=\"\",\"\",Simulação!AA60)","v":"-"},{"$f":"IF($C60=\"\",\"\",Simulação!AB60)","v":28.631555014283347},{"$f":"IF($C60=\"\",\"\",Simulação!AC60)","v":"-"},{"$f":"IF($C60=\"\",\"\",Simulação!AD60)","v":28.626474227638489},{"$f":"IF($C60=\"\",\"\",Simulação!AE60)","v":"-"},{"$f":"IF($C60=\"\",\"\",Simulação!AF60)","v":34.388240562009656},{"$f":"IF($C60=\"\",\"\",Simulação!AG60)","v":"-"},{"$f":"IF($C60=\"\",\"\",Simulação!AH60)","v":29.236023829000793},{"$f":"IF($C60=\"\",\"\",Simulação!AI60)","v":"-"},{"$f":"IF($C60=\"\",\"\",Simulação!AJ60)","v":33.045125393740342},{"$f":"IF($C60=\"\",\"\",Simulação!AK60)","v":"-"},{"$f":"IF($C60=\"\",\"\",Simulação!AL60)","v":32.02721881559642},{"$f":"IF($C60=\"\",\"\",Simulação!AM60)","v":"-"},{"$f":"IF($C60=\"\",\"\",Simulação!AN60)","v":32.217563507182206},{"$f":"IF($C60=\"\",\"\",Simulação!AO60)","v":"-"},{"$f":"IF($C60=\"\",\"\",Simulação!AP60)","v":36.406016086434107},{"$f":"IF($C60=\"\",\"\",Simulação!AQ60)","v":"-"},{"$f":"IF($C60=\"\",\"\",Simulação!AR60)","v":0}]
[null,54,{"$f":"IF(Chegadas!J62<=$C$5,Chegadas!J62,\"\")","v":44.320000000000007},{"$f":"IF($C61=\"\",\"\",Simulação!D61)","v":7.8210683582502307},{"$f":"IF($C61=\"\",\"\",Simulação!E61)","v":"*"},{"$f":"IF($C61=\"\",\"\",Simulação!F61)","v":44.328287269481706},{"$f":"IF($C61=\"\",\"\",Simulação!G61)","v":"*"},{"$f":"IF($C61=\"\",\"\",Simulação!H61)","v":45.034623319406627},{"$f":"IF($C61=\"\",\"\",Simulação!I61)","v":"*"},{"$f":"IF($C61=\"\",\"\",Simulação!J61)","v":49.821649607860294},{"$f":"IF($C61=\"\",\"\",Simulação!K61)","v":44.320000000000007},{"$f":"IF($C61=\"\",\"\",Simulação!L61)","v":52.141068358250237},{"$f":"IF($C61=\"\",\"\",Simulação!M61)","v":"-"},{"$f":"IF($C61=\"\",\"\",Simulação!N61)","v":37.447137078643564},{"$f":"IF($C61=\"\",\"\",Simulação!O61)","v":"-"},{"$f":"IF($C61=\"\",\"\",Simulação!P61)","v":40.740703322098867},{"$f":"IF($C61=\"\",\"\",Simulação!Q61)","v":"-"},{"$f":"IF($C61=\"\",\"\",Simulação!R61)","v":31.38388150360991},{"$f":"IF($C61=\"\",\"\",Simulação!S61)","v":"-"},{"$f":"IF($C61=\"\",\"\",Simulação!T61)","v":36.449394726654361},{"$f":"IF($C61=\"\",\"\",Simulação!U61)","v":"-"},{"$f":"IF($C61=\"\",\"\",Simulação!V61)","v":40.346954056665737},{"$f":"IF($C61=\"\",\"\",Simulação!W61)","v":"-"},{"$f":"IF($C61=\"\",\"\",Simulação!X61)","v":36.702447259088068},{"$f":"IF($C61=\"\",\"\",Simulação!Y61)","v":"-"},{"$f":"IF($C61=\"\",\"\",Simulação!Z61)","v":31.522638885779052},{"$f":"IF($C61=\"\",\"\",Simulação!AA61)","v":"-"},{"$f":"IF($C61=\"\",\"\",Simulação!AB61)","v":28.631555014283347},{"$f":"IF($C61=\"\",\"\",Simulação!AC61)","v":"-"},{"$f":"IF($C61=\"\",\"\",Simulação!AD61)","v":28.626474227638489},{"$f":"IF($C61=\"\",\"\",Simulação!AE61)","v":"-"},{"$f":"IF($C61=\"\",\"\",Simulação!AF61)","v":34.388240562009656},{"$f":"IF($C61=\"\",\"\",Simulação!AG61)","v":"-"},{"$f":"IF($C61=\"\",\"\",Simulação!AH61)","v":29.236023829000793},{"$f":"IF($C61=\"\",\"\",Simulação!AI61)","v":"-"},{"$f":"IF($C61=\"\",\"\",Simulação!AJ61)","v":33.045125393740342},{"$f":"IF($C61=\"\",\"\",Simulação!AK61)","v":"-"},{"$f":"IF($C61=\"\",\"\",Simulação!AL61)","v":32.02721881559642},{"$f":"IF($C61=\"\",\"\",Simulação!AM61)","v":"-"},{"$f":"IF($C61=\"\",\"\",Simulação!AN61)","v":32.217563507182206},{"$f":"IF($C61=\"\",\"\",Simulação!AO61)","v":"-"},{"$f":"IF($C61=\"\",\"\",Simulação!AP61)","v":36.406016086434107},{"$f":"IF($C61=\"\",\"\",Simulação!AQ61)","v":"-"},{"$f":"IF($C61=\"\",\"\",Simulação!AR61)","v":0}]
[null,55,{"$f":"IF(Chegadas!J63<=$C$5,Chegadas!J63,\"\")","v":46.52000000000001},{"$f":"IF($C62=\"\",\"\",Simulação!D62)","v":4.836571572336843},{"$f":"IF($C62=\"\",\"\",Simulação!E62)","v":46.52000000000001},{"$f":"IF($C62=\"\",\"\",Simulação!F62)","v":51.356571572336854},{"$f":"IF($C62=\"\",\"\",Simulação!G62)","v":"-"},{"$f":"IF($C62=\"\",\"\",Simulação!H62)","v":45.034623319406627},{"$f":"IF($C62=\"\",\"\",Simulação!I62)","v":"-"},{"$f":"IF($C62=\"\",\"\",Simulação!J62)","v":49.821649607860294},{"$f":"IF($C62=\"\",\"\",Simulação!K62)","v":"-"},{"$f":"IF($C62=\"\",\"\",Simulação!L62)","v":52.141068358250237},{"$f":"IF($C62=\"\",\"\",Simulação!M62)","v":"-"},{"$f":"IF($C62=\"\",\"\",Simulação!N62)","v":37.447137078643564},{"$f":"IF($C62=\"\",\"\",Simulação!O62)","v":"-"},{"$f":"IF($C62=\"\",\"\",Simulação!P62)","v":40.740703322098867},{"$f":"IF($C62=\"\",\"\",Simulação!Q62)","v":"-"},{"$f":"IF($C62=\"\",\"\",Simulação!R62)","v":31.38388150360991},{"$f":"IF($C62=\"\",\"\",Simulação!S62)","v":"-"},{"$f":"IF($C62=\"\",\"\",Simulação!T62)","v":36.449394726654361},{"$f":"IF($C62=\"\",\"\",Simulação!U62)","v":"-"},{"$f":"IF($C62=\"\",\"\",Simulação!V62)","v":40.346954056665737},{"$f":"IF($C62=\"\",\"\",Simulação!W62)","v":"-"},{"$f":"IF($C62=\"\",\"\",Simulação!X62)","v":36.702447259088068},{"$f":"IF($C62=\"\",\"\",Simulação!Y62)","v":"-"},{"$f":"IF($C62=\"\",\"\",Simulação!Z62)","v":31.522638885779052},{"$f":"IF($C62=\"\",\"\",Simulação!AA62)","v":"-"},{"$f":"IF($C62=\"\",\"\",Simulação!AB62)","v":28.631555014283347},{"$f":"IF($C62=\"\",\"\",Simulação!AC62)","v":"-"},{"$f":"IF($C62=\"\",\"\",Simulação!AD62)","v":28.626474227638489},{"$f":"IF($C62=\"\",\"\",Simulação!AE62)","v":"-"},{"$f":"IF($C62=\"\",\"\",Simulação!AF62)","v":34.388240562009656},{"$f":"IF($C62=\"\",\"\",Simulação!AG62)","v":"-"},{"$f":"IF($C62=\"\",\"\",Simulação!AH62)","v":29.236023829000793},{"$f":"IF($C62=\"\",\"\",Simulação!AI62)","v":"-"},{"$f":"IF($C62=\"\",\"\",Simulação!AJ62)","v":33.045125393740342},{"$f":"IF($C62=\"\",\"\",Simulação!AK62)","v":"-"},{"$f":"IF($C62=\"\",\"\",Simulação!AL62)","v":32.02721881559642},{"$f":"IF($C62=\"\",\"\",Simulação!AM62)","v":"-"},{"$f":"IF($C62=\"\",\"\",Simulação!AN62)","v":32.217563507182206},{"$f":"IF($C62=\"\",\"\",Simulação!AO62)","v":"-"},{"$f":"IF($C62=\"\",\"\",Simulação!AP62)","v":36.406016086434107},{"$f":"IF($C62=\"\",\"\",Simulação!AQ62)","v":"-"},{"$f":"IF($C62=\"\",\"\",Simulação!AR62)","v":0}]
[null,56,{"$f":"IF(Chegadas!J64<=$C$5,Chegadas!J64,\"\")","v":46.790000000000013},{"$f":"IF($C63=\"\",\"\",Simulação!D63)","v":7.9953052404550924},{"$f":"IF($C63=\"\",\"\",Simulação!E63)","v":"*"},{"$f":"IF($C63=\"\",\"\",Simulação!F63)","v":51.356571572336854},{"$f":"IF($C63=\"\",\"\",Simulação!G63)","v":46.790000000000013},{"$f":"IF($C63=\"\",\"\",Simulação!H63)","v":54.785305240455102},{"$f":"IF($C63=\"\",\"\",Simulação!I63)","v":"-"},{"$f":"IF($C63=\"\",\"\",Simulação!J63)","v":49.821649607860294},{"$f":"IF($C63=\"\",\"\",Simulação!K63)","v":"-"},{"$f":"IF($C63=\"\",\"\",Simulação!L63)","v":52.141068358250237},{"$f":"IF($C63=\"\",\"\",Simulação!M63)","v":"-"},{"$f":"IF($C63=\"\",\"\",Simulação!N63)","v":37.447137078643564},{"$f":"IF($C63=\"\",\"\",Simulação!O63)","v":"-"},{"$f":"IF($C63=\"\",\"\",Simulação!P63)","v":40.740703322098867},{"$f":"IF($C63=\"\",\"\",Simulação!Q63)","v":"-"},{"$f":"IF($C63=\"\",\"\",Simulação!R63)","v":31.38388150360991},{"$f":"IF($C63=\"\",\"\",Simulação!S63)","v":"-"},{"$f":"IF($C63=\"\",\"\",Simulação!T63)","v":36.449394726654361},{"$f":"IF($C63=\"\",\"\",Simulação!U63)","v":"-"},{"$f":"IF($C63=\"\",\"\",Simulação!V63)","v":40.346954056665737},{"$f":"IF($C63=\"\",\"\",Simulação!W63)","v":"-"},{"$f":"IF($C63=\"\",\"\",Simulação!X63)","v":36.702447259088068},{"$f":"IF($C63=\"\",\"\",Simulação!Y63)","v":"-"},{"$f":"IF($C63=\"\",\"\",Simulação!Z63)","v":31.522638885779052},{"$f":"IF($C63=\"\",\"\",Simulação!AA63)","v":"-"},{"$f":"IF($C63=\"\",\"\",Simulação!AB63)","v":28.631555014283347},{"$f":"IF($C63=\"\",\"\",Simulação!AC63)","v":"-"},{"$f":"IF($C63=\"\",\"\",Simulação!AD63)","v":28.626474227638489},{"$f":"IF($C63=\"\",\"\",Simulação!AE63)","v":"-"},{"$f":"IF($C63=\"\",\"\",Simulação!AF63)","v":34.388240562009656},{"$f":"IF($C63=\"\",\"\",Simulação!AG63)","v":"-"},{"$f":"IF($C63=\"\",\"\",Simulação!AH63)","v":29.236023829000793},{"$f":"IF($C63=\"\",\"\",Simulação!AI63)","v":"-"},{"$f":"IF($C63=\"\",\"\",Simulação!AJ63)","v":33.045125393740342},{"$f":"IF($C63=\"\",\"\",Simulação!AK63)","v":"-"},{"$f":"IF($C63=\"\",\"\",Simulação!AL63)","v":32.02721881559642},{"$f":"IF($C63=\"\",\"\",Simulação!AM63)","v":"-"},{"$f":"IF($C63=\"\",\"\",Simulação!AN63)","v":32.217563507182206},{"$f":"IF($C63=\"\",\"\",Simulação!AO63)","v":"-"},{"$f":"IF($C63=\"\",\"\",Simulação!AP63)","v":36.406016086434107},{"$f":"IF($C63=\"\",\"\",Simulação!AQ63)","v":"-"},{"$f":"IF($C63=\"\",\"\",Simulação!AR63)","v":0}]
[null,57,{"$f":"IF(Chegadas!J65<=$C$5,Chegadas!J65,\"\")","v":47.210000000000015},{"$f":"IF($C64=\"\",\"\",Simulação!D64)","v":4.8369406341538488},{"$f":"IF($C64=\"\",\"\",Simulação!E64)","v":"*"},{"$f":"IF($C64=\"\",\"\",Simulação!F64)","v":51.356571572336854},{"$f":"IF($C64=\"\",\"\",Simulação!G64)","v":"*"},{"$f":"IF($C64=\"\",\"\",Simulação!H64)","v":54.785305240455102},{"$f":"IF($C64=\"\",\"\",Simulação!I64)","v":"*"},{"$f":"IF($C64=\"\",\"\",Simulação!J64)","v":49.821649607860294},{"$f":"IF($C64=\"\",\"\",Simulação!K64)","v":"*"},{"$f":"IF($C64=\"\",\"\",Simulação!L64)","v":52.141068358250237},{"$f":"IF($C64=\"\",\"\",Simulação!M64)","v":47.210000000000015},{"$f":"IF($C64=\"\",\"\",Simulação!N64)","v":52.046940634153863},{"$f":"IF($C64=\"\",\"\",Simulação!O64)","v":"-"},{"$f":"IF($C64=\"\",\"\",Simulação!P64)","v":40.740703322098867},{"$f":"IF($C64=\"\",\"\",Simulação!Q64)","v":"-"},{"$f":"IF($C64=\"\",\"\",Simulação!R64)","v":31.38388150360991},{"$f":"IF($C64=\"\",\"\",Simulação!S64)","v":"-"},{"$f":"IF($C64=\"\",\"\",Simulação!T64)","v":36.449394726654361},{"$f":"IF($C64=\"\",\"\",Simulação!U64)","v":"-"},{"$f":"IF($C64=\"\",\"\",Simulação!V64)","v":40.346954056665737},{"$f":"IF($C64=\"\",\"\",Simulação!W64)","v":"-"},{"$f":"IF($C64=\"\",\"\",Simulação!X64)","v":36.702447259088068},{"$f":"IF($C64=\"\",\"\",Simulação!Y64)","v":"-"},{"$f":"IF($C64=\"\",\"\",Simulação!Z64)","v":31.522638885779052},{"$f":"IF($C64=\"\",\"\",Simulação!AA64)","v":"-"},{"$f":"IF($C64=\"\",\"\",Simulação!AB64)","v":28.631555014283347},{"$f":"IF($C64=\"\",\"\",Simulação!AC64)","v":"-"},{"$f":"IF($C64=\"\",\"\",Simulação!AD64)","v":28.626474227638489},{"$f":"IF($C64=\"\",\"\",Simulação!AE64)","v":"-"},{"$f":"IF($C64=\"\",\"\",Simulação!AF64)","v":34.388240562009656},{"$f":"IF($C64=\"\",\"\",Simulação!AG64)","v":"-"},{"$f":"IF($C64=\"\",\"\",Simulação!AH64)","v":29.236023829000793},{"$f":"IF($C64=\"\",\"\",Simulação!AI64)","v":"-"},{"$f":"IF($C64=\"\",\"\",Simulação!AJ64)","v":33.045125393740342},{"$f":"IF($C64=\"\",\"\",Simulação!AK64)","v":"-"},{"$f":"IF($C64=\"\",\"\",Simulação!AL64)","v":32.02721881559642},{"$f":"IF($C64=\"\",\"\",Simulação!AM64)","v":"-"},{"$f":"IF($C64=\"\",\"\",Simulação!AN64)","v":32.217563507182206},{"$f":"IF($C64=\"\",\"\",Simulação!AO64)","v":"-"},{"$f":"IF($C64=\"\",\"\",Simulação!AP64)","v":36.406016086434107},{"$f":"IF($C64=\"\",\"\",Simulação!AQ64)","v":"-"},{"$f":"IF($C64=\"\",\"\",Simulação!AR64)","v":0}]
[null,58,{"$f":"IF(Chegadas!J66<=$C$5,Chegadas!J66,\"\")","v":48.070000000000014},{"$f":"IF($C65=\"\",\"\",Simulação!D65)","v":7.2676941633077545},{"$f":"IF($C65=\"\",\"\",Simulação!E65)","v":"*"},{"$f":"IF($C65=\"\",\"\",Simulação!F65)","v":51.356571572336854},{"$f":"IF($C65=\"\",\"\",Simulação!G65)","v":"*"},{"$f":"IF($C65=\"\",\"\",Simulação!H65)","v":54.785305240455102},{"$f":"IF($C65=\"\",\"\",Simulação!I65)","v":"*"},{"$f":"IF($C65=\"\",\"\",Simulação!J65)","v":49.821649607860294},{"$f":"IF($C65=\"\",\"\",Simulação!K65)","v":"*"},{"$f":"IF($C65=\"\",\"\",Simulação!L65)","v":52.141068358250237},{"$f":"IF($C65=\"\",\"\",Simulação!M65)","v":"*"},{"$f":"IF($C65=\"\",\"\",Simulação!N65)","v":52.046940634153863},{"$f":"IF($C65=\"\",\"\",Simulação!O65)","v":48.070000000000014},{"$f":"IF($C65=\"\",\"\",Simulação!P65)","v":55.337694163307766},{"$f":"IF($C65=\"\",\"\",Simulação!Q65)","v":"-"},{"$f":"IF($C65=\"\",\"\",Simulação!R65)","v":31.38388150360991},{"$f":"IF($C65=\"\",\"\",Simulação!S65)","v":"-"},{"$f":"IF($C65=\"\",\"\",Simulação!T65)","v":36.449394726654361},{"$f":"IF($C65=\"\",\"\",Simulação!U65)","v":"-"},{"$f":"IF($C65=\"\",\"\",Simulação!V65)","v":40.346954056665737},{"$f":"IF($C65=\"\",\"\",Simulação!W65)","v":"-"},{"$f":"IF($C65=\"\",\"\",Simulação!X65)","v":36.702447259088068},{"$f":"IF($C65=\"\",\"\",Simulação!Y65)","v":"-"},{"$f":"IF($C65=\"\",\"\",Simulação!Z65)","v":31.522638885779052},{"$f":"IF($C65=\"\",\"\",Simulação!AA65)","v":"-"},{"$f":"IF($C65=\"\",\"\",Simulação!AB65)","v":28.631555014283347},{"$f":"IF($C65=\"\",\"\",Simulação!AC65)","v":"-"},{"$f":"IF($C65=\"\",\"\",Simulação!AD65)","v":28.626474227638489},{"$f":"IF($C65=\"\",\"\",Simulação!AE65)","v":"-"},{"$f":"IF($C65=\"\",\"\",Simulação!AF65)","v":34.388240562009656},{"$f":"IF($C65=\"\",\"\",Simulação!AG65)","v":"-"},{"$f":"IF($C65=\"\",\"\",Simulação!AH65)","v":29.236023829000793},{"$f":"IF($C65=\"\",\"\",Simulação!AI65)","v":"-"},{"$f":"IF($C65=\"\",\"\",Simulação!AJ65)","v":33.045125393740342},{"$f":"IF($C65=\"\",\"\",Simulação!AK65)","v":"-"},{"$f":"IF($C65=\"\",\"\",Simulação!AL65)","v":32.02721881559642},{"$f":"IF($C65=\"\",\"\",Simulação!AM65)","v":"-"},{"$f":"IF($C65=\"\",\"\",Simulação!AN65)","v":32.217563507182206},{"$f":"IF($C65=\"\",\"\",Simulação!AO65)","v":"-"},{"$f":"IF($C65=\"\",\"\",Simulação!AP65)","v":36.406016086434107},{"$f":"IF($C65=\"\",\"\",Simulação!AQ65)","v":"-"},{"$f":"IF($C65=\"\",\"\",Simulação!AR65)","v":0}]
[null,59,{"$f":"IF(Chegadas!J67<=$C$5,Chegadas!J67,\"\")","v":48.090000000000018},{"$f":"IF($C66=\"\",\"\",Simulação!D66)","v":4.1393691194366191},{"$f":"IF($C66=\"\",\"\",Simulação!E66)","v":"*"},{"$f":"IF($C66=\"\",\"\",Simulação!F66)","v":51.356571572336854},{"$f":"IF($C66=\"\",\"\",Simulação!G66)","v":"*"},{"$f":"IF($C66=\"\",\"\",Simulação!H66)","v":54.785305240455102},{"$f":"IF($C66=\"\",\"\",Simulação!I66)","v":"*"},{"$f":"IF($C66=\"\",\"\",Simulação!J66)","v":49.821649607860294},{"$f":"IF($C66=\"\",\"\",Simulação!K66)","v":"*"},{"$f":"IF($C66=\"\",\"\",Simulação!L66)","v":52.141068358250237},{"$f":"IF($C66=\"\",\"\",Simulação!M66)","v":"*"},{"$f":"IF($C66=\"\",\"\",Simulação!N66)","v":52.046940634153863},{"$f":"IF($C66=\"\",\"\",Simulação!O66)","v":"*"},{"$f":"IF($C66=\"\",\"\",Simulação!P66)","v":55.337694163307766},{"$f":"IF($C66=\"\",\"\",Simulação!Q66)","v":48.090000000000018},{"$f":"IF($C66=\"\",\"\",Simulação!R66)","v":52.22936911943664},{"$f":"IF($C66=\"\",\"\",Simulação!S66)","v":"-"},{"$f":"IF($C66=\"\",\"\",Simulação!T66)","v":36.449394726654361},{"$f":"IF($C66=\"\",\"\",Simulação!U66)","v":"-"},{"$f":"IF($C66=\"\",\"\",Simulação!V66)","v":40.346954056665737},{"$f":"IF($C66=\"\",\"\",Simulação!W66)","v":"-"},{"$f":"IF($C66=\"\",\"\",Simulação!X66)","v":36.702447259088068},{"$f":"IF($C66=\"\",\"\",Simulação!Y66)","v":"-"},{"$f":"IF($C66=\"\",\"\",Simulação!Z66)","v":31.522638885779052},{"$f":"IF($C66=\"\",\"\",Simulação!AA66)","v":"-"},{"$f":"IF($C66=\"\",\"\",Simulação!AB66)","v":28.631555014283347},{"$f":"IF($C66=\"\",\"\",Simulação!AC66)","v":"-"},{"$f":"IF($C66=\"\",\"\",Simulação!AD66)","v":28.626474227638489},{"$f":"IF($C66=\"\",\"\",Simulação!AE66)","v":"-"},{"$f":"IF($C66=\"\",\"\",Simulação!AF66)","v":34.388240562009656},{"$f":"IF($C66=\"\",\"\",Simulação!AG66)","v":"-"},{"$f":"IF($C66=\"\",\"\",Simulação!AH66)","v":29.236023829000793},{"$f":"IF($C66=\"\",\"\",Simulação!AI66)","v":"-"},{"$f":"IF($C66=\"\",\"\",Simulação!AJ66)","v":33.045125393740342},{"$f":"IF($C66=\"\",\"\",Simulação!AK66)","v":"-"},{"$f":"IF($C66=\"\",\"\",Simulação!AL66)","v":32.02721881559642},{"$f":"IF($C66=\"\",\"\",Simulação!AM66)","v":"-"},{"$f":"IF($C66=\"\",\"\",Simulação!AN66)","v":32.217563507182206},{"$f":"IF($C66=\"\",\"\",Simulação!AO66)","v":"-"},{"$f":"IF($C66=\"\",\"\",Simulação!AP66)","v":36.406016086434107},{"$f":"IF($C66=\"\",\"\",Simulação!AQ66)","v":"-"},{"$f":"IF($C66=\"\",\"\",Simulação!AR66)","v":0}]
[null,60,{"$f":"IF(Chegadas!J68<=$C$5,Chegadas!J68,\"\")","v":49.210000000000015},{"$f":"IF($C67=\"\",\"\",Simulação!D67)","v":8.9830782706854659},{"$f":"IF($C67=\"\",\"\",Simulação!E67)","v":"*"},{"$f":"IF($C67=\"\",\"\",Simulação!F67)","v":51.356571572336854},{"$f":"IF($C67=\"\",\"\",Simulação!G67)","v":"*"},{"$f":"IF($C67=\"\",\"\",Simulação!H67)","v":54.785305240455102},{"$f":"IF($C67=\"\",\"\",Simulação!I67)","v":"*"},{"$f":"IF($C67=\"\",\"\",Simulação!J67)","v":49.821649607860294},{"$f":"IF($C67=\"\",\"\",Simulação!K67)","v":"*"},{"$f":"IF($C67=\"\",\"\",Simulação!L67)","v":52.141068358250237},{"$f":"IF($C67=\"\",\"\",Simulação!M67)","v":"*"},{"$f":"IF($C67=\"\",\"\",Simulação!N67)","v":52.046940634153863},{"$f":"IF($C67=\"\",\"\",Simulação!O67)","v":"*"},{"$f":"IF($C67=\"\",\"\",Simulação!P67)","v":55.337694163307766},{"$f":"IF($C67=\"\",\"\",Simulação!Q67)","v":"*"},{"$f":"IF($C67=\"\",\"\",Simulação!R67)","v":52.22936911943664},{"$f":"IF($C67=\"\",\"\",Simulação!S67)","v":49.210000000000015},{"$f":"IF($C67=\"\",\"\",Simulação!T67)","v":58.193078270685483},{"$f":"IF($C67=\"\",\"\",Simulação!U67)","v":"-"},{"$f":"IF($C67=\"\",\"\",Simulação!V67)","v":40.346954056665737},{"$f":"IF($C67=\"\",\"\",Simulação!W67)","v":"-"},{"$f":"IF($C67=\"\",\"\",Simulação!X67)","v":36.702447259088068},{"$f":"IF($C67=\"\",\"\",Simulação!Y67)","v":"-"},{"$f":"IF($C67=\"\",\"\",Simulação!Z67)","v":31.522638885779052},{"$f":"IF($C67=\"\",\"\",Simulação!AA67)","v":"-"},{"$f":"IF($C67=\"\",\"\",Simulação!AB67)","v":28.631555014283347},{"$f":"IF($C67=\"\",\"\",Simulação!AC67)","v":"-"},{"$f":"IF($C67=\"\",\"\",Simulação!AD67)","v":28.626474227638489},{"$f":"IF($C67=\"\",\"\",Simulação!AE67)","v":"-"},{"$f":"IF($C67=\"\",\"\",Simulação!AF67)","v":34.388240562009656},{"$f":"IF($C67=\"\",\"\",Simulação!AG67)","v":"-"},{"$f":"IF($C67=\"\",\"\",Simulação!AH67)","v":29.236023829000793},{"$f":"IF($C67=\"\",\"\",Simulação!AI67)","v":"-"},{"$f":"IF($C67=\"\",\"\",Simulação!AJ67)","v":33.045125393740342},{"$f":"IF($C67=\"\",\"\",Simulação!AK67)","v":"-"},{"$f":"IF($C67=\"\",\"\",Simulação!AL67)","v":32.02721881559642},{"$f":"IF($C67=\"\",\"\",Simulação!AM67)","v":"-"},{"$f":"IF($C67=\"\",\"\",Simulação!AN67)","v":32.217563507182206},{"$f":"IF($C67=\"\",\"\",Simulação!AO67)","v":"-"},{"$f":"IF($C67=\"\",\"\",Simulação!AP67)","v":36.406016086434107},{"$f":"IF($C67=\"\",\"\",Simulação!AQ67)","v":"-"},{"$f":"IF($C67=\"\",\"\",Simulação!AR67)","v":0}]
[null,61,{"$f":"IF(Chegadas!J69<=$C$5,Chegadas!J69,\"\")","v":50.540000000000013},{"$f":"IF($C68=\"\",\"\",Simulação!D68)","v":7.031485964810873},{"$f":"IF($C68=\"\",\"\",Simulação!E68)","v":"*"},{"$f":"IF($C68=\"\",\"\",Simulação!F68)","v":51.356571572336854},{"$f":"IF($C68=\"\",\"\",Simulação!G68)","v":"*"},{"$f":"IF($C68=\"\",\"\",Simulação!H68)","v":54.785305240455102},{"$f":"IF($C68=\"\",\"\",Simulação!I68)","v":50.540000000000013},{"$f":"IF($C68=\"\",\"\",Simulação!J68)","v":57.57148596481089},{"$f":"IF($C68=\"\",\"\",Simulação!K68)","v":"-"},{"$f":"IF($C68=\"\",\"\",Simulação!L68)","v":52.141068358250237},{"$f":"IF($C68=\"\",\"\",Simulação!M68)","v":"-"},{"$f":"IF($C68=\"\",\"\",Simulação!N68)","v":52.046940634153863},{"$f":"IF($C68=\"\",\"\",Simulação!O68)","v":"-"},{"$f":"IF($C68=\"\",\"\",Simulação!P68)","v":55.337694163307766},{"$f":"IF($C68=\"\",\"\",Simulação!Q68)","v":"-"},{"$f":"IF($C68=\"\",\"\",Simulação!R68)","v":52.22936911943664},{"$f":"IF($C68=\"\",\"\",Simulação!S68)","v":"-"},{"$f":"IF($C68=\"\",\"\",Simulação!T68)","v":58.193078270685483},{"$f":"IF($C68=\"\",\"\",Simulação!U68)","v":"-"},{"$f":"IF($C68=\"\",\"\",Simulação!V68)","v":40.346954056665737},{"$f":"IF($C68=\"\",\"\",Simulação!W68)","v":"-"},{"$f":"IF($C68=\"\",\"\",Simulação!X68)","v":36.702447259088068},{"$f":"IF($C68=\"\",\"\",Simulação!Y68)","v":"-"},{"$f":"IF($C68=\"\",\"\",Simulação!Z68)","v":31.522638885779052},{"$f":"IF($C68=\"\",\"\",Simulação!AA68)","v":"-"},{"$f":"IF($C68=\"\",\"\",Simulação!AB68)","v":28.631555014283347},{"$f":"IF($C68=\"\",\"\",Simulação!AC68)","v":"-"},{"$f":"IF($C68=\"\",\"\",Simulação!AD68)","v":28.626474227638489},{"$f":"IF($C68=\"\",\"\",Simulação!AE68)","v":"-"},{"$f":"IF($C68=\"\",\"\",Simulação!AF68)","v":34.388240562009656},{"$f":"IF($C68=\"\",\"\",Simulação!AG68)","v":"-"},{"$f":"IF($C68=\"\",\"\",Simulação!AH68)","v":29.236023829000793},{"$f":"IF($C68=\"\",\"\",Simulação!AI68)","v":"-"},{"$f":"IF($C68=\"\",\"\",Simulação!AJ68)","v":33.045125393740342},{"$f":"IF($C68=\"\",\"\",Simulação!AK68)","v":"-"},{"$f":"IF($C68=\"\",\"\",Simulação!AL68)","v":32.02721881559642},{"$f":"IF($C68=\"\",\"\",Simulação!AM68)","v":"-"},{"$f":"IF($C68=\"\",\"\",Simulação!AN68)","v":32.217563507182206},{"$f":"IF($C68=\"\",\"\",Simulação!AO68)","v":"-"},{"$f":"IF($C68=\"\",\"\",Simulação!AP68)","v":36.406016086434107},{"$f":"IF($C68=\"\",\"\",Simulação!AQ68)","v":"-"},{"$f":"IF($C68=\"\",\"\",Simulação!AR68)","v":0}]
[null,62,{"$f":"IF(Chegadas!J70<=$C$5,Chegadas!J70,\"\")","v":51.650000000000013},{"$f":"IF($C69=\"\",\"\",Simulação!D69)","v":3.8075223193645171},{"$f":"IF($C69=\"\",\"\",Simulação!E69)","v":51.650000000000013},{"$f":"IF($C69=\"\",\"\",Simulação!F69)","v":55.457522319364529},{"$f":"IF($C69=\"\",\"\",Simulação!G69)","v":"-"},{"$f":"IF($C69=\"\",\"\",Simulação!H69)","v":54.785305240455102},{"$f":"IF($C69=\"\",\"\",Simulação!I69)","v":"-"},{"$f":"IF($C69=\"\",\"\",Simulação!J69)","v":57.57148596481089},{"$f":"IF($C69=\"\",\"\",Simulação!K69)","v":"-"},{"$f":"IF($C69=\"\",\"\",Simulação!L69)","v":52.141068358250237},{"$f":"IF($C69=\"\",\"\",Simulação!M69)","v":"-"},{"$f":"IF($C69=\"\",\"\",Simulação!N69)","v":52.046940634153863},{"$f":"IF($C69=\"\",\"\",Simulação!O69)","v":"-"},{"$f":"IF($C69=\"\",\"\",Simulação!P69)","v":55.337694163307766},{"$f":"IF($C69=\"\",\"\",Simulação!Q69)","v":"-"},{"$f":"IF($C69=\"\",\"\",Simulação!R69)","v":52.22936911943664},{"$f":"IF($C69=\"\",\"\",Simulação!S69)","v":"-"},{"$f":"IF($C69=\"\",\"\",Simulação!T69)","v":58.193078270685483},{"$f":"IF($C69=\"\",\"\",Simulação!U69)","v":"-"},{"$f":"IF($C69=\"\",\"\",Simulação!V69)","v":40.346954056665737},{"$f":"IF($C69=\"\",\"\",Simulação!W69)","v":"-"},{"$f":"IF($C69=\"\",\"\",Simulação!X69)","v":36.702447259088068},{"$f":"IF($C69=\"\",\"\",Simulação!Y69)","v":"-"},{"$f":"IF($C69=\"\",\"\",Simulação!Z69)","v":31.522638885779052},{"$f":"IF($C69=\"\",\"\",Simulação!AA69)","v":"-"},{"$f":"IF($C69=\"\",\"\",Simulação!AB69)","v":28.631555014283347},{"$f":"IF($C69=\"\",\"\",Simulação!AC69)","v":"-"},{"$f":"IF($C69=\"\",\"\",Simulação!AD69)","v":28.626474227638489},{"$f":"IF($C69=\"\",\"\",Simulação!AE69)","v":"-"},{"$f":"IF($C69=\"\",\"\",Simulação!AF69)","v":34.388240562009656},{"$f":"IF($C69=\"\",\"\",Simulação!AG69)","v":"-"},{"$f":"IF($C69=\"\",\"\",Simulação!AH69)","v":29.236023829000793},{"$f":"IF($C69=\"\",\"\",Simulação!AI69)","v":"-"},{"$f":"IF($C69=\"\",\"\",Simulação!AJ69)","v":33.045125393740342},{"$f":"IF($C69=\"\",\"\",Simulação!AK69)","v":"-"},{"$f":"IF($C69=\"\",\"\",Simulação!AL69)","v":32.02721881559642},{"$f":"IF($C69=\"\",\"\",Simulação!AM69)","v":"-"},{"$f":"IF($C69=\"\",\"\",Simulação!AN69)","v":32.217563507182206},{"$f":"IF($C69=\"\",\"\",Simulação!AO69)","v":"-"},{"$f":"IF($C69=\"\",\"\",Simulação!AP69)","v":36.406016086434107},{"$f":"IF($C69=\"\",\"\",Simulação!AQ69)","v":"-"},{"$f":"IF($C69=\"\",\"\",Simulação!AR69)","v":0}]
[null,63,{"$f":"IF(Chegadas!J71<=$C$5,Chegadas!J71,\"\")","v":51.810000000000009},{"$f":"IF($C70=\"\",\"\",Simulação!D70)","v":15.102731092590197},{"$f":"IF($C70=\"\",\"\",Simulação!E70)","v":"*"},{"$f":"IF($C70=\"\",\"\",Simulação!F70)","v":55.457522319364529},{"$f":"IF($C70=\"\",\"\",Simulação!G70)","v":"*"},{"$f":"IF($C70=\"\",\"\",Simulação!H70)","v":54.785305240455102},{"$f":"IF($C70=\"\",\"\",Simulação!I70)","v":"*"},{"$f":"IF($C70=\"\",\"\",Simulação!J70)","v":57.57148596481089},{"$f":"IF($C70=\"\",\"\",Simulação!K70)","v":"*"},{"$f":"IF($C70=\"\",\"\",Simulação!L70)","v":52.141068358250237},{"$f":"IF($C70=\"\",\"\",Simulação!M70)","v":"*"},{"$f":"IF($C70=\"\",\"\",Simulação!N70)","v":52.046940634153863},{"$f":"IF($C70=\"\",\"\",Simulação!O70)","v":"*"},{"$f":"IF($C70=\"\",\"\",Simulação!P70)","v":55.337694163307766},{"$f":"IF($C70=\"\",\"\",Simulação!Q70)","v":"*"},{"$f":"IF($C70=\"\",\"\",Simulação!R70)","v":52.22936911943664},{"$f":"IF($C70=\"\",\"\",Simulação!S70)","v":"*"},{"$f":"IF($C70=\"\",\"\",Simulação!T70)","v":58.193078270685483},{"$f":"IF($C70=\"\",\"\",Simulação!U70)","v":51.810000000000009},{"$f":"IF($C70=\"\",\"\",Simulação!V70)","v":66.912731092590207},{"$f":"IF($C70=\"\",\"\",Simulação!W70)","v":"-"},{"$f":"IF($C70=\"\",\"\",Simulação!X70)","v":36.702447259088068},{"$f":"IF($C70=\"\",\"\",Simulação!Y70)","v":"-"},{"$f":"IF($C70=\"\",\"\",Simulação!Z70)","v":31.522638885779052},{"$f":"IF($C70=\"\",\"\",Simulação!AA70)","v":"-"},{"$f":"IF($C70=\"\",\"\",Simulação!AB70)","v":28.631555014283347},{"$f":"IF($C70=\"\",\"\",Simulação!AC70)","v":"-"},{"$f":"IF($C70=\"\",\"\",Simulação!AD70)","v":28.626474227638489},{"$f":"IF($C70=\"\",\"\",Simulação!AE70)","v":"-"},{"$f":"IF($C70=\"\",\"\",Simulação!AF70)","v":34.388240562009656},{"$f":"IF($C70=\"\",\"\",Simulação!AG70)","v":"-"},{"$f":"IF($C70=\"\",\"\",Simulação!AH70)","v":29.236023829000793},{"$f":"IF($C70=\"\",\"\",Simulação!AI70)","v":"-"},{"$f":"IF($C70=\"\",\"\",Simulação!AJ70)","v":33.045125393740342},{"$f":"IF($C70=\"\",\"\",Simulação!AK70)","v":"-"},{"$f":"IF($C70=\"\",\"\",Simulação!AL70)","v":32.02721881559642},{"$f":"IF($C70=\"\",\"\",Simulação!AM70)","v":"-"},{"$f":"IF($C70=\"\",\"\",Simulação!AN70)","v":32.217563507182206},{"$f":"IF($C70=\"\",\"\",Simulação!AO70)","v":"-"},{"$f":"IF($C70=\"\",\"\",Simulação!AP70)","v":36.406016086434107},{"$f":"IF($C70=\"\",\"\",Simulação!AQ70)","v":"-"},{"$f":"IF($C70=\"\",\"\",Simulação!AR70)","v":0}]
[null,64,{"$f":"IF(Chegadas!J72<=$C$5,Chegadas!J72,\"\")","v":52.400000000000013},{"$f":"IF($C71=\"\",\"\",Simulação!D71)","v":12.659759516624099},{"$f":"IF($C71=\"\",\"\",Simulação!E71)","v":"*"},{"$f":"IF($C71=\"\",\"\",Simulação!F71)","v":55.457522319364529},{"$f":"IF($C71=\"\",\"\",Simulação!G71)","v":"*"},{"$f":"IF($C71=\"\",\"\",Simulação!H71)","v":54.785305240455102},{"$f":"IF($C71=\"\",\"\",Simulação!I71)","v":"*"},{"$f":"IF($C71=\"\",\"\",Simulação!J71)","v":57.57148596481089},{"$f":"IF($C71=\"\",\"\",Simulação!K71)","v":52.400000000000013},{"$f":"IF($C71=\"\",\"\",Simulação!L71)","v":65.059759516624112},{"$f":"IF($C71=\"\",\"\",Simulação!M71)","v":"-"},{"$f":"IF($C71=\"\",\"\",Simulação!N71)","v":52.046940634153863},{"$f":"IF($C71=\"\",\"\",Simulação!O71)","v":"-"},{"$f":"IF($C71=\"\",\"\",Simulação!P71)","v":55.337694163307766},{"$f":"IF($C71=\"\",\"\",Simulação!Q71)","v":"-"},{"$f":"IF($C71=\"\",\"\",Simulação!R71)","v":52.22936911943664},{"$f":"IF($C71=\"\",\"\",Simulação!S71)","v":"-"},{"$f":"IF($C71=\"\",\"\",Simulação!T71)","v":58.193078270685483},{"$f":"IF($C71=\"\",\"\",Simulação!U71)","v":"-"},{"$f":"IF($C71=\"\",\"\",Simulação!V71)","v":66.912731092590207},{"$f":"IF($C71=\"\",\"\",Simulação!W71)","v":"-"},{"$f":"IF($C71=\"\",\"\",Simulação!X71)","v":36.702447259088068},{"$f":"IF($C71=\"\",\"\",Simulação!Y71)","v":"-"},{"$f":"IF($C71=\"\",\"\",Simulação!Z71)","v":31.522638885779052},{"$f":"IF($C71=\"\",\"\",Simulação!AA71)","v":"-"},{"$f":"IF($C71=\"\",\"\",Simulação!AB71)","v":28.631555014283347},{"$f":"IF($C71=\"\",\"\",Simulação!AC71)","v":"-"},{"$f":"IF($C71=\"\",\"\",Simulação!AD71)","v":28.626474227638489},{"$f":"IF($C71=\"\",\"\",Simulação!AE71)","v":"-"},{"$f":"IF($C71=\"\",\"\",Simulação!AF71)","v":34.388240562009656},{"$f":"IF($C71=\"\",\"\",Simulação!AG71)","v":"-"},{"$f":"IF($C71=\"\",\"\",Simulação!AH71)","v":29.236023829000793},{"$f":"IF($C71=\"\",\"\",Simulação!AI71)","v":"-"},{"$f":"IF($C71=\"\",\"\",Simulação!AJ71)","v":33.045125393740342},{"$f":"IF($C71=\"\",\"\",Simulação!AK71)","v":"-"},{"$f":"IF($C71=\"\",\"\",Simulação!AL71)","v":32.02721881559642},{"$f":"IF($C71=\"\",\"\",Simulação!AM71)","v":"-"},{"$f":"IF($C71=\"\",\"\",Simulação!AN71)","v":32.217563507182206},{"$f":"IF($C71=\"\",\"\",Simulação!AO71)","v":"-"},{"$f":"IF($C71=\"\",\"\",Simulação!AP71)","v":36.406016086434107},{"$f":"IF($C71=\"\",\"\",Simulação!AQ71)","v":"-"},{"$f":"IF($C71=\"\",\"\",Simulação!AR71)","v":0}]
[null,65,{"$f":"IF(Chegadas!J73<=$C$5,Chegadas!J73,\"\")","v":55.810000000000016},{"$f":"IF($C72=\"\",\"\",Simulação!D72)","v":5.0432955980127607},{"$f":"IF($C72=\"\",\"\",Simulação!E72)","v":55.810000000000016},{"$f":"IF($C72=\"\",\"\",Simulação!F72)","v":60.853295598012778},{"$f":"IF($C72=\"\",\"\",Simulação!G72)","v":"-"},{"$f":"IF($C72=\"\",\"\",Simulação!H72)","v":54.785305240455102},{"$f":"IF($C72=\"\",\"\",Simulação!I72)","v":"-"},{"$f":"IF($C72=\"\",\"\",Simulação!J72)","v":57.57148596481089},{"$f":"IF($C72=\"\",\"\",Simulação!K72)","v":"-"},{"$f":"IF($C72=\"\",\"\",Simulação!L72)","v":65.059759516624112},{"$f":"IF($C72=\"\",\"\",Simulação!M72)","v":"-"},{"$f":"IF($C72=\"\",\"\",Simulação!N72)","v":52.046940634153863},{"$f":"IF($C72=\"\",\"\",Simulação!O72)","v":"-"},{"$f":"IF($C72=\"\",\"\",Simulação!P72)","v":55.337694163307766},{"$f":"IF($C72=\"\",\"\",Simulação!Q72)","v":"-"},{"$f":"IF($C72=\"\",\"\",Simulação!R72)","v":52.22936911943664},{"$f":"IF($C72=\"\",\"\",Simulação!S72)","v":"-"},{"$f":"IF($C72=\"\",\"\",Simulação!T72)","v":58.193078270685483},{"$f":"IF($C72=\"\",\"\",Simulação!U72)","v":"-"},{"$f":"IF($C72=\"\",\"\",Simulação!V72)","v":66.912731092590207},{"$f":"IF($C72=\"\",\"\",Simulação!W72)","v":"-"},{"$f":"IF($C72=\"\",\"\",Simulação!X72)","v":36.702447259088068},{"$f":"IF($C72=\"\",\"\",Simulação!Y72)","v":"-"},{"$f":"IF($C72=\"\",\"\",Simulação!Z72)","v":31.522638885779052},{"$f":"IF($C72=\"\",\"\",Simulação!AA72)","v":"-"},{"$f":"IF($C72=\"\",\"\",Simulação!AB72)","v":28.631555014283347},{"$f":"IF($C72=\"\",\"\",Simulação!AC72)","v":"-"},{"$f":"IF($C72=\"\",\"\",Simulação!AD72)","v":28.626474227638489},{"$f":"IF($C72=\"\",\"\",Simulação!AE72)","v":"-"},{"$f":"IF($C72=\"\",\"\",Simulação!AF72)","v":34.388240562009656},{"$f":"IF($C72=\"\",\"\",Simulação!AG72)","v":"-"},{"$f":"IF($C72=\"\",\"\",Simulação!AH72)","v":29.236023829000793},{"$f":"IF($C72=\"\",\"\",Simulação!AI72)","v":"-"},{"$f":"IF($C72=\"\",\"\",Simulação!AJ72)","v":33.045125393740342},{"$f":"IF($C72=\"\",\"\",Simulação!AK72)","v":"-"},{"$f":"IF($C72=\"\",\"\",Simulação!AL72)","v":32.02721881559642},{"$f":"IF($C72=\"\",\"\",Simulação!AM72)","v":"-"},{"$f":"IF($C72=\"\",\"\",Simulação!AN72)","v":32.217563507182206},{"$f":"IF($C72=\"\",\"\",Simulação!AO72)","v":"-"},{"$f":"IF($C72=\"\",\"\",Simulação!AP72)","v":36.406016086434107},{"$f":"IF($C72=\"\",\"\",Simulação!AQ72)","v":"-"},{"$f":"IF($C72=\"\",\"\",Simulação!AR72)","v":0}]
[null,66,{"$f":"IF(Chegadas!J74<=$C$5,Chegadas!J74,\"\")","v":58.190000000000019},{"$f":"IF($C73=\"\",\"\",Simulação!D73)","v":6.9395251194638412},{"$f":"IF($C73=\"\",\"\",Simulação!E73)","v":"*"},{"$f":"IF($C73=\"\",\"\",Simulação!F73)","v":60.853295598012778},{"$f":"IF($C73=\"\",\"\",Simulação!G73)","v":58.190000000000019},{"$f":"IF($C73=\"\",\"\",Simulação!H73)","v":65.129525119463864},{"$f":"IF($C73=\"\",\"\",Simulação!I73)","v":"-"},{"$f":"IF($C73=\"\",\"\",Simulação!J73)","v":57.57148596481089},{"$f":"IF($C73=\"\",\"\",Simulação!K73)","v":"-"},{"$f":"IF($C73=\"\",\"\",Simulação!L73)","v":65.059759516624112},{"$f":"IF($C73=\"\",\"\",Simulação!M73)","v":"-"},{"$f":"IF($C73=\"\",\"\",Simulação!N73)","v":52.046940634153863},{"$f":"IF($C73=\"\",\"\",Simulação!O73)","v":"-"},{"$f":"IF($C73=\"\",\"\",Simulação!P73)","v":55.337694163307766},{"$f":"IF($C73=\"\",\"\",Simulação!Q73)","v":"-"},{"$f":"IF($C73=\"\",\"\",Simulação!R73)","v":52.22936911943664},{"$f":"IF($C73=\"\",\"\",Simulação!S73)","v":"-"},{"$f":"IF($C73=\"\",\"\",Simulação!T73)","v":58.193078270685483},{"$f":"IF($C73=\"\",\"\",Simulação!U73)","v":"-"},{"$f":"IF($C73=\"\",\"\",Simulação!V73)","v":66.912731092590207},{"$f":"IF($C73=\"\",\"\",Simulação!W73)","v":"-"},{"$f":"IF($C73=\"\",\"\",Simulação!X73)","v":36.702447259088068},{"$f":"IF($C73=\"\",\"\",Simulação!Y73)","v":"-"},{"$f":"IF($C73=\"\",\"\",Simulação!Z73)","v":31.522638885779052},{"$f":"IF($C73=\"\",\"\",Simulação!AA73)","v":"-"},{"$f":"IF($C73=\"\",\"\",Simulação!AB73)","v":28.631555014283347},{"$f":"IF($C73=\"\",\"\",Simulação!AC73)","v":"-"},{"$f":"IF($C73=\"\",\"\",Simulação!AD73)","v":28.626474227638489},{"$f":"IF($C73=\"\",\"\",Simulação!AE73)","v":"-"},{"$f":"IF($C73=\"\",\"\",Simulação!AF73)","v":34.388240562009656},{"$f":"IF($C73=\"\",\"\",Simulação!AG73)","v":"-"},{"$f":"IF($C73=\"\",\"\",Simulação!AH73)","v":29.236023829000793},{"$f":"IF($C73=\"\",\"\",Simulação!AI73)","v":"-"},{"$f":"IF($C73=\"\",\"\",Simulação!AJ73)","v":33.045125393740342},{"$f":"IF($C73=\"\",\"\",Simulação!AK73)","v":"-"},{"$f":"IF($C73=\"\",\"\",Simulação!AL73)","v":32.02721881559642},{"$f":"IF($C73=\"\",\"\",Simulação!AM73)","v":"-"},{"$f":"IF($C73=\"\",\"\",Simulação!AN73)","v":32.217563507182206},{"$f":"IF($C73=\"\",\"\",Simulação!AO73)","v":"-"},{"$f":"IF($C73=\"\",\"\",Simulação!AP73)","v":36.406016086434107},{"$f":"IF($C73=\"\",\"\",Simulação!AQ73)","v":"-"},{"$f":"IF($C73=\"\",\"\",Simulação!AR73)","v":0}]
[null,67,{"$f":"IF(Chegadas!J75<=$C$5,Chegadas!J75,\"\")","v":59.610000000000021},{"$f":"IF($C74=\"\",\"\",Simulação!D74)","v":5.463773022402858},{"$f":"IF($C74=\"\",\"\",Simulação!E74)","v":"*"},{"$f":"IF($C74=\"\",\"\",Simulação!F74)","v":60.853295598012778},{"$f":"IF($C74=\"\",\"\",Simulação!G74)","v":"*"},{"$f":"IF($C74=\"\",\"\",Simulação!H74)","v":65.129525119463864},{"$f":"IF($C74=\"\",\"\",Simulação!I74)","v":59.610000000000021},{"$f":"IF($C74=\"\",\"\",Simulação!J74)","v":65.073773022402875},{"$f":"IF($C74=\"\",\"\",Simulação!K74)","v":"-"},{"$f":"IF($C74=\"\",\"\",Simulação!L74)","v":65.059759516624112},{"$f":"IF($C74=\"\",\"\",Simulação!M74)","v":"-"},{"$f":"IF($C74=\"\",\"\",Simulação!N74)","v":52.046940634153863},{"$f":"IF($C74=\"\",\"\",Simulação!O74)","v":"-"},{"$f":"IF($C74=\"\",\"\",Simulação!P74)","v":55.337694163307766},{"$f":"IF($C74=\"\",\"\",Simulação!Q74)","v":"-"},{"$f":"IF($C74=\"\",\"\",Simulação!R74)","v":52.22936911943664},{"$f":"IF($C74=\"\",\"\",Simulação!S74)","v":"-"},{"$f":"IF($C74=\"\",\"\",Simulação!T74)","v":58.193078270685483},{"$f":"IF($C74=\"\",\"\",Simulação!U74)","v":"-"},{"$f":"IF($C74=\"\",\"\",Simulação!V74)","v":66.912731092590207},{"$f":"IF($C74=\"\",\"\",Simulação!W74)","v":"-"},{"$f":"IF($C74=\"\",\"\",Simulação!X74)","v":36.702447259088068},{"$f":"IF($C74=\"\",\"\",Simulação!Y74)","v":"-"},{"$f":"IF($C74=\"\",\"\",Simulação!Z74)","v":31.522638885779052},{"$f":"IF($C74=\"\",\"\",Simulação!AA74)","v":"-"},{"$f":"IF($C74=\"\",\"\",Simulação!AB74)","v":28.631555014283347},{"$f":"IF($C74=\"\",\"\",Simulação!AC74)","v":"-"},{"$f":"IF($C74=\"\",\"\",Simulação!AD74)","v":28.626474227638489},{"$f":"IF($C74=\"\",\"\",Simulação!AE74)","v":"-"},{"$f":"IF($C74=\"\",\"\",Simulação!AF74)","v":34.388240562009656},{"$f":"IF($C74=\"\",\"\",Simulação!AG74)","v":"-"},{"$f":"IF($C74=\"\",\"\",Simulação!AH74)","v":29.236023829000793},{"$f":"IF($C74=\"\",\"\",Simulação!AI74)","v":"-"},{"$f":"IF($C74=\"\",\"\",Simulação!AJ74)","v":33.045125393740342},{"$f":"IF($C74=\"\",\"\",Simulação!AK74)","v":"-"},{"$f":"IF($C74=\"\",\"\",Simulação!AL74)","v":32.02721881559642},{"$f":"IF($C74=\"\",\"\",Simulação!AM74)","v":"-"},{"$f":"IF($C74=\"\",\"\",Simulação!AN74)","v":32.217563507182206},{"$f":"IF($C74=\"\",\"\",Simulação!AO74)","v":"-"},{"$f":"IF($C74=\"\",\"\",Simulação!AP74)","v":36.406016086434107},{"$f":"IF($C74=\"\",\"\",Simulação!AQ74)","v":"-"},{"$f":"IF($C74=\"\",\"\",Simulação!AR74)","v":0}]
[null,68,{"$f":"IF(Chegadas!J76<=$C$5,Chegadas!J76,\"\")","v":61.40000000000002},{"$f":"IF($C75=\"\",\"\",Simulação!D75)","v":7.5728094456306145},{"$f":"IF($C75=\"\",\"\",Simulação!E75)","v":61.40000000000002},{"$f":"IF($C75=\"\",\"\",Simulação!F75)","v":68.972809445630631},{"$f":"IF($C75=\"\",\"\",Simulação!G75)","v":"-"},{"$f":"IF($C75=\"\",\"\",Simulação!H75)","v":65.129525119463864},{"$f":"IF($C75=\"\",\"\",Simulação!I75)","v":"-"},{"$f":"IF($C75=\"\",\"\",Simulação!J75)","v":65.073773022402875},{"$f":"IF($C75=\"\",\"\",Simulação!K75)","v":"-"},{"$f":"IF($C75=\"\",\"\",Simulação!L75)","v":65.059759516624112},{"$f":"IF($C75=\"\",\"\",Simulação!M75)","v":"-"},{"$f":"IF($C75=\"\",\"\",Simulação!N75)","v":52.046940634153863},{"$f":"IF($C75=\"\",\"\",Simulação!O75)","v":"-"},{"$f":"IF($C75=\"\",\"\",Simulação!P75)","v":55.337694163307766},{"$f":"IF($C75=\"\",\"\",Simulação!Q75)","v":"-"},{"$f":"IF($C75=\"\",\"\",Simulação!R75)","v":52.22936911943664},{"$f":"IF($C75=\"\",\"\",Simulação!S75)","v":"-"},{"$f":"IF($C75=\"\",\"\",Simulação!T75)","v":58.193078270685483},{"$f":"IF($C75=\"\",\"\",Simulação!U75)","v":"-"},{"$f":"IF($C75=\"\",\"\",Simulação!V75)","v":66.912731092590207},{"$f":"IF($C75=\"\",\"\",Simulação!W75)","v":"-"},{"$f":"IF($C75=\"\",\"\",Simulação!X75)","v":36.702447259088068},{"$f":"IF($C75=\"\",\"\",Simulação!Y75)","v":"-"},{"$f":"IF($C75=\"\",\"\",Simulação!Z75)","v":31.522638885779052},{"$f":"IF($C75=\"\",\"\",Simulação!AA75)","v":"-"},{"$f":"IF($C75=\"\",\"\",Simulação!AB75)","v":28.631555014283347},{"$f":"IF($C75=\"\",\"\",Simulação!AC75)","v":"-"},{"$f":"IF($C75=\"\",\"\",Simulação!AD75)","v":28.626474227638489},{"$f":"IF($C75=\"\",\"\",Simulação!AE75)","v":"-"},{"$f":"IF($C75=\"\",\"\",Simulação!AF75)","v":34.388240562009656},{"$f":"IF($C75=\"\",\"\",Simulação!AG75)","v":"-"},{"$f":"IF($C75=\"\",\"\",Simulação!AH75)","v":29.236023829000793},{"$f":"IF($C75=\"\",\"\",Simulação!AI75)","v":"-"},{"$f":"IF($C75=\"\",\"\",Simulação!AJ75)","v":33.045125393740342},{"$f":"IF($C75=\"\",\"\",Simulação!AK75)","v":"-"},{"$f":"IF($C75=\"\",\"\",Simulação!AL75)","v":32.02721881559642},{"$f":"IF($C75=\"\",\"\",Simulação!AM75)","v":"-"},{"$f":"IF($C75=\"\",\"\",Simulação!AN75)","v":32.217563507182206},{"$f":"IF($C75=\"\",\"\",Simulação!AO75)","v":"-"},{"$f":"IF($C75=\"\",\"\",Simulação!AP75)","v":36.406016086434107},{"$f":"IF($C75=\"\",\"\",Simulação!AQ75)","v":"-"},{"$f":"IF($C75=\"\",\"\",Simulação!AR75)","v":0}]
[null,69,{"$f":"IF(Chegadas!J77<=$C$5,Chegadas!J77,\"\")","v":61.690000000000019},{"$f":"IF($C76=\"\",\"\",Simulação!D76)","v":8.26802451819335},{"$f":"IF($C76=\"\",\"\",Simulação!E76)","v":"*"},{"$f":"IF($C76=\"\",\"\",Simulação!F76)","v":68.972809445630631},{"$f":"IF($C76=\"\",\"\",Simulação!G76)","v":"*"},{"$f":"IF($C76=\"\",\"\",Simulação!H76)","v":65.129525119463864},{"$f":"IF($C76=\"\",\"\",Simulação!I76)","v":"*"},{"$f":"IF($C76=\"\",\"\",Simulação!J76)","v":65.073773022402875},{"$f":"IF($C76=\"\",\"\",Simulação!K76)","v":"*"},{"$f":"IF($C76=\"\",\"\",Simulação!L76)","v":65.059759516624112},{"$f":"IF($C76=\"\",\"\",Simulação!M76)","v":61.690000000000019},{"$f":"IF($C76=\"\",\"\",Simulação!N76)","v":69.958024518193369},{"$f":"IF($C76=\"\",\"\",Simulação!O76)","v":"-"},{"$f":"IF($C76=\"\",\"\",Simulação!P76)","v":55.337694163307766},{"$f":"IF($C76=\"\",\"\",Simulação!Q76)","v":"-"},{"$f":"IF($C76=\"\",\"\",Simulação!R76)","v":52.22936911943664},{"$f":"IF($C76=\"\",\"\",Simulação!S76)","v":"-"},{"$f":"IF($C76=\"\",\"\",Simulação!T76)","v":58.193078270685483},{"$f":"IF($C76=\"\",\"\",Simulação!U76)","v":"-"},{"$f":"IF($C76=\"\",\"\",Simulação!V76)","v":66.912731092590207},{"$f":"IF($C76=\"\",\"\",Simulação!W76)","v":"-"},{"$f":"IF($C76=\"\",\"\",Simulação!X76)","v":36.702447259088068},{"$f":"IF($C76=\"\",\"\",Simulação!Y76)","v":"-"},{"$f":"IF($C76=\"\",\"\",Simulação!Z76)","v":31.522638885779052},{"$f":"IF($C76=\"\",\"\",Simulação!AA76)","v":"-"},{"$f":"IF($C76=\"\",\"\",Simulação!AB76)","v":28.631555014283347},{"$f":"IF($C76=\"\",\"\",Simulação!AC76)","v":"-"},{"$f":"IF($C76=\"\",\"\",Simulação!AD76)","v":28.626474227638489},{"$f":"IF($C76=\"\",\"\",Simulação!AE76)","v":"-"},{"$f":"IF($C76=\"\",\"\",Simulação!AF76)","v":34.388240562009656},{"$f":"IF($C76=\"\",\"\",Simulação!AG76)","v":"-"},{"$f":"IF($C76=\"\",\"\",Simulação!AH76)","v":29.236023829000793},{"$f":"IF($C76=\"\",\"\",Simulação!AI76)","v":"-"},{"$f":"IF($C76=\"\",\"\",Simulação!AJ76)","v":33.045125393740342},{"$f":"IF($C76=\"\",\"\",Simulação!AK76)","v":"-"},{"$f":"IF($C76=\"\",\"\",Simulação!AL76)","v":32.02721881559642},{"$f":"IF($C76=\"\",\"\",Simulação!AM76)","v":"-"},{"$f":"IF($C76=\"\",\"\",Simulação!AN76)","v":32.217563507182206},{"$f":"IF($C76=\"\",\"\",Simulação!AO76)","v":"-"},{"$f":"IF($C76=\"\",\"\",Simulação!AP76)","v":36.406016086434107},{"$f":"IF($C76=\"\",\"\",Simulação!AQ76)","v":"-"},{"$f":"IF($C76=\"\",\"\",Simulação!AR76)","v":0}]
[null,70,{"$f":"IF(Chegadas!J78<=$C$5,Chegadas!J78,\"\")","v":62.670000000000016},{"$f":"IF($C77=\"\",\"\",Simulação!D77)","v":9.8253699578968803},{"$f":"IF($C77=\"\",\"\",Simulação!E77)","v":"*"},{"$f":"IF($C77=\"\",\"\",Simulação!F77)","v":68.972809445630631},{"$f":"IF($C77=\"\",\"\",Simulação!G77)","v":"*"},{"$f":"IF($C77=\"\",\"\",Simulação!H77)","v":65.129525119463864},{"$f":"IF($C77=\"\",\"\",Simulação!I77)","v":"*"},{"$f":"IF($C77=\"\",\"\",Simulação!J77)","v":65.073773022402875},{"$f":"IF($C77=\"\",\"\",Simulação!K77)","v":"*"},{"$f":"IF($C77=\"\",\"\",Simulação!L77)","v":65.059759516624112},{"$f":"IF($C77=\"\",\"\",Simulação!M77)","v":"*"},{"$f":"IF($C77=\"\",\"\",Simulação!N77)","v":69.958024518193369},{"$f":"IF($C77=\"\",\"\",Simulação!O77)","v":62.670000000000016},{"$f":"IF($C77=\"\",\"\",Simulação!P77)","v":72.495369957896898},{"$f":"IF($C77=\"\",\"\",Simulação!Q77)","v":"-"},{"$f":"IF($C77=\"\",\"\",Simulação!R77)","v":52.22936911943664},{"$f":"IF($C77=\"\",\"\",Simulação!S77)","v":"-"},{"$f":"IF($C77=\"\",\"\",Simulação!T77)","v":58.193078270685483},{"$f":"IF($C77=\"\",\"\",Simulação!U77)","v":"-"},{"$f":"IF($C77=\"\",\"\",Simulação!V77)","v":66.912731092590207},{"$f":"IF($C77=\"\",\"\",Simulação!W77)","v":"-"},{"$f":"IF($C77=\"\",\"\",Simulação!X77)","v":36.702447259088068},{"$f":"IF($C77=\"\",\"\",Simulação!Y77)","v":"-"},{"$f":"IF($C77=\"\",\"\",Simulação!Z77)","v":31.522638885779052},{"$f":"IF($C77=\"\",\"\",Simulação!AA77)","v":"-"},{"$f":"IF($C77=\"\",\"\",Simulação!AB77)","v":28.631555014283347},{"$f":"IF($C77=\"\",\"\",Simulação!AC77)","v":"-"},{"$f":"IF($C77=\"\",\"\",Simulação!AD77)","v":28.626474227638489},{"$f":"IF($C77=\"\",\"\",Simulação!AE77)","v":"-"},{"$f":"IF($C77=\"\",\"\",Simulação!AF77)","v":34.388240562009656},{"$f":"IF($C77=\"\",\"\",Simulação!AG77)","v":"-"},{"$f":"IF($C77=\"\",\"\",Simulação!AH77)","v":29.236023829000793},{"$f":"IF($C77=\"\",\"\",Simulação!AI77)","v":"-"},{"$f":"IF($C77=\"\",\"\",Simulação!AJ77)","v":33.045125393740342},{"$f":"IF($C77=\"\",\"\",Simulação!AK77)","v":"-"},{"$f":"IF($C77=\"\",\"\",Simulação!AL77)","v":32.02721881559642},{"$f":"IF($C77=\"\",\"\",Simulação!AM77)","v":"-"},{"$f":"IF($C77=\"\",\"\",Simulação!AN77)","v":32.217563507182206},{"$f":"IF($C77=\"\",\"\",Simulação!AO77)","v":"-"},{"$f":"IF($C77=\"\",\"\",Simulação!AP77)","v":36.406016086434107},{"$f":"IF($C77=\"\",\"\",Simulação!AQ77)","v":"-"},{"$f":"IF($C77=\"\",\"\",Simulação!AR77)","v":0}]
[null,71,{"$f":"IF(Chegadas!J79<=$C$5,Chegadas!J79,\"\")","v":63.150000000000013},{"$f":"IF($C78=\"\",\"\",Simulação!D78)","v":8.1853330911089301},{"$f":"IF($C78=\"\",\"\",Simulação!E78)","v":"*"},{"$f":"IF($C78=\"\",\"\",Simulação!F78)","v":68.972809445630631},{"$f":"IF($C78=\"\",\"\",Simulação!G78)","v":"*"},{"$f":"IF($C78=\"\",\"\",Simulação!H78)","v":65.129525119463864},{"$f":"IF($C78=\"\",\"\",Simulação!I78)","v":"*"},{"$f":"IF($C78=\"\",\"\",Simulação!J78)","v":65.073773022402875},{"$f":"IF($C78=\"\",\"\",Simulação!K78)","v":"*"},{"$f":"IF($C78=\"\",\"\",Simulação!L78)","v":65.059759516624112},{"$f":"IF($C78=\"\",\"\",Simulação!M78)","v":"*"},{"$f":"IF($C78=\"\",\"\",Simulação!N78)","v":69.958024518193369},{"$f":"IF($C78=\"\",\"\",Simulação!O78)","v":"*"},{"$f":"IF($C78=\"\",\"\",Simulação!P78)","v":72.495369957896898},{"$f":"IF($C78=\"\",\"\",Simulação!Q78)","v":63.150000000000013},{"$f":"IF($C78=\"\",\"\",Simulação!R78)","v":71.335333091108936},{"$f":"IF($C78=\"\",\"\",Simulação!S78)","v":"-"},{"$f":"IF($C78=\"\",\"\",Simulação!T78)","v":58.193078270685483},{"$f":"IF($C78=\"\",\"\",Simulação!U78)","v":"-"},{"$f":"IF($C78=\"\",\"\",Simulação!V78)","v":66.912731092590207},{"$f":"IF($C78=\"\",\"\",Simulação!W78)","v":"-"},{"$f":"IF($C78=\"\",\"\",Simulação!X78)","v":36.702447259088068},{"$f":"IF($C78=\"\",\"\",Simulação!Y78)","v":"-"},{"$f":"IF($C78=\"\",\"\",Simulação!Z78)","v":31.522638885779052},{"$f":"IF($C78=\"\",\"\",Simulação!AA78)","v":"-"},{"$f":"IF($C78=\"\",\"\",Simulação!AB78)","v":28.631555014283347},{"$f":"IF($C78=\"\",\"\",Simulação!AC78)","v":"-"},{"$f":"IF($C78=\"\",\"\",Simulação!AD78)","v":28.626474227638489},{"$f":"IF($C78=\"\",\"\",Simulação!AE78)","v":"-"},{"$f":"IF($C78=\"\",\"\",Simulação!AF78)","v":34.388240562009656},{"$f":"IF($C78=\"\",\"\",Simulação!AG78)","v":"-"},{"$f":"IF($C78=\"\",\"\",Simulação!AH78)","v":29.236023829000793},{"$f":"IF($C78=\"\",\"\",Simulação!AI78)","v":"-"},{"$f":"IF($C78=\"\",\"\",Simulação!AJ78)","v":33.045125393740342},{"$f":"IF($C78=\"\",\"\",Simulação!AK78)","v":"-"},{"$f":"IF($C78=\"\",\"\",Simulação!AL78)","v":32.02721881559642},{"$f":"IF($C78=\"\",\"\",Simulação!AM78)","v":"-"},{"$f":"IF($C78=\"\",\"\",Simulação!AN78)","v":32.217563507182206},{"$f":"IF($C78=\"\",\"\",Simulação!AO78)","v":"-"},{"$f":"IF($C78=\"\",\"\",Simulação!AP78)","v":36.406016086434107},{"$f":"IF($C78=\"\",\"\",Simulação!AQ78)","v":"-"},{"$f":"IF($C78=\"\",\"\",Simulação!AR78)","v":0}]
[null,72,{"$f":"IF(Chegadas!J80<=$C$5,Chegadas!J80,\"\")","v":63.290000000000013},{"$f":"IF($C79=\"\",\"\",Simulação!D79)","v":3.2243829814005873},{"$f":"IF($C79=\"\",\"\",Simulação!E79)","v":"*"},{"$f":"IF($C79=\"\",\"\",Simulação!F79)","v":68.972809445630631},{"$f":"IF($C79=\"\",\"\",Simulação!G79)","v":"*"},{"$f":"IF($C79=\"\",\"\",Simulação!H79)","v":65.129525119463864},{"$f":"IF($C79=\"\",\"\",Simulação!I79)","v":"*"},{"$f":"IF($C79=\"\",\"\",Simulação!J79)","v":65.073773022402875},{"$f":"IF($C79=\"\",\"\",Simulação!K79)","v":"*"},{"$f":"IF($C79=\"\",\"\",Simulação!L79)","v":65.059759516624112},{"$f":"IF($C79=\"\",\"\",Simulação!M79)","v":"*"},{"$f":"IF($C79=\"\",\"\",Simulação!N79)","v":69.958024518193369},{"$f":"IF($C79=\"\",\"\",Simulação!O79)","v":"*"},{"$f":"IF($C79=\"\",\"\",Simulação!P79)","v":72.495369957896898},{"$f":"IF($C79=\"\",\"\",Simulação!Q79)","v":"*"},{"$f":"IF($C79=\"\",\"\",Simulação!R79)","v":71.335333091108936},{"$f":"IF($C79=\"\",\"\",Simulação!S79)","v":63.290000000000013},{"$f":"IF($C79=\"\",\"\",Simulação!T79)","v":66.514382981400601},{"$f":"IF($C79=\"\",\"\",Simulação!U79)","v":"-"},{"$f":"IF($C79=\"\",\"\",Simulação!V79)","v":66.912731092590207},{"$f":"IF($C79=\"\",\"\",Simulação!W79)","v":"-"},{"$f":"IF($C79=\"\",\"\",Simulação!X79)","v":36.702447259088068},{"$f":"IF($C79=\"\",\"\",Simulação!Y79)","v":"-"},{"$f":"IF($C79=\"\",\"\",Simulação!Z79)","v":31.522638885779052},{"$f":"IF($C79=\"\",\"\",Simulação!AA79)","v":"-"},{"$f":"IF($C79=\"\",\"\",Simulação!AB79)","v":28.631555014283347},{"$f":"IF($C79=\"\",\"\",Simulação!AC79)","v":"-"},{"$f":"IF($C79=\"\",\"\",Simulação!AD79)","v":28.626474227638489},{"$f":"IF($C79=\"\",\"\",Simulação!AE79)","v":"-"},{"$f":"IF($C79=\"\",\"\",Simulação!AF79)","v":34.388240562009656},{"$f":"IF($C79=\"\",\"\",Simulação!AG79)","v":"-"},{"$f":"IF($C79=\"\",\"\",Simulação!AH79)","v":29.236023829000793},{"$f":"IF($C79=\"\",\"\",Simulação!AI79)","v":"-"},{"$f":"IF($C79=\"\",\"\",Simulação!AJ79)","v":33.045125393740342},{"$f":"IF($C79=\"\",\"\",Simulação!AK79)","v":"-"},{"$f":"IF($C79=\"\",\"\",Simulação!AL79)","v":32.02721881559642},{"$f":"IF($C79=\"\",\"\",Simulação!AM79)","v":"-"},{"$f":"IF($C79=\"\",\"\",Simulação!AN79)","v":32.217563507182206},{"$f":"IF($C79=\"\",\"\",Simulação!AO79)","v":"-"},{"$f":"IF($C79=\"\",\"\",Simulação!AP79)","v":36.406016086434107},{"$f":"IF($C79=\"\",\"\",Simulação!AQ79)","v":"-"},{"$f":"IF($C79=\"\",\"\",Simulação!AR79)","v":0}]
[null,73,{"$f":"IF(Chegadas!J81<=$C$5,Chegadas!J81,\"\")","v":63.710000000000015},{"$f":"IF($C80=\"\",\"\",Simulação!D80)","v":12.770632454490643},{"$f":"IF($C80=\"\",\"\",Simulação!E80)","v":"*"},{"$f":"IF($C80=\"\",\"\",Simulação!F80)","v":68.972809445630631},{"$f":"IF($C80=\"\",\"\",Simulação!G80)","v":"*"},{"$f":"IF($C80=\"\",\"\",Simulação!H80)","v":65.129525119463864},{"$f":"IF($C80=\"\",\"\",Simulação!I80)","v":"*"},{"$f":"IF($C80=\"\",\"\",Simulação!J80)","v":65.073773022402875},{"$f":"IF($C80=\"\",\"\",Simulação!K80)","v":"*"},{"$f":"IF($C80=\"\",\"\",Simulação!L80)","v":65.059759516624112},{"$f":"IF($C80=\"\",\"\",Simulação!M80)","v":"*"},{"$f":"IF($C80=\"\",\"\",Simulação!N80)","v":69.958024518193369},{"$f":"IF($C80=\"\",\"\",Simulação!O80)","v":"*"},{"$f":"IF($C80=\"\",\"\",Simulação!P80)","v":72.495369957896898},{"$f":"IF($C80=\"\",\"\",Simulação!Q80)","v":"*"},{"$f":"IF($C80=\"\",\"\",Simulação!R80)","v":71.335333091108936},{"$f":"IF($C80=\"\",\"\",Simulação!S80)","v":"*"},{"$f":"IF($C80=\"\",\"\",Simulação!T80)","v":66.514382981400601},{"$f":"IF($C80=\"\",\"\",Simulação!U80)","v":"*"},{"$f":"IF($C80=\"\",\"\",Simulação!V80)","v":66.912731092590207},{"$f":"IF($C80=\"\",\"\",Simulação!W80)","v":63.710000000000015},{"$f":"IF($C80=\"\",\"\",Simulação!X80)","v":76.48063245449066},{"$f":"IF($C80=\"\",\"\",Simulação!Y80)","v":"-"},{"$f":"IF($C80=\"\",\"\",Simulação!Z80)","v":31.522638885779052},{"$f":"IF($C80=\"\",\"\",Simulação!AA80)","v":"-"},{"$f":"IF($C80=\"\",\"\",Simulação!AB80)","v":28.631555014283347},{"$f":"IF($C80=\"\",\"\",Simulação!AC80)","v":"-"},{"$f":"IF($C80=\"\",\"\",Simulação!AD80)","v":28.626474227638489},{"$f":"IF($C80=\"\",\"\",Simulação!AE80)","v":"-"},{"$f":"IF($C80=\"\",\"\",Simulação!AF80)","v":34.388240562009656},{"$f":"IF($C80=\"\",\"\",Simulação!AG80)","v":"-"},{"$f":"IF($C80=\"\",\"\",Simulação!AH80)","v":29.236023829000793},{"$f":"IF($C80=\"\",\"\",Simulação!AI80)","v":"-"},{"$f":"IF($C80=\"\",\"\",Simulação!AJ80)","v":33.045125393740342},{"$f":"IF($C80=\"\",\"\",Simulação!AK80)","v":"-"},{"$f":"IF($C80=\"\",\"\",Simulação!AL80)","v":32.02721881559642},{"$f":"IF($C80=\"\",\"\",Simulação!AM80)","v":"-"},{"$f":"IF($C80=\"\",\"\",Simulação!AN80)","v":32.217563507182206},{"$f":"IF($C80=\"\",\"\",Simulação!AO80)","v":"-"},{"$f":"IF($C80=\"\",\"\",Simulação!AP80)","v":36.406016086434107},{"$f":"IF($C80=\"\",\"\",Simulação!AQ80)","v":"-"},{"$f":"IF($C80=\"\",\"\",Simulação!AR80)","v":0}]
[null,74,{"$f":"IF(Chegadas!J82<=$C$5,Chegadas!J82,\"\")","v":63.770000000000017},{"$f":"IF($C81=\"\",\"\",Simulação!D81)","v":3.2295120398207557},{"$f":"IF($C81=\"\",\"\",Simulação!E81)","v":"*"},{"$f":"IF($C81=\"\",\"\",Simulação!F81)","v":68.972809445630631},{"$f":"IF($C81=\"\",\"\",Simulação!G81)","v":"*"},{"$f":"IF($C81=\"\",\"\",Simulação!H81)","v":65.129525119463864},{"$f":"IF($C81=\"\",\"\",Simulação!I81)","v":"*"},{"$f":"IF($C81=\"\",\"\",Simulação!J81)","v":65.073773022402875},{"$f":"IF($C81=\"\",\"\",Simulação!K81)","v":"*"},{"$f":"IF($C81=\"\",\"\",Simulação!L81)","v":65.059759516624112},{"$f":"IF($C81=\"\",\"\",Simulação!M81)","v":"*"},{"$f":"IF($C81=\"\",\"\",Simulação!N81)","v":69.958024518193369},{"$f":"IF($C81=\"\",\"\",Simulação!O81)","v":"*"},{"$f":"IF($C81=\"\",\"\",Simulação!P81)","v":72.495369957896898},{"$f":"IF($C81=\"\",\"\",Simulação!Q81)","v":"*"},{"$f":"IF($C81=\"\",\"\",Simulação!R81)","v":71.335333091108936},{"$f":"IF($C81=\"\",\"\",Simulação!S81)","v":"*"},{"$f":"IF($C81=\"\",\"\",Simulação!T81)","v":66.514382981400601},{"$f":"IF($C81=\"\",\"\",Simulação!U81)","v":"*"},{"$f":"IF($C81=\"\",\"\",Simulação!V81)","v":66.912731092590207},{"$f":"IF($C81=\"\",\"\",Simulação!W81)","v":"*"},{"$f":"IF($C81=\"\",\"\",Simulação!X81)","v":76.48063245449066},{"$f":"IF($C81=\"\",\"\",Simulação!Y81)","v":63.770000000000017},{"$f":"IF($C81=\"\",\"\",Simulação!Z81)","v":66.999512039820772},{"$f":"IF($C81=\"\",\"\",Simulação!AA81)","v":"-"},{"$f":"IF($C81=\"\",\"\",Simulação!AB81)","v":28.631555014283347},{"$f":"IF($C81=\"\",\"\",Simulação!AC81)","v":"-"},{"$f":"IF($C81=\"\",\"\",Simulação!AD81)","v":28.626474227638489},{"$f":"IF($C81=\"\",\"\",Simulação!AE81)","v":"-"},{"$f":"IF($C81=\"\",\"\",Simulação!AF81)","v":34.388240562009656},{"$f":"IF($C81=\"\",\"\",Simulação!AG81)","v":"-"},{"$f":"IF($C81=\"\",\"\",Simulação!AH81)","v":29.236023829000793},{"$f":"IF($C81=\"\",\"\",Simulação!AI81)","v":"-"},{"$f":"IF($C81=\"\",\"\",Simulação!AJ81)","v":33.045125393740342},{"$f":"IF($C81=\"\",\"\",Simulação!AK81)","v":"-"},{"$f":"IF($C81=\"\",\"\",Simulação!AL81)","v":32.02721881559642},{"$f":"IF($C81=\"\",\"\",Simulação!AM81)","v":"-"},{"$f":"IF($C81=\"\",\"\",Simulação!AN81)","v":32.217563507182206},{"$f":"IF($C81=\"\",\"\",Simulação!AO81)","v":"-"},{"$f":"IF($C81=\"\",\"\",Simulação!AP81)","v":36.406016086434107},{"$f":"IF($C81=\"\",\"\",Simulação!AQ81)","v":"-"},{"$f":"IF($C81=\"\",\"\",Simulação!AR81)","v":0}]
[null,75,{"$f":"IF(Chegadas!J83<=$C$5,Chegadas!J83,\"\")","v":63.980000000000018},{"$f":"IF($C82=\"\",\"\",Simulação!D82)","v":6.3668075187735376},{"$f":"IF($C82=\"\",\"\",Simulação!E82)","v":"*"},{"$f":"IF($C82=\"\",\"\",Simulação!F82)","v":68.972809445630631},{"$f":"IF($C82=\"\",\"\",Simulação!G82)","v":"*"},{"$f":"IF($C82=\"\",\"\",Simulação!H82)","v":65.129525119463864},{"$f":"IF($C82=\"\",\"\",Simulação!I82)","v":"*"},{"$f":"IF($C82=\"\",\"\",Simulação!J82)","v":65.073773022402875},{"$f":"IF($C82=\"\",\"\",Simulação!K82)","v":"*"},{"$f":"IF($C82=\"\",\"\",Simulação!L82)","v":65.059759516624112},{"$f":"IF($C82=\"\",\"\",Simulação!M82)","v":"*"},{"$f":"IF($C82=\"\",\"\",Simulação!N82)","v":69.958024518193369},{"$f":"IF($C82=\"\",\"\",Simulação!O82)","v":"*"},{"$f":"IF($C82=\"\",\"\",Simulação!P82)","v":72.495369957896898},{"$f":"IF($C82=\"\",\"\",Simulação!Q82)","v":"*"},{"$f":"IF($C82=\"\",\"\",Simulação!R82)","v":71.335333091108936},{"$f":"IF($C82=\"\",\"\",Simulação!S82)","v":"*"},{"$f":"IF($C82=\"\",\"\",Simulação!T82)","v":66.514382981400601},{"$f":"IF($C82=\"\",\"\",Simulação!U82)","v":"*"},{"$f":"IF($C82=\"\",\"\",Simulação!V82)","v":66.912731092590207},{"$f":"IF($C82=\"\",\"\",Simulação!W82)","v":"*"},{"$f":"IF($C82=\"\",\"\",Simulação!X82)","v":76.48063245449066},{"$f":"IF($C82=\"\",\"\",Simulação!Y82)","v":"*"},{"$f":"IF($C82=\"\",\"\",Simulação!Z82)","v":66.999512039820772},{"$f":"IF($C82=\"\",\"\",Simulação!AA82)","v":63.980000000000018},{"$f":"IF($C82=\"\",\"\",Simulação!AB82)","v":70.346807518773559},{"$f":"IF($C82=\"\",\"\",Simulação!AC82)","v":"-"},{"$f":"IF($C82=\"\",\"\",Simulação!AD82)","v":28.626474227638489},{"$f":"IF($C82=\"\",\"\",Simulação!AE82)","v":"-"},{"$f":"IF($C82=\"\",\"\",Simulação!AF82)","v":34.388240562009656},{"$f":"IF($C82=\"\",\"\",Simulação!AG82)","v":"-"},{"$f":"IF($C82=\"\",\"\",Simulação!AH82)","v":29.236023829000793},{"$f":"IF($C82=\"\",\"\",Simulação!AI82)","v":"-"},{"$f":"IF($C82=\"\",\"\",Simulação!AJ82)","v":33.045125393740342},{"$f":"IF($C82=\"\",\"\",Simulação!AK82)","v":"-"},{"$f":"IF($C82=\"\",\"\",Simulação!AL82)","v":32.02721881559642},{"$f":"IF($C82=\"\",\"\",Simulação!AM82)","v":"-"},{"$f":"IF($C82=\"\",\"\",Simulação!AN82)","v":32.217563507182206},{"$f":"IF($C82=\"\",\"\",Simulação!AO82)","v":"-"},{"$f":"IF($C82=\"\",\"\",Simulação!AP82)","v":36.406016086434107},{"$f":"IF($C82=\"\",\"\",Simulação!AQ82)","v":"-"},{"$f":"IF($C82=\"\",\"\",Simulação!AR82)","v":0}]
[null,76,{"$f":"IF(Chegadas!J84<=$C$5,Chegadas!J84,\"\")","v":65.220000000000013},{"$f":"IF($C83=\"\",\"\",Simulação!D83)","v":7.3370758304326298},{"$f":"IF($C83=\"\",\"\",Simulação!E83)","v":"*"},{"$f":"IF($C83=\"\",\"\",Simulação!F83)","v":68.972809445630631},{"$f":"IF($C83=\"\",\"\",Simulação!G83)","v":65.220000000000013},{"$f":"IF($C83=\"\",\"\",Simulação!H83)","v":72.557075830432638},{"$f":"IF($C83=\"\",\"\",Simulação!I83)","v":"-"},{"$f":"IF($C83=\"\",\"\",Simulação!J83)","v":65.073773022402875},{"$f":"IF($C83=\"\",\"\",Simulação!K83)","v":"-"},{"$f":"IF($C83=\"\",\"\",Simulação!L83)","v":65.059759516624112},{"$f":"IF($C83=\"\",\"\",Simulação!M83)","v":"-"},{"$f":"IF($C83=\"\",\"\",Simulação!N83)","v":69.958024518193369},{"$f":"IF($C83=\"\",\"\",Simulação!O83)","v":"-"},{"$f":"IF($C83=\"\",\"\",Simulação!P83)","v":72.495369957896898},{"$f":"IF($C83=\"\",\"\",Simulação!Q83)","v":"-"},{"$f":"IF($C83=\"\",\"\",Simulação!R83)","v":71.335333091108936},{"$f":"IF($C83=\"\",\"\",Simulação!S83)","v":"-"},{"$f":"IF($C83=\"\",\"\",Simulação!T83)","v":66.514382981400601},{"$f":"IF($C83=\"\",\"\",Simulação!U83)","v":"-"},{"$f":"IF($C83=\"\",\"\",Simulação!V83)","v":66.912731092590207},{"$f":"IF($C83=\"\",\"\",Simulação!W83)","v":"-"},{"$f":"IF($C83=\"\",\"\",Simulação!X83)","v":76.48063245449066},{"$f":"IF($C83=\"\",\"\",Simulação!Y83)","v":"-"},{"$f":"IF($C83=\"\",\"\",Simulação!Z83)","v":66.999512039820772},{"$f":"IF($C83=\"\",\"\",Simulação!AA83)","v":"-"},{"$f":"IF($C83=\"\",\"\",Simulação!AB83)","v":70.346807518773559},{"$f":"IF($C83=\"\",\"\",Simulação!AC83)","v":"-"},{"$f":"IF($C83=\"\",\"\",Simulação!AD83)","v":28.626474227638489},{"$f":"IF($C83=\"\",\"\",Simulação!AE83)","v":"-"},{"$f":"IF($C83=\"\",\"\",Simulação!AF83)","v":34.388240562009656},{"$f":"IF($C83=\"\",\"\",Simulação!AG83)","v":"-"},{"$f":"IF($C83=\"\",\"\",Simulação!AH83)","v":29.236023829000793},{"$f":"IF($C83=\"\",\"\",Simulação!AI83)","v":"-"},{"$f":"IF($C83=\"\",\"\",Simulação!AJ83)","v":33.045125393740342},{"$f":"IF($C83=\"\",\"\",Simulação!AK83)","v":"-"},{"$f":"IF($C83=\"\",\"\",Simulação!AL83)","v":32.02721881559642},{"$f":"IF($C83=\"\",\"\",Simulação!AM83)","v":"-"},{"$f":"IF($C83=\"\",\"\",Simulação!AN83)","v":32.217563507182206},{"$f":"IF($C83=\"\",\"\",Simulação!AO83)","v":"-"},{"$f":"IF($C83=\"\",\"\",Simulação!AP83)","v":36.406016086434107},{"$f":"IF($C83=\"\",\"\",Simulação!AQ83)","v":"-"},{"$f":"IF($C83=\"\",\"\",Simulação!AR83)","v":0}]
[null,77,{"$f":"IF(Chegadas!J85<=$C$5,Chegadas!J85,\"\")","v":68.140000000000015},{"$f":"IF($C84=\"\",\"\",Simulação!D84)","v":2.4156604044732997},{"$f":"IF($C84=\"\",\"\",Simulação!E84)","v":"*"},{"$f":"IF($C84=\"\",\"\",Simulação!F84)","v":68.972809445630631},{"$f":"IF($C84=\"\",\"\",Simulação!G84)","v":"*"},{"$f":"IF($C84=\"\",\"\",Simulação!H84)","v":72.557075830432638},{"$f":"IF($C84=\"\",\"\",Simulação!I84)","v":68.140000000000015},{"$f":"IF($C84=\"\",\"\",Simulação!J84)","v":70.555660404473315},{"$f":"IF($C84=\"\",\"\",Simulação!K84)","v":"-"},{"$f":"IF($C84=\"\",\"\",Simulação!L84)","v":65.059759516624112},{"$f":"IF($C84=\"\",\"\",Simulação!M84)","v":"-"},{"$f":"IF($C84=\"\",\"\",Simulação!N84)","v":69.958024518193369},{"$f":"IF($C84=\"\",\"\",Simulação!O84)","v":"-"},{"$f":"IF($C84=\"\",\"\",Simulação!P84)","v":72.495369957896898},{"$f":"IF($C84=\"\",\"\",Simulação!Q84)","v":"-"},{"$f":"IF($C84=\"\",\"\",Simulação!R84)","v":71.335333091108936},{"$f":"IF($C84=\"\",\"\",Simulação!S84)","v":"-"},{"$f":"IF($C84=\"\",\"\",Simulação!T84)","v":66.514382981400601},{"$f":"IF($C84=\"\",\"\",Simulação!U84)","v":"-"},{"$f":"IF($C84=\"\",\"\",Simulação!V84)","v":66.912731092590207},{"$f":"IF($C84=\"\",\"\",Simulação!W84)","v":"-"},{"$f":"IF($C84=\"\",\"\",Simulação!X84)","v":76.48063245449066},{"$f":"IF($C84=\"\",\"\",Simulação!Y84)","v":"-"},{"$f":"IF($C84=\"\",\"\",Simulação!Z84)","v":66.999512039820772},{"$f":"IF($C84=\"\",\"\",Simulação!AA84)","v":"-"},{"$f":"IF($C84=\"\",\"\",Simulação!AB84)","v":70.346807518773559},{"$f":"IF($C84=\"\",\"\",Simulação!AC84)","v":"-"},{"$f":"IF($C84=\"\",\"\",Simulação!AD84)","v":28.626474227638489},{"$f":"IF($C84=\"\",\"\",Simulação!AE84)","v":"-"},{"$f":"IF($C84=\"\",\"\",Simulação!AF84)","v":34.388240562009656},{"$f":"IF($C84=\"\",\"\",Simulação!AG84)","v":"-"},{"$f":"IF($C84=\"\",\"\",Simulação!AH84)","v":29.236023829000793},{"$f":"IF($C84=\"\",\"\",Simulação!AI84)","v":"-"},{"$f":"IF($C84=\"\",\"\",Simulação!AJ84)","v":33.045125393740342},{"$f":"IF($C84=\"\",\"\",Simulação!AK84)","v":"-"},{"$f":"IF($C84=\"\",\"\",Simulação!AL84)","v":32.02721881559642},{"$f":"IF($C84=\"\",\"\",Simulação!AM84)","v":"-"},{"$f":"IF($C84=\"\",\"\",Simulação!AN84)","v":32.217563507182206},{"$f":"IF($C84=\"\",\"\",Simulação!AO84)","v":"-"},{"$f":"IF($C84=\"\",\"\",Simulação!AP84)","v":36.406016086434107},{"$f":"IF($C84=\"\",\"\",Simulação!AQ84)","v":"-"},{"$f":"IF($C84=\"\",\"\",Simulação!AR84)","v":0}]
[null,78,{"$f":"IF(Chegadas!J86<=$C$5,Chegadas!J86,\"\")","v":68.500000000000014},{"$f":"IF($C85=\"\",\"\",Simulação!D85)","v":7.3191003724529349},{"$f":"IF($C85=\"\",\"\",Simulação!E85)","v":"*"},{"$f":"IF($C85=\"\",\"\",Simulação!F85)","v":68.972809445630631},{"$f":"IF($C85=\"\",\"\",Simulação!G85)","v":"*"},{"$f":"IF($C85=\"\",\"\",Simulação!H85)","v":72.557075830432638},{"$f":"IF($C85=\"\",\"\",Simulação!I85)","v":"*"},{"$f":"IF($C85=\"\",\"\",Simulação!J85)","v":70.555660404473315},{"$f":"IF($C85=\"\",\"\",Simulação!K85)","v":68.500000000000014},{"$f":"IF($C85=\"\",\"\",Simulação!L85)","v":75.819100372452951},{"$f":"IF($C85=\"\",\"\",Simulação!M85)","v":"-"},{"$f":"IF($C85=\"\",\"\",Simulação!N85)","v":69.958024518193369},{"$f":"IF($C85=\"\",\"\",Simulação!O85)","v":"-"},{"$f":"IF($C85=\"\",\"\",Simulação!P85)","v":72.495369957896898},{"$f":"IF($C85=\"\",\"\",Simulação!Q85)","v":"-"},{"$f":"IF($C85=\"\",\"\",Simulação!R85)","v":71.335333091108936},{"$f":"IF($C85=\"\",\"\",Simulação!S85)","v":"-"},{"$f":"IF($C85=\"\",\"\",Simulação!T85)","v":66.514382981400601},{"$f":"IF($C85=\"\",\"\",Simulação!U85)","v":"-"},{"$f":"IF($C85=\"\",\"\",Simulação!V85)","v":66.912731092590207},{"$f":"IF($C85=\"\",\"\",Simulação!W85)","v":"-"},{"$f":"IF($C85=\"\",\"\",Simulação!X85)","v":76.48063245449066},{"$f":"IF($C85=\"\",\"\",Simulação!Y85)","v":"-"},{"$f":"IF($C85=\"\",\"\",Simulação!Z85)","v":66.999512039820772},{"$f":"IF($C85=\"\",\"\",Simulação!AA85)","v":"-"},{"$f":"IF($C85=\"\",\"\",Simulação!AB85)","v":70.346807518773559},{"$f":"IF($C85=\"\",\"\",Simulação!AC85)","v":"-"},{"$f":"IF($C85=\"\",\"\",Simulação!AD85)","v":28.626474227638489},{"$f":"IF($C85=\"\",\"\",Simulação!AE85)","v":"-"},{"$f":"IF($C85=\"\",\"\",Simulação!AF85)","v":34.388240562009656},{"$f":"IF($C85=\"\",\"\",Simulação!AG85)","v":"-"},{"$f":"IF($C85=\"\",\"\",Simulação!AH85)","v":29.236023829000793},{"$f":"IF($C85=\"\",\"\",Simulação!AI85)","v":"-"},{"$f":"IF($C85=\"\",\"\",Simulação!AJ85)","v":33.045125393740342},{"$f":"IF($C85=\"\",\"\",Simulação!AK85)","v":"-"},{"$f":"IF($C85=\"\",\"\",Simulação!AL85)","v":32.02721881559642},{"$f":"IF($C85=\"\",\"\",Simulação!AM85)","v":"-"},{"$f":"IF($C85=\"\",\"\",Simulação!AN85)","v":32.217563507182206},{"$f":"IF($C85=\"\",\"\",Simulação!AO85)","v":"-"},{"$f":"IF($C85=\"\",\"\",Simulação!AP85)","v":36.406016086434107},{"$f":"IF($C85=\"\",\"\",Simulação!AQ85)","v":"-"},{"$f":"IF($C85=\"\",\"\",Simulação!AR85)","v":0}]
[null,79,{"$f":"IF(Chegadas!J87<=$C$5,Chegadas!J87,\"\")","v":70.86},{"$f":"IF($C86=\"\",\"\",Simulação!D86)","v":1.2321511051527803},{"$f":"IF($C86=\"\",\"\",Simulação!E86)","v":70.86},{"$f":"IF($C86=\"\",\"\",Simulação!F86)","v":72.09215110515278},{"$f":"IF($C86=\"\",\"\",Simulação!G86)","v":"-"},{"$f":"IF($C86=\"\",\"\",Simulação!H86)","v":72.557075830432638},{"$f":"IF($C86=\"\",\"\",Simulação!I86)","v":"-"},{"$f":"IF($C86=\"\",\"\",Simulação!J86)","v":70.555660404473315},{"$f":"IF($C86=\"\",\"\",Simulação!K86)","v":"-"},{"$f":"IF($C86=\"\",\"\",Simulação!L86)","v":75.819100372452951},{"$f":"IF($C86=\"\",\"\",Simulação!M86)","v":"-"},{"$f":"IF($C86=\"\",\"\",Simulação!N86)","v":69.958024518193369},{"$f":"IF($C86=\"\",\"\",Simulação!O86)","v":"-"},{"$f":"IF($C86=\"\",\"\",Simulação!P86)","v":72.495369957896898},{"$f":"IF($C86=\"\",\"\",Simulação!Q86)","v":"-"},{"$f":"IF($C86=\"\",\"\",Simulação!R86)","v":71.335333091108936},{"$f":"IF($C86=\"\",\"\",Simulação!S86)","v":"-"},{"$f":"IF($C86=\"\",\"\",Simulação!T86)","v":66.514382981400601},{"$f":"IF($C86=\"\",\"\",Simulação!U86)","v":"-"},{"$f":"IF($C86=\"\",\"\",Simulação!V86)","v":66.912731092590207},{"$f":"IF($C86=\"\",\"\",Simulação!W86)","v":"-"},{"$f":"IF($C86=\"\",\"\",Simulação!X86)","v":76.48063245449066},{"$f":"IF($C86=\"\",\"\",Simulação!Y86)","v":"-"},{"$f":"IF($C86=\"\",\"\",Simulação!Z86)","v":66.999512039820772},{"$f":"IF($C86=\"\",\"\",Simulação!AA86)","v":"-"},{"$f":"IF($C86=\"\",\"\",Simulação!AB86)","v":70.346807518773559},{"$f":"IF($C86=\"\",\"\",Simulação!AC86)","v":"-"},{"$f":"IF($C86=\"\",\"\",Simulação!AD86)","v":28.626474227638489},{"$f":"IF($C86=\"\",\"\",Simulação!AE86)","v":"-"},{"$f":"IF($C86=\"\",\"\",Simulação!AF86)","v":34.388240562009656},{"$f":"IF($C86=\"\",\"\",Simulação!AG86)","v":"-"},{"$f":"IF($C86=\"\",\"\",Simulação!AH86)","v":29.236023829000793},{"$f":"IF($C86=\"\",\"\",Simulação!AI86)","v":"-"},{"$f":"IF($C86=\"\",\"\",Simulação!AJ86)","v":33.045125393740342},{"$f":"IF($C86=\"\",\"\",Simulação!AK86)","v":"-"},{"$f":"IF($C86=\"\",\"\",Simulação!AL86)","v":32.02721881559642},{"$f":"IF($C86=\"\",\"\",Simulação!AM86)","v":"-"},{"$f":"IF($C86=\"\",\"\",Simulação!AN86)","v":32.217563507182206},{"$f":"IF($C86=\"\",\"\",Simulação!AO86)","v":"-"},{"$f":"IF($C86=\"\",\"\",Simulação!AP86)","v":36.406016086434107},{"$f":"IF($C86=\"\",\"\",Simulação!AQ86)","v":"-"},{"$f":"IF($C86=\"\",\"\",Simulação!AR86)","v":0}]
[null,80,{"$f":"IF(Chegadas!J88<=$C$5,Chegadas!J88,\"\")","v":70.940000000000012},{"$f":"IF($C87=\"\",\"\",Simulação!D87)","v":7.2921054140996633},{"$f":"IF($C87=\"\",\"\",Simulação!E87)","v":"*"},{"$f":"IF($C87=\"\",\"\",Simulação!F87)","v":72.09215110515278},{"$f":"IF($C87=\"\",\"\",Simulação!G87)","v":"*"},{"$f":"IF($C87=\"\",\"\",Simulação!H87)","v":72.557075830432638},{"$f":"IF($C87=\"\",\"\",Simulação!I87)","v":70.940000000000012},{"$f":"IF($C87=\"\",\"\",Simulação!J87)","v":78.232105414099678},{"$f":"IF($C87=\"\",\"\",Simulação!K87)","v":"-"},{"$f":"IF($C87=\"\",\"\",Simulação!L87)","v":75.819100372452951},{"$f":"IF($C87=\"\",\"\",Simulação!M87)","v":"-"},{"$f":"IF($C87=\"\",\"\",Simulação!N87)","v":69.958024518193369},{"$f":"IF($C87=\"\",\"\",Simulação!O87)","v":"-"},{"$f":"IF($C87=\"\",\"\",Simulação!P87)","v":72.495369957896898},{"$f":"IF($C87=\"\",\"\",Simulação!Q87)","v":"-"},{"$f":"IF($C87=\"\",\"\",Simulação!R87)","v":71.335333091108936},{"$f":"IF($C87=\"\",\"\",Simulação!S87)","v":"-"},{"$f":"IF($C87=\"\",\"\",Simulação!T87)","v":66.514382981400601},{"$f":"IF($C87=\"\",\"\",Simulação!U87)","v":"-"},{"$f":"IF($C87=\"\",\"\",Simulação!V87)","v":66.912731092590207},{"$f":"IF($C87=\"\",\"\",Simulação!W87)","v":"-"},{"$f":"IF($C87=\"\",\"\",Simulação!X87)","v":76.48063245449066},{"$f":"IF($C87=\"\",\"\",Simulação!Y87)","v":"-"},{"$f":"IF($C87=\"\",\"\",Simulação!Z87)","v":66.999512039820772},{"$f":"IF($C87=\"\",\"\",Simulação!AA87)","v":"-"},{"$f":"IF($C87=\"\",\"\",Simulação!AB87)","v":70.346807518773559},{"$f":"IF($C87=\"\",\"\",Simulação!AC87)","v":"-"},{"$f":"IF($C87=\"\",\"\",Simulação!AD87)","v":28.626474227638489},{"$f":"IF($C87=\"\",\"\",Simulação!AE87)","v":"-"},{"$f":"IF($C87=\"\",\"\",Simulação!AF87)","v":34.388240562009656},{"$f":"IF($C87=\"\",\"\",Simulação!AG87)","v":"-"},{"$f":"IF($C87=\"\",\"\",Simulação!AH87)","v":29.236023829000793},{"$f":"IF($C87=\"\",\"\",Simulação!AI87)","v":"-"},{"$f":"IF($C87=\"\",\"\",Simulação!AJ87)","v":33.045125393740342},{"$f":"IF($C87=\"\",\"\",Simulação!AK87)","v":"-"},{"$f":"IF($C87=\"\",\"\",Simulação!AL87)","v":32.02721881559642},{"$f":"IF($C87=\"\",\"\",Simulação!AM87)","v":"-"},{"$f":"IF($C87=\"\",\"\",Simulação!AN87)","v":32.217563507182206},{"$f":"IF($C87=\"\",\"\",Simulação!AO87)","v":"-"},{"$f":"IF($C87=\"\",\"\",Simulação!AP87)","v":36.406016086434107},{"$f":"IF($C87=\"\",\"\",Simulação!AQ87)","v":"-"},{"$f":"IF($C87=\"\",\"\",Simulação!AR87)","v":0}]
[null,81,{"$f":"IF(Chegadas!J89<=$C$5,Chegadas!J89,\"\")","v":71.490000000000009},{"$f":"IF($C88=\"\",\"\",Simulação!D88)","v":8.6209598356140198},{"$f":"IF($C88=\"\",\"\",Simulação!E88)","v":"*"},{"$f":"IF($C88=\"\",\"\",Simulação!F88)","v":72.09215110515278},{"$f":"IF($C88=\"\",\"\",Simulação!G88)","v":"*"},{"$f":"IF($C88=\"\",\"\",Simulação!H88)","v":72.557075830432638},{"$f":"IF($C88=\"\",\"\",Simulação!I88)","v":"*"},{"$f":"IF($C88=\"\",\"\",Simulação!J88)","v":78.232105414099678},{"$f":"IF($C88=\"\",\"\",Simulação!K88)","v":"*"},{"$f":"IF($C88=\"\",\"\",Simulação!L88)","v":75.819100372452951},{"$f":"IF($C88=\"\",\"\",Simulação!M88)","v":71.490000000000009},{"$f":"IF($C88=\"\",\"\",Simulação!N88)","v":80.110959835614025},{"$f":"IF($C88=\"\",\"\",Simulação!O88)","v":"-"},{"$f":"IF($C88=\"\",\"\",Simulação!P88)","v":72.495369957896898},{"$f":"IF($C88=\"\",\"\",Simulação!Q88)","v":"-"},{"$f":"IF($C88=\"\",\"\",Simulação!R88)","v":71.335333091108936},{"$f":"IF($C88=\"\",\"\",Simulação!S88)","v":"-"},{"$f":"IF($C88=\"\",\"\",Simulação!T88)","v":66.514382981400601},{"$f":"IF($C88=\"\",\"\",Simulação!U88)","v":"-"},{"$f":"IF($C88=\"\",\"\",Simulação!V88)","v":66.912731092590207},{"$f":"IF($C88=\"\",\"\",Simulação!W88)","v":"-"},{"$f":"IF($C88=\"\",\"\",Simulação!X88)","v":76.48063245449066},{"$f":"IF($C88=\"\",\"\",Simulação!Y88)","v":"-"},{"$f":"IF($C88=\"\",\"\",Simulação!Z88)","v":66.999512039820772},{"$f":"IF($C88=\"\",\"\",Simulação!AA88)","v":"-"},{"$f":"IF($C88=\"\",\"\",Simulação!AB88)","v":70.346807518773559},{"$f":"IF($C88=\"\",\"\",Simulação!AC88)","v":"-"},{"$f":"IF($C88=\"\",\"\",Simulação!AD88)","v":28.626474227638489},{"$f":"IF($C88=\"\",\"\",Simulação!AE88)","v":"-"},{"$f":"IF($C88=\"\",\"\",Simulação!AF88)","v":34.388240562009656},{"$f":"IF($C88=\"\",\"\",Simulação!AG88)","v":"-"},{"$f":"IF($C88=\"\",\"\",Simulação!AH88)","v":29.236023829000793},{"$f":"IF($C88=\"\",\"\",Simulação!AI88)","v":"-"},{"$f":"IF($C88=\"\",\"\",Simulação!AJ88)","v":33.045125393740342},{"$f":"IF($C88=\"\",\"\",Simulação!AK88)","v":"-"},{"$f":"IF($C88=\"\",\"\",Simulação!AL88)","v":32.02721881559642},{"$f":"IF($C88=\"\",\"\",Simulação!AM88)","v":"-"},{"$f":"IF($C88=\"\",\"\",Simulação!AN88)","v":32.217563507182206},{"$f":"IF($C88=\"\",\"\",Simulação!AO88)","v":"-"},{"$f":"IF($C88=\"\",\"\",Simulação!AP88)","v":36.406016086434107},{"$f":"IF($C88=\"\",\"\",Simulação!AQ88)","v":"-"},{"$f":"IF($C88=\"\",\"\",Simulação!AR88)","v":0}]
[null,82,{"$f":"IF(Chegadas!J90<=$C$5,Chegadas!J90,\"\")","v":72.02000000000001},{"$f":"IF($C89=\"\",\"\",Simulação!D89)","v":14.028557823878756},{"$f":"IF($C89=\"\",\"\",Simulação!E89)","v":"*"},{"$f":"IF($C89=\"\",\"\",Simulação!F89)","v":72.09215110515278},{"$f":"IF($C89=\"\",\"\",Simulação!G89)","v":"*"},{"$f":"IF($C89=\"\",\"\",Simulação!H89)","v":72.557075830432638},{"$f":"IF($C89=\"\",\"\",Simulação!I89)","v":"*"},{"$f":"IF($C89=\"\",\"\",Simulação!J89)","v":78.232105414099678},{"$f":"IF($C89=\"\",\"\",Simulação!K89)","v":"*"},{"$f":"IF($C89=\"\",\"\",Simulação!L89)","v":75.819100372452951},{"$f":"IF($C89=\"\",\"\",Simulação!M89)","v":"*"},{"$f":"IF($C89=\"\",\"\",Simulação!N89)","v":80.110959835614025},{"$f":"IF($C89=\"\",\"\",Simulação!O89)","v":"*"},{"$f":"IF($C89=\"\",\"\",Simulação!P89)","v":72.495369957896898},{"$f":"IF($C89=\"\",\"\",Simulação!Q89)","v":72.02000000000001},{"$f":"IF($C89=\"\",\"\",Simulação!R89)","v":86.048557823878767},{"$f":"IF($C89=\"\",\"\",Simulação!S89)","v":"-"},{"$f":"IF($C89=\"\",\"\",Simulação!T89)","v":66.514382981400601},{"$f":"IF($C89=\"\",\"\",Simulação!U89)","v":"-"},{"$f":"IF($C89=\"\",\"\",Simulação!V89)","v":66.912731092590207},{"$f":"IF($C89=\"\",\"\",Simulação!W89)","v":"-"},{"$f":"IF($C89=\"\",\"\",Simulação!X89)","v":76.48063245449066},{"$f":"IF($C89=\"\",\"\",Simulação!Y89)","v":"-"},{"$f":"IF($C89=\"\",\"\",Simulação!Z89)","v":66.999512039820772},{"$f":"IF($C89=\"\",\"\",Simulação!AA89)","v":"-"},{"$f":"IF($C89=\"\",\"\",Simulação!AB89)","v":70.346807518773559},{"$f":"IF($C89=\"\",\"\",Simulação!AC89)","v":"-"},{"$f":"IF($C89=\"\",\"\",Simulação!AD89)","v":28.626474227638489},{"$f":"IF($C89=\"\",\"\",Simulação!AE89)","v":"-"},{"$f":"IF($C89=\"\",\"\",Simulação!AF89)","v":34.388240562009656},{"$f":"IF($C89=\"\",\"\",Simulação!AG89)","v":"-"},{"$f":"IF($C89=\"\",\"\",Simulação!AH89)","v":29.236023829000793},{"$f":"IF($C89=\"\",\"\",Simulação!AI89)","v":"-"},{"$f":"IF($C89=\"\",\"\",Simulação!AJ89)","v":33.045125393740342},{"$f":"IF($C89=\"\",\"\",Simulação!AK89)","v":"-"},{"$f":"IF($C89=\"\",\"\",Simulação!AL89)","v":32.02721881559642},{"$f":"IF($C89=\"\",\"\",Simulação!AM89)","v":"-"},{"$f":"IF($C89=\"\",\"\",Simulação!AN89)","v":32.217563507182206},{"$f":"IF($C89=\"\",\"\",Simulação!AO89)","v":"-"},{"$f":"IF($C89=\"\",\"\",Simulação!AP89)","v":36.406016086434107},{"$f":"IF($C89=\"\",\"\",Simulação!AQ89)","v":"-"},{"$f":"IF($C89=\"\",\"\",Simulação!AR89)","v":0}]
[null,83,{"$f":"IF(Chegadas!J91<=$C$5,Chegadas!J91,\"\")","v":72.37},{"$f":"IF($C90=\"\",\"\",Simulação!D90)","v":14.009985927420118},{"$f":"IF($C90=\"\",\"\",Simulação!E90)","v":72.37},{"$f":"IF($C90=\"\",\"\",Simulação!F90)","v":86.379985927420122},{"$f":"IF($C90=\"\",\"\",Simulação!G90)","v":"-"},{"$f":"IF($C90=\"\",\"\",Simulação!H90)","v":72.557075830432638},{"$f":"IF($C90=\"\",\"\",Simulação!I90)","v":"-"},{"$f":"IF($C90=\"\",\"\",Simulação!J90)","v":78.232105414099678},{"$f":"IF($C90=\"\",\"\",Simulação!K90)","v":"-"},{"$f":"IF($C90=\"\",\"\",Simulação!L90)","v":75.819100372452951},{"$f":"IF($C90=\"\",\"\",Simulação!M90)","v":"-"},{"$f":"IF($C90=\"\",\"\",Simulação!N90)","v":80.110959835614025},{"$f":"IF($C90=\"\",\"\",Simulação!O90)","v":"-"},{"$f":"IF($C90=\"\",\"\",Simulação!P90)","v":72.495369957896898},{"$f":"IF($C90=\"\",\"\",Simulação!Q90)","v":"-"},{"$f":"IF($C90=\"\",\"\",Simulação!R90)","v":86.048557823878767},{"$f":"IF($C90=\"\",\"\",Simulação!S90)","v":"-"},{"$f":"IF($C90=\"\",\"\",Simulação!T90)","v":66.514382981400601},{"$f":"IF($C90=\"\",\"\",Simulação!U90)","v":"-"},{"$f":"IF($C90=\"\",\"\",Simulação!V90)","v":66.912731092590207},{"$f":"IF($C90=\"\",\"\",Simulação!W90)","v":"-"},{"$f":"IF($C90=\"\",\"\",Simulação!X90)","v":76.48063245449066},{"$f":"IF($C90=\"\",\"\",Simulação!Y90)","v":"-"},{"$f":"IF($C90=\"\",\"\",Simulação!Z90)","v":66.999512039820772},{"$f":"IF($C90=\"\",\"\",Simulação!AA90)","v":"-"},{"$f":"IF($C90=\"\",\"\",Simulação!AB90)","v":70.346807518773559},{"$f":"IF($C90=\"\",\"\",Simulação!AC90)","v":"-"},{"$f":"IF($C90=\"\",\"\",Simulação!AD90)","v":28.626474227638489},{"$f":"IF($C90=\"\",\"\",Simulação!AE90)","v":"-"},{"$f":"IF($C90=\"\",\"\",Simulação!AF90)","v":34.388240562009656},{"$f":"IF($C90=\"\",\"\",Simulação!AG90)","v":"-"},{"$f":"IF($C90=\"\",\"\",Simulação!AH90)","v":29.236023829000793},{"$f":"IF($C90=\"\",\"\",Simulação!AI90)","v":"-"},{"$f":"IF($C90=\"\",\"\",Simulação!AJ90)","v":33.045125393740342},{"$f":"IF($C90=\"\",\"\",Simulação!AK90)","v":"-"},{"$f":"IF($C90=\"\",\"\",Simulação!AL90)","v":32.02721881559642},{"$f":"IF($C90=\"\",\"\",Simulação!AM90)","v":"-"},{"$f":"IF($C90=\"\",\"\",Simulação!AN90)","v":32.217563507182206},{"$f":"IF($C90=\"\",\"\",Simulação!AO90)","v":"-"},{"$f":"IF($C90=\"\",\"\",Simulação!AP90)","v":36.406016086434107},{"$f":"IF($C90=\"\",\"\",Simulação!AQ90)","v":"-"},{"$f":"IF($C90=\"\",\"\",Simulação!AR90)","v":0}]
[null,84,{"$f":"IF(Chegadas!J92<=$C$5,Chegadas!J92,\"\")","v":73.550000000000011},{"$f":"IF($C91=\"\",\"\",Simulação!D91)","v":2.4129520664171484},{"$f":"IF($C91=\"\",\"\",Simulação!E91)","v":"*"},{"$f":"IF($C91=\"\",\"\",Simulação!F91)","v":86.379985927420122},{"$f":"IF($C91=\"\",\"\",Simulação!G91)","v":73.550000000000011},{"$f":"IF($C91=\"\",\"\",Simulação!H91)","v":75.962952066417159},{"$f":"IF($C91=\"\",\"\",Simulação!I91)","v":"-"},{"$f":"IF($C91=\"\",\"\",Simulação!J91)","v":78.232105414099678},{"$f":"IF($C91=\"\",\"\",Simulação!K91)","v":"-"},{"$f":"IF($C91=\"\",\"\",Simulação!L91)","v":75.819100372452951},{"$f":"IF($C91=\"\",\"\",Simulação!M91)","v":"-"},{"$f":"IF($C91=\"\",\"\",Simulação!N91)","v":80.110959835614025},{"$f":"IF($C91=\"\",\"\",Simulação!O91)","v":"-"},{"$f":"IF($C91=\"\",\"\",Simulação!P91)","v":72.495369957896898},{"$f":"IF($C91=\"\",\"\",Simulação!Q91)","v":"-"},{"$f":"IF($C91=\"\",\"\",Simulação!R91)","v":86.048557823878767},{"$f":"IF($C91=\"\",\"\",Simulação!S91)","v":"-"},{"$f":"IF($C91=\"\",\"\",Simulação!T91)","v":66.514382981400601},{"$f":"IF($C91=\"\",\"\",Simulação!U91)","v":"-"},{"$f":"IF($C91=\"\",\"\",Simulação!V91)","v":66.912731092590207},{"$f":"IF($C91=\"\",\"\",Simulação!W91)","v":"-"},{"$f":"IF($C91=\"\",\"\",Simulação!X91)","v":76.48063245449066},{"$f":"IF($C91=\"\",\"\",Simulação!Y91)","v":"-"},{"$f":"IF($C91=\"\",\"\",Simulação!Z91)","v":66.999512039820772},{"$f":"IF($C91=\"\",\"\",Simulação!AA91)","v":"-"},{"$f":"IF($C91=\"\",\"\",Simulação!AB91)","v":70.346807518773559},{"$f":"IF($C91=\"\",\"\",Simulação!AC91)","v":"-"},{"$f":"IF($C91=\"\",\"\",Simulação!AD91)","v":28.626474227638489},{"$f":"IF($C91=\"\",\"\",Simulação!AE91)","v":"-"},{"$f":"IF($C91=\"\",\"\",Simulação!AF91)","v":34.388240562009656},{"$f":"IF($C91=\"\",\"\",Simulação!AG91)","v":"-"},{"$f":"IF($C91=\"\",\"\",Simulação!AH91)","v":29.236023829000793},{"$f":"IF($C91=\"\",\"\",Simulação!AI91)","v":"-"},{"$f":"IF($C91=\"\",\"\",Simulação!AJ91)","v":33.045125393740342},{"$f":"IF($C91=\"\",\"\",Simulação!AK91)","v":"-"},{"$f":"IF($C91=\"\",\"\",Simulação!AL91)","v":32.02721881559642},{"$f":"IF($C91=\"\",\"\",Simulação!AM91)","v":"-"},{"$f":"IF($C91=\"\",\"\",Simulação!AN91)","v":32.217563507182206},{"$f":"IF($C91=\"\",\"\",Simulação!AO91)","v":"-"},{"$f":"IF($C91=\"\",\"\",Simulação!AP91)","v":36.406016086434107},{"$f":"IF($C91=\"\",\"\",Simulação!AQ91)","v":"-"},{"$f":"IF($C91=\"\",\"\",Simulação!AR91)","v":0}]
[null,85,{"$f":"IF(Chegadas!J93<=$C$5,Chegadas!J93,\"\")","v":74.690000000000012},{"$f":"IF($C92=\"\",\"\",Simulação!D92)","v":12.37587533995649},{"$f":"IF($C92=\"\",\"\",Simulação!E92)","v":"*"},{"$f":"IF($C92=\"\",\"\",Simulação!F92)","v":86.379985927420122},{"$f":"IF($C92=\"\",\"\",Simulação!G92)","v":"*"},{"$f":"IF($C92=\"\",\"\",Simulação!H92)","v":75.962952066417159},{"$f":"IF($C92=\"\",\"\",Simulação!I92)","v":"*"},{"$f":"IF($C92=\"\",\"\",Simulação!J92)","v":78.232105414099678},{"$f":"IF($C92=\"\",\"\",Simulação!K92)","v":"*"},{"$f":"IF($C92=\"\",\"\",Simulação!L92)","v":75.819100372452951},{"$f":"IF($C92=\"\",\"\",Simulação!M92)","v":"*"},{"$f":"IF($C92=\"\",\"\",Simulação!N92)","v":80.110959835614025},{"$f":"IF($C92=\"\",\"\",Simulação!O92)","v":74.690000000000012},{"$f":"IF($C92=\"\",\"\",Simulação!P92)","v":87.065875339956506},{"$f":"IF($C92=\"\",\"\",Simulação!Q92)","v":"-"},{"$f":"IF($C92=\"\",\"\",Simulação!R92)","v":86.048557823878767},{"$f":"IF($C92=\"\",\"\",Simulação!S92)","v":"-"},{"$f":"IF($C92=\"\",\"\",Simulação!T92)","v":66.514382981400601},{"$f":"IF($C92=\"\",\"\",Simulação!U92)","v":"-"},{"$f":"IF($C92=\"\",\"\",Simulação!V92)","v":66.912731092590207},{"$f":"IF($C92=\"\",\"\",Simulação!W92)","v":"-"},{"$f":"IF($C92=\"\",\"\",Simulação!X92)","v":76.48063245449066},{"$f":"IF($C92=\"\",\"\",Simulação!Y92)","v":"-"},{"$f":"IF($C92=\"\",\"\",Simulação!Z92)","v":66.999512039820772},{"$f":"IF($C92=\"\",\"\",Simulação!AA92)","v":"-"},{"$f":"IF($C92=\"\",\"\",Simulação!AB92)","v":70.346807518773559},{"$f":"IF($C92=\"\",\"\",Simulação!AC92)","v":"-"},{"$f":"IF($C92=\"\",\"\",Simulação!AD92)","v":28.626474227638489},{"$f":"IF($C92=\"\",\"\",Simulação!AE92)","v":"-"},{"$f":"IF($C92=\"\",\"\",Simulação!AF92)","v":34.388240562009656},{"$f":"IF($C92=\"\",\"\",Simulação!AG92)","v":"-"},{"$f":"IF($C92=\"\",\"\",Simulação!AH92)","v":29.236023829000793},{"$f":"IF($C92=\"\",\"\",Simulação!AI92)","v":"-"},{"$f":"IF($C92=\"\",\"\",Simulação!AJ92)","v":33.045125393740342},{"$f":"IF($C92=\"\",\"\",Simulação!AK92)","v":"-"},{"$f":"IF($C92=\"\",\"\",Simulação!AL92)","v":32.02721881559642},{"$f":"IF($C92=\"\",\"\",Simulação!AM92)","v":"-"},{"$f":"IF($C92=\"\",\"\",Simulação!AN92)","v":32.217563507182206},{"$f":"IF($C92=\"\",\"\",Simulação!AO92)","v":"-"},{"$f":"IF($C92=\"\",\"\",Simulação!AP92)","v":36.406016086434107},{"$f":"IF($C92=\"\",\"\",Simulação!AQ92)","v":"-"},{"$f":"IF($C92=\"\",\"\",Simulação!AR92)","v":0}]
[null,86,{"$f":"IF(Chegadas!J94<=$C$5,Chegadas!J94,\"\")","v":75.690000000000012},{"$f":"IF($C93=\"\",\"\",Simulação!D93)","v":9.8604133708950457},{"$f":"IF($C93=\"\",\"\",Simulação!E93)","v":"*"},{"$f":"IF($C93=\"\",\"\",Simulação!F93)","v":86.379985927420122},{"$f":"IF($C93=\"\",\"\",Simulação!G93)","v":"*"},{"$f":"IF($C93=\"\",\"\",Simulação!H93)","v":75.962952066417159},{"$f":"IF($C93=\"\",\"\",Simulação!I93)","v":"*"},{"$f":"IF($C93=\"\",\"\",Simulação!J93)","v":78.232105414099678},{"$f":"IF($C93=\"\",\"\",Simulação!K93)","v":"*"},{"$f":"IF($C93=\"\",\"\",Simulação!L93)","v":75.819100372452951},{"$f":"IF($C93=\"\",\"\",Simulação!M93)","v":"*"},{"$f":"IF($C93=\"\",\"\",Simulação!N93)","v":80.110959835614025},{"$f":"IF($C93=\"\",\"\",Simulação!O93)","v":"*"},{"$f":"IF($C93=\"\",\"\",Simulação!P93)","v":87.065875339956506},{"$f":"IF($C93=\"\",\"\",Simulação!Q93)","v":"*"},{"$f":"IF($C93=\"\",\"\",Simulação!R93)","v":86.048557823878767},{"$f":"IF($C93=\"\",\"\",Simulação!S93)","v":75.690000000000012},{"$f":"IF($C93=\"\",\"\",Simulação!T93)","v":85.550413370895058},{"$f":"IF($C93=\"\",\"\",Simulação!U93)","v":"-"},{"$f":"IF($C93=\"\",\"\",Simulação!V93)","v":66.912731092590207},{"$f":"IF($C93=\"\",\"\",Simulação!W93)","v":"-"},{"$f":"IF($C93=\"\",\"\",Simulação!X93)","v":76.48063245449066},{"$f":"IF($C93=\"\",\"\",Simulação!Y93)","v":"-"},{"$f":"IF($C93=\"\",\"\",Simulação!Z93)","v":66.999512039820772},{"$f":"IF($C93=\"\",\"\",Simulação!AA93)","v":"-"},{"$f":"IF($C93=\"\",\"\",Simulação!AB93)","v":70.346807518773559},{"$f":"IF($C93=\"\",\"\",Simulação!AC93)","v":"-"},{"$f":"IF($C93=\"\",\"\",Simulação!AD93)","v":28.626474227638489},{"$f":"IF($C93=\"\",\"\",Simulação!AE93)","v":"-"},{"$f":"IF($C93=\"\",\"\",Simulação!AF93)","v":34.388240562009656},{"$f":"IF($C93=\"\",\"\",Simulação!AG93)","v":"-"},{"$f":"IF($C93=\"\",\"\",Simulação!AH93)","v":29.236023829000793},{"$f":"IF($C93=\"\",\"\",Simulação!AI93)","v":"-"},{"$f":"IF($C93=\"\",\"\",Simulação!AJ93)","v":33.045125393740342},{"$f":"IF($C93=\"\",\"\",Simulação!AK93)","v":"-"},{"$f":"IF($C93=\"\",\"\",Simulação!AL93)","v":32.02721881559642},{"$f":"IF($C93=\"\",\"\",Simulação!AM93)","v":"-"},{"$f":"IF($C93=\"\",\"\",Simulação!AN93)","v":32.217563507182206},{"$f":"IF($C93=\"\",\"\",Simulação!AO93)","v":"-"},{"$f":"IF($C93=\"\",\"\",Simulação!AP93)","v":36.406016086434107},{"$f":"IF($C93=\"\",\"\",Simulação!AQ93)","v":"-"},{"$f":"IF($C93=\"\",\"\",Simulação!AR93)","v":0}]
[null,87,{"$f":"IF(Chegadas!J95<=$C$5,Chegadas!J95,\"\")","v":75.980000000000018},{"$f":"IF($C94=\"\",\"\",Simulação!D94)","v":4.2516714377137657},{"$f":"IF($C94=\"\",\"\",Simulação!E94)","v":"*"},{"$f":"IF($C94=\"\",\"\",Simulação!F94)","v":86.379985927420122},{"$f":"IF($C94=\"\",\"\",Simulação!G94)","v":75.980000000000018},{"$f":"IF($C94=\"\",\"\",Simulação!H94)","v":80.231671437713786},{"$f":"IF($C94=\"\",\"\",Simulação!I94)","v":"-"},{"$f":"IF($C94=\"\",\"\",Simulação!J94)","v":78.232105414099678},{"$f":"IF($C94=\"\",\"\",Simulação!K94)","v":"-"},{"$f":"IF($C94=\"\",\"\",Simulação!L94)","v":75.819100372452951},{"$f":"IF($C94=\"\",\"\",Simulação!M94)","v":"-"},{"$f":"IF($C94=\"\",\"\",Simulação!N94)","v":80.110959835614025},{"$f":"IF($C94=\"\",\"\",Simulação!O94)","v":"-"},{"$f":"IF($C94=\"\",\"\",Simulação!P94)","v":87.065875339956506},{"$f":"IF($C94=\"\",\"\",Simulação!Q94)","v":"-"},{"$f":"IF($C94=\"\",\"\",Simulação!R94)","v":86.048557823878767},{"$f":"IF($C94=\"\",\"\",Simulação!S94)","v":"-"},{"$f":"IF($C94=\"\",\"\",Simulação!T94)","v":85.550413370895058},{"$f":"IF($C94=\"\",\"\",Simulação!U94)","v":"-"},{"$f":"IF($C94=\"\",\"\",Simulação!V94)","v":66.912731092590207},{"$f":"IF($C94=\"\",\"\",Simulação!W94)","v":"-"},{"$f":"IF($C94=\"\",\"\",Simulação!X94)","v":76.48063245449066},{"$f":"IF($C94=\"\",\"\",Simulação!Y94)","v":"-"},{"$f":"IF($C94=\"\",\"\",Simulação!Z94)","v":66.999512039820772},{"$f":"IF($C94=\"\",\"\",Simulação!AA94)","v":"-"},{"$f":"IF($C94=\"\",\"\",Simulação!AB94)","v":70.346807518773559},{"$f":"IF($C94=\"\",\"\",Simulação!AC94)","v":"-"},{"$f":"IF($C94=\"\",\"\",Simulação!AD94)","v":28.626474227638489},{"$f":"IF($C94=\"\",\"\",Simulação!AE94)","v":"-"},{"$f":"IF($C94=\"\",\"\",Simulação!AF94)","v":34.388240562009656},{"$f":"IF($C94=\"\",\"\",Simulação!AG94)","v":"-"},{"$f":"IF($C94=\"\",\"\",Simulação!AH94)","v":29.236023829000793},{"$f":"IF($C94=\"\",\"\",Simulação!AI94)","v":"-"},{"$f":"IF($C94=\"\",\"\",Simulação!AJ94)","v":33.045125393740342},{"$f":"IF($C94=\"\",\"\",Simulação!AK94)","v":"-"},{"$f":"IF($C94=\"\",\"\",Simulação!AL94)","v":32.02721881559642},{"$f":"IF($C94=\"\",\"\",Simulação!AM94)","v":"-"},{"$f":"IF($C94=\"\",\"\",Simulação!AN94)","v":32.217563507182206},{"$f":"IF($C94=\"\",\"\",Simulação!AO94)","v":"-"},{"$f":"IF($C94=\"\",\"\",Simulação!AP94)","v":36.406016086434107},{"$f":"IF($C94=\"\",\"\",Simulação!AQ94)","v":"-"},{"$f":"IF($C94=\"\",\"\",Simulação!AR94)","v":0}]
[null,88,{"$f":"IF(Chegadas!J96<=$C$5,Chegadas!J96,\"\")","v":76.630000000000024},{"$f":"IF($C95=\"\",\"\",Simulação!D95)","v":5.0587591912753442},{"$f":"IF($C95=\"\",\"\",Simulação!E95)","v":"*"},{"$f":"IF($C95=\"\",\"\",Simulação!F95)","v":86.379985927420122},{"$f":"IF($C95=\"\",\"\",Simulação!G95)","v":"*"},{"$f":"IF($C95=\"\",\"\",Simulação!H95)","v":80.231671437713786},{"$f":"IF($C95=\"\",\"\",Simulação!I95)","v":"*"},{"$f":"IF($C95=\"\",\"\",Simulação!J95)","v":78.232105414099678},{"$f":"IF($C95=\"\",\"\",Simulação!K95)","v":76.630000000000024},{"$f":"IF($C95=\"\",\"\",Simulação!L95)","v":81.688759191275366},{"$f":"IF($C95=\"\",\"\",Simulação!M95)","v":"-"},{"$f":"IF($C95=\"\",\"\",Simulação!N95)","v":80.110959835614025},{"$f":"IF($C95=\"\",\"\",Simulação!O95)","v":"-"},{"$f":"IF($C95=\"\",\"\",Simulação!P95)","v":87.065875339956506},{"$f":"IF($C95=\"\",\"\",Simulação!Q95)","v":"-"},{"$f":"IF($C95=\"\",\"\",Simulação!R95)","v":86.048557823878767},{"$f":"IF($C95=\"\",\"\",Simulação!S95)","v":"-"},{"$f":"IF($C95=\"\",\"\",Simulação!T95)","v":85.550413370895058},{"$f":"IF($C95=\"\",\"\",Simulação!U95)","v":"-"},{"$f":"IF($C95=\"\",\"\",Simulação!V95)","v":66.912731092590207},{"$f":"IF($C95=\"\",\"\",Simulação!W95)","v":"-"},{"$f":"IF($C95=\"\",\"\",Simulação!X95)","v":76.48063245449066},{"$f":"IF($C95=\"\",\"\",Simulação!Y95)","v":"-"},{"$f":"IF($C95=\"\",\"\",Simulação!Z95)","v":66.999512039820772},{"$f":"IF($C95=\"\",\"\",Simulação!AA95)","v":"-"},{"$f":"IF($C95=\"\",\"\",Simulação!AB95)","v":70.346807518773559},{"$f":"IF($C95=\"\",\"\",Simulação!AC95)","v":"-"},{"$f":"IF($C95=\"\",\"\",Simulação!AD95)","v":28.626474227638489},{"$f":"IF($C95=\"\",\"\",Simulação!AE95)","v":"-"},{"$f":"IF($C95=\"\",\"\",Simulação!AF95)","v":34.388240562009656},{"$f":"IF($C95=\"\",\"\",Simulação!AG95)","v":"-"},{"$f":"IF($C95=\"\",\"\",Simulação!AH95)","v":29.236023829000793},{"$f":"IF($C95=\"\",\"\",Simulação!AI95)","v":"-"},{"$f":"IF($C95=\"\",\"\",Simulação!AJ95)","v":33.045125393740342},{"$f":"IF($C95=\"\",\"\",Simulação!AK95)","v":"-"},{"$f":"IF($C95=\"\",\"\",Simulação!AL95)","v":32.02721881559642},{"$f":"IF($C95=\"\",\"\",Simulação!AM95)","v":"-"},{"$f":"IF($C95=\"\",\"\",Simulação!AN95)","v":32.217563507182206},{"$f":"IF($C95=\"\",\"\",Simulação!AO95)","v":"-"},{"$f":"IF($C95=\"\",\"\",Simulação!AP95)","v":36.406016086434107},{"$f":"IF($C95=\"\",\"\",Simulação!AQ95)","v":"-"},{"$f":"IF($C95=\"\",\"\",Simulação!AR95)","v":0}]
[null,89,{"$f":"IF(Chegadas!J97<=$C$5,Chegadas!J97,\"\")","v":79.300000000000026},{"$f":"IF($C96=\"\",\"\",Simulação!D96)","v":11.011647390056917},{"$f":"IF($C96=\"\",\"\",Simulação!E96)","v":"*"},{"$f":"IF($C96=\"\",\"\",Simulação!F96)","v":86.379985927420122},{"$f":"IF($C96=\"\",\"\",Simulação!G96)","v":"*"},{"$f":"IF($C96=\"\",\"\",Simulação!H96)","v":80.231671437713786},{"$f":"IF($C96=\"\",\"\",Simulação!I96)","v":79.300000000000026},{"$f":"IF($C96=\"\",\"\",Simulação!J96)","v":90.311647390056947},{"$f":"IF($C96=\"\",\"\",Simulação!K96)","v":"-"},{"$f":"IF($C96=\"\",\"\",Simulação!L96)","v":81.688759191275366},{"$f":"IF($C96=\"\",\"\",Simulação!M96)","v":"-"},{"$f":"IF($C96=\"\",\"\",Simulação!N96)","v":80.110959835614025},{"$f":"IF($C96=\"\",\"\",Simulação!O96)","v":"-"},{"$f":"IF($C96=\"\",\"\",Simulação!P96)","v":87.065875339956506},{"$f":"IF($C96=\"\",\"\",Simulação!Q96)","v":"-"},{"$f":"IF($C96=\"\",\"\",Simulação!R96)","v":86.048557823878767},{"$f":"IF($C96=\"\",\"\",Simulação!S96)","v":"-"},{"$f":"IF($C96=\"\",\"\",Simulação!T96)","v":85.550413370895058},{"$f":"IF($C96=\"\",\"\",Simulação!U96)","v":"-"},{"$f":"IF($C96=\"\",\"\",Simulação!V96)","v":66.912731092590207},{"$f":"IF($C96=\"\",\"\",Simulação!W96)","v":"-"},{"$f":"IF($C96=\"\",\"\",Simulação!X96)","v":76.48063245449066},{"$f":"IF($C96=\"\",\"\",Simulação!Y96)","v":"-"},{"$f":"IF($C96=\"\",\"\",Simulação!Z96)","v":66.999512039820772},{"$f":"IF($C96=\"\",\"\",Simulação!AA96)","v":"-"},{"$f":"IF($C96=\"\",\"\",Simulação!AB96)","v":70.346807518773559},{"$f":"IF($C96=\"\",\"\",Simulação!AC96)","v":"-"},{"$f":"IF($C96=\"\",\"\",Simulação!AD96)","v":28.626474227638489},{"$f":"IF($C96=\"\",\"\",Simulação!AE96)","v":"-"},{"$f":"IF($C96=\"\",\"\",Simulação!AF96)","v":34.388240562009656},{"$f":"IF($C96=\"\",\"\",Simulação!AG96)","v":"-"},{"$f":"IF($C96=\"\",\"\",Simulação!AH96)","v":29.236023829000793},{"$f":"IF($C96=\"\",\"\",Simulação!AI96)","v":"-"},{"$f":"IF($C96=\"\",\"\",Simulação!AJ96)","v":33.045125393740342},{"$f":"IF($C96=\"\",\"\",Simulação!AK96)","v":"-"},{"$f":"IF($C96=\"\",\"\",Simulação!AL96)","v":32.02721881559642},{"$f":"IF($C96=\"\",\"\",Simulação!AM96)","v":"-"},{"$f":"IF($C96=\"\",\"\",Simulação!AN96)","v":32.217563507182206},{"$f":"IF($C96=\"\",\"\",Simulação!AO96)","v":"-"},{"$f":"IF($C96=\"\",\"\",Simulação!AP96)","v":36.406016086434107},{"$f":"IF($C96=\"\",\"\",Simulação!AQ96)","v":"-"},{"$f":"IF($C96=\"\",\"\",Simulação!AR96)","v":0}]
[null,90,{"$f":"IF(Chegadas!J98<=$C$5,Chegadas!J98,\"\")","v":79.880000000000024},{"$f":"IF($C97=\"\",\"\",Simulação!D97)","v":11.092159608508712},{"$f":"IF($C97=\"\",\"\",Simulação!E97)","v":"*"},{"$f":"IF($C97=\"\",\"\",Simulação!F97)","v":86.379985927420122},{"$f":"IF($C97=\"\",\"\",Simulação!G97)","v":"*"},{"$f":"IF($C97=\"\",\"\",Simulação!H97)","v":80.231671437713786},{"$f":"IF($C97=\"\",\"\",Simulação!I97)","v":"*"},{"$f":"IF($C97=\"\",\"\",Simulação!J97)","v":90.311647390056947},{"$f":"IF($C97=\"\",\"\",Simulação!K97)","v":"*"},{"$f":"IF($C97=\"\",\"\",Simulação!L97)","v":81.688759191275366},{"$f":"IF($C97=\"\",\"\",Simulação!M97)","v":"*"},{"$f":"IF($C97=\"\",\"\",Simulação!N97)","v":80.110959835614025},{"$f":"IF($C97=\"\",\"\",Simulação!O97)","v":"*"},{"$f":"IF($C97=\"\",\"\",Simulação!P97)","v":87.065875339956506},{"$f":"IF($C97=\"\",\"\",Simulação!Q97)","v":"*"},{"$f":"IF($C97=\"\",\"\",Simulação!R97)","v":86.048557823878767},{"$f":"IF($C97=\"\",\"\",Simulação!S97)","v":"*"},{"$f":"IF($C97=\"\",\"\",Simulação!T97)","v":85.550413370895058},{"$f":"IF($C97=\"\",\"\",Simulação!U97)","v":79.880000000000024},{"$f":"IF($C97=\"\",\"\",Simulação!V97)","v":90.972159608508733},{"$f":"IF($C97=\"\",\"\",Simulação!W97)","v":"-"},{"$f":"IF($C97=\"\",\"\",Simulação!X97)","v":76.48063245449066},{"$f":"IF($C97=\"\",\"\",Simulação!Y97)","v":"-"},{"$f":"IF($C97=\"\",\"\",Simulação!Z97)","v":66.999512039820772},{"$f":"IF($C97=\"\",\"\",Simulação!AA97)","v":"-"},{"$f":"IF($C97=\"\",\"\",Simulação!AB97)","v":70.346807518773559},{"$f":"IF($C97=\"\",\"\",Simulação!AC97)","v":"-"},{"$f":"IF($C97=\"\",\"\",Simulação!AD97)","v":28.626474227638489},{"$f":"IF($C97=\"\",\"\",Simulação!AE97)","v":"-"},{"$f":"IF($C97=\"\",\"\",Simulação!AF97)","v":34.388240562009656},{"$f":"IF($C97=\"\",\"\",Simulação!AG97)","v":"-"},{"$f":"IF($C97=\"\",\"\",Simulação!AH97)","v":29.236023829000793},{"$f":"IF($C97=\"\",\"\",Simulação!AI97)","v":"-"},{"$f":"IF($C97=\"\",\"\",Simulação!AJ97)","v":33.045125393740342},{"$f":"IF($C97=\"\",\"\",Simulação!AK97)","v":"-"},{"$f":"IF($C97=\"\",\"\",Simulação!AL97)","v":32.02721881559642},{"$f":"IF($C97=\"\",\"\",Simulação!AM97)","v":"-"},{"$f":"IF($C97=\"\",\"\",Simulação!AN97)","v":32.217563507182206},{"$f":"IF($C97=\"\",\"\",Simulação!AO97)","v":"-"},{"$f":"IF($C97=\"\",\"\",Simulação!AP97)","v":36.406016086434107},{"$f":"IF($C97=\"\",\"\",Simulação!AQ97)","v":"-"},{"$f":"IF($C97=\"\",\"\",Simulação!AR97)","v":0}]
[null,91,{"$f":"IF(Chegadas!J99<=$C$5,Chegadas!J99,\"\")","v":81.47},{"$f":"IF($C98=\"\",\"\",Simulação!D98)","v":1.2846588121752798},{"$f":"IF($C98=\"\",\"\",Simulação!E98)","v":"*"},{"$f":"IF($C98=\"\",\"\",Simulação!F98)","v":86.379985927420122},{"$f":"IF($C98=\"\",\"\",Simulação!G98)","v":81.47},{"$f":"IF($C98=\"\",\"\",Simulação!H98)","v":82.754658812175279},{"$f":"IF($C98=\"\",\"\",Simulação!I98)","v":"-"},{"$f":"IF($C98=\"\",\"\",Simulação!J98)","v":90.311647390056947},{"$f":"IF($C98=\"\",\"\",Simulação!K98)","v":"-"},{"$f":"IF($C98=\"\",\"\",Simulação!L98)","v":81.688759191275366},{"$f":"IF($C98=\"\",\"\",Simulação!M98)","v":"-"},{"$f":"IF($C98=\"\",\"\",Simulação!N98)","v":80.110959835614025},{"$f":"IF($C98=\"\",\"\",Simulação!O98)","v":"-"},{"$f":"IF($C98=\"\",\"\",Simulação!P98)","v":87.065875339956506},{"$f":"IF($C98=\"\",\"\",Simulação!Q98)","v":"-"},{"$f":"IF($C98=\"\",\"\",Simulação!R98)","v":86.048557823878767},{"$f":"IF($C98=\"\",\"\",Simulação!S98)","v":"-"},{"$f":"IF($C98=\"\",\"\",Simulação!T98)","v":85.550413370895058},{"$f":"IF($C98=\"\",\"\",Simulação!U98)","v":"-"},{"$f":"IF($C98=\"\",\"\",Simulação!V98)","v":90.972159608508733},{"$f":"IF($C98=\"\",\"\",Simulação!W98)","v":"-"},{"$f":"IF($C98=\"\",\"\",Simulação!X98)","v":76.48063245449066},{"$f":"IF($C98=\"\",\"\",Simulação!Y98)","v":"-"},{"$f":"IF($C98=\"\",\"\",Simulação!Z98)","v":66.999512039820772},{"$f":"IF($C98=\"\",\"\",Simulação!AA98)","v":"-"},{"$f":"IF($C98=\"\",\"\",Simulação!AB98)","v":70.346807518773559},{"$f":"IF($C98=\"\",\"\",Simulação!AC98)","v":"-"},{"$f":"IF($C98=\"\",\"\",Simulação!AD98)","v":28.626474227638489},{"$f":"IF($C98=\"\",\"\",Simulação!AE98)","v":"-"},{"$f":"IF($C98=\"\",\"\",Simulação!AF98)","v":34.388240562009656},{"$f":"IF($C98=\"\",\"\",Simulação!AG98)","v":"-"},{"$f":"IF($C98=\"\",\"\",Simulação!AH98)","v":29.236023829000793},{"$f":"IF($C98=\"\",\"\",Simulação!AI98)","v":"-"},{"$f":"IF($C98=\"\",\"\",Simulação!AJ98)","v":33.045125393740342},{"$f":"IF($C98=\"\",\"\",Simulação!AK98)","v":"-"},{"$f":"IF($C98=\"\",\"\",Simulação!AL98)","v":32.02721881559642},{"$f":"IF($C98=\"\",\"\",Simulação!AM98)","v":"-"},{"$f":"IF($C98=\"\",\"\",Simulação!AN98)","v":32.217563507182206},{"$f":"IF($C98=\"\",\"\",Simulação!AO98)","v":"-"},{"$f":"IF($C98=\"\",\"\",Simulação!AP98)","v":36.406016086434107},{"$f":"IF($C98=\"\",\"\",Simulação!AQ98)","v":"-"},{"$f":"IF($C98=\"\",\"\",Simulação!AR98)","v":0}]
[null,92,{"$f":"IF(Chegadas!J100<=$C$5,Chegadas!J100,\"\")","v":81.680000000000021},{"$f":"IF($C99=\"\",\"\",Simulação!D99)","v":12.739165599528011},{"$f":"IF($C99=\"\",\"\",Simulação!E99)","v":"*"},{"$f":"IF($C99=\"\",\"\",Simulação!F99)","v":86.379985927420122},{"$f":"IF($C99=\"\",\"\",Simulação!G99)","v":"*"},{"$f":"IF($C99=\"\",\"\",Simulação!H99)","v":82.754658812175279},{"$f":"IF($C99=\"\",\"\",Simulação!I99)","v":"*"},{"$f":"IF($C99=\"\",\"\",Simulação!J99)","v":90.311647390056947},{"$f":"IF($C99=\"\",\"\",Simulação!K99)","v":"*"},{"$f":"IF($C99=\"\",\"\",Simulação!L99)","v":81.688759191275366},{"$f":"IF($C99=\"\",\"\",Simulação!M99)","v":81.680000000000021},{"$f":"IF($C99=\"\",\"\",Simulação!N99)","v":94.419165599528029},{"$f":"IF($C99=\"\",\"\",Simulação!O99)","v":"-"},{"$f":"IF($C99=\"\",\"\",Simulação!P99)","v":87.065875339956506},{"$f":"IF($C99=\"\",\"\",Simulação!Q99)","v":"-"},{"$f":"IF($C99=\"\",\"\",Simulação!R99)","v":86.048557823878767},{"$f":"IF($C99=\"\",\"\",Simulação!S99)","v":"-"},{"$f":"IF($C99=\"\",\"\",Simulação!T99)","v":85.550413370895058},{"$f":"IF($C99=\"\",\"\",Simulação!U99)","v":"-"},{"$f":"IF($C99=\"\",\"\",Simulação!V99)","v":90.972159608508733},{"$f":"IF($C99=\"\",\"\",Simulação!W99)","v":"-"},{"$f":"IF($C99=\"\",\"\",Simulação!X99)","v":76.48063245449066},{"$f":"IF($C99=\"\",\"\",Simulação!Y99)","v":"-"},{"$f":"IF($C99=\"\",\"\",Simulação!Z99)","v":66.999512039820772},{"$f":"IF($C99=\"\",\"\",Simulação!AA99)","v":"-"},{"$f":"IF($C99=\"\",\"\",Simulação!AB99)","v":70.346807518773559},{"$f":"IF($C99=\"\",\"\",Simulação!AC99)","v":"-"},{"$f":"IF($C99=\"\",\"\",Simulação!AD99)","v":28.626474227638489},{"$f":"IF($C99=\"\",\"\",Simulação!AE99)","v":"-"},{"$f":"IF($C99=\"\",\"\",Simulação!AF99)","v":34.388240562009656},{"$f":"IF($C99=\"\",\"\",Simulação!AG99)","v":"-"},{"$f":"IF($C99=\"\",\"\",Simulação!AH99)","v":29.236023829000793},{"$f":"IF($C99=\"\",\"\",Simulação!AI99)","v":"-"},{"$f":"IF($C99=\"\",\"\",Simulação!AJ99)","v":33.045125393740342},{"$f":"IF($C99=\"\",\"\",Simulação!AK99)","v":"-"},{"$f":"IF($C99=\"\",\"\",Simulação!AL99)","v":32.02721881559642},{"$f":"IF($C99=\"\",\"\",Simulação!AM99)","v":"-"},{"$f":"IF($C99=\"\",\"\",Simulação!AN99)","v":32.217563507182206},{"$f":"IF($C99=\"\",\"\",Simulação!AO99)","v":"-"},{"$f":"IF($C99=\"\",\"\",Simulação!AP99)","v":36.406016086434107},{"$f":"IF($C99=\"\",\"\",Simulação!AQ99)","v":"-"},{"$f":"IF($C99=\"\",\"\",Simulação!AR99)","v":0}]
[null,93,{"$f":"IF(Chegadas!J101<=$C$5,Chegadas!J101,\"\")","v":81.730000000000018},{"$f":"IF($C100=\"\",\"\",Simulação!D100)","v":4.6142597733252053},{"$f":"IF($C100=\"\",\"\",Simulação!E100)","v":"*"},{"$f":"IF($C100=\"\",\"\",Simulação!F100)","v":86.379985927420122},{"$f":"IF($C100=\"\",\"\",Simulação!G100)","v":"*"},{"$f":"IF($C100=\"\",\"\",Simulação!H100)","v":82.754658812175279},{"$f":"IF($C100=\"\",\"\",Simulação!I100)","v":"*"},{"$f":"IF($C100=\"\",\"\",Simulação!J100)","v":90.311647390056947},{"$f":"IF($C100=\"\",\"\",Simulação!K100)","v":81.730000000000018},{"$f":"IF($C100=\"\",\"\",Simulação!L100)","v":86.34425977332522},{"$f":"IF($C100=\"\",\"\",Simulação!M100)","v":"-"},{"$f":"IF($C100=\"\",\"\",Simulação!N100)","v":94.419165599528029},{"$f":"IF($C100=\"\",\"\",Simulação!O100)","v":"-"},{"$f":"IF($C100=\"\",\"\",Simulação!P100)","v":87.065875339956506},{"$f":"IF($C100=\"\",\"\",Simulação!Q100)","v":"-"},{"$f":"IF($C100=\"\",\"\",Simulação!R100)","v":86.048557823878767},{"$f":"IF($C100=\"\",\"\",Simulação!S100)","v":"-"},{"$f":"IF($C100=\"\",\"\",Simulação!T100)","v":85.550413370895058},{"$f":"IF($C100=\"\",\"\",Simulação!U100)","v":"-"},{"$f":"IF($C100=\"\",\"\",Simulação!V100)","v":90.972159608508733},{"$f":"IF($C100=\"\",\"\",Simulação!W100)","v":"-"},{"$f":"IF($C100=\"\",\"\",Simulação!X100)","v":76.48063245449066},{"$f":"IF($C100=\"\",\"\",Simulação!Y100)","v":"-"},{"$f":"IF($C100=\"\",\"\",Simulação!Z100)","v":66.999512039820772},{"$f":"IF($C100=\"\",\"\",Simulação!AA100)","v":"-"},{"$f":"IF($C100=\"\",\"\",Simulação!AB100)","v":70.346807518773559},{"$f":"IF($C100=\"\",\"\",Simulação!AC100)","v":"-"},{"$f":"IF($C100=\"\",\"\",Simulação!AD100)","v":28.626474227638489},{"$f":"IF($C100=\"\",\"\",Simulação!AE100)","v":"-"},{"$f":"IF($C100=\"\",\"\",Simulação!AF100)","v":34.388240562009656},{"$f":"IF($C100=\"\",\"\",Simulação!AG100)","v":"-"},{"$f":"IF($C100=\"\",\"\",Simulação!AH100)","v":29.236023829000793},{"$f":"IF($C100=\"\",\"\",Simulação!AI100)","v":"-"},{"$f":"IF($C100=\"\",\"\",Simulação!AJ100)","v":33.045125393740342},{"$f":"IF($C100=\"\",\"\",Simulação!AK100)","v":"-"},{"$f":"IF($C100=\"\",\"\",Simulação!AL100)","v":32.02721881559642},{"$f":"IF($C100=\"\",\"\",Simulação!AM100)","v":"-"},{"$f":"IF($C100=\"\",\"\",Simulação!AN100)","v":32.217563507182206},{"$f":"IF($C100=\"\",\"\",Simulação!AO100)","v":"-"},{"$f":"IF($C100=\"\",\"\",Simulação!AP100)","v":36.406016086434107},{"$f":"IF($C100=\"\",\"\",Simulação!AQ100)","v":"-"},{"$f":"IF($C100=\"\",\"\",Simulação!AR100)","v":0}]
[null,94,{"$f":"IF(Chegadas!J102<=$C$5,Chegadas!J102,\"\")","v":81.830000000000013},{"$f":"IF($C101=\"\",\"\",Simulação!D101)","v":2.8534835910501481},{"$f":"IF($C101=\"\",\"\",Simulação!E101)","v":"*"},{"$f":"IF($C101=\"\",\"\",Simulação!F101)","v":86.379985927420122},{"$f":"IF($C101=\"\",\"\",Simulação!G101)","v":"*"},{"$f":"IF($C101=\"\",\"\",Simulação!H101)","v":82.754658812175279},{"$f":"IF($C101=\"\",\"\",Simulação!I101)","v":"*"},{"$f":"IF($C101=\"\",\"\",Simulação!J101)","v":90.311647390056947},{"$f":"IF($C101=\"\",\"\",Simulação!K101)","v":"*"},{"$f":"IF($C101=\"\",\"\",Simulação!L101)","v":86.34425977332522},{"$f":"IF($C101=\"\",\"\",Simulação!M101)","v":"*"},{"$f":"IF($C101=\"\",\"\",Simulação!N101)","v":94.419165599528029},{"$f":"IF($C101=\"\",\"\",Simulação!O101)","v":"*"},{"$f":"IF($C101=\"\",\"\",Simulação!P101)","v":87.065875339956506},{"$f":"IF($C101=\"\",\"\",Simulação!Q101)","v":"*"},{"$f":"IF($C101=\"\",\"\",Simulação!R101)","v":86.048557823878767},{"$f":"IF($C101=\"\",\"\",Simulação!S101)","v":"*"},{"$f":"IF($C101=\"\",\"\",Simulação!T101)","v":85.550413370895058},{"$f":"IF($C101=\"\",\"\",Simulação!U101)","v":"*"},{"$f":"IF($C101=\"\",\"\",Simulação!V101)","v":90.972159608508733},{"$f":"IF($C101=\"\",\"\",Simulação!W101)","v":81.830000000000013},{"$f":"IF($C101=\"\",\"\",Simulação!X101)","v":84.683483591050162},{"$f":"IF($C101=\"\",\"\",Simulação!Y101)","v":"-"},{"$f":"IF($C101=\"\",\"\",Simulação!Z101)","v":66.999512039820772},{"$f":"IF($C101=\"\",\"\",Simulação!AA101)","v":"-"},{"$f":"IF($C101=\"\",\"\",Simulação!AB101)","v":70.346807518773559},{"$f":"IF($C101=\"\",\"\",Simulação!AC101)","v":"-"},{"$f":"IF($C101=\"\",\"\",Simulação!AD101)","v":28.626474227638489},{"$f":"IF($C101=\"\",\"\",Simulação!AE101)","v":"-"},{"$f":"IF($C101=\"\",\"\",Simulação!AF101)","v":34.388240562009656},{"$f":"IF($C101=\"\",\"\",Simulação!AG101)","v":"-"},{"$f":"IF($C101=\"\",\"\",Simulação!AH101)","v":29.236023829000793},{"$f":"IF($C101=\"\",\"\",Simulação!AI101)","v":"-"},{"$f":"IF($C101=\"\",\"\",Simulação!AJ101)","v":33.045125393740342},{"$f":"IF($C101=\"\",\"\",Simulação!AK101)","v":"-"},{"$f":"IF($C101=\"\",\"\",Simulação!AL101)","v":32.02721881559642},{"$f":"IF($C101=\"\",\"\",Simulação!AM101)","v":"-"},{"$f":"IF($C101=\"\",\"\",Simulação!AN101)","v":32.217563507182206},{"$f":"IF($C101=\"\",\"\",Simulação!AO101)","v":"-"},{"$f":"IF($C101=\"\",\"\",Simulação!AP101)","v":36.406016086434107},{"$f":"IF($C101=\"\",\"\",Simulação!AQ101)","v":"-"},{"$f":"IF($C101=\"\",\"\",Simulação!AR101)","v":0}]
[null,95,{"$f":"IF(Chegadas!J103<=$C$5,Chegadas!J103,\"\")","v":82.390000000000015},{"$f":"IF($C102=\"\",\"\",Simulação!D102)","v":5.2734967259864955},{"$f":"IF($C102=\"\",\"\",Simulação!E102)","v":"*"},{"$f":"IF($C102=\"\",\"\",Simulação!F102)","v":86.379985927420122},{"$f":"IF($C102=\"\",\"\",Simulação!G102)","v":"*"},{"$f":"IF($C102=\"\",\"\",Simulação!H102)","v":82.754658812175279},{"$f":"IF($C102=\"\",\"\",Simulação!I102)","v":"*"},{"$f":"IF($C102=\"\",\"\",Simulação!J102)","v":90.311647390056947},{"$f":"IF($C102=\"\",\"\",Simulação!K102)","v":"*"},{"$f":"IF($C102=\"\",\"\",Simulação!L102)","v":86.34425977332522},{"$f":"IF($C102=\"\",\"\",Simulação!M102)","v":"*"},{"$f":"IF($C102=\"\",\"\",Simulação!N102)","v":94.419165599528029},{"$f":"IF($C102=\"\",\"\",Simulação!O102)","v":"*"},{"$f":"IF($C102=\"\",\"\",Simulação!P102)","v":87.065875339956506},{"$f":"IF($C102=\"\",\"\",Simulação!Q102)","v":"*"},{"$f":"IF($C102=\"\",\"\",Simulação!R102)","v":86.048557823878767},{"$f":"IF($C102=\"\",\"\",Simulação!S102)","v":"*"},{"$f":"IF($C102=\"\",\"\",Simulação!T102)","v":85.550413370895058},{"$f":"IF($C102=\"\",\"\",Simulação!U102)","v":"*"},{"$f":"IF($C102=\"\",\"\",Simulação!V102)","v":90.972159608508733},{"$f":"IF($C102=\"\",\"\",Simulação!W102)","v":"*"},{"$f":"IF($C102=\"\",\"\",Simulação!X102)","v":84.683483591050162},{"$f":"IF($C102=\"\",\"\",Simulação!Y102)","v":82.390000000000015},{"$f":"IF($C102=\"\",\"\",Simulação!Z102)","v":87.663496725986505},{"$f":"IF($C102=\"\",\"\",Simulação!AA102)","v":"-"},{"$f":"IF($C102=\"\",\"\",Simulação!AB102)","v":70.346807518773559},{"$f":"IF($C102=\"\",\"\",Simulação!AC102)","v":"-"},{"$f":"IF($C102=\"\",\"\",Simulação!AD102)","v":28.626474227638489},{"$f":"IF($C102=\"\",\"\",Simulação!AE102)","v":"-"},{"$f":"IF($C102=\"\",\"\",Simulação!AF102)","v":34.388240562009656},{"$f":"IF($C102=\"\",\"\",Simulação!AG102)","v":"-"},{"$f":"IF($C102=\"\",\"\",Simulação!AH102)","v":29.236023829000793},{"$f":"IF($C102=\"\",\"\",Simulação!AI102)","v":"-"},{"$f":"IF($C102=\"\",\"\",Simulação!AJ102)","v":33.045125393740342},{"$f":"IF($C102=\"\",\"\",Simulação!AK102)","v":"-"},{"$f":"IF($C102=\"\",\"\",Simulação!AL102)","v":32.02721881559642},{"$f":"IF($C102=\"\",\"\",Simulação!AM102)","v":"-"},{"$f":"IF($C102=\"\",\"\",Simulação!AN102)","v":32.217563507182206},{"$f":"IF($C102=\"\",\"\",Simulação!AO102)","v":"-"},{"$f":"IF($C102=\"\",\"\",Simulação!AP102)","v":36.406016086434107},{"$f":"IF($C102=\"\",\"\",Simulação!AQ102)","v":"-"},{"$f":"IF($C102=\"\",\"\",Simulação!AR102)","v":0}]
[null,96,{"$f":"IF(Chegadas!J104<=$C$5,Chegadas!J104,\"\")","v":83.410000000000011},{"$f":"IF($C103=\"\",\"\",Simulação!D103)","v":11.108815936271863},{"$f":"IF($C103=\"\",\"\",Simulação!E103)","v":"*"},{"$f":"IF($C103=\"\",\"\",Simulação!F103)","v":86.379985927420122},{"$f":"IF($C103=\"\",\"\",Simulação!G103)","v":83.410000000000011},{"$f":"IF($C103=\"\",\"\",Simulação!H103)","v":94.518815936271878},{"$f":"IF($C103=\"\",\"\",Simulação!I103)","v":"-"},{"$f":"IF($C103=\"\",\"\",Simulação!J103)","v":90.311647390056947},{"$f":"IF($C103=\"\",\"\",Simulação!K103)","v":"-"},{"$f":"IF($C103=\"\",\"\",Simulação!L103)","v":86.34425977332522},{"$f":"IF($C103=\"\",\"\",Simulação!M103)","v":"-"},{"$f":"IF($C103=\"\",\"\",Simulação!N103)","v":94.419165599528029},{"$f":"IF($C103=\"\",\"\",Simulação!O103)","v":"-"},{"$f":"IF($C103=\"\",\"\",Simulação!P103)","v":87.065875339956506},{"$f":"IF($C103=\"\",\"\",Simulação!Q103)","v":"-"},{"$f":"IF($C103=\"\",\"\",Simulação!R103)","v":86.048557823878767},{"$f":"IF($C103=\"\",\"\",Simulação!S103)","v":"-"},{"$f":"IF($C103=\"\",\"\",Simulação!T103)","v":85.550413370895058},{"$f":"IF($C103=\"\",\"\",Simulação!U103)","v":"-"},{"$f":"IF($C103=\"\",\"\",Simulação!V103)","v":90.972159608508733},{"$f":"IF($C103=\"\",\"\",Simulação!W103)","v":"-"},{"$f":"IF($C103=\"\",\"\",Simulação!X103)","v":84.683483591050162},{"$f":"IF($C103=\"\",\"\",Simulação!Y103)","v":"-"},{"$f":"IF($C103=\"\",\"\",Simulação!Z103)","v":87.663496725986505},{"$f":"IF($C103=\"\",\"\",Simulação!AA103)","v":"-"},{"$f":"IF($C103=\"\",\"\",Simulação!AB103)","v":70.346807518773559},{"$f":"IF($C103=\"\",\"\",Simulação!AC103)","v":"-"},{"$f":"IF($C103=\"\",\"\",Simulação!AD103)","v":28.626474227638489},{"$f":"IF($C103=\"\",\"\",Simulação!AE103)","v":"-"},{"$f":"IF($C103=\"\",\"\",Simulação!AF103)","v":34.388240562009656},{"$f":"IF($C103=\"\",\"\",Simulação!AG103)","v":"-"},{"$f":"IF($C103=\"\",\"\",Simulação!AH103)","v":29.236023829000793},{"$f":"IF($C103=\"\",\"\",Simulação!AI103)","v":"-"},{"$f":"IF($C103=\"\",\"\",Simulação!AJ103)","v":33.045125393740342},{"$f":"IF($C103=\"\",\"\",Simulação!AK103)","v":"-"},{"$f":"IF($C103=\"\",\"\",Simulação!AL103)","v":32.02721881559642},{"$f":"IF($C103=\"\",\"\",Simulação!AM103)","v":"-"},{"$f":"IF($C103=\"\",\"\",Simulação!AN103)","v":32.217563507182206},{"$f":"IF($C103=\"\",\"\",Simulação!AO103)","v":"-"},{"$f":"IF($C103=\"\",\"\",Simulação!AP103)","v":36.406016086434107},{"$f":"IF($C103=\"\",\"\",Simulação!AQ103)","v":"-"},{"$f":"IF($C103=\"\",\"\",Simulação!AR103)","v":0}]
[null,97,{"$f":"IF(Chegadas!J105<=$C$5,Chegadas!J105,\"\")","v":83.960000000000008},{"$f":"IF($C104=\"\",\"\",Simulação!D104)","v":7.0386936983732475},{"$f":"IF($C104=\"\",\"\",Simulação!E104)","v":"*"},{"$f":"IF($C104=\"\",\"\",Simulação!F104)","v":86.379985927420122},{"$f":"IF($C104=\"\",\"\",Simulação!G104)","v":"*"},{"$f":"IF($C104=\"\",\"\",Simulação!H104)","v":94.518815936271878},{"$f":"IF($C104=\"\",\"\",Simulação!I104)","v":"*"},{"$f":"IF($C104=\"\",\"\",Simulação!J104)","v":90.311647390056947},{"$f":"IF($C104=\"\",\"\",Simulação!K104)","v":"*"},{"$f":"IF($C104=\"\",\"\",Simulação!L104)","v":86.34425977332522},{"$f":"IF($C104=\"\",\"\",Simulação!M104)","v":"*"},{"$f":"IF($C104=\"\",\"\",Simulação!N104)","v":94.419165599528029},{"$f":"IF($C104=\"\",\"\",Simulação!O104)","v":"*"},{"$f":"IF($C104=\"\",\"\",Simulação!P104)","v":87.065875339956506},{"$f":"IF($C104=\"\",\"\",Simulação!Q104)","v":"*"},{"$f":"IF($C104=\"\",\"\",Simulação!R104)","v":86.048557823878767},{"$f":"IF($C104=\"\",\"\",Simulação!S104)","v":"*"},{"$f":"IF($C104=\"\",\"\",Simulação!T104)","v":85.550413370895058},{"$f":"IF($C104=\"\",\"\",Simulação!U104)","v":"*"},{"$f":"IF($C104=\"\",\"\",Simulação!V104)","v":90.972159608508733},{"$f":"IF($C104=\"\",\"\",Simulação!W104)","v":"*"},{"$f":"IF($C104=\"\",\"\",Simulação!X104)","v":84.683483591050162},{"$f":"IF($C104=\"\",\"\",Simulação!Y104)","v":"*"},{"$f":"IF($C104=\"\",\"\",Simulação!Z104)","v":87.663496725986505},{"$f":"IF($C104=\"\",\"\",Simulação!AA104)","v":83.960000000000008},{"$f":"IF($C104=\"\",\"\",Simulação!AB104)","v":90.998693698373259},{"$f":"IF($C104=\"\",\"\",Simulação!AC104)","v":"-"},{"$f":"IF($C104=\"\",\"\",Simulação!AD104)","v":28.626474227638489},{"$f":"IF($C104=\"\",\"\",Simulação!AE104)","v":"-"},{"$f":"IF($C104=\"\",\"\",Simulação!AF104)","v":34.388240562009656},{"$f":"IF($C104=\"\",\"\",Simulação!AG104)","v":"-"},{"$f":"IF($C104=\"\",\"\",Simulação!AH104)","v":29.236023829000793},{"$f":"IF($C104=\"\",\"\",Simulação!AI104)","v":"-"},{"$f":"IF($C104=\"\",\"\",Simulação!AJ104)","v":33.045125393740342},{"$f":"IF($C104=\"\",\"\",Simulação!AK104)","v":"-"},{"$f":"IF($C104=\"\",\"\",Simulação!AL104)","v":32.02721881559642},{"$f":"IF($C104=\"\",\"\",Simulação!AM104)","v":"-"},{"$f":"IF($C104=\"\",\"\",Simulação!AN104)","v":32.217563507182206},{"$f":"IF($C104=\"\",\"\",Simulação!AO104)","v":"-"},{"$f":"IF($C104=\"\",\"\",Simulação!AP104)","v":36.406016086434107},{"$f":"IF($C104=\"\",\"\",Simulação!AQ104)","v":"-"},{"$f":"IF($C104=\"\",\"\",Simulação!AR104)","v":0}]
[null,98,{"$f":"IF(Chegadas!J106<=$C$5,Chegadas!J106,\"\")","v":85.970000000000013},{"$f":"IF($C105=\"\",\"\",Simulação!D105)","v":14.116461386048957},{"$f":"IF($C105=\"\",\"\",Simulação!E105)","v":"*"},{"$f":"IF($C105=\"\",\"\",Simulação!F105)","v":86.379985927420122},{"$f":"IF($C105=\"\",\"\",Simulação!G105)","v":"*"},{"$f":"IF($C105=\"\",\"\",Simulação!H105)","v":94.518815936271878},{"$f":"IF($C105=\"\",\"\",Simulação!I105)","v":"*"},{"$f":"IF($C105=\"\",\"\",Simulação!J105)","v":90.311647390056947},{"$f":"IF($C105=\"\",\"\",Simulação!K105)","v":"*"},{"$f":"IF($C105=\"\",\"\",Simulação!L105)","v":86.34425977332522},{"$f":"IF($C105=\"\",\"\",Simulação!M105)","v":"*"},{"$f":"IF($C105=\"\",\"\",Simulação!N105)","v":94.419165599528029},{"$f":"IF($C105=\"\",\"\",Simulação!O105)","v":"*"},{"$f":"IF($C105=\"\",\"\",Simulação!P105)","v":87.065875339956506},{"$f":"IF($C105=\"\",\"\",Simulação!Q105)","v":"*"},{"$f":"IF($C105=\"\",\"\",Simulação!R105)","v":86.048557823878767},{"$f":"IF($C105=\"\",\"\",Simulação!S105)","v":85.970000000000013},{"$f":"IF($C105=\"\",\"\",Simulação!T105)","v":100.08646138604897},{"$f":"IF($C105=\"\",\"\",Simulação!U105)","v":"-"},{"$f":"IF($C105=\"\",\"\",Simulação!V105)","v":90.972159608508733},{"$f":"IF($C105=\"\",\"\",Simulação!W105)","v":"-"},{"$f":"IF($C105=\"\",\"\",Simulação!X105)","v":84.683483591050162},{"$f":"IF($C105=\"\",\"\",Simulação!Y105)","v":"-"},{"$f":"IF($C105=\"\",\"\",Simulação!Z105)","v":87.663496725986505},{"$f":"IF($C105=\"\",\"\",Simulação!AA105)","v":"-"},{"$f":"IF($C105=\"\",\"\",Simulação!AB105)","v":90.998693698373259},{"$f":"IF($C105=\"\",\"\",Simulação!AC105)","v":"-"},{"$f":"IF($C105=\"\",\"\",Simulação!AD105)","v":28.626474227638489},{"$f":"IF($C105=\"\",\"\",Simulação!AE105)","v":"-"},{"$f":"IF($C105=\"\",\"\",Simulação!AF105)","v":34.388240562009656},{"$f":"IF($C105=\"\",\"\",Simulação!AG105)","v":"-"},{"$f":"IF($C105=\"\",\"\",Simulação!AH105)","v":29.236023829000793},{"$f":"IF($C105=\"\",\"\",Simulação!AI105)","v":"-"},{"$f":"IF($C105=\"\",\"\",Simulação!AJ105)","v":33.045125393740342},{"$f":"IF($C105=\"\",\"\",Simulação!AK105)","v":"-"},{"$f":"IF($C105=\"\",\"\",Simulação!AL105)","v":32.02721881559642},{"$f":"IF($C105=\"\",\"\",Simulação!AM105)","v":"-"},{"$f":"IF($C105=\"\",\"\",Simulação!AN105)","v":32.217563507182206},{"$f":"IF($C105=\"\",\"\",Simulação!AO105)","v":"-"},{"$f":"IF($C105=\"\",\"\",Simulação!AP105)","v":36.406016086434107},{"$f":"IF($C105=\"\",\"\",Simulação!AQ105)","v":"-"},{"$f":"IF($C105=\"\",\"\",Simulação!AR105)","v":0}]
[null,99,{"$f":"IF(Chegadas!J107<=$C$5,Chegadas!J107,\"\")","v":86.070000000000007},{"$f":"IF($C106=\"\",\"\",Simulação!D106)","v":12.908928407658902},{"$f":"IF($C106=\"\",\"\",Simulação!E106)","v":"*"},{"$f":"IF($C106=\"\",\"\",Simulação!F106)","v":86.379985927420122},{"$f":"IF($C106=\"\",\"\",Simulação!G106)","v":"*"},{"$f":"IF($C106=\"\",\"\",Simulação!H106)","v":94.518815936271878},{"$f":"IF($C106=\"\",\"\",Simulação!I106)","v":"*"},{"$f":"IF($C106=\"\",\"\",Simulação!J106)","v":90.311647390056947},{"$f":"IF($C106=\"\",\"\",Simulação!K106)","v":"*"},{"$f":"IF($C106=\"\",\"\",Simulação!L106)","v":86.34425977332522},{"$f":"IF($C106=\"\",\"\",Simulação!M106)","v":"*"},{"$f":"IF($C106=\"\",\"\",Simulação!N106)","v":94.419165599528029},{"$f":"IF($C106=\"\",\"\",Simulação!O106)","v":"*"},{"$f":"IF($C106=\"\",\"\",Simulação!P106)","v":87.065875339956506},{"$f":"IF($C106=\"\",\"\",Simulação!Q106)","v":86.070000000000007},{"$f":"IF($C106=\"\",\"\",Simulação!R106)","v":98.978928407658913},{"$f":"IF($C106=\"\",\"\",Simulação!S106)","v":"-"},{"$f":"IF($C106=\"\",\"\",Simulação!T106)","v":100.08646138604897},{"$f":"IF($C106=\"\",\"\",Simulação!U106)","v":"-"},{"$f":"IF($C106=\"\",\"\",Simulação!V106)","v":90.972159608508733},{"$f":"IF($C106=\"\",\"\",Simulação!W106)","v":"-"},{"$f":"IF($C106=\"\",\"\",Simulação!X106)","v":84.683483591050162},{"$f":"IF($C106=\"\",\"\",Simulação!Y106)","v":"-"},{"$f":"IF($C106=\"\",\"\",Simulação!Z106)","v":87.663496725986505},{"$f":"IF($C106=\"\",\"\",Simulação!AA106)","v":"-"},{"$f":"IF($C106=\"\",\"\",Simulação!AB106)","v":90.998693698373259},{"$f":"IF($C106=\"\",\"\",Simulação!AC106)","v":"-"},{"$f":"IF($C106=\"\",\"\",Simulação!AD106)","v":28.626474227638489},{"$f":"IF($C106=\"\",\"\",Simulação!AE106)","v":"-"},{"$f":"IF($C106=\"\",\"\",Simulação!AF106)","v":34.388240562009656},{"$f":"IF($C106=\"\",\"\",Simulação!AG106)","v":"-"},{"$f":"IF($C106=\"\",\"\",Simulação!AH106)","v":29.236023829000793},{"$f":"IF($C106=\"\",\"\",Simulação!AI106)","v":"-"},{"$f":"IF($C106=\"\",\"\",Simulação!AJ106)","v":33.045125393740342},{"$f":"IF($C106=\"\",\"\",Simulação!AK106)","v":"-"},{"$f":"IF($C106=\"\",\"\",Simulação!AL106)","v":32.02721881559642},{"$f":"IF($C106=\"\",\"\",Simulação!AM106)","v":"-"},{"$f":"IF($C106=\"\",\"\",Simulação!AN106)","v":32.217563507182206},{"$f":"IF($C106=\"\",\"\",Simulação!AO106)","v":"-"},{"$f":"IF($C106=\"\",\"\",Simulação!AP106)","v":36.406016086434107},{"$f":"IF($C106=\"\",\"\",Simulação!AQ106)","v":"-"},{"$f":"IF($C106=\"\",\"\",Simulação!AR106)","v":0}]
[null,100,{"$f":"IF(Chegadas!J108<=$C$5,Chegadas!J108,\"\")","v":86.7},{"$f":"IF($C107=\"\",\"\",Simulação!D107)","v":9.2976525660257856},{"$f":"IF($C107=\"\",\"\",Simulação!E107)","v":86.7},{"$f":"IF($C107=\"\",\"\",Simulação!F107)","v":95.997652566025792},{"$f":"IF($C107=\"\",\"\",Simulação!G107)","v":"-"},{"$f":"IF($C107=\"\",\"\",Simulação!H107)","v":94.518815936271878},{"$f":"IF($C107=\"\",\"\",Simulação!I107)","v":"-"},{"$f":"IF($C107=\"\",\"\",Simulação!J107)","v":90.311647390056947},{"$f":"IF($C107=\"\",\"\",Simulação!K107)","v":"-"},{"$f":"IF($C107=\"\",\"\",Simulação!L107)","v":86.34425977332522},{"$f":"IF($C107=\"\",\"\",Simulação!M107)","v":"-"},{"$f":"IF($C107=\"\",\"\",Simulação!N107)","v":94.419165599528029},{"$f":"IF($C107=\"\",\"\",Simulação!O107)","v":"-"},{"$f":"IF($C107=\"\",\"\",Simulação!P107)","v":87.065875339956506},{"$f":"IF($C107=\"\",\"\",Simulação!Q107)","v":"-"},{"$f":"IF($C107=\"\",\"\",Simulação!R107)","v":98.978928407658913},{"$f":"IF($C107=\"\",\"\",Simulação!S107)","v":"-"},{"$f":"IF($C107=\"\",\"\",Simulação!T107)","v":100.08646138604897},{"$f":"IF($C107=\"\",\"\",Simulação!U107)","v":"-"},{"$f":"IF($C107=\"\",\"\",Simulação!V107)","v":90.972159608508733},{"$f":"IF($C107=\"\",\"\",Simulação!W107)","v":"-"},{"$f":"IF($C107=\"\",\"\",Simulação!X107)","v":84.683483591050162},{"$f":"IF($C107=\"\",\"\",Simulação!Y107)","v":"-"},{"$f":"IF($C107=\"\",\"\",Simulação!Z107)","v":87.663496725986505},{"$f":"IF($C107=\"\",\"\",Simulação!AA107)","v":"-"},{"$f":"IF($C107=\"\",\"\",Simulação!AB107)","v":90.998693698373259},{"$f":"IF($C107=\"\",\"\",Simulação!AC107)","v":"-"},{"$f":"IF($C107=\"\",\"\",Simulação!AD107)","v":28.626474227638489},{"$f":"IF($C107=\"\",\"\",Simulação!AE107)","v":"-"},{"$f":"IF($C107=\"\",\"\",Simulação!AF107)","v":34.388240562009656},{"$f":"IF($C107=\"\",\"\",Simulação!AG107)","v":"-"},{"$f":"IF($C107=\"\",\"\",Simulação!AH107)","v":29.236023829000793},{"$f":"IF($C107=\"\",\"\",Simulação!AI107)","v":"-"},{"$f":"IF($C107=\"\",\"\",Simulação!AJ107)","v":33.045125393740342},{"$f":"IF($C107=\"\",\"\",Simulação!AK107)","v":"-"},{"$f":"IF($C107=\"\",\"\",Simulação!AL107)","v":32.02721881559642},{"$f":"IF($C107=\"\",\"\",Simulação!AM107)","v":"-"},{"$f":"IF($C107=\"\",\"\",Simulação!AN107)","v":32.217563507182206},{"$f":"IF($C107=\"\",\"\",Simulação!AO107)","v":"-"},{"$f":"IF($C107=\"\",\"\",Simulação!AP107)","v":36.406016086434107},{"$f":"IF($C107=\"\",\"\",Simulação!AQ107)","v":"-"},{"$f":"IF($C107=\"\",\"\",Simulação!AR107)","v":0}]
[null,101,{"$f":"IF(Chegadas!J109<=$C$5,Chegadas!J109,\"\")","v":87.8},{"$f":"IF($C108=\"\",\"\",Simulação!D108)","v":8.3487033844029384},{"$f":"IF($C108=\"\",\"\",Simulação!E108)","v":"*"},{"$f":"IF($C108=\"\",\"\",Simulação!F108)","v":95.997652566025792},{"$f":"IF($C108=\"\",\"\",Simulação!G108)","v":"*"},{"$f":"IF($C108=\"\",\"\",Simulação!H108)","v":94.518815936271878},{"$f":"IF($C108=\"\",\"\",Simulação!I108)","v":"*"},{"$f":"IF($C108=\"\",\"\",Simulação!J108)","v":90.311647390056947},{"$f":"IF($C108=\"\",\"\",Simulação!K108)","v":87.8},{"$f":"IF($C108=\"\",\"\",Simulação!L108)","v":96.148703384402936},{"$f":"IF($C108=\"\",\"\",Simulação!M108)","v":"-"},{"$f":"IF($C108=\"\",\"\",Simulação!N108)","v":94.419165599528029},{"$f":"IF($C108=\"\",\"\",Simulação!O108)","v":"-"},{"$f":"IF($C108=\"\",\"\",Simulação!P108)","v":87.065875339956506},{"$f":"IF($C108=\"\",\"\",Simulação!Q108)","v":"-"},{"$f":"IF($C108=\"\",\"\",Simulação!R108)","v":98.978928407658913},{"$f":"IF($C108=\"\",\"\",Simulação!S108)","v":"-"},{"$f":"IF($C108=\"\",\"\",Simulação!T108)","v":100.08646138604897},{"$f":"IF($C108=\"\",\"\",Simulação!U108)","v":"-"},{"$f":"IF($C108=\"\",\"\",Simulação!V108)","v":90.972159608508733},{"$f":"IF($C108=\"\",\"\",Simulação!W108)","v":"-"},{"$f":"IF($C108=\"\",\"\",Simulação!X108)","v":84.683483591050162},{"$f":"IF($C108=\"\",\"\",Simulação!Y108)","v":"-"},{"$f":"IF($C108=\"\",\"\",Simulação!Z108)","v":87.663496725986505},{"$f":"IF($C108=\"\",\"\",Simulação!AA108)","v":"-"},{"$f":"IF($C108=\"\",\"\",Simulação!AB108)","v":90.998693698373259},{"$f":"IF($C108=\"\",\"\",Simulação!AC108)","v":"-"},{"$f":"IF($C108=\"\",\"\",Simulação!AD108)","v":28.626474227638489},{"$f":"IF($C108=\"\",\"\",Simulação!AE108)","v":"-"},{"$f":"IF($C108=\"\",\"\",Simulação!AF108)","v":34.388240562009656},{"$f":"IF($C108=\"\",\"\",Simulação!AG108)","v":"-"},{"$f":"IF($C108=\"\",\"\",Simulação!AH108)","v":29.236023829000793},{"$f":"IF($C108=\"\",\"\",Simulação!AI108)","v":"-"},{"$f":"IF($C108=\"\",\"\",Simulação!AJ108)","v":33.045125393740342},{"$f":"IF($C108=\"\",\"\",Simulação!AK108)","v":"-"},{"$f":"IF($C108=\"\",\"\",Simulação!AL108)","v":32.02721881559642},{"$f":"IF($C108=\"\",\"\",Simulação!AM108)","v":"-"},{"$f":"IF($C108=\"\",\"\",Simulação!AN108)","v":32.217563507182206},{"$f":"IF($C108=\"\",\"\",Simulação!AO108)","v":"-"},{"$f":"IF($C108=\"\",\"\",Simulação!AP108)","v":36.406016086434107},{"$f":"IF($C108=\"\",\"\",Simulação!AQ108)","v":"-"},{"$f":"IF($C108=\"\",\"\",Simulação!AR108)","v":0}]
[null,102,{"$f":"IF(Chegadas!J110<=$C$5,Chegadas!J110,\"\")","v":87.84},{"$f":"IF($C109=\"\",\"\",Simulação!D109)","v":3.1758723800864397},{"$f":"IF($C109=\"\",\"\",Simulação!E109)","v":"*"},{"$f":"IF($C109=\"\",\"\",Simulação!F109)","v":95.997652566025792},{"$f":"IF($C109=\"\",\"\",Simulação!G109)","v":"*"},{"$f":"IF($C109=\"\",\"\",Simulação!H109)","v":94.518815936271878},{"$f":"IF($C109=\"\",\"\",Simulação!I109)","v":"*"},{"$f":"IF($C109=\"\",\"\",Simulação!J109)","v":90.311647390056947},{"$f":"IF($C109=\"\",\"\",Simulação!K109)","v":"*"},{"$f":"IF($C109=\"\",\"\",Simulação!L109)","v":96.148703384402936},{"$f":"IF($C109=\"\",\"\",Simulação!M109)","v":"*"},{"$f":"IF($C109=\"\",\"\",Simulação!N109)","v":94.419165599528029},{"$f":"IF($C109=\"\",\"\",Simulação!O109)","v":87.84},{"$f":"IF($C109=\"\",\"\",Simulação!P109)","v":91.015872380086449},{"$f":"IF($C109=\"\",\"\",Simulação!Q109)","v":"-"},{"$f":"IF($C109=\"\",\"\",Simulação!R109)","v":98.978928407658913},{"$f":"IF($C109=\"\",\"\",Simulação!S109)","v":"-"},{"$f":"IF($C109=\"\",\"\",Simulação!T109)","v":100.08646138604897},{"$f":"IF($C109=\"\",\"\",Simulação!U109)","v":"-"},{"$f":"IF($C109=\"\",\"\",Simulação!V109)","v":90.972159608508733},{"$f":"IF($C109=\"\",\"\",Simulação!W109)","v":"-"},{"$f":"IF($C109=\"\",\"\",Simulação!X109)","v":84.683483591050162},{"$f":"IF($C109=\"\",\"\",Simulação!Y109)","v":"-"},{"$f":"IF($C109=\"\",\"\",Simulação!Z109)","v":87.663496725986505},{"$f":"IF($C109=\"\",\"\",Simulação!AA109)","v":"-"},{"$f":"IF($C109=\"\",\"\",Simulação!AB109)","v":90.998693698373259},{"$f":"IF($C109=\"\",\"\",Simulação!AC109)","v":"-"},{"$f":"IF($C109=\"\",\"\",Simulação!AD109)","v":28.626474227638489},{"$f":"IF($C109=\"\",\"\",Simulação!AE109)","v":"-"},{"$f":"IF($C109=\"\",\"\",Simulação!AF109)","v":34.388240562009656},{"$f":"IF($C109=\"\",\"\",Simulação!AG109)","v":"-"},{"$f":"IF($C109=\"\",\"\",Simulação!AH109)","v":29.236023829000793},{"$f":"IF($C109=\"\",\"\",Simulação!AI109)","v":"-"},{"$f":"IF($C109=\"\",\"\",Simulação!AJ109)","v":33.045125393740342},{"$f":"IF($C109=\"\",\"\",Simulação!AK109)","v":"-"},{"$f":"IF($C109=\"\",\"\",Simulação!AL109)","v":32.02721881559642},{"$f":"IF($C109=\"\",\"\",Simulação!AM109)","v":"-"},{"$f":"IF($C109=\"\",\"\",Simulação!AN109)","v":32.217563507182206},{"$f":"IF($C109=\"\",\"\",Simulação!AO109)","v":"-"},{"$f":"IF($C109=\"\",\"\",Simulação!AP109)","v":36.406016086434107},{"$f":"IF($C109=\"\",\"\",Simulação!AQ109)","v":"-"},{"$f":"IF($C109=\"\",\"\",Simulação!AR109)","v":0}]
[null,103,{"$f":"IF(Chegadas!J111<=$C$5,Chegadas!J111,\"\")","v":88.539999999999992},{"$f":"IF($C110=\"\",\"\",Simulação!D110)","v":1.4523535767650226},{"$f":"IF($C110=\"\",\"\",Simulação!E110)","v":"*"},{"$f":"IF($C110=\"\",\"\",Simulação!F110)","v":95.997652566025792},{"$f":"IF($C110=\"\",\"\",Simulação!G110)","v":"*"},{"$f":"IF($C110=\"\",\"\",Simulação!H110)","v":94.518815936271878},{"$f":"IF($C110=\"\",\"\",Simulação!I110)","v":"*"},{"$f":"IF($C110=\"\",\"\",Simulação!J110)","v":90.311647390056947},{"$f":"IF($C110=\"\",\"\",Simulação!K110)","v":"*"},{"$f":"IF($C110=\"\",\"\",Simulação!L110)","v":96.148703384402936},{"$f":"IF($C110=\"\",\"\",Simulação!M110)","v":"*"},{"$f":"IF($C110=\"\",\"\",Simulação!N110)","v":94.419165599528029},{"$f":"IF($C110=\"\",\"\",Simulação!O110)","v":"*"},{"$f":"IF($C110=\"\",\"\",Simulação!P110)","v":91.015872380086449},{"$f":"IF($C110=\"\",\"\",Simulação!Q110)","v":"*"},{"$f":"IF($C110=\"\",\"\",Simulação!R110)","v":98.978928407658913},{"$f":"IF($C110=\"\",\"\",Simulação!S110)","v":"*"},{"$f":"IF($C110=\"\",\"\",Simulação!T110)","v":100.08646138604897},{"$f":"IF($C110=\"\",\"\",Simulação!U110)","v":"*"},{"$f":"IF($C110=\"\",\"\",Simulação!V110)","v":90.972159608508733},{"$f":"IF($C110=\"\",\"\",Simulação!W110)","v":88.539999999999992},{"$f":"IF($C110=\"\",\"\",Simulação!X110)","v":89.992353576765012},{"$f":"IF($C110=\"\",\"\",Simulação!Y110)","v":"-"},{"$f":"IF($C110=\"\",\"\",Simulação!Z110)","v":87.663496725986505},{"$f":"IF($C110=\"\",\"\",Simulação!AA110)","v":"-"},{"$f":"IF($C110=\"\",\"\",Simulação!AB110)","v":90.998693698373259},{"$f":"IF($C110=\"\",\"\",Simulação!AC110)","v":"-"},{"$f":"IF($C110=\"\",\"\",Simulação!AD110)","v":28.626474227638489},{"$f":"IF($C110=\"\",\"\",Simulação!AE110)","v":"-"},{"$f":"IF($C110=\"\",\"\",Simulação!AF110)","v":34.388240562009656},{"$f":"IF($C110=\"\",\"\",Simulação!AG110)","v":"-"},{"$f":"IF($C110=\"\",\"\",Simulação!AH110)","v":29.236023829000793},{"$f":"IF($C110=\"\",\"\",Simulação!AI110)","v":"-"},{"$f":"IF($C110=\"\",\"\",Simulação!AJ110)","v":33.045125393740342},{"$f":"IF($C110=\"\",\"\",Simulação!AK110)","v":"-"},{"$f":"IF($C110=\"\",\"\",Simulação!AL110)","v":32.02721881559642},{"$f":"IF($C110=\"\",\"\",Simulação!AM110)","v":"-"},{"$f":"IF($C110=\"\",\"\",Simulação!AN110)","v":32.217563507182206},{"$f":"IF($C110=\"\",\"\",Simulação!AO110)","v":"-"},{"$f":"IF($C110=\"\",\"\",Simulação!AP110)","v":36.406016086434107},{"$f":"IF($C110=\"\",\"\",Simulação!AQ110)","v":"-"},{"$f":"IF($C110=\"\",\"\",Simulação!AR110)","v":0}]
[null,104,{"$f":"IF(Chegadas!J112<=$C$5,Chegadas!J112,\"\")","v":89.240000000000009},{"$f":"IF($C111=\"\",\"\",Simulação!D111)","v":7.9265515315816861},{"$f":"IF($C111=\"\",\"\",Simulação!E111)","v":"*"},{"$f":"IF($C111=\"\",\"\",Simulação!F111)","v":95.997652566025792},{"$f":"IF($C111=\"\",\"\",Simulação!G111)","v":"*"},{"$f":"IF($C111=\"\",\"\",Simulação!H111)","v":94.518815936271878},{"$f":"IF($C111=\"\",\"\",Simulação!I111)","v":"*"},{"$f":"IF($C111=\"\",\"\",Simulação!J111)","v":90.311647390056947},{"$f":"IF($C111=\"\",\"\",Simulação!K111)","v":"*"},{"$f":"IF($C111=\"\",\"\",Simulação!L111)","v":96.148703384402936},{"$f":"IF($C111=\"\",\"\",Simulação!M111)","v":"*"},{"$f":"IF($C111=\"\",\"\",Simulação!N111)","v":94.419165599528029},{"$f":"IF($C111=\"\",\"\",Simulação!O111)","v":"*"},{"$f":"IF($C111=\"\",\"\",Simulação!P111)","v":91.015872380086449},{"$f":"IF($C111=\"\",\"\",Simulação!Q111)","v":"*"},{"$f":"IF($C111=\"\",\"\",Simulação!R111)","v":98.978928407658913},{"$f":"IF($C111=\"\",\"\",Simulação!S111)","v":"*"},{"$f":"IF($C111=\"\",\"\",Simulação!T111)","v":100.08646138604897},{"$f":"IF($C111=\"\",\"\",Simulação!U111)","v":"*"},{"$f":"IF($C111=\"\",\"\",Simulação!V111)","v":90.972159608508733},{"$f":"IF($C111=\"\",\"\",Simulação!W111)","v":"*"},{"$f":"IF($C111=\"\",\"\",Simulação!X111)","v":89.992353576765012},{"$f":"IF($C111=\"\",\"\",Simulação!Y111)","v":89.240000000000009},{"$f":"IF($C111=\"\",\"\",Simulação!Z111)","v":97.166551531581689},{"$f":"IF($C111=\"\",\"\",Simulação!AA111)","v":"-"},{"$f":"IF($C111=\"\",\"\",Simulação!AB111)","v":90.998693698373259},{"$f":"IF($C111=\"\",\"\",Simulação!AC111)","v":"-"},{"$f":"IF($C111=\"\",\"\",Simulação!AD111)","v":28.626474227638489},{"$f":"IF($C111=\"\",\"\",Simulação!AE111)","v":"-"},{"$f":"IF($C111=\"\",\"\",Simulação!AF111)","v":34.388240562009656},{"$f":"IF($C111=\"\",\"\",Simulação!AG111)","v":"-"},{"$f":"IF($C111=\"\",\"\",Simulação!AH111)","v":29.236023829000793},{"$f":"IF($C111=\"\",\"\",Simulação!AI111)","v":"-"},{"$f":"IF($C111=\"\",\"\",Simulação!AJ111)","v":33.045125393740342},{"$f":"IF($C111=\"\",\"\",Simulação!AK111)","v":"-"},{"$f":"IF($C111=\"\",\"\",Simulação!AL111)","v":32.02721881559642},{"$f":"IF($C111=\"\",\"\",Simulação!AM111)","v":"-"},{"$f":"IF($C111=\"\",\"\",Simulação!AN111)","v":32.217563507182206},{"$f":"IF($C111=\"\",\"\",Simulação!AO111)","v":"-"},{"$f":"IF($C111=\"\",\"\",Simulação!AP111)","v":36.406016086434107},{"$f":"IF($C111=\"\",\"\",Simulação!AQ111)","v":"-"},{"$f":"IF($C111=\"\",\"\",Simulação!AR111)","v":0}]
[null,105,{"$f":"IF(Chegadas!J113<=$C$5,Chegadas!J113,\"\")","v":91.330000000000013},{"$f":"IF($C112=\"\",\"\",Simulação!D112)","v":14.358001182592126},{"$f":"IF($C112=\"\",\"\",Simulação!E112)","v":"*"},{"$f":"IF($C112=\"\",\"\",Simulação!F112)","v":95.997652566025792},{"$f":"IF($C112=\"\",\"\",Simulação!G112)","v":"*"},{"$f":"IF($C112=\"\",\"\",Simulação!H112)","v":94.518815936271878},{"$f":"IF($C112=\"\",\"\",Simulação!I112)","v":91.330000000000013},{"$f":"IF($C112=\"\",\"\",Simulação!J112)","v":105.68800118259213},{"$f":"IF($C112=\"\",\"\",Simulação!K112)","v":"-"},{"$f":"IF($C112=\"\",\"\",Simulação!L112)","v":96.148703384402936},{"$f":"IF($C112=\"\",\"\",Simulação!M112)","v":"-"},{"$f":"IF($C112=\"\",\"\",Simulação!N112)","v":94.419165599528029},{"$f":"IF($C112=\"\",\"\",Simulação!O112)","v":"-"},{"$f":"IF($C112=\"\",\"\",Simulação!P112)","v":91.015872380086449},{"$f":"IF($C112=\"\",\"\",Simulação!Q112)","v":"-"},{"$f":"IF($C112=\"\",\"\",Simulação!R112)","v":98.978928407658913},{"$f":"IF($C112=\"\",\"\",Simulação!S112)","v":"-"},{"$f":"IF($C112=\"\",\"\",Simulação!T112)","v":100.08646138604897},{"$f":"IF($C112=\"\",\"\",Simulação!U112)","v":"-"},{"$f":"IF($C112=\"\",\"\",Simulação!V112)","v":90.972159608508733},{"$f":"IF($C112=\"\",\"\",Simulação!W112)","v":"-"},{"$f":"IF($C112=\"\",\"\",Simulação!X112)","v":89.992353576765012},{"$f":"IF($C112=\"\",\"\",Simulação!Y112)","v":"-"},{"$f":"IF($C112=\"\",\"\",Simulação!Z112)","v":97.166551531581689},{"$f":"IF($C112=\"\",\"\",Simulação!AA112)","v":"-"},{"$f":"IF($C112=\"\",\"\",Simulação!AB112)","v":90.998693698373259},{"$f":"IF($C112=\"\",\"\",Simulação!AC112)","v":"-"},{"$f":"IF($C112=\"\",\"\",Simulação!AD112)","v":28.626474227638489},{"$f":"IF($C112=\"\",\"\",Simulação!AE112)","v":"-"},{"$f":"IF($C112=\"\",\"\",Simulação!AF112)","v":34.388240562009656},{"$f":"IF($C112=\"\",\"\",Simulação!AG112)","v":"-"},{"$f":"IF($C112=\"\",\"\",Simulação!AH112)","v":29.236023829000793},{"$f":"IF($C112=\"\",\"\",Simulação!AI112)","v":"-"},{"$f":"IF($C112=\"\",\"\",Simulação!AJ112)","v":33.045125393740342},{"$f":"IF($C112=\"\",\"\",Simulação!AK112)","v":"-"},{"$f":"IF($C112=\"\",\"\",Simulação!AL112)","v":32.02721881559642},{"$f":"IF($C112=\"\",\"\",Simulação!AM112)","v":"-"},{"$f":"IF($C112=\"\",\"\",Simulação!AN112)","v":32.217563507182206},{"$f":"IF($C112=\"\",\"\",Simulação!AO112)","v":"-"},{"$f":"IF($C112=\"\",\"\",Simulação!AP112)","v":36.406016086434107},{"$f":"IF($C112=\"\",\"\",Simulação!AQ112)","v":"-"},{"$f":"IF($C112=\"\",\"\",Simulação!AR112)","v":0}]
[null,106,{"$f":"IF(Chegadas!J114<=$C$5,Chegadas!J114,\"\")","v":91.960000000000008},{"$f":"IF($C113=\"\",\"\",Simulação!D113)","v":7.8534979176897419},{"$f":"IF($C113=\"\",\"\",Simulação!E113)","v":"*"},{"$f":"IF($C113=\"\",\"\",Simulação!F113)","v":95.997652566025792},{"$f":"IF($C113=\"\",\"\",Simulação!G113)","v":"*"},{"$f":"IF($C113=\"\",\"\",Simulação!H113)","v":94.518815936271878},{"$f":"IF($C113=\"\",\"\",Simulação!I113)","v":"*"},{"$f":"IF($C113=\"\",\"\",Simulação!J113)","v":105.68800118259213},{"$f":"IF($C113=\"\",\"\",Simulação!K113)","v":"*"},{"$f":"IF($C113=\"\",\"\",Simulação!L113)","v":96.148703384402936},{"$f":"IF($C113=\"\",\"\",Simulação!M113)","v":"*"},{"$f":"IF($C113=\"\",\"\",Simulação!N113)","v":94.419165599528029},{"$f":"IF($C113=\"\",\"\",Simulação!O113)","v":91.960000000000008},{"$f":"IF($C113=\"\",\"\",Simulação!P113)","v":99.813497917689745},{"$f":"IF($C113=\"\",\"\",Simulação!Q113)","v":"-"},{"$f":"IF($C113=\"\",\"\",Simulação!R113)","v":98.978928407658913},{"$f":"IF($C113=\"\",\"\",Simulação!S113)","v":"-"},{"$f":"IF($C113=\"\",\"\",Simulação!T113)","v":100.08646138604897},{"$f":"IF($C113=\"\",\"\",Simulação!U113)","v":"-"},{"$f":"IF($C113=\"\",\"\",Simulação!V113)","v":90.972159608508733},{"$f":"IF($C113=\"\",\"\",Simulação!W113)","v":"-"},{"$f":"IF($C113=\"\",\"\",Simulação!X113)","v":89.992353576765012},{"$f":"IF($C113=\"\",\"\",Simulação!Y113)","v":"-"},{"$f":"IF($C113=\"\",\"\",Simulação!Z113)","v":97.166551531581689},{"$f":"IF($C113=\"\",\"\",Simulação!AA113)","v":"-"},{"$f":"IF($C113=\"\",\"\",Simulação!AB113)","v":90.998693698373259},{"$f":"IF($C113=\"\",\"\",Simulação!AC113)","v":"-"},{"$f":"IF($C113=\"\",\"\",Simulação!AD113)","v":28.626474227638489},{"$f":"IF($C113=\"\",\"\",Simulação!AE113)","v":"-"},{"$f":"IF($C113=\"\",\"\",Simulação!AF113)","v":34.388240562009656},{"$f":"IF($C113=\"\",\"\",Simulação!AG113)","v":"-"},{"$f":"IF($C113=\"\",\"\",Simulação!AH113)","v":29.236023829000793},{"$f":"IF($C113=\"\",\"\",Simulação!AI113)","v":"-"},{"$f":"IF($C113=\"\",\"\",Simulação!AJ113)","v":33.045125393740342},{"$f":"IF($C113=\"\",\"\",Simulação!AK113)","v":"-"},{"$f":"IF($C113=\"\",\"\",Simulação!AL113)","v":32.02721881559642},{"$f":"IF($C113=\"\",\"\",Simulação!AM113)","v":"-"},{"$f":"IF($C113=\"\",\"\",Simulação!AN113)","v":32.217563507182206},{"$f":"IF($C113=\"\",\"\",Simulação!AO113)","v":"-"},{"$f":"IF($C113=\"\",\"\",Simulação!AP113)","v":36.406016086434107},{"$f":"IF($C113=\"\",\"\",Simulação!AQ113)","v":"-"},{"$f":"IF($C113=\"\",\"\",Simulação!AR113)","v":0}]
[null,107,{"$f":"IF(Chegadas!J115<=$C$5,Chegadas!J115,\"\")","v":92.910000000000011},{"$f":"IF($C114=\"\",\"\",Simulação!D114)","v":8.5995198875678263},{"$f":"IF($C114=\"\",\"\",Simulação!E114)","v":"*"},{"$f":"IF($C114=\"\",\"\",Simulação!F114)","v":95.997652566025792},{"$f":"IF($C114=\"\",\"\",Simulação!G114)","v":"*"},{"$f":"IF($C114=\"\",\"\",Simulação!H114)","v":94.518815936271878},{"$f":"IF($C114=\"\",\"\",Simulação!I114)","v":"*"},{"$f":"IF($C114=\"\",\"\",Simulação!J114)","v":105.68800118259213},{"$f":"IF($C114=\"\",\"\",Simulação!K114)","v":"*"},{"$f":"IF($C114=\"\",\"\",Simulação!L114)","v":96.148703384402936},{"$f":"IF($C114=\"\",\"\",Simulação!M114)","v":"*"},{"$f":"IF($C114=\"\",\"\",Simulação!N114)","v":94.419165599528029},{"$f":"IF($C114=\"\",\"\",Simulação!O114)","v":"*"},{"$f":"IF($C114=\"\",\"\",Simulação!P114)","v":99.813497917689745},{"$f":"IF($C114=\"\",\"\",Simulação!Q114)","v":"*"},{"$f":"IF($C114=\"\",\"\",Simulação!R114)","v":98.978928407658913},{"$f":"IF($C114=\"\",\"\",Simulação!S114)","v":"*"},{"$f":"IF($C114=\"\",\"\",Simulação!T114)","v":100.08646138604897},{"$f":"IF($C114=\"\",\"\",Simulação!U114)","v":92.910000000000011},{"$f":"IF($C114=\"\",\"\",Simulação!V114)","v":101.50951988756783},{"$f":"IF($C114=\"\",\"\",Simulação!W114)","v":"-"},{"$f":"IF($C114=\"\",\"\",Simulação!X114)","v":89.992353576765012},{"$f":"IF($C114=\"\",\"\",Simulação!Y114)","v":"-"},{"$f":"IF($C114=\"\",\"\",Simulação!Z114)","v":97.166551531581689},{"$f":"IF($C114=\"\",\"\",Simulação!AA114)","v":"-"},{"$f":"IF($C114=\"\",\"\",Simulação!AB114)","v":90.998693698373259},{"$f":"IF($C114=\"\",\"\",Simulação!AC114)","v":"-"},{"$f":"IF($C114=\"\",\"\",Simulação!AD114)","v":28.626474227638489},{"$f":"IF($C114=\"\",\"\",Simulação!AE114)","v":"-"},{"$f":"IF($C114=\"\",\"\",Simulação!AF114)","v":34.388240562009656},{"$f":"IF($C114=\"\",\"\",Simulação!AG114)","v":"-"},{"$f":"IF($C114=\"\",\"\",Simulação!AH114)","v":29.236023829000793},{"$f":"IF($C114=\"\",\"\",Simulação!AI114)","v":"-"},{"$f":"IF($C114=\"\",\"\",Simulação!AJ114)","v":33.045125393740342},{"$f":"IF($C114=\"\",\"\",Simulação!AK114)","v":"-"},{"$f":"IF($C114=\"\",\"\",Simulação!AL114)","v":32.02721881559642},{"$f":"IF($C114=\"\",\"\",Simulação!AM114)","v":"-"},{"$f":"IF($C114=\"\",\"\",Simulação!AN114)","v":32.217563507182206},{"$f":"IF($C114=\"\",\"\",Simulação!AO114)","v":"-"},{"$f":"IF($C114=\"\",\"\",Simulação!AP114)","v":36.406016086434107},{"$f":"IF($C114=\"\",\"\",Simulação!AQ114)","v":"-"},{"$f":"IF($C114=\"\",\"\",Simulação!AR114)","v":0}]
[null,108,{"$f":"IF(Chegadas!J116<=$C$5,Chegadas!J116,\"\")","v":93.460000000000008},{"$f":"IF($C115=\"\",\"\",Simulação!D115)","v":7.6127860258966926},{"$f":"IF($C115=\"\",\"\",Simulação!E115)","v":"*"},{"$f":"IF($C115=\"\",\"\",Simulação!F115)","v":95.997652566025792},{"$f":"IF($C115=\"\",\"\",Simulação!G115)","v":"*"},{"$f":"IF($C115=\"\",\"\",Simulação!H115)","v":94.518815936271878},{"$f":"IF($C115=\"\",\"\",Simulação!I115)","v":"*"},{"$f":"IF($C115=\"\",\"\",Simulação!J115)","v":105.68800118259213},{"$f":"IF($C115=\"\",\"\",Simulação!K115)","v":"*"},{"$f":"IF($C115=\"\",\"\",Simulação!L115)","v":96.148703384402936},{"$f":"IF($C115=\"\",\"\",Simulação!M115)","v":"*"},{"$f":"IF($C115=\"\",\"\",Simulação!N115)","v":94.419165599528029},{"$f":"IF($C115=\"\",\"\",Simulação!O115)","v":"*"},{"$f":"IF($C115=\"\",\"\",Simulação!P115)","v":99.813497917689745},{"$f":"IF($C115=\"\",\"\",Simulação!Q115)","v":"*"},{"$f":"IF($C115=\"\",\"\",Simulação!R115)","v":98.978928407658913},{"$f":"IF($C115=\"\",\"\",Simulação!S115)","v":"*"},{"$f":"IF($C115=\"\",\"\",Simulação!T115)","v":100.08646138604897},{"$f":"IF($C115=\"\",\"\",Simulação!U115)","v":"*"},{"$f":"IF($C115=\"\",\"\",Simulação!V115)","v":101.50951988756783},{"$f":"IF($C115=\"\",\"\",Simulação!W115)","v":93.460000000000008},{"$f":"IF($C115=\"\",\"\",Simulação!X115)","v":101.0727860258967},{"$f":"IF($C115=\"\",\"\",Simulação!Y115)","v":"-"},{"$f":"IF($C115=\"\",\"\",Simulação!Z115)","v":97.166551531581689},{"$f":"IF($C115=\"\",\"\",Simulação!AA115)","v":"-"},{"$f":"IF($C115=\"\",\"\",Simulação!AB115)","v":90.998693698373259},{"$f":"IF($C115=\"\",\"\",Simulação!AC115)","v":"-"},{"$f":"IF($C115=\"\",\"\",Simulação!AD115)","v":28.626474227638489},{"$f":"IF($C115=\"\",\"\",Simulação!AE115)","v":"-"},{"$f":"IF($C115=\"\",\"\",Simulação!AF115)","v":34.388240562009656},{"$f":"IF($C115=\"\",\"\",Simulação!AG115)","v":"-"},{"$f":"IF($C115=\"\",\"\",Simulação!AH115)","v":29.236023829000793},{"$f":"IF($C115=\"\",\"\",Simulação!AI115)","v":"-"},{"$f":"IF($C115=\"\",\"\",Simulação!AJ115)","v":33.045125393740342},{"$f":"IF($C115=\"\",\"\",Simulação!AK115)","v":"-"},{"$f":"IF($C115=\"\",\"\",Simulação!AL115)","v":32.02721881559642},{"$f":"IF($C115=\"\",\"\",Simulação!AM115)","v":"-"},{"$f":"IF($C115=\"\",\"\",Simulação!AN115)","v":32.217563507182206},{"$f":"IF($C115=\"\",\"\",Simulação!AO115)","v":"-"},{"$f":"IF($C115=\"\",\"\",Simulação!AP115)","v":36.406016086434107},{"$f":"IF($C115=\"\",\"\",Simulação!AQ115)","v":"-"},{"$f":"IF($C115=\"\",\"\",Simulação!AR115)","v":0}]
[null,109,{"$f":"IF(Chegadas!J117<=$C$5,Chegadas!J117,\"\")","v":94.68},{"$f":"IF($C116=\"\",\"\",Simulação!D116)","v":3.1551952959321707},{"$f":"IF($C116=\"\",\"\",Simulação!E116)","v":"*"},{"$f":"IF($C116=\"\",\"\",Simulação!F116)","v":95.997652566025792},{"$f":"IF($C116=\"\",\"\",Simulação!G116)","v":94.68},{"$f":"IF($C116=\"\",\"\",Simulação!H116)","v":97.835195295932181},{"$f":"IF($C116=\"\",\"\",Simulação!I116)","v":"-"},{"$f":"IF($C116=\"\",\"\",Simulação!J116)","v":105.68800118259213},{"$f":"IF($C116=\"\",\"\",Simulação!K116)","v":"-"},{"$f":"IF($C116=\"\",\"\",Simulação!L116)","v":96.148703384402936},{"$f":"IF($C116=\"\",\"\",Simulação!M116)","v":"-"},{"$f":"IF($C116=\"\",\"\",Simulação!N116)","v":94.419165599528029},{"$f":"IF($C116=\"\",\"\",Simulação!O116)","v":"-"},{"$f":"IF($C116=\"\",\"\",Simulação!P116)","v":99.813497917689745},{"$f":"IF($C116=\"\",\"\",Simulação!Q116)","v":"-"},{"$f":"IF($C116=\"\",\"\",Simulação!R116)","v":98.978928407658913},{"$f":"IF($C116=\"\",\"\",Simulação!S116)","v":"-"},{"$f":"IF($C116=\"\",\"\",Simulação!T116)","v":100.08646138604897},{"$f":"IF($C116=\"\",\"\",Simulação!U116)","v":"-"},{"$f":"IF($C116=\"\",\"\",Simulação!V116)","v":101.50951988756783},{"$f":"IF($C116=\"\",\"\",Simulação!W116)","v":"-"},{"$f":"IF($C116=\"\",\"\",Simulação!X116)","v":101.0727860258967},{"$f":"IF($C116=\"\",\"\",Simulação!Y116)","v":"-"},{"$f":"IF($C116=\"\",\"\",Simulação!Z116)","v":97.166551531581689},{"$f":"IF($C116=\"\",\"\",Simulação!AA116)","v":"-"},{"$f":"IF($C116=\"\",\"\",Simulação!AB116)","v":90.998693698373259},{"$f":"IF($C116=\"\",\"\",Simulação!AC116)","v":"-"},{"$f":"IF($C116=\"\",\"\",Simulação!AD116)","v":28.626474227638489},{"$f":"IF($C116=\"\",\"\",Simulação!AE116)","v":"-"},{"$f":"IF($C116=\"\",\"\",Simulação!AF116)","v":34.388240562009656},{"$f":"IF($C116=\"\",\"\",Simulação!AG116)","v":"-"},{"$f":"IF($C116=\"\",\"\",Simulação!AH116)","v":29.236023829000793},{"$f":"IF($C116=\"\",\"\",Simulação!AI116)","v":"-"},{"$f":"IF($C116=\"\",\"\",Simulação!AJ116)","v":33.045125393740342},{"$f":"IF($C116=\"\",\"\",Simulação!AK116)","v":"-"},{"$f":"IF($C116=\"\",\"\",Simulação!AL116)","v":32.02721881559642},{"$f":"IF($C116=\"\",\"\",Simulação!AM116)","v":"-"},{"$f":"IF($C116=\"\",\"\",Simulação!AN116)","v":32.217563507182206},{"$f":"IF($C116=\"\",\"\",Simulação!AO116)","v":"-"},{"$f":"IF($C116=\"\",\"\",Simulação!AP116)","v":36.406016086434107},{"$f":"IF($C116=\"\",\"\",Simulação!AQ116)","v":"-"},{"$f":"IF($C116=\"\",\"\",Simulação!AR116)","v":0}]
[null,110,{"$f":"IF(Chegadas!J118<=$C$5,Chegadas!J118,\"\")","v":94.960000000000008},{"$f":"IF($C117=\"\",\"\",Simulação!D117)","v":8.3077247584013065},{"$f":"IF($C117=\"\",\"\",Simulação!E117)","v":"*"},{"$f":"IF($C117=\"\",\"\",Simulação!F117)","v":95.997652566025792},{"$f":"IF($C117=\"\",\"\",Simulação!G117)","v":"*"},{"$f":"IF($C117=\"\",\"\",Simulação!H117)","v":97.835195295932181},{"$f":"IF($C117=\"\",\"\",Simulação!I117)","v":"*"},{"$f":"IF($C117=\"\",\"\",Simulação!J117)","v":105.68800118259213},{"$f":"IF($C117=\"\",\"\",Simulação!K117)","v":"*"},{"$f":"IF($C117=\"\",\"\",Simulação!L117)","v":96.148703384402936},{"$f":"IF($C117=\"\",\"\",Simulação!M117)","v":94.960000000000008},{"$f":"IF($C117=\"\",\"\",Simulação!N117)","v":103.26772475840131},{"$f":"IF($C117=\"\",\"\",Simulação!O117)","v":"-"},{"$f":"IF($C117=\"\",\"\",Simulação!P117)","v":99.813497917689745},{"$f":"IF($C117=\"\",\"\",Simulação!Q117)","v":"-"},{"$f":"IF($C117=\"\",\"\",Simulação!R117)","v":98.978928407658913},{"$f":"IF($C117=\"\",\"\",Simulação!S117)","v":"-"},{"$f":"IF($C117=\"\",\"\",Simulação!T117)","v":100.08646138604897},{"$f":"IF($C117=\"\",\"\",Simulação!U117)","v":"-"},{"$f":"IF($C117=\"\",\"\",Simulação!V117)","v":101.50951988756783},{"$f":"IF($C117=\"\",\"\",Simulação!W117)","v":"-"},{"$f":"IF($C117=\"\",\"\",Simulação!X117)","v":101.0727860258967},{"$f":"IF($C117=\"\",\"\",Simulação!Y117)","v":"-"},{"$f":"IF($C117=\"\",\"\",Simulação!Z117)","v":97.166551531581689},{"$f":"IF($C117=\"\",\"\",Simulação!AA117)","v":"-"},{"$f":"IF($C117=\"\",\"\",Simulação!AB117)","v":90.998693698373259},{"$f":"IF($C117=\"\",\"\",Simulação!AC117)","v":"-"},{"$f":"IF($C117=\"\",\"\",Simulação!AD117)","v":28.626474227638489},{"$f":"IF($C117=\"\",\"\",Simulação!AE117)","v":"-"},{"$f":"IF($C117=\"\",\"\",Simulação!AF117)","v":34.388240562009656},{"$f":"IF($C117=\"\",\"\",Simulação!AG117)","v":"-"},{"$f":"IF($C117=\"\",\"\",Simulação!AH117)","v":29.236023829000793},{"$f":"IF($C117=\"\",\"\",Simulação!AI117)","v":"-"},{"$f":"IF($C117=\"\",\"\",Simulação!AJ117)","v":33.045125393740342},{"$f":"IF($C117=\"\",\"\",Simulação!AK117)","v":"-"},{"$f":"IF($C117=\"\",\"\",Simulação!AL117)","v":32.02721881559642},{"$f":"IF($C117=\"\",\"\",Simulação!AM117)","v":"-"},{"$f":"IF($C117=\"\",\"\",Simulação!AN117)","v":32.217563507182206},{"$f":"IF($C117=\"\",\"\",Simulação!AO117)","v":"-"},{"$f":"IF($C117=\"\",\"\",Simulação!AP117)","v":36.406016086434107},{"$f":"IF($C117=\"\",\"\",Simulação!AQ117)","v":"-"},{"$f":"IF($C117=\"\",\"\",Simulação!AR117)","v":0}]
[null,111,{"$f":"IF(Chegadas!J119<=$C$5,Chegadas!J119,\"\")","v":95.320000000000007},{"$f":"IF($C118=\"\",\"\",Simulação!D118)","v":5.7416639956440116},{"$f":"IF($C118=\"\",\"\",Simulação!E118)","v":"*"},{"$f":"IF($C118=\"\",\"\",Simulação!F118)","v":95.997652566025792},{"$f":"IF($C118=\"\",\"\",Simulação!G118)","v":"*"},{"$f":"IF($C118=\"\",\"\",Simulação!H118)","v":97.835195295932181},{"$f":"IF($C118=\"\",\"\",Simulação!I118)","v":"*"},{"$f":"IF($C118=\"\",\"\",Simulação!J118)","v":105.68800118259213},{"$f":"IF($C118=\"\",\"\",Simulação!K118)","v":"*"},{"$f":"IF($C118=\"\",\"\",Simulação!L118)","v":96.148703384402936},{"$f":"IF($C118=\"\",\"\",Simulação!M118)","v":"*"},{"$f":"IF($C118=\"\",\"\",Simulação!N118)","v":103.26772475840131},{"$f":"IF($C118=\"\",\"\",Simulação!O118)","v":"*"},{"$f":"IF($C118=\"\",\"\",Simulação!P118)","v":99.813497917689745},{"$f":"IF($C118=\"\",\"\",Simulação!Q118)","v":"*"},{"$f":"IF($C118=\"\",\"\",Simulação!R118)","v":98.978928407658913},{"$f":"IF($C118=\"\",\"\",Simulação!S118)","v":"*"},{"$f":"IF($C118=\"\",\"\",Simulação!T118)","v":100.08646138604897},{"$f":"IF($C118=\"\",\"\",Simulação!U118)","v":"*"},{"$f":"IF($C118=\"\",\"\",Simulação!V118)","v":101.50951988756783},{"$f":"IF($C118=\"\",\"\",Simulação!W118)","v":"*"},{"$f":"IF($C118=\"\",\"\",Simulação!X118)","v":101.0727860258967},{"$f":"IF($C118=\"\",\"\",Simulação!Y118)","v":"*"},{"$f":"IF($C118=\"\",\"\",Simulação!Z118)","v":97.166551531581689},{"$f":"IF($C118=\"\",\"\",Simulação!AA118)","v":95.320000000000007},{"$f":"IF($C118=\"\",\"\",Simulação!AB118)","v":101.06166399564403},{"$f":"IF($C118=\"\",\"\",Simulação!AC118)","v":"-"},{"$f":"IF($C118=\"\",\"\",Simulação!AD118)","v":28.626474227638489},{"$f":"IF($C118=\"\",\"\",Simulação!AE118)","v":"-"},{"$f":"IF($C118=\"\",\"\",Simulação!AF118)","v":34.388240562009656},{"$f":"IF($C118=\"\",\"\",Simulação!AG118)","v":"-"},{"$f":"IF($C118=\"\",\"\",Simulação!AH118)","v":29.236023829000793},{"$f":"IF($C118=\"\",\"\",Simulação!AI118)","v":"-"},{"$f":"IF($C118=\"\",\"\",Simulação!AJ118)","v":33.045125393740342},{"$f":"IF($C118=\"\",\"\",Simulação!AK118)","v":"-"},{"$f":"IF($C118=\"\",\"\",Simulação!AL118)","v":32.02721881559642},{"$f":"IF($C118=\"\",\"\",Simulação!AM118)","v":"-"},{"$f":"IF($C118=\"\",\"\",Simulação!AN118)","v":32.217563507182206},{"$f":"IF($C118=\"\",\"\",Simulação!AO118)","v":"-"},{"$f":"IF($C118=\"\",\"\",Simulação!AP118)","v":36.406016086434107},{"$f":"IF($C118=\"\",\"\",Simulação!AQ118)","v":"-"},{"$f":"IF($C118=\"\",\"\",Simulação!AR118)","v":0}]
[null,112,{"$f":"IF(Chegadas!J120<=$C$5,Chegadas!J120,\"\")","v":96.360000000000014},{"$f":"IF($C119=\"\",\"\",Simulação!D119)","v":7.1112685106941562},{"$f":"IF($C119=\"\",\"\",Simulação!E119)","v":96.360000000000014},{"$f":"IF($C119=\"\",\"\",Simulação!F119)","v":103.47126851069417},{"$f":"IF($C119=\"\",\"\",Simulação!G119)","v":"-"},{"$f":"IF($C119=\"\",\"\",Simulação!H119)","v":97.835195295932181},{"$f":"IF($C119=\"\",\"\",Simulação!I119)","v":"-"},{"$f":"IF($C119=\"\",\"\",Simulação!J119)","v":105.68800118259213},{"$f":"IF($C119=\"\",\"\",Simulação!K119)","v":"-"},{"$f":"IF($C119=\"\",\"\",Simulação!L119)","v":96.148703384402936},{"$f":"IF($C119=\"\",\"\",Simulação!M119)","v":"-"},{"$f":"IF($C119=\"\",\"\",Simulação!N119)","v":103.26772475840131},{"$f":"IF($C119=\"\",\"\",Simulação!O119)","v":"-"},{"$f":"IF($C119=\"\",\"\",Simulação!P119)","v":99.813497917689745},{"$f":"IF($C119=\"\",\"\",Simulação!Q119)","v":"-"},{"$f":"IF($C119=\"\",\"\",Simulação!R119)","v":98.978928407658913},{"$f":"IF($C119=\"\",\"\",Simulação!S119)","v":"-"},{"$f":"IF($C119=\"\",\"\",Simulação!T119)","v":100.08646138604897},{"$f":"IF($C119=\"\",\"\",Simulação!U119)","v":"-"},{"$f":"IF($C119=\"\",\"\",Simulação!V119)","v":101.50951988756783},{"$f":"IF($C119=\"\",\"\",Simulação!W119)","v":"-"},{"$f":"IF($C119=\"\",\"\",Simulação!X119)","v":101.0727860258967},{"$f":"IF($C119=\"\",\"\",Simulação!Y119)","v":"-"},{"$f":"IF($C119=\"\",\"\",Simulação!Z119)","v":97.166551531581689},{"$f":"IF($C119=\"\",\"\",Simulação!AA119)","v":"-"},{"$f":"IF($C119=\"\",\"\",Simulação!AB119)","v":101.06166399564403},{"$f":"IF($C119=\"\",\"\",Simulação!AC119)","v":"-"},{"$f":"IF($C119=\"\",\"\",Simulação!AD119)","v":28.626474227638489},{"$f":"IF($C119=\"\",\"\",Simulação!AE119)","v":"-"},{"$f":"IF($C119=\"\",\"\",Simulação!AF119)","v":34.388240562009656},{"$f":"IF($C119=\"\",\"\",Simulação!AG119)","v":"-"},{"$f":"IF($C119=\"\",\"\",Simulação!AH119)","v":29.236023829000793},{"$f":"IF($C119=\"\",\"\",Simulação!AI119)","v":"-"},{"$f":"IF($C119=\"\",\"\",Simulação!AJ119)","v":33.045125393740342},{"$f":"IF($C119=\"\",\"\",Simulação!AK119)","v":"-"},{"$f":"IF($C119=\"\",\"\",Simulação!AL119)","v":32.02721881559642},{"$f":"IF($C119=\"\",\"\",Simulação!AM119)","v":"-"},{"$f":"IF($C119=\"\",\"\",Simulação!AN119)","v":32.217563507182206},{"$f":"IF($C119=\"\",\"\",Simulação!AO119)","v":"-"},{"$f":"IF($C119=\"\",\"\",Simulação!AP119)","v":36.406016086434107},{"$f":"IF($C119=\"\",\"\",Simulação!AQ119)","v":"-"},{"$f":"IF($C119=\"\",\"\",Simulação!AR119)","v":0}]
[null,113,{"$f":"IF(Chegadas!J121<=$C$5,Chegadas!J121,\"\")","v":97.030000000000015},{"$f":"IF($C120=\"\",\"\",Simulação!D120)","v":2.3260786325372962},{"$f":"IF($C120=\"\",\"\",Simulação!E120)","v":"*"},{"$f":"IF($C120=\"\",\"\",Simulação!F120)","v":103.47126851069417},{"$f":"IF($C120=\"\",\"\",Simulação!G120)","v":"*"},{"$f":"IF($C120=\"\",\"\",Simulação!H120)","v":97.835195295932181},{"$f":"IF($C120=\"\",\"\",Simulação!I120)","v":"*"},{"$f":"IF($C120=\"\",\"\",Simulação!J120)","v":105.68800118259213},{"$f":"IF($C120=\"\",\"\",Simulação!K120)","v":97.030000000000015},{"$f":"IF($C120=\"\",\"\",Simulação!L120)","v":99.356078632537304},{"$f":"IF($C120=\"\",\"\",Simulação!M120)","v":"-"},{"$f":"IF($C120=\"\",\"\",Simulação!N120)","v":103.26772475840131},{"$f":"IF($C120=\"\",\"\",Simulação!O120)","v":"-"},{"$f":"IF($C120=\"\",\"\",Simulação!P120)","v":99.813497917689745},{"$f":"IF($C120=\"\",\"\",Simulação!Q120)","v":"-"},{"$f":"IF($C120=\"\",\"\",Simulação!R120)","v":98.978928407658913},{"$f":"IF($C120=\"\",\"\",Simulação!S120)","v":"-"},{"$f":"IF($C120=\"\",\"\",Simulação!T120)","v":100.08646138604897},{"$f":"IF($C120=\"\",\"\",Simulação!U120)","v":"-"},{"$f":"IF($C120=\"\",\"\",Simulação!V120)","v":101.50951988756783},{"$f":"IF($C120=\"\",\"\",Simulação!W120)","v":"-"},{"$f":"IF($C120=\"\",\"\",Simulação!X120)","v":101.0727860258967},{"$f":"IF($C120=\"\",\"\",Simulação!Y120)","v":"-"},{"$f":"IF($C120=\"\",\"\",Simulação!Z120)","v":97.166551531581689},{"$f":"IF($C120=\"\",\"\",Simulação!AA120)","v":"-"},{"$f":"IF($C120=\"\",\"\",Simulação!AB120)","v":101.06166399564403},{"$f":"IF($C120=\"\",\"\",Simulação!AC120)","v":"-"},{"$f":"IF($C120=\"\",\"\",Simulação!AD120)","v":28.626474227638489},{"$f":"IF($C120=\"\",\"\",Simulação!AE120)","v":"-"},{"$f":"IF($C120=\"\",\"\",Simulação!AF120)","v":34.388240562009656},{"$f":"IF($C120=\"\",\"\",Simulação!AG120)","v":"-"},{"$f":"IF($C120=\"\",\"\",Simulação!AH120)","v":29.236023829000793},{"$f":"IF($C120=\"\",\"\",Simulação!AI120)","v":"-"},{"$f":"IF($C120=\"\",\"\",Simulação!AJ120)","v":33.045125393740342},{"$f":"IF($C120=\"\",\"\",Simulação!AK120)","v":"-"},{"$f":"IF($C120=\"\",\"\",Simulação!AL120)","v":32.02721881559642},{"$f":"IF($C120=\"\",\"\",Simulação!AM120)","v":"-"},{"$f":"IF($C120=\"\",\"\",Simulação!AN120)","v":32.217563507182206},{"$f":"IF($C120=\"\",\"\",Simulação!AO120)","v":"-"},{"$f":"IF($C120=\"\",\"\",Simulação!AP120)","v":36.406016086434107},{"$f":"IF($C120=\"\",\"\",Simulação!AQ120)","v":"-"},{"$f":"IF($C120=\"\",\"\",Simulação!AR120)","v":0}]
[null,114,{"$f":"IF(Chegadas!J122<=$C$5,Chegadas!J122,\"\")","v":97.65000000000002},{"$f":"IF($C121=\"\",\"\",Simulação!D121)","v":9.3274558538685568},{"$f":"IF($C121=\"\",\"\",Simulação!E121)","v":"*"},{"$f":"IF($C121=\"\",\"\",Simulação!F121)","v":103.47126851069417},{"$f":"IF($C121=\"\",\"\",Simulação!G121)","v":"*"},{"$f":"IF($C121=\"\",\"\",Simulação!H121)","v":97.835195295932181},{"$f":"IF($C121=\"\",\"\",Simulação!I121)","v":"*"},{"$f":"IF($C121=\"\",\"\",Simulação!J121)","v":105.68800118259213},{"$f":"IF($C121=\"\",\"\",Simulação!K121)","v":"*"},{"$f":"IF($C121=\"\",\"\",Simulação!L121)","v":99.356078632537304},{"$f":"IF($C121=\"\",\"\",Simulação!M121)","v":"*"},{"$f":"IF($C121=\"\",\"\",Simulação!N121)","v":103.26772475840131},{"$f":"IF($C121=\"\",\"\",Simulação!O121)","v":"*"},{"$f":"IF($C121=\"\",\"\",Simulação!P121)","v":99.813497917689745},{"$f":"IF($C121=\"\",\"\",Simulação!Q121)","v":"*"},{"$f":"IF($C121=\"\",\"\",Simulação!R121)","v":98.978928407658913},{"$f":"IF($C121=\"\",\"\",Simulação!S121)","v":"*"},{"$f":"IF($C121=\"\",\"\",Simulação!T121)","v":100.08646138604897},{"$f":"IF($C121=\"\",\"\",Simulação!U121)","v":"*"},{"$f":"IF($C121=\"\",\"\",Simulação!V121)","v":101.50951988756783},{"$f":"IF($C121=\"\",\"\",Simulação!W121)","v":"*"},{"$f":"IF($C121=\"\",\"\",Simulação!X121)","v":101.0727860258967},{"$f":"IF($C121=\"\",\"\",Simulação!Y121)","v":97.65000000000002},{"$f":"IF($C121=\"\",\"\",Simulação!Z121)","v":106.97745585386858},{"$f":"IF($C121=\"\",\"\",Simulação!AA121)","v":"-"},{"$f":"IF($C121=\"\",\"\",Simulação!AB121)","v":101.06166399564403},{"$f":"IF($C121=\"\",\"\",Simulação!AC121)","v":"-"},{"$f":"IF($C121=\"\",\"\",Simulação!AD121)","v":28.626474227638489},{"$f":"IF($C121=\"\",\"\",Simulação!AE121)","v":"-"},{"$f":"IF($C121=\"\",\"\",Simulação!AF121)","v":34.388240562009656},{"$f":"IF($C121=\"\",\"\",Simulação!AG121)","v":"-"},{"$f":"IF($C121=\"\",\"\",Simulação!AH121)","v":29.236023829000793},{"$f":"IF($C121=\"\",\"\",Simulação!AI121)","v":"-"},{"$f":"IF($C121=\"\",\"\",Simulação!AJ121)","v":33.045125393740342},{"$f":"IF($C121=\"\",\"\",Simulação!AK121)","v":"-"},{"$f":"IF($C121=\"\",\"\",Simulação!AL121)","v":32.02721881559642},{"$f":"IF($C121=\"\",\"\",Simulação!AM121)","v":"-"},{"$f":"IF($C121=\"\",\"\",Simulação!AN121)","v":32.217563507182206},{"$f":"IF($C121=\"\",\"\",Simulação!AO121)","v":"-"},{"$f":"IF($C121=\"\",\"\",Simulação!AP121)","v":36.406016086434107},{"$f":"IF($C121=\"\",\"\",Simulação!AQ121)","v":"-"},{"$f":"IF($C121=\"\",\"\",Simulação!AR121)","v":0}]
[null,115,{"$f":"IF(Chegadas!J123<=$C$5,Chegadas!J123,\"\")","v":98.780000000000015},{"$f":"IF($C122=\"\",\"\",Simulação!D122)","v":9.4324221028468234},{"$f":"IF($C122=\"\",\"\",Simulação!E122)","v":"*"},{"$f":"IF($C122=\"\",\"\",Simulação!F122)","v":103.47126851069417},{"$f":"IF($C122=\"\",\"\",Simulação!G122)","v":98.780000000000015},{"$f":"IF($C122=\"\",\"\",Simulação!H122)","v":108.21242210284684},{"$f":"IF($C122=\"\",\"\",Simulação!I122)","v":"-"},{"$f":"IF($C122=\"\",\"\",Simulação!J122)","v":105.68800118259213},{"$f":"IF($C122=\"\",\"\",Simulação!K122)","v":"-"},{"$f":"IF($C122=\"\",\"\",Simulação!L122)","v":99.356078632537304},{"$f":"IF($C122=\"\",\"\",Simulação!M122)","v":"-"},{"$f":"IF($C122=\"\",\"\",Simulação!N122)","v":103.26772475840131},{"$f":"IF($C122=\"\",\"\",Simulação!O122)","v":"-"},{"$f":"IF($C122=\"\",\"\",Simulação!P122)","v":99.813497917689745},{"$f":"IF($C122=\"\",\"\",Simulação!Q122)","v":"-"},{"$f":"IF($C122=\"\",\"\",Simulação!R122)","v":98.978928407658913},{"$f":"IF($C122=\"\",\"\",Simulação!S122)","v":"-"},{"$f":"IF($C122=\"\",\"\",Simulação!T122)","v":100.08646138604897},{"$f":"IF($C122=\"\",\"\",Simulação!U122)","v":"-"},{"$f":"IF($C122=\"\",\"\",Simulação!V122)","v":101.50951988756783},{"$f":"IF($C122=\"\",\"\",Simulação!W122)","v":"-"},{"$f":"IF($C122=\"\",\"\",Simulação!X122)","v":101.0727860258967},{"$f":"IF($C122=\"\",\"\",Simulação!Y122)","v":"-"},{"$f":"IF($C122=\"\",\"\",Simulação!Z122)","v":106.97745585386858},{"$f":"IF($C122=\"\",\"\",Simulação!AA122)","v":"-"},{"$f":"IF($C122=\"\",\"\",Simulação!AB122)","v":101.06166399564403},{"$f":"IF($C122=\"\",\"\",Simulação!AC122)","v":"-"},{"$f":"IF($C122=\"\",\"\",Simulação!AD122)","v":28.626474227638489},{"$f":"IF($C122=\"\",\"\",Simulação!AE122)","v":"-"},{"$f":"IF($C122=\"\",\"\",Simulação!AF122)","v":34.388240562009656},{"$f":"IF($C122=\"\",\"\",Simulação!AG122)","v":"-"},{"$f":"IF($C122=\"\",\"\",Simulação!AH122)","v":29.236023829000793},{"$f":"IF($C122=\"\",\"\",Simulação!AI122)","v":"-"},{"$f":"IF($C122=\"\",\"\",Simulação!AJ122)","v":33.045125393740342},{"$f":"IF($C122=\"\",\"\",Simulação!AK122)","v":"-"},{"$f":"IF($C122=\"\",\"\",Simulação!AL122)","v":32.02721881559642},{"$f":"IF($C122=\"\",\"\",Simulação!AM122)","v":"-"},{"$f":"IF($C122=\"\",\"\",Simulação!AN122)","v":32.217563507182206},{"$f":"IF($C122=\"\",\"\",Simulação!AO122)","v":"-"},{"$f":"IF($C122=\"\",\"\",Simulação!AP122)","v":36.406016086434107},{"$f":"IF($C122=\"\",\"\",Simulação!AQ122)","v":"-"},{"$f":"IF($C122=\"\",\"\",Simulação!AR122)","v":0}]
[null,116,{"$f":"IF(Chegadas!J124<=$C$5,Chegadas!J124,\"\")","v":99.030000000000015},{"$f":"IF($C123=\"\",\"\",Simulação!D123)","v":8.2192009260559686},{"$f":"IF($C123=\"\",\"\",Simulação!E123)","v":"*"},{"$f":"IF($C123=\"\",\"\",Simulação!F123)","v":103.47126851069417},{"$f":"IF($C123=\"\",\"\",Simulação!G123)","v":"*"},{"$f":"IF($C123=\"\",\"\",Simulação!H123)","v":108.21242210284684},{"$f":"IF($C123=\"\",\"\",Simulação!I123)","v":"*"},{"$f":"IF($C123=\"\",\"\",Simulação!J123)","v":105.68800118259213},{"$f":"IF($C123=\"\",\"\",Simulação!K123)","v":"*"},{"$f":"IF($C123=\"\",\"\",Simulação!L123)","v":99.356078632537304},{"$f":"IF($C123=\"\",\"\",Simulação!M123)","v":"*"},{"$f":"IF($C123=\"\",\"\",Simulação!N123)","v":103.26772475840131},{"$f":"IF($C123=\"\",\"\",Simulação!O123)","v":"*"},{"$f":"IF($C123=\"\",\"\",Simulação!P123)","v":99.813497917689745},{"$f":"IF($C123=\"\",\"\",Simulação!Q123)","v":99.030000000000015},{"$f":"IF($C123=\"\",\"\",Simulação!R123)","v":107.24920092605598},{"$f":"IF($C123=\"\",\"\",Simulação!S123)","v":"-"},{"$f":"IF($C123=\"\",\"\",Simulação!T123)","v":100.08646138604897},{"$f":"IF($C123=\"\",\"\",Simulação!U123)","v":"-"},{"$f":"IF($C123=\"\",\"\",Simulação!V123)","v":101.50951988756783},{"$f":"IF($C123=\"\",\"\",Simulação!W123)","v":"-"},{"$f":"IF($C123=\"\",\"\",Simulação!X123)","v":101.0727860258967},{"$f":"IF($C123=\"\",\"\",Simulação!Y123)","v":"-"},{"$f":"IF($C123=\"\",\"\",Simulação!Z123)","v":106.97745585386858},{"$f":"IF($C123=\"\",\"\",Simulação!AA123)","v":"-"},{"$f":"IF($C123=\"\",\"\",Simulação!AB123)","v":101.06166399564403},{"$f":"IF($C123=\"\",\"\",Simulação!AC123)","v":"-"},{"$f":"IF($C123=\"\",\"\",Simulação!AD123)","v":28.626474227638489},{"$f":"IF($C123=\"\",\"\",Simulação!AE123)","v":"-"},{"$f":"IF($C123=\"\",\"\",Simulação!AF123)","v":34.388240562009656},{"$f":"IF($C123=\"\",\"\",Simulação!AG123)","v":"-"},{"$f":"IF($C123=\"\",\"\",Simulação!AH123)","v":29.236023829000793},{"$f":"IF($C123=\"\",\"\",Simulação!AI123)","v":"-"},{"$f":"IF($C123=\"\",\"\",Simulação!AJ123)","v":33.045125393740342},{"$f":"IF($C123=\"\",\"\",Simulação!AK123)","v":"-"},{"$f":"IF($C123=\"\",\"\",Simulação!AL123)","v":32.02721881559642},{"$f":"IF($C123=\"\",\"\",Simulação!AM123)","v":"-"},{"$f":"IF($C123=\"\",\"\",Simulação!AN123)","v":32.217563507182206},{"$f":"IF($C123=\"\",\"\",Simulação!AO123)","v":"-"},{"$f":"IF($C123=\"\",\"\",Simulação!AP123)","v":36.406016086434107},{"$f":"IF($C123=\"\",\"\",Simulação!AQ123)","v":"-"},{"$f":"IF($C123=\"\",\"\",Simulação!AR123)","v":0}]
[null,117,{"$f":"IF(Chegadas!J125<=$C$5,Chegadas!J125,\"\")","v":99.030000000000015},{"$f":"IF($C124=\"\",\"\",Simulação!D124)","v":7.6902493691546816},{"$f":"IF($C124=\"\",\"\",Simulação!E124)","v":"*"},{"$f":"IF($C124=\"\",\"\",Simulação!F124)","v":103.47126851069417},{"$f":"IF($C124=\"\",\"\",Simulação!G124)","v":"*"},{"$f":"IF($C124=\"\",\"\",Simulação!H124)","v":108.21242210284684},{"$f":"IF($C124=\"\",\"\",Simulação!I124)","v":"*"},{"$f":"IF($C124=\"\",\"\",Simulação!J124)","v":105.68800118259213},{"$f":"IF($C124=\"\",\"\",Simulação!K124)","v":"*"},{"$f":"IF($C124=\"\",\"\",Simulação!L124)","v":99.356078632537304},{"$f":"IF($C124=\"\",\"\",Simulação!M124)","v":"*"},{"$f":"IF($C124=\"\",\"\",Simulação!N124)","v":103.26772475840131},{"$f":"IF($C124=\"\",\"\",Simulação!O124)","v":"*"},{"$f":"IF($C124=\"\",\"\",Simulação!P124)","v":99.813497917689745},{"$f":"IF($C124=\"\",\"\",Simulação!Q124)","v":"*"},{"$f":"IF($C124=\"\",\"\",Simulação!R124)","v":107.24920092605598},{"$f":"IF($C124=\"\",\"\",Simulação!S124)","v":"*"},{"$f":"IF($C124=\"\",\"\",Simulação!T124)","v":100.08646138604897},{"$f":"IF($C124=\"\",\"\",Simulação!U124)","v":"*"},{"$f":"IF($C124=\"\",\"\",Simulação!V124)","v":101.50951988756783},{"$f":"IF($C124=\"\",\"\",Simulação!W124)","v":"*"},{"$f":"IF($C124=\"\",\"\",Simulação!X124)","v":101.0727860258967},{"$f":"IF($C124=\"\",\"\",Simulação!Y124)","v":"*"},{"$f":"IF($C124=\"\",\"\",Simulação!Z124)","v":106.97745585386858},{"$f":"IF($C124=\"\",\"\",Simulação!AA124)","v":"*"},{"$f":"IF($C124=\"\",\"\",Simulação!AB124)","v":101.06166399564403},{"$f":"IF($C124=\"\",\"\",Simulação!AC124)","v":99.030000000000015},{"$f":"IF($C124=\"\",\"\",Simulação!AD124)","v":106.7202493691547},{"$f":"IF($C124=\"\",\"\",Simulação!AE124)","v":"-"},{"$f":"IF($C124=\"\",\"\",Simulação!AF124)","v":34.388240562009656},{"$f":"IF($C124=\"\",\"\",Simulação!AG124)","v":"-"},{"$f":"IF($C124=\"\",\"\",Simulação!AH124)","v":29.236023829000793},{"$f":"IF($C124=\"\",\"\",Simulação!AI124)","v":"-"},{"$f":"IF($C124=\"\",\"\",Simulação!AJ124)","v":33.045125393740342},{"$f":"IF($C124=\"\",\"\",Simulação!AK124)","v":"-"},{"$f":"IF($C124=\"\",\"\",Simulação!AL124)","v":32.02721881559642},{"$f":"IF($C124=\"\",\"\",Simulação!AM124)","v":"-"},{"$f":"IF($C124=\"\",\"\",Simulação!AN124)","v":32.217563507182206},{"$f":"IF($C124=\"\",\"\",Simulação!AO124)","v":"-"},{"$f":"IF($C124=\"\",\"\",Simulação!AP124)","v":36.406016086434107},{"$f":"IF($C124=\"\",\"\",Simulação!AQ124)","v":"-"},{"$f":"IF($C124=\"\",\"\",Simulação!AR124)","v":0}]
[null,118,{"$f":"IF(Chegadas!J126<=$C$5,Chegadas!J126,\"\")","v":99.730000000000018},{"$f":"IF($C125=\"\",\"\",Simulação!D125)","v":5.0014106223367847},{"$f":"IF($C125=\"\",\"\",Simulação!E125)","v":"*"},{"$f":"IF($C125=\"\",\"\",Simulação!F125)","v":103.47126851069417},{"$f":"IF($C125=\"\",\"\",Simulação!G125)","v":"*"},{"$f":"IF($C125=\"\",\"\",Simulação!H125)","v":108.21242210284684},{"$f":"IF($C125=\"\",\"\",Simulação!I125)","v":"*"},{"$f":"IF($C125=\"\",\"\",Simulação!J125)","v":105.68800118259213},{"$f":"IF($C125=\"\",\"\",Simulação!K125)","v":99.730000000000018},{"$f":"IF($C125=\"\",\"\",Simulação!L125)","v":104.7314106223368},{"$f":"IF($C125=\"\",\"\",Simulação!M125)","v":"-"},{"$f":"IF($C125=\"\",\"\",Simulação!N125)","v":103.26772475840131},{"$f":"IF($C125=\"\",\"\",Simulação!O125)","v":"-"},{"$f":"IF($C125=\"\",\"\",Simulação!P125)","v":99.813497917689745},{"$f":"IF($C125=\"\",\"\",Simulação!Q125)","v":"-"},{"$f":"IF($C125=\"\",\"\",Simulação!R125)","v":107.24920092605598},{"$f":"IF($C125=\"\",\"\",Simulação!S125)","v":"-"},{"$f":"IF($C125=\"\",\"\",Simulação!T125)","v":100.08646138604897},{"$f":"IF($C125=\"\",\"\",Simulação!U125)","v":"-"},{"$f":"IF($C125=\"\",\"\",Simulação!V125)","v":101.50951988756783},{"$f":"IF($C125=\"\",\"\",Simulação!W125)","v":"-"},{"$f":"IF($C125=\"\",\"\",Simulação!X125)","v":101.0727860258967},{"$f":"IF($C125=\"\",\"\",Simulação!Y125)","v":"-"},{"$f":"IF($C125=\"\",\"\",Simulação!Z125)","v":106.97745585386858},{"$f":"IF($C125=\"\",\"\",Simulação!AA125)","v":"-"},{"$f":"IF($C125=\"\",\"\",Simulação!AB125)","v":101.06166399564403},{"$f":"IF($C125=\"\",\"\",Simulação!AC125)","v":"-"},{"$f":"IF($C125=\"\",\"\",Simulação!AD125)","v":106.7202493691547},{"$f":"IF($C125=\"\",\"\",Simulação!AE125)","v":"-"},{"$f":"IF($C125=\"\",\"\",Simulação!AF125)","v":34.388240562009656},{"$f":"IF($C125=\"\",\"\",Simulação!AG125)","v":"-"},{"$f":"IF($C125=\"\",\"\",Simulação!AH125)","v":29.236023829000793},{"$f":"IF($C125=\"\",\"\",Simulação!AI125)","v":"-"},{"$f":"IF($C125=\"\",\"\",Simulação!AJ125)","v":33.045125393740342},{"$f":"IF($C125=\"\",\"\",Simulação!AK125)","v":"-"},{"$f":"IF($C125=\"\",\"\",Simulação!AL125)","v":32.02721881559642},{"$f":"IF($C125=\"\",\"\",Simulação!AM125)","v":"-"},{"$f":"IF($C125=\"\",\"\",Simulação!AN125)","v":32.217563507182206},{"$f":"IF($C125=\"\",\"\",Simulação!AO125)","v":"-"},{"$f":"IF($C125=\"\",\"\",Simulação!AP125)","v":36.406016086434107},{"$f":"IF($C125=\"\",\"\",Simulação!AQ125)","v":"-"},{"$f":"IF($C125=\"\",\"\",Simulação!AR125)","v":0}]
[null,119,{"$f":"IF(Chegadas!J127<=$C$5,Chegadas!J127,\"\")","v":101.13000000000002},{"$f":"IF($C126=\"\",\"\",Simulação!D126)","v":7.5288666742773893},{"$f":"IF($C126=\"\",\"\",Simulação!E126)","v":"*"},{"$f":"IF($C126=\"\",\"\",Simulação!F126)","v":103.47126851069417},{"$f":"IF($C126=\"\",\"\",Simulação!G126)","v":"*"},{"$f":"IF($C126=\"\",\"\",Simulação!H126)","v":108.21242210284684},{"$f":"IF($C126=\"\",\"\",Simulação!I126)","v":"*"},{"$f":"IF($C126=\"\",\"\",Simulação!J126)","v":105.68800118259213},{"$f":"IF($C126=\"\",\"\",Simulação!K126)","v":"*"},{"$f":"IF($C126=\"\",\"\",Simulação!L126)","v":104.7314106223368},{"$f":"IF($C126=\"\",\"\",Simulação!M126)","v":"*"},{"$f":"IF($C126=\"\",\"\",Simulação!N126)","v":103.26772475840131},{"$f":"IF($C126=\"\",\"\",Simulação!O126)","v":101.13000000000002},{"$f":"IF($C126=\"\",\"\",Simulação!P126)","v":108.65886667427742},{"$f":"IF($C126=\"\",\"\",Simulação!Q126)","v":"-"},{"$f":"IF($C126=\"\",\"\",Simulação!R126)","v":107.24920092605598},{"$f":"IF($C126=\"\",\"\",Simulação!S126)","v":"-"},{"$f":"IF($C126=\"\",\"\",Simulação!T126)","v":100.08646138604897},{"$f":"IF($C126=\"\",\"\",Simulação!U126)","v":"-"},{"$f":"IF($C126=\"\",\"\",Simulação!V126)","v":101.50951988756783},{"$f":"IF($C126=\"\",\"\",Simulação!W126)","v":"-"},{"$f":"IF($C126=\"\",\"\",Simulação!X126)","v":101.0727860258967},{"$f":"IF($C126=\"\",\"\",Simulação!Y126)","v":"-"},{"$f":"IF($C126=\"\",\"\",Simulação!Z126)","v":106.97745585386858},{"$f":"IF($C126=\"\",\"\",Simulação!AA126)","v":"-"},{"$f":"IF($C126=\"\",\"\",Simulação!AB126)","v":101.06166399564403},{"$f":"IF($C126=\"\",\"\",Simulação!AC126)","v":"-"},{"$f":"IF($C126=\"\",\"\",Simulação!AD126)","v":106.7202493691547},{"$f":"IF($C126=\"\",\"\",Simulação!AE126)","v":"-"},{"$f":"IF($C126=\"\",\"\",Simulação!AF126)","v":34.388240562009656},{"$f":"IF($C126=\"\",\"\",Simulação!AG126)","v":"-"},{"$f":"IF($C126=\"\",\"\",Simulação!AH126)","v":29.236023829000793},{"$f":"IF($C126=\"\",\"\",Simulação!AI126)","v":"-"},{"$f":"IF($C126=\"\",\"\",Simulação!AJ126)","v":33.045125393740342},{"$f":"IF($C126=\"\",\"\",Simulação!AK126)","v":"-"},{"$f":"IF($C126=\"\",\"\",Simulação!AL126)","v":32.02721881559642},{"$f":"IF($C126=\"\",\"\",Simulação!AM126)","v":"-"},{"$f":"IF($C126=\"\",\"\",Simulação!AN126)","v":32.217563507182206},{"$f":"IF($C126=\"\",\"\",Simulação!AO126)","v":"-"},{"$f":"IF($C126=\"\",\"\",Simulação!AP126)","v":36.406016086434107},{"$f":"IF($C126=\"\",\"\",Simulação!AQ126)","v":"-"},{"$f":"IF($C126=\"\",\"\",Simulação!AR126)","v":0}]
[null,120,{"$f":"IF(Chegadas!J128<=$C$5,Chegadas!J128,\"\")","v":101.27},{"$f":"IF($C127=\"\",\"\",Simulação!D127)","v":0.7423776153309336},{"$f":"IF($C127=\"\",\"\",Simulação!E127)","v":"*"},{"$f":"IF($C127=\"\",\"\",Simulação!F127)","v":103.47126851069417},{"$f":"IF($C127=\"\",\"\",Simulação!G127)","v":"*"},{"$f":"IF($C127=\"\",\"\",Simulação!H127)","v":108.21242210284684},{"$f":"IF($C127=\"\",\"\",Simulação!I127)","v":"*"},{"$f":"IF($C127=\"\",\"\",Simulação!J127)","v":105.68800118259213},{"$f":"IF($C127=\"\",\"\",Simulação!K127)","v":"*"},{"$f":"IF($C127=\"\",\"\",Simulação!L127)","v":104.7314106223368},{"$f":"IF($C127=\"\",\"\",Simulação!M127)","v":"*"},{"$f":"IF($C127=\"\",\"\",Simulação!N127)","v":103.26772475840131},{"$f":"IF($C127=\"\",\"\",Simulação!O127)","v":"*"},{"$f":"IF($C127=\"\",\"\",Simulação!P127)","v":108.65886667427742},{"$f":"IF($C127=\"\",\"\",Simulação!Q127)","v":"*"},{"$f":"IF($C127=\"\",\"\",Simulação!R127)","v":107.24920092605598},{"$f":"IF($C127=\"\",\"\",Simulação!S127)","v":101.27},{"$f":"IF($C127=\"\",\"\",Simulação!T127)","v":102.01237761533093},{"$f":"IF($C127=\"\",\"\",Simulação!U127)","v":"-"},{"$f":"IF($C127=\"\",\"\",Simulação!V127)","v":101.50951988756783},{"$f":"IF($C127=\"\",\"\",Simulação!W127)","v":"-"},{"$f":"IF($C127=\"\",\"\",Simulação!X127)","v":101.0727860258967},{"$f":"IF($C127=\"\",\"\",Simulação!Y127)","v":"-"},{"$f":"IF($C127=\"\",\"\",Simulação!Z127)","v":106.97745585386858},{"$f":"IF($C127=\"\",\"\",Simulação!AA127)","v":"-"},{"$f":"IF($C127=\"\",\"\",Simulação!AB127)","v":101.06166399564403},{"$f":"IF($C127=\"\",\"\",Simulação!AC127)","v":"-"},{"$f":"IF($C127=\"\",\"\",Simulação!AD127)","v":106.7202493691547},{"$f":"IF($C127=\"\",\"\",Simulação!AE127)","v":"-"},{"$f":"IF($C127=\"\",\"\",Simulação!AF127)","v":34.388240562009656},{"$f":"IF($C127=\"\",\"\",Simulação!AG127)","v":"-"},{"$f":"IF($C127=\"\",\"\",Simulação!AH127)","v":29.236023829000793},{"$f":"IF($C127=\"\",\"\",Simulação!AI127)","v":"-"},{"$f":"IF($C127=\"\",\"\",Simulação!AJ127)","v":33.045125393740342},{"$f":"IF($C127=\"\",\"\",Simulação!AK127)","v":"-"},{"$f":"IF($C127=\"\",\"\",Simulação!AL127)","v":32.02721881559642},{"$f":"IF($C127=\"\",\"\",Simulação!AM127)","v":"-"},{"$f":"IF($C127=\"\",\"\",Simulação!AN127)","v":32.217563507182206},{"$f":"IF($C127=\"\",\"\",Simulação!AO127)","v":"-"},{"$f":"IF($C127=\"\",\"\",Simulação!AP127)","v":36.406016086434107},{"$f":"IF($C127=\"\",\"\",Simulação!AQ127)","v":"-"},{"$f":"IF($C127=\"\",\"\",Simulação!AR127)","v":0}]
[null,121,{"$f":"IF(Chegadas!J129<=$C$5,Chegadas!J129,\"\")","v":101.97000000000003},{"$f":"IF($C128=\"\",\"\",Simulação!D128)","v":5.4970962884537471},{"$f":"IF($C128=\"\",\"\",Simulação!E128)","v":"*"},{"$f":"IF($C128=\"\",\"\",Simulação!F128)","v":103.47126851069417},{"$f":"IF($C128=\"\",\"\",Simulação!G128)","v":"*"},{"$f":"IF($C128=\"\",\"\",Simulação!H128)","v":108.21242210284684},{"$f":"IF($C128=\"\",\"\",Simulação!I128)","v":"*"},{"$f":"IF($C128=\"\",\"\",Simulação!J128)","v":105.68800118259213},{"$f":"IF($C128=\"\",\"\",Simulação!K128)","v":"*"},{"$f":"IF($C128=\"\",\"\",Simulação!L128)","v":104.7314106223368},{"$f":"IF($C128=\"\",\"\",Simulação!M128)","v":"*"},{"$f":"IF($C128=\"\",\"\",Simulação!N128)","v":103.26772475840131},{"$f":"IF($C128=\"\",\"\",Simulação!O128)","v":"*"},{"$f":"IF($C128=\"\",\"\",Simulação!P128)","v":108.65886667427742},{"$f":"IF($C128=\"\",\"\",Simulação!Q128)","v":"*"},{"$f":"IF($C128=\"\",\"\",Simulação!R128)","v":107.24920092605598},{"$f":"IF($C128=\"\",\"\",Simulação!S128)","v":"*"},{"$f":"IF($C128=\"\",\"\",Simulação!T128)","v":102.01237761533093},{"$f":"IF($C128=\"\",\"\",Simulação!U128)","v":101.97000000000003},{"$f":"IF($C128=\"\",\"\",Simulação!V128)","v":107.46709628845377},{"$f":"IF($C128=\"\",\"\",Simulação!W128)","v":"-"},{"$f":"IF($C128=\"\",\"\",Simulação!X128)","v":101.0727860258967},{"$f":"IF($C128=\"\",\"\",Simulação!Y128)","v":"-"},{"$f":"IF($C128=\"\",\"\",Simulação!Z128)","v":106.97745585386858},{"$f":"IF($C128=\"\",\"\",Simulação!AA128)","v":"-"},{"$f":"IF($C128=\"\",\"\",Simulação!AB128)","v":101.06166399564403},{"$f":"IF($C128=\"\",\"\",Simulação!AC128)","v":"-"},{"$f":"IF($C128=\"\",\"\",Simulação!AD128)","v":106.7202493691547},{"$f":"IF($C128=\"\",\"\",Simulação!AE128)","v":"-"},{"$f":"IF($C128=\"\",\"\",Simulação!AF128)","v":34.388240562009656},{"$f":"IF($C128=\"\",\"\",Simulação!AG128)","v":"-"},{"$f":"IF($C128=\"\",\"\",Simulação!AH128)","v":29.236023829000793},{"$f":"IF($C128=\"\",\"\",Simulação!AI128)","v":"-"},{"$f":"IF($C128=\"\",\"\",Simulação!AJ128)","v":33.045125393740342},{"$f":"IF($C128=\"\",\"\",Simulação!AK128)","v":"-"},{"$f":"IF($C128=\"\",\"\",Simulação!AL128)","v":32.02721881559642},{"$f":"IF($C128=\"\",\"\",Simulação!AM128)","v":"-"},{"$f":"IF($C128=\"\",\"\",Simulação!AN128)","v":32.217563507182206},{"$f":"IF($C128=\"\",\"\",Simulação!AO128)","v":"-"},{"$f":"IF($C128=\"\",\"\",Simulação!AP128)","v":36.406016086434107},{"$f":"IF($C128=\"\",\"\",Simulação!AQ128)","v":"-"},{"$f":"IF($C128=\"\",\"\",Simulação!AR128)","v":0}]
[null,122,{"$f":"IF(Chegadas!J130<=$C$5,Chegadas!J130,\"\")","v":102.55000000000003},{"$f":"IF($C129=\"\",\"\",Simulação!D129)","v":10.847335559725167},{"$f":"IF($C129=\"\",\"\",Simulação!E129)","v":"*"},{"$f":"IF($C129=\"\",\"\",Simulação!F129)","v":103.47126851069417},{"$f":"IF($C129=\"\",\"\",Simulação!G129)","v":"*"},{"$f":"IF($C129=\"\",\"\",Simulação!H129)","v":108.21242210284684},{"$f":"IF($C129=\"\",\"\",Simulação!I129)","v":"*"},{"$f":"IF($C129=\"\",\"\",Simulação!J129)","v":105.68800118259213},{"$f":"IF($C129=\"\",\"\",Simulação!K129)","v":"*"},{"$f":"IF($C129=\"\",\"\",Simulação!L129)","v":104.7314106223368},{"$f":"IF($C129=\"\",\"\",Simulação!M129)","v":"*"},{"$f":"IF($C129=\"\",\"\",Simulação!N129)","v":103.26772475840131},{"$f":"IF($C129=\"\",\"\",Simulação!O129)","v":"*"},{"$f":"IF($C129=\"\",\"\",Simulação!P129)","v":108.65886667427742},{"$f":"IF($C129=\"\",\"\",Simulação!Q129)","v":"*"},{"$f":"IF($C129=\"\",\"\",Simulação!R129)","v":107.24920092605598},{"$f":"IF($C129=\"\",\"\",Simulação!S129)","v":102.55000000000003},{"$f":"IF($C129=\"\",\"\",Simulação!T129)","v":113.39733555972519},{"$f":"IF($C129=\"\",\"\",Simulação!U129)","v":"-"},{"$f":"IF($C129=\"\",\"\",Simulação!V129)","v":107.46709628845377},{"$f":"IF($C129=\"\",\"\",Simulação!W129)","v":"-"},{"$f":"IF($C129=\"\",\"\",Simulação!X129)","v":101.0727860258967},{"$f":"IF($C129=\"\",\"\",Simulação!Y129)","v":"-"},{"$f":"IF($C129=\"\",\"\",Simulação!Z129)","v":106.97745585386858},{"$f":"IF($C129=\"\",\"\",Simulação!AA129)","v":"-"},{"$f":"IF($C129=\"\",\"\",Simulação!AB129)","v":101.06166399564403},{"$f":"IF($C129=\"\",\"\",Simulação!AC129)","v":"-"},{"$f":"IF($C129=\"\",\"\",Simulação!AD129)","v":106.7202493691547},{"$f":"IF($C129=\"\",\"\",Simulação!AE129)","v":"-"},{"$f":"IF($C129=\"\",\"\",Simulação!AF129)","v":34.388240562009656},{"$f":"IF($C129=\"\",\"\",Simulação!AG129)","v":"-"},{"$f":"IF($C129=\"\",\"\",Simulação!AH129)","v":29.236023829000793},{"$f":"IF($C129=\"\",\"\",Simulação!AI129)","v":"-"},{"$f":"IF($C129=\"\",\"\",Simulação!AJ129)","v":33.045125393740342},{"$f":"IF($C129=\"\",\"\",Simulação!AK129)","v":"-"},{"$f":"IF($C129=\"\",\"\",Simulação!AL129)","v":32.02721881559642},{"$f":"IF($C129=\"\",\"\",Simulação!AM129)","v":"-"},{"$f":"IF($C129=\"\",\"\",Simulação!AN129)","v":32.217563507182206},{"$f":"IF($C129=\"\",\"\",Simulação!AO129)","v":"-"},{"$f":"IF($C129=\"\",\"\",Simulação!AP129)","v":36.406016086434107},{"$f":"IF($C129=\"\",\"\",Simulação!AQ129)","v":"-"},{"$f":"IF($C129=\"\",\"\",Simulação!AR129)","v":0}]
[null,123,{"$f":"IF(Chegadas!J131<=$C$5,Chegadas!J131,\"\")","v":102.81000000000003},{"$f":"IF($C130=\"\",\"\",Simulação!D130)","v":8.4270201948561407},{"$f":"IF($C130=\"\",\"\",Simulação!E130)","v":"*"},{"$f":"IF($C130=\"\",\"\",Simulação!F130)","v":103.47126851069417},{"$f":"IF($C130=\"\",\"\",Simulação!G130)","v":"*"},{"$f":"IF($C130=\"\",\"\",Simulação!H130)","v":108.21242210284684},{"$f":"IF($C130=\"\",\"\",Simulação!I130)","v":"*"},{"$f":"IF($C130=\"\",\"\",Simulação!J130)","v":105.68800118259213},{"$f":"IF($C130=\"\",\"\",Simulação!K130)","v":"*"},{"$f":"IF($C130=\"\",\"\",Simulação!L130)","v":104.7314106223368},{"$f":"IF($C130=\"\",\"\",Simulação!M130)","v":"*"},{"$f":"IF($C130=\"\",\"\",Simulação!N130)","v":103.26772475840131},{"$f":"IF($C130=\"\",\"\",Simulação!O130)","v":"*"},{"$f":"IF($C130=\"\",\"\",Simulação!P130)","v":108.65886667427742},{"$f":"IF($C130=\"\",\"\",Simulação!Q130)","v":"*"},{"$f":"IF($C130=\"\",\"\",Simulação!R130)","v":107.24920092605598},{"$f":"IF($C130=\"\",\"\",Simulação!S130)","v":"*"},{"$f":"IF($C130=\"\",\"\",Simulação!T130)","v":113.39733555972519},{"$f":"IF($C130=\"\",\"\",Simulação!U130)","v":"*"},{"$f":"IF($C130=\"\",\"\",Simulação!V130)","v":107.46709628845377},{"$f":"IF($C130=\"\",\"\",Simulação!W130)","v":102.81000000000003},{"$f":"IF($C130=\"\",\"\",Simulação!X130)","v":111.23702019485617},{"$f":"IF($C130=\"\",\"\",Simulação!Y130)","v":"-"},{"$f":"IF($C130=\"\",\"\",Simulação!Z130)","v":106.97745585386858},{"$f":"IF($C130=\"\",\"\",Simulação!AA130)","v":"-"},{"$f":"IF($C130=\"\",\"\",Simulação!AB130)","v":101.06166399564403},{"$f":"IF($C130=\"\",\"\",Simulação!AC130)","v":"-"},{"$f":"IF($C130=\"\",\"\",Simulação!AD130)","v":106.7202493691547},{"$f":"IF($C130=\"\",\"\",Simulação!AE130)","v":"-"},{"$f":"IF($C130=\"\",\"\",Simulação!AF130)","v":34.388240562009656},{"$f":"IF($C130=\"\",\"\",Simulação!AG130)","v":"-"},{"$f":"IF($C130=\"\",\"\",Simulação!AH130)","v":29.236023829000793},{"$f":"IF($C130=\"\",\"\",Simulação!AI130)","v":"-"},{"$f":"IF($C130=\"\",\"\",Simulação!AJ130)","v":33.045125393740342},{"$f":"IF($C130=\"\",\"\",Simulação!AK130)","v":"-"},{"$f":"IF($C130=\"\",\"\",Simulação!AL130)","v":32.02721881559642},{"$f":"IF($C130=\"\",\"\",Simulação!AM130)","v":"-"},{"$f":"IF($C130=\"\",\"\",Simulação!AN130)","v":32.217563507182206},{"$f":"IF($C130=\"\",\"\",Simulação!AO130)","v":"-"},{"$f":"IF($C130=\"\",\"\",Simulação!AP130)","v":36.406016086434107},{"$f":"IF($C130=\"\",\"\",Simulação!AQ130)","v":"-"},{"$f":"IF($C130=\"\",\"\",Simulação!AR130)","v":0}]
[null,124,{"$f":"IF(Chegadas!J132<=$C$5,Chegadas!J132,\"\")","v":103.19000000000003},{"$f":"IF($C131=\"\",\"\",Simulação!D131)","v":7.2284192207156419},{"$f":"IF($C131=\"\",\"\",Simulação!E131)","v":"*"},{"$f":"IF($C131=\"\",\"\",Simulação!F131)","v":103.47126851069417},{"$f":"IF($C131=\"\",\"\",Simulação!G131)","v":"*"},{"$f":"IF($C131=\"\",\"\",Simulação!H131)","v":108.21242210284684},{"$f":"IF($C131=\"\",\"\",Simulação!I131)","v":"*"},{"$f":"IF($C131=\"\",\"\",Simulação!J131)","v":105.68800118259213},{"$f":"IF($C131=\"\",\"\",Simulação!K131)","v":"*"},{"$f":"IF($C131=\"\",\"\",Simulação!L131)","v":104.7314106223368},{"$f":"IF($C131=\"\",\"\",Simulação!M131)","v":"*"},{"$f":"IF($C131=\"\",\"\",Simulação!N131)","v":103.26772475840131},{"$f":"IF($C131=\"\",\"\",Simulação!O131)","v":"*"},{"$f":"IF($C131=\"\",\"\",Simulação!P131)","v":108.65886667427742},{"$f":"IF($C131=\"\",\"\",Simulação!Q131)","v":"*"},{"$f":"IF($C131=\"\",\"\",Simulação!R131)","v":107.24920092605598},{"$f":"IF($C131=\"\",\"\",Simulação!S131)","v":"*"},{"$f":"IF($C131=\"\",\"\",Simulação!T131)","v":113.39733555972519},{"$f":"IF($C131=\"\",\"\",Simulação!U131)","v":"*"},{"$f":"IF($C131=\"\",\"\",Simulação!V131)","v":107.46709628845377},{"$f":"IF($C131=\"\",\"\",Simulação!W131)","v":"*"},{"$f":"IF($C131=\"\",\"\",Simulação!X131)","v":111.23702019485617},{"$f":"IF($C131=\"\",\"\",Simulação!Y131)","v":"*"},{"$f":"IF($C131=\"\",\"\",Simulação!Z131)","v":106.97745585386858},{"$f":"IF($C131=\"\",\"\",Simulação!AA131)","v":103.19000000000003},{"$f":"IF($C131=\"\",\"\",Simulação!AB131)","v":110.41841922071566},{"$f":"IF($C131=\"\",\"\",Simulação!AC131)","v":"-"},{"$f":"IF($C131=\"\",\"\",Simulação!AD131)","v":106.7202493691547},{"$f":"IF($C131=\"\",\"\",Simulação!AE131)","v":"-"},{"$f":"IF($C131=\"\",\"\",Simulação!AF131)","v":34.388240562009656},{"$f":"IF($C131=\"\",\"\",Simulação!AG131)","v":"-"},{"$f":"IF($C131=\"\",\"\",Simulação!AH131)","v":29.236023829000793},{"$f":"IF($C131=\"\",\"\",Simulação!AI131)","v":"-"},{"$f":"IF($C131=\"\",\"\",Simulação!AJ131)","v":33.045125393740342},{"$f":"IF($C131=\"\",\"\",Simulação!AK131)","v":"-"},{"$f":"IF($C131=\"\",\"\",Simulação!AL131)","v":32.02721881559642},{"$f":"IF($C131=\"\",\"\",Simulação!AM131)","v":"-"},{"$f":"IF($C131=\"\",\"\",Simulação!AN131)","v":32.217563507182206},{"$f":"IF($C131=\"\",\"\",Simulação!AO131)","v":"-"},{"$f":"IF($C131=\"\",\"\",Simulação!AP131)","v":36.406016086434107},{"$f":"IF($C131=\"\",\"\",Simulação!AQ131)","v":"-"},{"$f":"IF($C131=\"\",\"\",Simulação!AR131)","v":0}]
[null,125,{"$f":"IF(Chegadas!J133<=$C$5,Chegadas!J133,\"\")","v":106.46000000000002},{"$f":"IF($C132=\"\",\"\",Simulação!D132)","v":11.835458125911913},{"$f":"IF($C132=\"\",\"\",Simulação!E132)","v":106.46000000000002},{"$f":"IF($C132=\"\",\"\",Simulação!F132)","v":118.29545812591194},{"$f":"IF($C132=\"\",\"\",Simulação!G132)","v":"-"},{"$f":"IF($C132=\"\",\"\",Simulação!H132)","v":108.21242210284684},{"$f":"IF($C132=\"\",\"\",Simulação!I132)","v":"-"},{"$f":"IF($C132=\"\",\"\",Simulação!J132)","v":105.68800118259213},{"$f":"IF($C132=\"\",\"\",Simulação!K132)","v":"-"},{"$f":"IF($C132=\"\",\"\",Simulação!L132)","v":104.7314106223368},{"$f":"IF($C132=\"\",\"\",Simulação!M132)","v":"-"},{"$f":"IF($C132=\"\",\"\",Simulação!N132)","v":103.26772475840131},{"$f":"IF($C132=\"\",\"\",Simulação!O132)","v":"-"},{"$f":"IF($C132=\"\",\"\",Simulação!P132)","v":108.65886667427742},{"$f":"IF($C132=\"\",\"\",Simulação!Q132)","v":"-"},{"$f":"IF($C132=\"\",\"\",Simulação!R132)","v":107.24920092605598},{"$f":"IF($C132=\"\",\"\",Simulação!S132)","v":"-"},{"$f":"IF($C132=\"\",\"\",Simulação!T132)","v":113.39733555972519},{"$f":"IF($C132=\"\",\"\",Simulação!U132)","v":"-"},{"$f":"IF($C132=\"\",\"\",Simulação!V132)","v":107.46709628845377},{"$f":"IF($C132=\"\",\"\",Simulação!W132)","v":"-"},{"$f":"IF($C132=\"\",\"\",Simulação!X132)","v":111.23702019485617},{"$f":"IF($C132=\"\",\"\",Simulação!Y132)","v":"-"},{"$f":"IF($C132=\"\",\"\",Simulação!Z132)","v":106.97745585386858},{"$f":"IF($C132=\"\",\"\",Simulação!AA132)","v":"-"},{"$f":"IF($C132=\"\",\"\",Simulação!AB132)","v":110.41841922071566},{"$f":"IF($C132=\"\",\"\",Simulação!AC132)","v":"-"},{"$f":"IF($C132=\"\",\"\",Simulação!AD132)","v":106.7202493691547},{"$f":"IF($C132=\"\",\"\",Simulação!AE132)","v":"-"},{"$f":"IF($C132=\"\",\"\",Simulação!AF132)","v":34.388240562009656},{"$f":"IF($C132=\"\",\"\",Simulação!AG132)","v":"-"},{"$f":"IF($C132=\"\",\"\",Simulação!AH132)","v":29.236023829000793},{"$f":"IF($C132=\"\",\"\",Simulação!AI132)","v":"-"},{"$f":"IF($C132=\"\",\"\",Simulação!AJ132)","v":33.045125393740342},{"$f":"IF($C132=\"\",\"\",Simulação!AK132)","v":"-"},{"$f":"IF($C132=\"\",\"\",Simulação!AL132)","v":32.02721881559642},{"$f":"IF($C132=\"\",\"\",Simulação!AM132)","v":"-"},{"$f":"IF($C132=\"\",\"\",Simulação!AN132)","v":32.217563507182206},{"$f":"IF($C132=\"\",\"\",Simulação!AO132)","v":"-"},{"$f":"IF($C132=\"\",\"\",Simulação!AP132)","v":36.406016086434107},{"$f":"IF($C132=\"\",\"\",Simulação!AQ132)","v":"-"},{"$f":"IF($C132=\"\",\"\",Simulação!AR132)","v":0}]
[null,126,{"$f":"IF(Chegadas!J134<=$C$5,Chegadas!J134,\"\")","v":106.73000000000002},{"$f":"IF($C133=\"\",\"\",Simulação!D133)","v":9.4316537643163354},{"$f":"IF($C133=\"\",\"\",Simulação!E133)","v":"*"},{"$f":"IF($C133=\"\",\"\",Simulação!F133)","v":118.29545812591194},{"$f":"IF($C133=\"\",\"\",Simulação!G133)","v":"*"},{"$f":"IF($C133=\"\",\"\",Simulação!H133)","v":108.21242210284684},{"$f":"IF($C133=\"\",\"\",Simulação!I133)","v":106.73000000000002},{"$f":"IF($C133=\"\",\"\",Simulação!J133)","v":116.16165376431636},{"$f":"IF($C133=\"\",\"\",Simulação!K133)","v":"-"},{"$f":"IF($C133=\"\",\"\",Simulação!L133)","v":104.7314106223368},{"$f":"IF($C133=\"\",\"\",Simulação!M133)","v":"-"},{"$f":"IF($C133=\"\",\"\",Simulação!N133)","v":103.26772475840131},{"$f":"IF($C133=\"\",\"\",Simulação!O133)","v":"-"},{"$f":"IF($C133=\"\",\"\",Simulação!P133)","v":108.65886667427742},{"$f":"IF($C133=\"\",\"\",Simulação!Q133)","v":"-"},{"$f":"IF($C133=\"\",\"\",Simulação!R133)","v":107.24920092605598},{"$f":"IF($C133=\"\",\"\",Simulação!S133)","v":"-"},{"$f":"IF($C133=\"\",\"\",Simulação!T133)","v":113.39733555972519},{"$f":"IF($C133=\"\",\"\",Simulação!U133)","v":"-"},{"$f":"IF($C133=\"\",\"\",Simulação!V133)","v":107.46709628845377},{"$f":"IF($C133=\"\",\"\",Simulação!W133)","v":"-"},{"$f":"IF($C133=\"\",\"\",Simulação!X133)","v":111.23702019485617},{"$f":"IF($C133=\"\",\"\",Simulação!Y133)","v":"-"},{"$f":"IF($C133=\"\",\"\",Simulação!Z133)","v":106.97745585386858},{"$f":"IF($C133=\"\",\"\",Simulação!AA133)","v":"-"},{"$f":"IF($C133=\"\",\"\",Simulação!AB133)","v":110.41841922071566},{"$f":"IF($C133=\"\",\"\",Simulação!AC133)","v":"-"},{"$f":"IF($C133=\"\",\"\",Simulação!AD133)","v":106.7202493691547},{"$f":"IF($C133=\"\",\"\",Simulação!AE133)","v":"-"},{"$f":"IF($C133=\"\",\"\",Simulação!AF133)","v":34.388240562009656},{"$f":"IF($C133=\"\",\"\",Simulação!AG133)","v":"-"},{"$f":"IF($C133=\"\",\"\",Simulação!AH133)","v":29.236023829000793},{"$f":"IF($C133=\"\",\"\",Simulação!AI133)","v":"-"},{"$f":"IF($C133=\"\",\"\",Simulação!AJ133)","v":33.045125393740342},{"$f":"IF($C133=\"\",\"\",Simulação!AK133)","v":"-"},{"$f":"IF($C133=\"\",\"\",Simulação!AL133)","v":32.02721881559642},{"$f":"IF($C133=\"\",\"\",Simulação!AM133)","v":"-"},{"$f":"IF($C133=\"\",\"\",Simulação!AN133)","v":32.217563507182206},{"$f":"IF($C133=\"\",\"\",Simulação!AO133)","v":"-"},{"$f":"IF($C133=\"\",\"\",Simulação!AP133)","v":36.406016086434107},{"$f":"IF($C133=\"\",\"\",Simulação!AQ133)","v":"-"},{"$f":"IF($C133=\"\",\"\",Simulação!AR133)","v":0}]
[null,127,{"$f":"IF(Chegadas!J135<=$C$5,Chegadas!J135,\"\")","v":107.80000000000001},{"$f":"IF($C134=\"\",\"\",Simulação!D134)","v":9.579206222373422},{"$f":"IF($C134=\"\",\"\",Simulação!E134)","v":"*"},{"$f":"IF($C134=\"\",\"\",Simulação!F134)","v":118.29545812591194},{"$f":"IF($C134=\"\",\"\",Simulação!G134)","v":"*"},{"$f":"IF($C134=\"\",\"\",Simulação!H134)","v":108.21242210284684},{"$f":"IF($C134=\"\",\"\",Simulação!I134)","v":"*"},{"$f":"IF($C134=\"\",\"\",Simulação!J134)","v":116.16165376431636},{"$f":"IF($C134=\"\",\"\",Simulação!K134)","v":107.80000000000001},{"$f":"IF($C134=\"\",\"\",Simulação!L134)","v":117.37920622237343},{"$f":"IF($C134=\"\",\"\",Simulação!M134)","v":"-"},{"$f":"IF($C134=\"\",\"\",Simulação!N134)","v":103.26772475840131},{"$f":"IF($C134=\"\",\"\",Simulação!O134)","v":"-"},{"$f":"IF($C134=\"\",\"\",Simulação!P134)","v":108.65886667427742},{"$f":"IF($C134=\"\",\"\",Simulação!Q134)","v":"-"},{"$f":"IF($C134=\"\",\"\",Simulação!R134)","v":107.24920092605598},{"$f":"IF($C134=\"\",\"\",Simulação!S134)","v":"-"},{"$f":"IF($C134=\"\",\"\",Simulação!T134)","v":113.39733555972519},{"$f":"IF($C134=\"\",\"\",Simulação!U134)","v":"-"},{"$f":"IF($C134=\"\",\"\",Simulação!V134)","v":107.46709628845377},{"$f":"IF($C134=\"\",\"\",Simulação!W134)","v":"-"},{"$f":"IF($C134=\"\",\"\",Simulação!X134)","v":111.23702019485617},{"$f":"IF($C134=\"\",\"\",Simulação!Y134)","v":"-"},{"$f":"IF($C134=\"\",\"\",Simulação!Z134)","v":106.97745585386858},{"$f":"IF($C134=\"\",\"\",Simulação!AA134)","v":"-"},{"$f":"IF($C134=\"\",\"\",Simulação!AB134)","v":110.41841922071566},{"$f":"IF($C134=\"\",\"\",Simulação!AC134)","v":"-"},{"$f":"IF($C134=\"\",\"\",Simulação!AD134)","v":106.7202493691547},{"$f":"IF($C134=\"\",\"\",Simulação!AE134)","v":"-"},{"$f":"IF($C134=\"\",\"\",Simulação!AF134)","v":34.388240562009656},{"$f":"IF($C134=\"\",\"\",Simulação!AG134)","v":"-"},{"$f":"IF($C134=\"\",\"\",Simulação!AH134)","v":29.236023829000793},{"$f":"IF($C134=\"\",\"\",Simulação!AI134)","v":"-"},{"$f":"IF($C134=\"\",\"\",Simulação!AJ134)","v":33.045125393740342},{"$f":"IF($C134=\"\",\"\",Simulação!AK134)","v":"-"},{"$f":"IF($C134=\"\",\"\",Simulação!AL134)","v":32.02721881559642},{"$f":"IF($C134=\"\",\"\",Simulação!AM134)","v":"-"},{"$f":"IF($C134=\"\",\"\",Simulação!AN134)","v":32.217563507182206},{"$f":"IF($C134=\"\",\"\",Simulação!AO134)","v":"-"},{"$f":"IF($C134=\"\",\"\",Simulação!AP134)","v":36.406016086434107},{"$f":"IF($C134=\"\",\"\",Simulação!AQ134)","v":"-"},{"$f":"IF($C134=\"\",\"\",Simulação!AR134)","v":0}]
[null,128,{"$f":"IF(Chegadas!J136<=$C$5,Chegadas!J136,\"\")","v":108.00000000000001},{"$f":"IF($C135=\"\",\"\",Simulação!D135)","v":10.465793929478536},{"$f":"IF($C135=\"\",\"\",Simulação!E135)","v":"*"},{"$f":"IF($C135=\"\",\"\",Simulação!F135)","v":118.29545812591194},{"$f":"IF($C135=\"\",\"\",Simulação!G135)","v":"*"},{"$f":"IF($C135=\"\",\"\",Simulação!H135)","v":108.21242210284684},{"$f":"IF($C135=\"\",\"\",Simulação!I135)","v":"*"},{"$f":"IF($C135=\"\",\"\",Simulação!J135)","v":116.16165376431636},{"$f":"IF($C135=\"\",\"\",Simulação!K135)","v":"*"},{"$f":"IF($C135=\"\",\"\",Simulação!L135)","v":117.37920622237343},{"$f":"IF($C135=\"\",\"\",Simulação!M135)","v":108.00000000000001},{"$f":"IF($C135=\"\",\"\",Simulação!N135)","v":118.46579392947855},{"$f":"IF($C135=\"\",\"\",Simulação!O135)","v":"-"},{"$f":"IF($C135=\"\",\"\",Simulação!P135)","v":108.65886667427742},{"$f":"IF($C135=\"\",\"\",Simulação!Q135)","v":"-"},{"$f":"IF($C135=\"\",\"\",Simulação!R135)","v":107.24920092605598},{"$f":"IF($C135=\"\",\"\",Simulação!S135)","v":"-"},{"$f":"IF($C135=\"\",\"\",Simulação!T135)","v":113.39733555972519},{"$f":"IF($C135=\"\",\"\",Simulação!U135)","v":"-"},{"$f":"IF($C135=\"\",\"\",Simulação!V135)","v":107.46709628845377},{"$f":"IF($C135=\"\",\"\",Simulação!W135)","v":"-"},{"$f":"IF($C135=\"\",\"\",Simulação!X135)","v":111.23702019485617},{"$f":"IF($C135=\"\",\"\",Simulação!Y135)","v":"-"},{"$f":"IF($C135=\"\",\"\",Simulação!Z135)","v":106.97745585386858},{"$f":"IF($C135=\"\",\"\",Simulação!AA135)","v":"-"},{"$f":"IF($C135=\"\",\"\",Simulação!AB135)","v":110.41841922071566},{"$f":"IF($C135=\"\",\"\",Simulação!AC135)","v":"-"},{"$f":"IF($C135=\"\",\"\",Simulação!AD135)","v":106.7202493691547},{"$f":"IF($C135=\"\",\"\",Simulação!AE135)","v":"-"},{"$f":"IF($C135=\"\",\"\",Simulação!AF135)","v":34.388240562009656},{"$f":"IF($C135=\"\",\"\",Simulação!AG135)","v":"-"},{"$f":"IF($C135=\"\",\"\",Simulação!AH135)","v":29.236023829000793},{"$f":"IF($C135=\"\",\"\",Simulação!AI135)","v":"-"},{"$f":"IF($C135=\"\",\"\",Simulação!AJ135)","v":33.045125393740342},{"$f":"IF($C135=\"\",\"\",Simulação!AK135)","v":"-"},{"$f":"IF($C135=\"\",\"\",Simulação!AL135)","v":32.02721881559642},{"$f":"IF($C135=\"\",\"\",Simulação!AM135)","v":"-"},{"$f":"IF($C135=\"\",\"\",Simulação!AN135)","v":32.217563507182206},{"$f":"IF($C135=\"\",\"\",Simulação!AO135)","v":"-"},{"$f":"IF($C135=\"\",\"\",Simulação!AP135)","v":36.406016086434107},{"$f":"IF($C135=\"\",\"\",Simulação!AQ135)","v":"-"},{"$f":"IF($C135=\"\",\"\",Simulação!AR135)","v":0}]
[null,129,{"$f":"IF(Chegadas!J137<=$C$5,Chegadas!J137,\"\")","v":108.01000000000002},{"$f":"IF($C136=\"\",\"\",Simulação!D136)","v":4.8425830716703064},{"$f":"IF($C136=\"\",\"\",Simulação!E136)","v":"*"},{"$f":"IF($C136=\"\",\"\",Simulação!F136)","v":118.29545812591194},{"$f":"IF($C136=\"\",\"\",Simulação!G136)","v":"*"},{"$f":"IF($C136=\"\",\"\",Simulação!H136)","v":108.21242210284684},{"$f":"IF($C136=\"\",\"\",Simulação!I136)","v":"*"},{"$f":"IF($C136=\"\",\"\",Simulação!J136)","v":116.16165376431636},{"$f":"IF($C136=\"\",\"\",Simulação!K136)","v":"*"},{"$f":"IF($C136=\"\",\"\",Simulação!L136)","v":117.37920622237343},{"$f":"IF($C136=\"\",\"\",Simulação!M136)","v":"*"},{"$f":"IF($C136=\"\",\"\",Simulação!N136)","v":118.46579392947855},{"$f":"IF($C136=\"\",\"\",Simulação!O136)","v":"*"},{"$f":"IF($C136=\"\",\"\",Simulação!P136)","v":108.65886667427742},{"$f":"IF($C136=\"\",\"\",Simulação!Q136)","v":108.01000000000002},{"$f":"IF($C136=\"\",\"\",Simulação!R136)","v":112.85258307167032},{"$f":"IF($C136=\"\",\"\",Simulação!S136)","v":"-"},{"$f":"IF($C136=\"\",\"\",Simulação!T136)","v":113.39733555972519},{"$f":"IF($C136=\"\",\"\",Simulação!U136)","v":"-"},{"$f":"IF($C136=\"\",\"\",Simulação!V136)","v":107.46709628845377},{"$f":"IF($C136=\"\",\"\",Simulação!W136)","v":"-"},{"$f":"IF($C136=\"\",\"\",Simulação!X136)","v":111.23702019485617},{"$f":"IF($C136=\"\",\"\",Simulação!Y136)","v":"-"},{"$f":"IF($C136=\"\",\"\",Simulação!Z136)","v":106.97745585386858},{"$f":"IF($C136=\"\",\"\",Simulação!AA136)","v":"-"},{"$f":"IF($C136=\"\",\"\",Simulação!AB136)","v":110.41841922071566},{"$f":"IF($C136=\"\",\"\",Simulação!AC136)","v":"-"},{"$f":"IF($C136=\"\",\"\",Simulação!AD136)","v":106.7202493691547},{"$f":"IF($C136=\"\",\"\",Simulação!AE136)","v":"-"},{"$f":"IF($C136=\"\",\"\",Simulação!AF136)","v":34.388240562009656},{"$f":"IF($C136=\"\",\"\",Simulação!AG136)","v":"-"},{"$f":"IF($C136=\"\",\"\",Simulação!AH136)","v":29.236023829000793},{"$f":"IF($C136=\"\",\"\",Simulação!AI136)","v":"-"},{"$f":"IF($C136=\"\",\"\",Simulação!AJ136)","v":33.045125393740342},{"$f":"IF($C136=\"\",\"\",Simulação!AK136)","v":"-"},{"$f":"IF($C136=\"\",\"\",Simulação!AL136)","v":32.02721881559642},{"$f":"IF($C136=\"\",\"\",Simulação!AM136)","v":"-"},{"$f":"IF($C136=\"\",\"\",Simulação!AN136)","v":32.217563507182206},{"$f":"IF($C136=\"\",\"\",Simulação!AO136)","v":"-"},{"$f":"IF($C136=\"\",\"\",Simulação!AP136)","v":36.406016086434107},{"$f":"IF($C136=\"\",\"\",Simulação!AQ136)","v":"-"},{"$f":"IF($C136=\"\",\"\",Simulação!AR136)","v":0}]
[null,130,{"$f":"IF(Chegadas!J138<=$C$5,Chegadas!J138,\"\")","v":108.09000000000002},{"$f":"IF($C137=\"\",\"\",Simulação!D137)","v":8.9434824760689935},{"$f":"IF($C137=\"\",\"\",Simulação!E137)","v":"*"},{"$f":"IF($C137=\"\",\"\",Simulação!F137)","v":118.29545812591194},{"$f":"IF($C137=\"\",\"\",Simulação!G137)","v":"*"},{"$f":"IF($C137=\"\",\"\",Simulação!H137)","v":108.21242210284684},{"$f":"IF($C137=\"\",\"\",Simulação!I137)","v":"*"},{"$f":"IF($C137=\"\",\"\",Simulação!J137)","v":116.16165376431636},{"$f":"IF($C137=\"\",\"\",Simulação!K137)","v":"*"},{"$f":"IF($C137=\"\",\"\",Simulação!L137)","v":117.37920622237343},{"$f":"IF($C137=\"\",\"\",Simulação!M137)","v":"*"},{"$f":"IF($C137=\"\",\"\",Simulação!N137)","v":118.46579392947855},{"$f":"IF($C137=\"\",\"\",Simulação!O137)","v":"*"},{"$f":"IF($C137=\"\",\"\",Simulação!P137)","v":108.65886667427742},{"$f":"IF($C137=\"\",\"\",Simulação!Q137)","v":"*"},{"$f":"IF($C137=\"\",\"\",Simulação!R137)","v":112.85258307167032},{"$f":"IF($C137=\"\",\"\",Simulação!S137)","v":"*"},{"$f":"IF($C137=\"\",\"\",Simulação!T137)","v":113.39733555972519},{"$f":"IF($C137=\"\",\"\",Simulação!U137)","v":108.09000000000002},{"$f":"IF($C137=\"\",\"\",Simulação!V137)","v":117.03348247606901},{"$f":"IF($C137=\"\",\"\",Simulação!W137)","v":"-"},{"$f":"IF($C137=\"\",\"\",Simulação!X137)","v":111.23702019485617},{"$f":"IF($C137=\"\",\"\",Simulação!Y137)","v":"-"},{"$f":"IF($C137=\"\",\"\",Simulação!Z137)","v":106.97745585386858},{"$f":"IF($C137=\"\",\"\",Simulação!AA137)","v":"-"},{"$f":"IF($C137=\"\",\"\",Simulação!AB137)","v":110.41841922071566},{"$f":"IF($C137=\"\",\"\",Simulação!AC137)","v":"-"},{"$f":"IF($C137=\"\",\"\",Simulação!AD137)","v":106.7202493691547},{"$f":"IF($C137=\"\",\"\",Simulação!AE137)","v":"-"},{"$f":"IF($C137=\"\",\"\",Simulação!AF137)","v":34.388240562009656},{"$f":"IF($C137=\"\",\"\",Simulação!AG137)","v":"-"},{"$f":"IF($C137=\"\",\"\",Simulação!AH137)","v":29.236023829000793},{"$f":"IF($C137=\"\",\"\",Simulação!AI137)","v":"-"},{"$f":"IF($C137=\"\",\"\",Simulação!AJ137)","v":33.045125393740342},{"$f":"IF($C137=\"\",\"\",Simulação!AK137)","v":"-"},{"$f":"IF($C137=\"\",\"\",Simulação!AL137)","v":32.02721881559642},{"$f":"IF($C137=\"\",\"\",Simulação!AM137)","v":"-"},{"$f":"IF($C137=\"\",\"\",Simulação!AN137)","v":32.217563507182206},{"$f":"IF($C137=\"\",\"\",Simulação!AO137)","v":"-"},{"$f":"IF($C137=\"\",\"\",Simulação!AP137)","v":36.406016086434107},{"$f":"IF($C137=\"\",\"\",Simulação!AQ137)","v":"-"},{"$f":"IF($C137=\"\",\"\",Simulação!AR137)","v":0}]
[null,131,{"$f":"IF(Chegadas!J139<=$C$5,Chegadas!J139,\"\")","v":108.52000000000002},{"$f":"IF($C138=\"\",\"\",Simulação!D138)","v":6.0510205287807484},{"$f":"IF($C138=\"\",\"\",Simulação!E138)","v":"*"},{"$f":"IF($C138=\"\",\"\",Simulação!F138)","v":118.29545812591194},{"$f":"IF($C138=\"\",\"\",Simulação!G138)","v":108.52000000000002},{"$f":"IF($C138=\"\",\"\",Simulação!H138)","v":114.57102052878078},{"$f":"IF($C138=\"\",\"\",Simulação!I138)","v":"-"},{"$f":"IF($C138=\"\",\"\",Simulação!J138)","v":116.16165376431636},{"$f":"IF($C138=\"\",\"\",Simulação!K138)","v":"-"},{"$f":"IF($C138=\"\",\"\",Simulação!L138)","v":117.37920622237343},{"$f":"IF($C138=\"\",\"\",Simulação!M138)","v":"-"},{"$f":"IF($C138=\"\",\"\",Simulação!N138)","v":118.46579392947855},{"$f":"IF($C138=\"\",\"\",Simulação!O138)","v":"-"},{"$f":"IF($C138=\"\",\"\",Simulação!P138)","v":108.65886667427742},{"$f":"IF($C138=\"\",\"\",Simulação!Q138)","v":"-"},{"$f":"IF($C138=\"\",\"\",Simulação!R138)","v":112.85258307167032},{"$f":"IF($C138=\"\",\"\",Simulação!S138)","v":"-"},{"$f":"IF($C138=\"\",\"\",Simulação!T138)","v":113.39733555972519},{"$f":"IF($C138=\"\",\"\",Simulação!U138)","v":"-"},{"$f":"IF($C138=\"\",\"\",Simulação!V138)","v":117.03348247606901},{"$f":"IF($C138=\"\",\"\",Simulação!W138)","v":"-"},{"$f":"IF($C138=\"\",\"\",Simulação!X138)","v":111.23702019485617},{"$f":"IF($C138=\"\",\"\",Simulação!Y138)","v":"-"},{"$f":"IF($C138=\"\",\"\",Simulação!Z138)","v":106.97745585386858},{"$f":"IF($C138=\"\",\"\",Simulação!AA138)","v":"-"},{"$f":"IF($C138=\"\",\"\",Simulação!AB138)","v":110.41841922071566},{"$f":"IF($C138=\"\",\"\",Simulação!AC138)","v":"-"},{"$f":"IF($C138=\"\",\"\",Simulação!AD138)","v":106.7202493691547},{"$f":"IF($C138=\"\",\"\",Simulação!AE138)","v":"-"},{"$f":"IF($C138=\"\",\"\",Simulação!AF138)","v":34.388240562009656},{"$f":"IF($C138=\"\",\"\",Simulação!AG138)","v":"-"},{"$f":"IF($C138=\"\",\"\",Simulação!AH138)","v":29.236023829000793},{"$f":"IF($C138=\"\",\"\",Simulação!AI138)","v":"-"},{"$f":"IF($C138=\"\",\"\",Simulação!AJ138)","v":33.045125393740342},{"$f":"IF($C138=\"\",\"\",Simulação!AK138)","v":"-"},{"$f":"IF($C138=\"\",\"\",Simulação!AL138)","v":32.02721881559642},{"$f":"IF($C138=\"\",\"\",Simulação!AM138)","v":"-"},{"$f":"IF($C138=\"\",\"\",Simulação!AN138)","v":32.217563507182206},{"$f":"IF($C138=\"\",\"\",Simulação!AO138)","v":"-"},{"$f":"IF($C138=\"\",\"\",Simulação!AP138)","v":36.406016086434107},{"$f":"IF($C138=\"\",\"\",Simulação!AQ138)","v":"-"},{"$f":"IF($C138=\"\",\"\",Simulação!AR138)","v":0}]
[null,132,{"$f":"IF(Chegadas!J140<=$C$5,Chegadas!J140,\"\")","v":110.67000000000003},{"$f":"IF($C139=\"\",\"\",Simulação!D139)","v":3.377498630465845},{"$f":"IF($C139=\"\",\"\",Simulação!E139)","v":"*"},{"$f":"IF($C139=\"\",\"\",Simulação!F139)","v":118.29545812591194},{"$f":"IF($C139=\"\",\"\",Simulação!G139)","v":"*"},{"$f":"IF($C139=\"\",\"\",Simulação!H139)","v":114.57102052878078},{"$f":"IF($C139=\"\",\"\",Simulação!I139)","v":"*"},{"$f":"IF($C139=\"\",\"\",Simulação!J139)","v":116.16165376431636},{"$f":"IF($C139=\"\",\"\",Simulação!K139)","v":"*"},{"$f":"IF($C139=\"\",\"\",Simulação!L139)","v":117.37920622237343},{"$f":"IF($C139=\"\",\"\",Simulação!M139)","v":"*"},{"$f":"IF($C139=\"\",\"\",Simulação!N139)","v":118.46579392947855},{"$f":"IF($C139=\"\",\"\",Simulação!O139)","v":110.67000000000003},{"$f":"IF($C139=\"\",\"\",Simulação!P139)","v":114.04749863046588},{"$f":"IF($C139=\"\",\"\",Simulação!Q139)","v":"-"},{"$f":"IF($C139=\"\",\"\",Simulação!R139)","v":112.85258307167032},{"$f":"IF($C139=\"\",\"\",Simulação!S139)","v":"-"},{"$f":"IF($C139=\"\",\"\",Simulação!T139)","v":113.39733555972519},{"$f":"IF($C139=\"\",\"\",Simulação!U139)","v":"-"},{"$f":"IF($C139=\"\",\"\",Simulação!V139)","v":117.03348247606901},{"$f":"IF($C139=\"\",\"\",Simulação!W139)","v":"-"},{"$f":"IF($C139=\"\",\"\",Simulação!X139)","v":111.23702019485617},{"$f":"IF($C139=\"\",\"\",Simulação!Y139)","v":"-"},{"$f":"IF($C139=\"\",\"\",Simulação!Z139)","v":106.97745585386858},{"$f":"IF($C139=\"\",\"\",Simulação!AA139)","v":"-"},{"$f":"IF($C139=\"\",\"\",Simulação!AB139)","v":110.41841922071566},{"$f":"IF($C139=\"\",\"\",Simulação!AC139)","v":"-"},{"$f":"IF($C139=\"\",\"\",Simulação!AD139)","v":106.7202493691547},{"$f":"IF($C139=\"\",\"\",Simulação!AE139)","v":"-"},{"$f":"IF($C139=\"\",\"\",Simulação!AF139)","v":34.388240562009656},{"$f":"IF($C139=\"\",\"\",Simulação!AG139)","v":"-"},{"$f":"IF($C139=\"\",\"\",Simulação!AH139)","v":29.236023829000793},{"$f":"IF($C139=\"\",\"\",Simulação!AI139)","v":"-"},{"$f":"IF($C139=\"\",\"\",Simulação!AJ139)","v":33.045125393740342},{"$f":"IF($C139=\"\",\"\",Simulação!AK139)","v":"-"},{"$f":"IF($C139=\"\",\"\",Simulação!AL139)","v":32.02721881559642},{"$f":"IF($C139=\"\",\"\",Simulação!AM139)","v":"-"},{"$f":"IF($C139=\"\",\"\",Simulação!AN139)","v":32.217563507182206},{"$f":"IF($C139=\"\",\"\",Simulação!AO139)","v":"-"},{"$f":"IF($C139=\"\",\"\",Simulação!AP139)","v":36.406016086434107},{"$f":"IF($C139=\"\",\"\",Simulação!AQ139)","v":"-"},{"$f":"IF($C139=\"\",\"\",Simulação!AR139)","v":0}]
[null,133,{"$f":"IF(Chegadas!J141<=$C$5,Chegadas!J141,\"\")","v":110.72000000000003},{"$f":"IF($C140=\"\",\"\",Simulação!D140)","v":9.6070374100671021},{"$f":"IF($C140=\"\",\"\",Simulação!E140)","v":"*"},{"$f":"IF($C140=\"\",\"\",Simulação!F140)","v":118.29545812591194},{"$f":"IF($C140=\"\",\"\",Simulação!G140)","v":"*"},{"$f":"IF($C140=\"\",\"\",Simulação!H140)","v":114.57102052878078},{"$f":"IF($C140=\"\",\"\",Simulação!I140)","v":"*"},{"$f":"IF($C140=\"\",\"\",Simulação!J140)","v":116.16165376431636},{"$f":"IF($C140=\"\",\"\",Simulação!K140)","v":"*"},{"$f":"IF($C140=\"\",\"\",Simulação!L140)","v":117.37920622237343},{"$f":"IF($C140=\"\",\"\",Simulação!M140)","v":"*"},{"$f":"IF($C140=\"\",\"\",Simulação!N140)","v":118.46579392947855},{"$f":"IF($C140=\"\",\"\",Simulação!O140)","v":"*"},{"$f":"IF($C140=\"\",\"\",Simulação!P140)","v":114.04749863046588},{"$f":"IF($C140=\"\",\"\",Simulação!Q140)","v":"*"},{"$f":"IF($C140=\"\",\"\",Simulação!R140)","v":112.85258307167032},{"$f":"IF($C140=\"\",\"\",Simulação!S140)","v":"*"},{"$f":"IF($C140=\"\",\"\",Simulação!T140)","v":113.39733555972519},{"$f":"IF($C140=\"\",\"\",Simulação!U140)","v":"*"},{"$f":"IF($C140=\"\",\"\",Simulação!V140)","v":117.03348247606901},{"$f":"IF($C140=\"\",\"\",Simulação!W140)","v":"*"},{"$f":"IF($C140=\"\",\"\",Simulação!X140)","v":111.23702019485617},{"$f":"IF($C140=\"\",\"\",Simulação!Y140)","v":110.72000000000003},{"$f":"IF($C140=\"\",\"\",Simulação!Z140)","v":120.32703741006713},{"$f":"IF($C140=\"\",\"\",Simulação!AA140)","v":"-"},{"$f":"IF($C140=\"\",\"\",Simulação!AB140)","v":110.41841922071566},{"$f":"IF($C140=\"\",\"\",Simulação!AC140)","v":"-"},{"$f":"IF($C140=\"\",\"\",Simulação!AD140)","v":106.7202493691547},{"$f":"IF($C140=\"\",\"\",Simulação!AE140)","v":"-"},{"$f":"IF($C140=\"\",\"\",Simulação!AF140)","v":34.388240562009656},{"$f":"IF($C140=\"\",\"\",Simulação!AG140)","v":"-"},{"$f":"IF($C140=\"\",\"\",Simulação!AH140)","v":29.236023829000793},{"$f":"IF($C140=\"\",\"\",Simulação!AI140)","v":"-"},{"$f":"IF($C140=\"\",\"\",Simulação!AJ140)","v":33.045125393740342},{"$f":"IF($C140=\"\",\"\",Simulação!AK140)","v":"-"},{"$f":"IF($C140=\"\",\"\",Simulação!AL140)","v":32.02721881559642},{"$f":"IF($C140=\"\",\"\",Simulação!AM140)","v":"-"},{"$f":"IF($C140=\"\",\"\",Simulação!AN140)","v":32.217563507182206},{"$f":"IF($C140=\"\",\"\",Simulação!AO140)","v":"-"},{"$f":"IF($C140=\"\",\"\",Simulação!AP140)","v":36.406016086434107},{"$f":"IF($C140=\"\",\"\",Simulação!AQ140)","v":"-"},{"$f":"IF($C140=\"\",\"\",Simulação!AR140)","v":0}]
[null,134,{"$f":"IF(Chegadas!J142<=$C$5,Chegadas!J142,\"\")","v":110.93000000000002},{"$f":"IF($C141=\"\",\"\",Simulação!D141)","v":11.97333969239126},{"$f":"IF($C141=\"\",\"\",Simulação!E141)","v":"*"},{"$f":"IF($C141=\"\",\"\",Simulação!F141)","v":118.29545812591194},{"$f":"IF($C141=\"\",\"\",Simulação!G141)","v":"*"},{"$f":"IF($C141=\"\",\"\",Simulação!H141)","v":114.57102052878078},{"$f":"IF($C141=\"\",\"\",Simulação!I141)","v":"*"},{"$f":"IF($C141=\"\",\"\",Simulação!J141)","v":116.16165376431636},{"$f":"IF($C141=\"\",\"\",Simulação!K141)","v":"*"},{"$f":"IF($C141=\"\",\"\",Simulação!L141)","v":117.37920622237343},{"$f":"IF($C141=\"\",\"\",Simulação!M141)","v":"*"},{"$f":"IF($C141=\"\",\"\",Simulação!N141)","v":118.46579392947855},{"$f":"IF($C141=\"\",\"\",Simulação!O141)","v":"*"},{"$f":"IF($C141=\"\",\"\",Simulação!P141)","v":114.04749863046588},{"$f":"IF($C141=\"\",\"\",Simulação!Q141)","v":"*"},{"$f":"IF($C141=\"\",\"\",Simulação!R141)","v":112.85258307167032},{"$f":"IF($C141=\"\",\"\",Simulação!S141)","v":"*"},{"$f":"IF($C141=\"\",\"\",Simulação!T141)","v":113.39733555972519},{"$f":"IF($C141=\"\",\"\",Simulação!U141)","v":"*"},{"$f":"IF($C141=\"\",\"\",Simulação!V141)","v":117.03348247606901},{"$f":"IF($C141=\"\",\"\",Simulação!W141)","v":"*"},{"$f":"IF($C141=\"\",\"\",Simulação!X141)","v":111.23702019485617},{"$f":"IF($C141=\"\",\"\",Simulação!Y141)","v":"*"},{"$f":"IF($C141=\"\",\"\",Simulação!Z141)","v":120.32703741006713},{"$f":"IF($C141=\"\",\"\",Simulação!AA141)","v":110.93000000000002},{"$f":"IF($C141=\"\",\"\",Simulação!AB141)","v":122.90333969239128},{"$f":"IF($C141=\"\",\"\",Simulação!AC141)","v":"-"},{"$f":"IF($C141=\"\",\"\",Simulação!AD141)","v":106.7202493691547},{"$f":"IF($C141=\"\",\"\",Simulação!AE141)","v":"-"},{"$f":"IF($C141=\"\",\"\",Simulação!AF141)","v":34.388240562009656},{"$f":"IF($C141=\"\",\"\",Simulação!AG141)","v":"-"},{"$f":"IF($C141=\"\",\"\",Simulação!AH141)","v":29.236023829000793},{"$f":"IF($C141=\"\",\"\",Simulação!AI141)","v":"-"},{"$f":"IF($C141=\"\",\"\",Simulação!AJ141)","v":33.045125393740342},{"$f":"IF($C141=\"\",\"\",Simulação!AK141)","v":"-"},{"$f":"IF($C141=\"\",\"\",Simulação!AL141)","v":32.02721881559642},{"$f":"IF($C141=\"\",\"\",Simulação!AM141)","v":"-"},{"$f":"IF($C141=\"\",\"\",Simulação!AN141)","v":32.217563507182206},{"$f":"IF($C141=\"\",\"\",Simulação!AO141)","v":"-"},{"$f":"IF($C141=\"\",\"\",Simulação!AP141)","v":36.406016086434107},{"$f":"IF($C141=\"\",\"\",Simulação!AQ141)","v":"-"},{"$f":"IF($C141=\"\",\"\",Simulação!AR141)","v":0}]
[null,135,{"$f":"IF(Chegadas!J143<=$C$5,Chegadas!J143,\"\")","v":112.44000000000003},{"$f":"IF($C142=\"\",\"\",Simulação!D142)","v":13.680015071457635},{"$f":"IF($C142=\"\",\"\",Simulação!E142)","v":"*"},{"$f":"IF($C142=\"\",\"\",Simulação!F142)","v":118.29545812591194},{"$f":"IF($C142=\"\",\"\",Simulação!G142)","v":"*"},{"$f":"IF($C142=\"\",\"\",Simulação!H142)","v":114.57102052878078},{"$f":"IF($C142=\"\",\"\",Simulação!I142)","v":"*"},{"$f":"IF($C142=\"\",\"\",Simulação!J142)","v":116.16165376431636},{"$f":"IF($C142=\"\",\"\",Simulação!K142)","v":"*"},{"$f":"IF($C142=\"\",\"\",Simulação!L142)","v":117.37920622237343},{"$f":"IF($C142=\"\",\"\",Simulação!M142)","v":"*"},{"$f":"IF($C142=\"\",\"\",Simulação!N142)","v":118.46579392947855},{"$f":"IF($C142=\"\",\"\",Simulação!O142)","v":"*"},{"$f":"IF($C142=\"\",\"\",Simulação!P142)","v":114.04749863046588},{"$f":"IF($C142=\"\",\"\",Simulação!Q142)","v":"*"},{"$f":"IF($C142=\"\",\"\",Simulação!R142)","v":112.85258307167032},{"$f":"IF($C142=\"\",\"\",Simulação!S142)","v":"*"},{"$f":"IF($C142=\"\",\"\",Simulação!T142)","v":113.39733555972519},{"$f":"IF($C142=\"\",\"\",Simulação!U142)","v":"*"},{"$f":"IF($C142=\"\",\"\",Simulação!V142)","v":117.03348247606901},{"$f":"IF($C142=\"\",\"\",Simulação!W142)","v":112.44000000000003},{"$f":"IF($C142=\"\",\"\",Simulação!X142)","v":126.12001507145766},{"$f":"IF($C142=\"\",\"\",Simulação!Y142)","v":"-"},{"$f":"IF($C142=\"\",\"\",Simulação!Z142)","v":120.32703741006713},{"$f":"IF($C142=\"\",\"\",Simulação!AA142)","v":"-"},{"$f":"IF($C142=\"\",\"\",Simulação!AB142)","v":122.90333969239128},{"$f":"IF($C142=\"\",\"\",Simulação!AC142)","v":"-"},{"$f":"IF($C142=\"\",\"\",Simulação!AD142)","v":106.7202493691547},{"$f":"IF($C142=\"\",\"\",Simulação!AE142)","v":"-"},{"$f":"IF($C142=\"\",\"\",Simulação!AF142)","v":34.388240562009656},{"$f":"IF($C142=\"\",\"\",Simulação!AG142)","v":"-"},{"$f":"IF($C142=\"\",\"\",Simulação!AH142)","v":29.236023829000793},{"$f":"IF($C142=\"\",\"\",Simulação!AI142)","v":"-"},{"$f":"IF($C142=\"\",\"\",Simulação!AJ142)","v":33.045125393740342},{"$f":"IF($C142=\"\",\"\",Simulação!AK142)","v":"-"},{"$f":"IF($C142=\"\",\"\",Simulação!AL142)","v":32.02721881559642},{"$f":"IF($C142=\"\",\"\",Simulação!AM142)","v":"-"},{"$f":"IF($C142=\"\",\"\",Simulação!AN142)","v":32.217563507182206},{"$f":"IF($C142=\"\",\"\",Simulação!AO142)","v":"-"},{"$f":"IF($C142=\"\",\"\",Simulação!AP142)","v":36.406016086434107},{"$f":"IF($C142=\"\",\"\",Simulação!AQ142)","v":"-"},{"$f":"IF($C142=\"\",\"\",Simulação!AR142)","v":0}]
[null,136,{"$f":"IF(Chegadas!J144<=$C$5,Chegadas!J144,\"\")","v":113.16000000000003},{"$f":"IF($C143=\"\",\"\",Simulação!D143)","v":6.529657825932464},{"$f":"IF($C143=\"\",\"\",Simulação!E143)","v":"*"},{"$f":"IF($C143=\"\",\"\",Simulação!F143)","v":118.29545812591194},{"$f":"IF($C143=\"\",\"\",Simulação!G143)","v":"*"},{"$f":"IF($C143=\"\",\"\",Simulação!H143)","v":114.57102052878078},{"$f":"IF($C143=\"\",\"\",Simulação!I143)","v":"*"},{"$f":"IF($C143=\"\",\"\",Simulação!J143)","v":116.16165376431636},{"$f":"IF($C143=\"\",\"\",Simulação!K143)","v":"*"},{"$f":"IF($C143=\"\",\"\",Simulação!L143)","v":117.37920622237343},{"$f":"IF($C143=\"\",\"\",Simulação!M143)","v":"*"},{"$f":"IF($C143=\"\",\"\",Simulação!N143)","v":118.46579392947855},{"$f":"IF($C143=\"\",\"\",Simulação!O143)","v":"*"},{"$f":"IF($C143=\"\",\"\",Simulação!P143)","v":114.04749863046588},{"$f":"IF($C143=\"\",\"\",Simulação!Q143)","v":113.16000000000003},{"$f":"IF($C143=\"\",\"\",Simulação!R143)","v":119.68965782593249},{"$f":"IF($C143=\"\",\"\",Simulação!S143)","v":"-"},{"$f":"IF($C143=\"\",\"\",Simulação!T143)","v":113.39733555972519},{"$f":"IF($C143=\"\",\"\",Simulação!U143)","v":"-"},{"$f":"IF($C143=\"\",\"\",Simulação!V143)","v":117.03348247606901},{"$f":"IF($C143=\"\",\"\",Simulação!W143)","v":"-"},{"$f":"IF($C143=\"\",\"\",Simulação!X143)","v":126.12001507145766},{"$f":"IF($C143=\"\",\"\",Simulação!Y143)","v":"-"},{"$f":"IF($C143=\"\",\"\",Simulação!Z143)","v":120.32703741006713},{"$f":"IF($C143=\"\",\"\",Simulação!AA143)","v":"-"},{"$f":"IF($C143=\"\",\"\",Simulação!AB143)","v":122.90333969239128},{"$f":"IF($C143=\"\",\"\",Simulação!AC143)","v":"-"},{"$f":"IF($C143=\"\",\"\",Simulação!AD143)","v":106.7202493691547},{"$f":"IF($C143=\"\",\"\",Simulação!AE143)","v":"-"},{"$f":"IF($C143=\"\",\"\",Simulação!AF143)","v":34.388240562009656},{"$f":"IF($C143=\"\",\"\",Simulação!AG143)","v":"-"},{"$f":"IF($C143=\"\",\"\",Simulação!AH143)","v":29.236023829000793},{"$f":"IF($C143=\"\",\"\",Simulação!AI143)","v":"-"},{"$f":"IF($C143=\"\",\"\",Simulação!AJ143)","v":33.045125393740342},{"$f":"IF($C143=\"\",\"\",Simulação!AK143)","v":"-"},{"$f":"IF($C143=\"\",\"\",Simulação!AL143)","v":32.02721881559642},{"$f":"IF($C143=\"\",\"\",Simulação!AM143)","v":"-"},{"$f":"IF($C143=\"\",\"\",Simulação!AN143)","v":32.217563507182206},{"$f":"IF($C143=\"\",\"\",Simulação!AO143)","v":"-"},{"$f":"IF($C143=\"\",\"\",Simulação!AP143)","v":36.406016086434107},{"$f":"IF($C143=\"\",\"\",Simulação!AQ143)","v":"-"},{"$f":"IF($C143=\"\",\"\",Simulação!AR143)","v":0}]
[null,137,{"$f":"IF(Chegadas!J145<=$C$5,Chegadas!J145,\"\")","v":114.30000000000003},{"$f":"IF($C144=\"\",\"\",Simulação!D144)","v":8.1516161056360019},{"$f":"IF($C144=\"\",\"\",Simulação!E144)","v":"*"},{"$f":"IF($C144=\"\",\"\",Simulação!F144)","v":118.29545812591194},{"$f":"IF($C144=\"\",\"\",Simulação!G144)","v":"*"},{"$f":"IF($C144=\"\",\"\",Simulação!H144)","v":114.57102052878078},{"$f":"IF($C144=\"\",\"\",Simulação!I144)","v":"*"},{"$f":"IF($C144=\"\",\"\",Simulação!J144)","v":116.16165376431636},{"$f":"IF($C144=\"\",\"\",Simulação!K144)","v":"*"},{"$f":"IF($C144=\"\",\"\",Simulação!L144)","v":117.37920622237343},{"$f":"IF($C144=\"\",\"\",Simulação!M144)","v":"*"},{"$f":"IF($C144=\"\",\"\",Simulação!N144)","v":118.46579392947855},{"$f":"IF($C144=\"\",\"\",Simulação!O144)","v":114.30000000000003},{"$f":"IF($C144=\"\",\"\",Simulação!P144)","v":122.45161610563602},{"$f":"IF($C144=\"\",\"\",Simulação!Q144)","v":"-"},{"$f":"IF($C144=\"\",\"\",Simulação!R144)","v":119.68965782593249},{"$f":"IF($C144=\"\",\"\",Simulação!S144)","v":"-"},{"$f":"IF($C144=\"\",\"\",Simulação!T144)","v":113.39733555972519},{"$f":"IF($C144=\"\",\"\",Simulação!U144)","v":"-"},{"$f":"IF($C144=\"\",\"\",Simulação!V144)","v":117.03348247606901},{"$f":"IF($C144=\"\",\"\",Simulação!W144)","v":"-"},{"$f":"IF($C144=\"\",\"\",Simulação!X144)","v":126.12001507145766},{"$f":"IF($C144=\"\",\"\",Simulação!Y144)","v":"-"},{"$f":"IF($C144=\"\",\"\",Simulação!Z144)","v":120.32703741006713},{"$f":"IF($C144=\"\",\"\",Simulação!AA144)","v":"-"},{"$f":"IF($C144=\"\",\"\",Simulação!AB144)","v":122.90333969239128},{"$f":"IF($C144=\"\",\"\",Simulação!AC144)","v":"-"},{"$f":"IF($C144=\"\",\"\",Simulação!AD144)","v":106.7202493691547},{"$f":"IF($C144=\"\",\"\",Simulação!AE144)","v":"-"},{"$f":"IF($C144=\"\",\"\",Simulação!AF144)","v":34.388240562009656},{"$f":"IF($C144=\"\",\"\",Simulação!AG144)","v":"-"},{"$f":"IF($C144=\"\",\"\",Simulação!AH144)","v":29.236023829000793},{"$f":"IF($C144=\"\",\"\",Simulação!AI144)","v":"-"},{"$f":"IF($C144=\"\",\"\",Simulação!AJ144)","v":33.045125393740342},{"$f":"IF($C144=\"\",\"\",Simulação!AK144)","v":"-"},{"$f":"IF($C144=\"\",\"\",Simulação!AL144)","v":32.02721881559642},{"$f":"IF($C144=\"\",\"\",Simulação!AM144)","v":"-"},{"$f":"IF($C144=\"\",\"\",Simulação!AN144)","v":32.217563507182206},{"$f":"IF($C144=\"\",\"\",Simulação!AO144)","v":"-"},{"$f":"IF($C144=\"\",\"\",Simulação!AP144)","v":36.406016086434107},{"$f":"IF($C144=\"\",\"\",Simulação!AQ144)","v":"-"},{"$f":"IF($C144=\"\",\"\",Simulação!AR144)","v":0}]
[null,138,{"$f":"IF(Chegadas!J146<=$C$5,Chegadas!J146,\"\")","v":115.61000000000003},{"$f":"IF($C145=\"\",\"\",Simulação!D145)","v":9.4355181313721772},{"$f":"IF($C145=\"\",\"\",Simulação!E145)","v":"*"},{"$f":"IF($C145=\"\",\"\",Simulação!F145)","v":118.29545812591194},{"$f":"IF($C145=\"\",\"\",Simulação!G145)","v":115.61000000000003},{"$f":"IF($C145=\"\",\"\",Simulação!H145)","v":125.04551813137221},{"$f":"IF($C145=\"\",\"\",Simulação!I145)","v":"-"},{"$f":"IF($C145=\"\",\"\",Simulação!J145)","v":116.16165376431636},{"$f":"IF($C145=\"\",\"\",Simulação!K145)","v":"-"},{"$f":"IF($C145=\"\",\"\",Simulação!L145)","v":117.37920622237343},{"$f":"IF($C145=\"\",\"\",Simulação!M145)","v":"-"},{"$f":"IF($C145=\"\",\"\",Simulação!N145)","v":118.46579392947855},{"$f":"IF($C145=\"\",\"\",Simulação!O145)","v":"-"},{"$f":"IF($C145=\"\",\"\",Simulação!P145)","v":122.45161610563602},{"$f":"IF($C145=\"\",\"\",Simulação!Q145)","v":"-"},{"$f":"IF($C145=\"\",\"\",Simulação!R145)","v":119.68965782593249},{"$f":"IF($C145=\"\",\"\",Simulação!S145)","v":"-"},{"$f":"IF($C145=\"\",\"\",Simulação!T145)","v":113.39733555972519},{"$f":"IF($C145=\"\",\"\",Simulação!U145)","v":"-"},{"$f":"IF($C145=\"\",\"\",Simulação!V145)","v":117.03348247606901},{"$f":"IF($C145=\"\",\"\",Simulação!W145)","v":"-"},{"$f":"IF($C145=\"\",\"\",Simulação!X145)","v":126.12001507145766},{"$f":"IF($C145=\"\",\"\",Simulação!Y145)","v":"-"},{"$f":"IF($C145=\"\",\"\",Simulação!Z145)","v":120.32703741006713},{"$f":"IF($C145=\"\",\"\",Simulação!AA145)","v":"-"},{"$f":"IF($C145=\"\",\"\",Simulação!AB145)","v":122.90333969239128},{"$f":"IF($C145=\"\",\"\",Simulação!AC145)","v":"-"},{"$f":"IF($C145=\"\",\"\",Simulação!AD145)","v":106.7202493691547},{"$f":"IF($C145=\"\",\"\",Simulação!AE145)","v":"-"},{"$f":"IF($C145=\"\",\"\",Simulação!AF145)","v":34.388240562009656},{"$f":"IF($C145=\"\",\"\",Simulação!AG145)","v":"-"},{"$f":"IF($C145=\"\",\"\",Simulação!AH145)","v":29.236023829000793},{"$f":"IF($C145=\"\",\"\",Simulação!AI145)","v":"-"},{"$f":"IF($C145=\"\",\"\",Simulação!AJ145)","v":33.045125393740342},{"$f":"IF($C145=\"\",\"\",Simulação!AK145)","v":"-"},{"$f":"IF($C145=\"\",\"\",Simulação!AL145)","v":32.02721881559642},{"$f":"IF($C145=\"\",\"\",Simulação!AM145)","v":"-"},{"$f":"IF($C145=\"\",\"\",Simulação!AN145)","v":32.217563507182206},{"$f":"IF($C145=\"\",\"\",Simulação!AO145)","v":"-"},{"$f":"IF($C145=\"\",\"\",Simulação!AP145)","v":36.406016086434107},{"$f":"IF($C145=\"\",\"\",Simulação!AQ145)","v":"-"},{"$f":"IF($C145=\"\",\"\",Simulação!AR145)","v":0}]
[null,139,{"$f":"IF(Chegadas!J147<=$C$5,Chegadas!J147,\"\")","v":115.61000000000003},{"$f":"IF($C146=\"\",\"\",Simulação!D146)","v":12.184338138792766},{"$f":"IF($C146=\"\",\"\",Simulação!E146)","v":"*"},{"$f":"IF($C146=\"\",\"\",Simulação!F146)","v":118.29545812591194},{"$f":"IF($C146=\"\",\"\",Simulação!G146)","v":"*"},{"$f":"IF($C146=\"\",\"\",Simulação!H146)","v":125.04551813137221},{"$f":"IF($C146=\"\",\"\",Simulação!I146)","v":"*"},{"$f":"IF($C146=\"\",\"\",Simulação!J146)","v":116.16165376431636},{"$f":"IF($C146=\"\",\"\",Simulação!K146)","v":"*"},{"$f":"IF($C146=\"\",\"\",Simulação!L146)","v":117.37920622237343},{"$f":"IF($C146=\"\",\"\",Simulação!M146)","v":"*"},{"$f":"IF($C146=\"\",\"\",Simulação!N146)","v":118.46579392947855},{"$f":"IF($C146=\"\",\"\",Simulação!O146)","v":"*"},{"$f":"IF($C146=\"\",\"\",Simulação!P146)","v":122.45161610563602},{"$f":"IF($C146=\"\",\"\",Simulação!Q146)","v":"*"},{"$f":"IF($C146=\"\",\"\",Simulação!R146)","v":119.68965782593249},{"$f":"IF($C146=\"\",\"\",Simulação!S146)","v":115.61000000000003},{"$f":"IF($C146=\"\",\"\",Simulação!T146)","v":127.7943381387928},{"$f":"IF($C146=\"\",\"\",Simulação!U146)","v":"-"},{"$f":"IF($C146=\"\",\"\",Simulação!V146)","v":117.03348247606901},{"$f":"IF($C146=\"\",\"\",Simulação!W146)","v":"-"},{"$f":"IF($C146=\"\",\"\",Simulação!X146)","v":126.12001507145766},{"$f":"IF($C146=\"\",\"\",Simulação!Y146)","v":"-"},{"$f":"IF($C146=\"\",\"\",Simulação!Z146)","v":120.32703741006713},{"$f":"IF($C146=\"\",\"\",Simulação!AA146)","v":"-"},{"$f":"IF($C146=\"\",\"\",Simulação!AB146)","v":122.90333969239128},{"$f":"IF($C146=\"\",\"\",Simulação!AC146)","v":"-"},{"$f":"IF($C146=\"\",\"\",Simulação!AD146)","v":106.7202493691547},{"$f":"IF($C146=\"\",\"\",Simulação!AE146)","v":"-"},{"$f":"IF($C146=\"\",\"\",Simulação!AF146)","v":34.388240562009656},{"$f":"IF($C146=\"\",\"\",Simulação!AG146)","v":"-"},{"$f":"IF($C146=\"\",\"\",Simulação!AH146)","v":29.236023829000793},{"$f":"IF($C146=\"\",\"\",Simulação!AI146)","v":"-"},{"$f":"IF($C146=\"\",\"\",Simulação!AJ146)","v":33.045125393740342},{"$f":"IF($C146=\"\",\"\",Simulação!AK146)","v":"-"},{"$f":"IF($C146=\"\",\"\",Simulação!AL146)","v":32.02721881559642},{"$f":"IF($C146=\"\",\"\",Simulação!AM146)","v":"-"},{"$f":"IF($C146=\"\",\"\",Simulação!AN146)","v":32.217563507182206},{"$f":"IF($C146=\"\",\"\",Simulação!AO146)","v":"-"},{"$f":"IF($C146=\"\",\"\",Simulação!AP146)","v":36.406016086434107},{"$f":"IF($C146=\"\",\"\",Simulação!AQ146)","v":"-"},{"$f":"IF($C146=\"\",\"\",Simulação!AR146)","v":0}]
[null,140,{"$f":"IF(Chegadas!J148<=$C$5,Chegadas!J148,\"\")","v":115.72000000000003},{"$f":"IF($C147=\"\",\"\",Simulação!D147)","v":6.3966399633099025},{"$f":"IF($C147=\"\",\"\",Simulação!E147)","v":"*"},{"$f":"IF($C147=\"\",\"\",Simulação!F147)","v":118.29545812591194},{"$f":"IF($C147=\"\",\"\",Simulação!G147)","v":"*"},{"$f":"IF($C147=\"\",\"\",Simulação!H147)","v":125.04551813137221},{"$f":"IF($C147=\"\",\"\",Simulação!I147)","v":"*"},{"$f":"IF($C147=\"\",\"\",Simulação!J147)","v":116.16165376431636},{"$f":"IF($C147=\"\",\"\",Simulação!K147)","v":"*"},{"$f":"IF($C147=\"\",\"\",Simulação!L147)","v":117.37920622237343},{"$f":"IF($C147=\"\",\"\",Simulação!M147)","v":"*"},{"$f":"IF($C147=\"\",\"\",Simulação!N147)","v":118.46579392947855},{"$f":"IF($C147=\"\",\"\",Simulação!O147)","v":"*"},{"$f":"IF($C147=\"\",\"\",Simulação!P147)","v":122.45161610563602},{"$f":"IF($C147=\"\",\"\",Simulação!Q147)","v":"*"},{"$f":"IF($C147=\"\",\"\",Simulação!R147)","v":119.68965782593249},{"$f":"IF($C147=\"\",\"\",Simulação!S147)","v":"*"},{"$f":"IF($C147=\"\",\"\",Simulação!T147)","v":127.7943381387928},{"$f":"IF($C147=\"\",\"\",Simulação!U147)","v":"*"},{"$f":"IF($C147=\"\",\"\",Simulação!V147)","v":117.03348247606901},{"$f":"IF($C147=\"\",\"\",Simulação!W147)","v":"*"},{"$f":"IF($C147=\"\",\"\",Simulação!X147)","v":126.12001507145766},{"$f":"IF($C147=\"\",\"\",Simulação!Y147)","v":"*"},{"$f":"IF($C147=\"\",\"\",Simulação!Z147)","v":120.32703741006713},{"$f":"IF($C147=\"\",\"\",Simulação!AA147)","v":"*"},{"$f":"IF($C147=\"\",\"\",Simulação!AB147)","v":122.90333969239128},{"$f":"IF($C147=\"\",\"\",Simulação!AC147)","v":115.72000000000003},{"$f":"IF($C147=\"\",\"\",Simulação!AD147)","v":122.11663996330994},{"$f":"IF($C147=\"\",\"\",Simulação!AE147)","v":"-"},{"$f":"IF($C147=\"\",\"\",Simulação!AF147)","v":34.388240562009656},{"$f":"IF($C147=\"\",\"\",Simulação!AG147)","v":"-"},{"$f":"IF($C147=\"\",\"\",Simulação!AH147)","v":29.236023829000793},{"$f":"IF($C147=\"\",\"\",Simulação!AI147)","v":"-"},{"$f":"IF($C147=\"\",\"\",Simulação!AJ147)","v":33.045125393740342},{"$f":"IF($C147=\"\",\"\",Simulação!AK147)","v":"-"},{"$f":"IF($C147=\"\",\"\",Simulação!AL147)","v":32.02721881559642},{"$f":"IF($C147=\"\",\"\",Simulação!AM147)","v":"-"},{"$f":"IF($C147=\"\",\"\",Simulação!AN147)","v":32.217563507182206},{"$f":"IF($C147=\"\",\"\",Simulação!AO147)","v":"-"},{"$f":"IF($C147=\"\",\"\",Simulação!AP147)","v":36.406016086434107},{"$f":"IF($C147=\"\",\"\",Simulação!AQ147)","v":"-"},{"$f":"IF($C147=\"\",\"\",Simulação!AR147)","v":0}]
[null,141,{"$f":"IF(Chegadas!J149<=$C$5,Chegadas!J149,\"\")","v":116.52000000000002},{"$f":"IF($C148=\"\",\"\",Simulação!D148)","v":13.275587285169344},{"$f":"IF($C148=\"\",\"\",Simulação!E148)","v":"*"},{"$f":"IF($C148=\"\",\"\",Simulação!F148)","v":118.29545812591194},{"$f":"IF($C148=\"\",\"\",Simulação!G148)","v":"*"},{"$f":"IF($C148=\"\",\"\",Simulação!H148)","v":125.04551813137221},{"$f":"IF($C148=\"\",\"\",Simulação!I148)","v":116.52000000000002},{"$f":"IF($C148=\"\",\"\",Simulação!J148)","v":129.79558728516938},{"$f":"IF($C148=\"\",\"\",Simulação!K148)","v":"-"},{"$f":"IF($C148=\"\",\"\",Simulação!L148)","v":117.37920622237343},{"$f":"IF($C148=\"\",\"\",Simulação!M148)","v":"-"},{"$f":"IF($C148=\"\",\"\",Simulação!N148)","v":118.46579392947855},{"$f":"IF($C148=\"\",\"\",Simulação!O148)","v":"-"},{"$f":"IF($C148=\"\",\"\",Simulação!P148)","v":122.45161610563602},{"$f":"IF($C148=\"\",\"\",Simulação!Q148)","v":"-"},{"$f":"IF($C148=\"\",\"\",Simulação!R148)","v":119.68965782593249},{"$f":"IF($C148=\"\",\"\",Simulação!S148)","v":"-"},{"$f":"IF($C148=\"\",\"\",Simulação!T148)","v":127.7943381387928},{"$f":"IF($C148=\"\",\"\",Simulação!U148)","v":"-"},{"$f":"IF($C148=\"\",\"\",Simulação!V148)","v":117.03348247606901},{"$f":"IF($C148=\"\",\"\",Simulação!W148)","v":"-"},{"$f":"IF($C148=\"\",\"\",Simulação!X148)","v":126.12001507145766},{"$f":"IF($C148=\"\",\"\",Simulação!Y148)","v":"-"},{"$f":"IF($C148=\"\",\"\",Simulação!Z148)","v":120.32703741006713},{"$f":"IF($C148=\"\",\"\",Simulação!AA148)","v":"-"},{"$f":"IF($C148=\"\",\"\",Simulação!AB148)","v":122.90333969239128},{"$f":"IF($C148=\"\",\"\",Simulação!AC148)","v":"-"},{"$f":"IF($C148=\"\",\"\",Simulação!AD148)","v":122.11663996330994},{"$f":"IF($C148=\"\",\"\",Simulação!AE148)","v":"-"},{"$f":"IF($C148=\"\",\"\",Simulação!AF148)","v":34.388240562009656},{"$f":"IF($C148=\"\",\"\",Simulação!AG148)","v":"-"},{"$f":"IF($C148=\"\",\"\",Simulação!AH148)","v":29.236023829000793},{"$f":"IF($C148=\"\",\"\",Simulação!AI148)","v":"-"},{"$f":"IF($C148=\"\",\"\",Simulação!AJ148)","v":33.045125393740342},{"$f":"IF($C148=\"\",\"\",Simulação!AK148)","v":"-"},{"$f":"IF($C148=\"\",\"\",Simulação!AL148)","v":32.02721881559642},{"$f":"IF($C148=\"\",\"\",Simulação!AM148)","v":"-"},{"$f":"IF($C148=\"\",\"\",Simulação!AN148)","v":32.217563507182206},{"$f":"IF($C148=\"\",\"\",Simulação!AO148)","v":"-"},{"$f":"IF($C148=\"\",\"\",Simulação!AP148)","v":36.406016086434107},{"$f":"IF($C148=\"\",\"\",Simulação!AQ148)","v":"-"},{"$f":"IF($C148=\"\",\"\",Simulação!AR148)","v":0}]
[null,142,{"$f":"IF(Chegadas!J150<=$C$5,Chegadas!J150,\"\")","v":117.44000000000003},{"$f":"IF($C149=\"\",\"\",Simulação!D149)","v":11.746336285979968},{"$f":"IF($C149=\"\",\"\",Simulação!E149)","v":"*"},{"$f":"IF($C149=\"\",\"\",Simulação!F149)","v":118.29545812591194},{"$f":"IF($C149=\"\",\"\",Simulação!G149)","v":"*"},{"$f":"IF($C149=\"\",\"\",Simulação!H149)","v":125.04551813137221},{"$f":"IF($C149=\"\",\"\",Simulação!I149)","v":"*"},{"$f":"IF($C149=\"\",\"\",Simulação!J149)","v":129.79558728516938},{"$f":"IF($C149=\"\",\"\",Simulação!K149)","v":117.44000000000003},{"$f":"IF($C149=\"\",\"\",Simulação!L149)","v":129.18633628597999},{"$f":"IF($C149=\"\",\"\",Simulação!M149)","v":"-"},{"$f":"IF($C149=\"\",\"\",Simulação!N149)","v":118.46579392947855},{"$f":"IF($C149=\"\",\"\",Simulação!O149)","v":"-"},{"$f":"IF($C149=\"\",\"\",Simulação!P149)","v":122.45161610563602},{"$f":"IF($C149=\"\",\"\",Simulação!Q149)","v":"-"},{"$f":"IF($C149=\"\",\"\",Simulação!R149)","v":119.68965782593249},{"$f":"IF($C149=\"\",\"\",Simulação!S149)","v":"-"},{"$f":"IF($C149=\"\",\"\",Simulação!T149)","v":127.7943381387928},{"$f":"IF($C149=\"\",\"\",Simulação!U149)","v":"-"},{"$f":"IF($C149=\"\",\"\",Simulação!V149)","v":117.03348247606901},{"$f":"IF($C149=\"\",\"\",Simulação!W149)","v":"-"},{"$f":"IF($C149=\"\",\"\",Simulação!X149)","v":126.12001507145766},{"$f":"IF($C149=\"\",\"\",Simulação!Y149)","v":"-"},{"$f":"IF($C149=\"\",\"\",Simulação!Z149)","v":120.32703741006713},{"$f":"IF($C149=\"\",\"\",Simulação!AA149)","v":"-"},{"$f":"IF($C149=\"\",\"\",Simulação!AB149)","v":122.90333969239128},{"$f":"IF($C149=\"\",\"\",Simulação!AC149)","v":"-"},{"$f":"IF($C149=\"\",\"\",Simulação!AD149)","v":122.11663996330994},{"$f":"IF($C149=\"\",\"\",Simulação!AE149)","v":"-"},{"$f":"IF($C149=\"\",\"\",Simulação!AF149)","v":34.388240562009656},{"$f":"IF($C149=\"\",\"\",Simulação!AG149)","v":"-"},{"$f":"IF($C149=\"\",\"\",Simulação!AH149)","v":29.236023829000793},{"$f":"IF($C149=\"\",\"\",Simulação!AI149)","v":"-"},{"$f":"IF($C149=\"\",\"\",Simulação!AJ149)","v":33.045125393740342},{"$f":"IF($C149=\"\",\"\",Simulação!AK149)","v":"-"},{"$f":"IF($C149=\"\",\"\",Simulação!AL149)","v":32.02721881559642},{"$f":"IF($C149=\"\",\"\",Simulação!AM149)","v":"-"},{"$f":"IF($C149=\"\",\"\",Simulação!AN149)","v":32.217563507182206},{"$f":"IF($C149=\"\",\"\",Simulação!AO149)","v":"-"},{"$f":"IF($C149=\"\",\"\",Simulação!AP149)","v":36.406016086434107},{"$f":"IF($C149=\"\",\"\",Simulação!AQ149)","v":"-"},{"$f":"IF($C149=\"\",\"\",Simulação!AR149)","v":0}]
[null,143,{"$f":"IF(Chegadas!J151<=$C$5,Chegadas!J151,\"\")","v":120.07},{"$f":"IF($C150=\"\",\"\",Simulação!D150)","v":1.3881152455661443},{"$f":"IF($C150=\"\",\"\",Simulação!E150)","v":120.07},{"$f":"IF($C150=\"\",\"\",Simulação!F150)","v":121.45811524556613},{"$f":"IF($C150=\"\",\"\",Simulação!G150)","v":"-"},{"$f":"IF($C150=\"\",\"\",Simulação!H150)","v":125.04551813137221},{"$f":"IF($C150=\"\",\"\",Simulação!I150)","v":"-"},{"$f":"IF($C150=\"\",\"\",Simulação!J150)","v":129.79558728516938},{"$f":"IF($C150=\"\",\"\",Simulação!K150)","v":"-"},{"$f":"IF($C150=\"\",\"\",Simulação!L150)","v":129.18633628597999},{"$f":"IF($C150=\"\",\"\",Simulação!M150)","v":"-"},{"$f":"IF($C150=\"\",\"\",Simulação!N150)","v":118.46579392947855},{"$f":"IF($C150=\"\",\"\",Simulação!O150)","v":"-"},{"$f":"IF($C150=\"\",\"\",Simulação!P150)","v":122.45161610563602},{"$f":"IF($C150=\"\",\"\",Simulação!Q150)","v":"-"},{"$f":"IF($C150=\"\",\"\",Simulação!R150)","v":119.68965782593249},{"$f":"IF($C150=\"\",\"\",Simulação!S150)","v":"-"},{"$f":"IF($C150=\"\",\"\",Simulação!T150)","v":127.7943381387928},{"$f":"IF($C150=\"\",\"\",Simulação!U150)","v":"-"},{"$f":"IF($C150=\"\",\"\",Simulação!V150)","v":117.03348247606901},{"$f":"IF($C150=\"\",\"\",Simulação!W150)","v":"-"},{"$f":"IF($C150=\"\",\"\",Simulação!X150)","v":126.12001507145766},{"$f":"IF($C150=\"\",\"\",Simulação!Y150)","v":"-"},{"$f":"IF($C150=\"\",\"\",Simulação!Z150)","v":120.32703741006713},{"$f":"IF($C150=\"\",\"\",Simulação!AA150)","v":"-"},{"$f":"IF($C150=\"\",\"\",Simulação!AB150)","v":122.90333969239128},{"$f":"IF($C150=\"\",\"\",Simulação!AC150)","v":"-"},{"$f":"IF($C150=\"\",\"\",Simulação!AD150)","v":122.11663996330994},{"$f":"IF($C150=\"\",\"\",Simulação!AE150)","v":"-"},{"$f":"IF($C150=\"\",\"\",Simulação!AF150)","v":34.388240562009656},{"$f":"IF($C150=\"\",\"\",Simulação!AG150)","v":"-"},{"$f":"IF($C150=\"\",\"\",Simulação!AH150)","v":29.236023829000793},{"$f":"IF($C150=\"\",\"\",Simulação!AI150)","v":"-"},{"$f":"IF($C150=\"\",\"\",Simulação!AJ150)","v":33.045125393740342},{"$f":"IF($C150=\"\",\"\",Simulação!AK150)","v":"-"},{"$f":"IF($C150=\"\",\"\",Simulação!AL150)","v":32.02721881559642},{"$f":"IF($C150=\"\",\"\",Simulação!AM150)","v":"-"},{"$f":"IF($C150=\"\",\"\",Simulação!AN150)","v":32.217563507182206},{"$f":"IF($C150=\"\",\"\",Simulação!AO150)","v":"-"},{"$f":"IF($C150=\"\",\"\",Simulação!AP150)","v":36.406016086434107},{"$f":"IF($C150=\"\",\"\",Simulação!AQ150)","v":"-"},{"$f":"IF($C150=\"\",\"\",Simulação!AR150)","v":0}]
[null,144,{"$f":"IF(Chegadas!J152<=$C$5,Chegadas!J152,\"\")","v":120.88000000000002},{"$f":"IF($C151=\"\",\"\",Simulação!D151)","v":9.3163722678917438},{"$f":"IF($C151=\"\",\"\",Simulação!E151)","v":"*"},{"$f":"IF($C151=\"\",\"\",Simulação!F151)","v":121.45811524556613},{"$f":"IF($C151=\"\",\"\",Simulação!G151)","v":"*"},{"$f":"IF($C151=\"\",\"\",Simulação!H151)","v":125.04551813137221},{"$f":"IF($C151=\"\",\"\",Simulação!I151)","v":"*"},{"$f":"IF($C151=\"\",\"\",Simulação!J151)","v":129.79558728516938},{"$f":"IF($C151=\"\",\"\",Simulação!K151)","v":"*"},{"$f":"IF($C151=\"\",\"\",Simulação!L151)","v":129.18633628597999},{"$f":"IF($C151=\"\",\"\",Simulação!M151)","v":120.88000000000002},{"$f":"IF($C151=\"\",\"\",Simulação!N151)","v":130.19637226789177},{"$f":"IF($C151=\"\",\"\",Simulação!O151)","v":"-"},{"$f":"IF($C151=\"\",\"\",Simulação!P151)","v":122.45161610563602},{"$f":"IF($C151=\"\",\"\",Simulação!Q151)","v":"-"},{"$f":"IF($C151=\"\",\"\",Simulação!R151)","v":119.68965782593249},{"$f":"IF($C151=\"\",\"\",Simulação!S151)","v":"-"},{"$f":"IF($C151=\"\",\"\",Simulação!T151)","v":127.7943381387928},{"$f":"IF($C151=\"\",\"\",Simulação!U151)","v":"-"},{"$f":"IF($C151=\"\",\"\",Simulação!V151)","v":117.03348247606901},{"$f":"IF($C151=\"\",\"\",Simulação!W151)","v":"-"},{"$f":"IF($C151=\"\",\"\",Simulação!X151)","v":126.12001507145766},{"$f":"IF($C151=\"\",\"\",Simulação!Y151)","v":"-"},{"$f":"IF($C151=\"\",\"\",Simulação!Z151)","v":120.32703741006713},{"$f":"IF($C151=\"\",\"\",Simulação!AA151)","v":"-"},{"$f":"IF($C151=\"\",\"\",Simulação!AB151)","v":122.90333969239128},{"$f":"IF($C151=\"\",\"\",Simulação!AC151)","v":"-"},{"$f":"IF($C151=\"\",\"\",Simulação!AD151)","v":122.11663996330994},{"$f":"IF($C151=\"\",\"\",Simulação!AE151)","v":"-"},{"$f":"IF($C151=\"\",\"\",Simulação!AF151)","v":34.388240562009656},{"$f":"IF($C151=\"\",\"\",Simulação!AG151)","v":"-"},{"$f":"IF($C151=\"\",\"\",Simulação!AH151)","v":29.236023829000793},{"$f":"IF($C151=\"\",\"\",Simulação!AI151)","v":"-"},{"$f":"IF($C151=\"\",\"\",Simulação!AJ151)","v":33.045125393740342},{"$f":"IF($C151=\"\",\"\",Simulação!AK151)","v":"-"},{"$f":"IF($C151=\"\",\"\",Simulação!AL151)","v":32.02721881559642},{"$f":"IF($C151=\"\",\"\",Simulação!AM151)","v":"-"},{"$f":"IF($C151=\"\",\"\",Simulação!AN151)","v":32.217563507182206},{"$f":"IF($C151=\"\",\"\",Simulação!AO151)","v":"-"},{"$f":"IF($C151=\"\",\"\",Simulação!AP151)","v":36.406016086434107},{"$f":"IF($C151=\"\",\"\",Simulação!AQ151)","v":"-"},{"$f":"IF($C151=\"\",\"\",Simulação!AR151)","v":0}]
[null,145,{"$f":"IF(Chegadas!J153<=$C$5,Chegadas!J153,\"\")","v":122.45000000000002},{"$f":"IF($C152=\"\",\"\",Simulação!D152)","v":10.31972408768878},{"$f":"IF($C152=\"\",\"\",Simulação!E152)","v":122.45000000000002},{"$f":"IF($C152=\"\",\"\",Simulação!F152)","v":132.76972408768879},{"$f":"IF($C152=\"\",\"\",Simulação!G152)","v":"-"},{"$f":"IF($C152=\"\",\"\",Simulação!H152)","v":125.04551813137221},{"$f":"IF($C152=\"\",\"\",Simulação!I152)","v":"-"},{"$f":"IF($C152=\"\",\"\",Simulação!J152)","v":129.79558728516938},{"$f":"IF($C152=\"\",\"\",Simulação!K152)","v":"-"},{"$f":"IF($C152=\"\",\"\",Simulação!L152)","v":129.18633628597999},{"$f":"IF($C152=\"\",\"\",Simulação!M152)","v":"-"},{"$f":"IF($C152=\"\",\"\",Simulação!N152)","v":130.19637226789177},{"$f":"IF($C152=\"\",\"\",Simulação!O152)","v":"-"},{"$f":"IF($C152=\"\",\"\",Simulação!P152)","v":122.45161610563602},{"$f":"IF($C152=\"\",\"\",Simulação!Q152)","v":"-"},{"$f":"IF($C152=\"\",\"\",Simulação!R152)","v":119.68965782593249},{"$f":"IF($C152=\"\",\"\",Simulação!S152)","v":"-"},{"$f":"IF($C152=\"\",\"\",Simulação!T152)","v":127.7943381387928},{"$f":"IF($C152=\"\",\"\",Simulação!U152)","v":"-"},{"$f":"IF($C152=\"\",\"\",Simulação!V152)","v":117.03348247606901},{"$f":"IF($C152=\"\",\"\",Simulação!W152)","v":"-"},{"$f":"IF($C152=\"\",\"\",Simulação!X152)","v":126.12001507145766},{"$f":"IF($C152=\"\",\"\",Simulação!Y152)","v":"-"},{"$f":"IF($C152=\"\",\"\",Simulação!Z152)","v":120.32703741006713},{"$f":"IF($C152=\"\",\"\",Simulação!AA152)","v":"-"},{"$f":"IF($C152=\"\",\"\",Simulação!AB152)","v":122.90333969239128},{"$f":"IF($C152=\"\",\"\",Simulação!AC152)","v":"-"},{"$f":"IF($C152=\"\",\"\",Simulação!AD152)","v":122.11663996330994},{"$f":"IF($C152=\"\",\"\",Simulação!AE152)","v":"-"},{"$f":"IF($C152=\"\",\"\",Simulação!AF152)","v":34.388240562009656},{"$f":"IF($C152=\"\",\"\",Simulação!AG152)","v":"-"},{"$f":"IF($C152=\"\",\"\",Simulação!AH152)","v":29.236023829000793},{"$f":"IF($C152=\"\",\"\",Simulação!AI152)","v":"-"},{"$f":"IF($C152=\"\",\"\",Simulação!AJ152)","v":33.045125393740342},{"$f":"IF($C152=\"\",\"\",Simulação!AK152)","v":"-"},{"$f":"IF($C152=\"\",\"\",Simulação!AL152)","v":32.02721881559642},{"$f":"IF($C152=\"\",\"\",Simulação!AM152)","v":"-"},{"$f":"IF($C152=\"\",\"\",Simulação!AN152)","v":32.217563507182206},{"$f":"IF($C152=\"\",\"\",Simulação!AO152)","v":"-"},{"$f":"IF($C152=\"\",\"\",Simulação!AP152)","v":36.406016086434107},{"$f":"IF($C152=\"\",\"\",Simulação!AQ152)","v":"-"},{"$f":"IF($C152=\"\",\"\",Simulação!AR152)","v":0}]
[null,146,{"$f":"IF(Chegadas!J154<=$C$5,Chegadas!J154,\"\")","v":123.61000000000001},{"$f":"IF($C153=\"\",\"\",Simulação!D153)","v":10.967402500775002},{"$f":"IF($C153=\"\",\"\",Simulação!E153)","v":"*"},{"$f":"IF($C153=\"\",\"\",Simulação!F153)","v":132.76972408768879},{"$f":"IF($C153=\"\",\"\",Simulação!G153)","v":"*"},{"$f":"IF($C153=\"\",\"\",Simulação!H153)","v":125.04551813137221},{"$f":"IF($C153=\"\",\"\",Simulação!I153)","v":"*"},{"$f":"IF($C153=\"\",\"\",Simulação!J153)","v":129.79558728516938},{"$f":"IF($C153=\"\",\"\",Simulação!K153)","v":"*"},{"$f":"IF($C153=\"\",\"\",Simulação!L153)","v":129.18633628597999},{"$f":"IF($C153=\"\",\"\",Simulação!M153)","v":"*"},{"$f":"IF($C153=\"\",\"\",Simulação!N153)","v":130.19637226789177},{"$f":"IF($C153=\"\",\"\",Simulação!O153)","v":123.61000000000001},{"$f":"IF($C153=\"\",\"\",Simulação!P153)","v":134.57740250077501},{"$f":"IF($C153=\"\",\"\",Simulação!Q153)","v":"-"},{"$f":"IF($C153=\"\",\"\",Simulação!R153)","v":119.68965782593249},{"$f":"IF($C153=\"\",\"\",Simulação!S153)","v":"-"},{"$f":"IF($C153=\"\",\"\",Simulação!T153)","v":127.7943381387928},{"$f":"IF($C153=\"\",\"\",Simulação!U153)","v":"-"},{"$f":"IF($C153=\"\",\"\",Simulação!V153)","v":117.03348247606901},{"$f":"IF($C153=\"\",\"\",Simulação!W153)","v":"-"},{"$f":"IF($C153=\"\",\"\",Simulação!X153)","v":126.12001507145766},{"$f":"IF($C153=\"\",\"\",Simulação!Y153)","v":"-"},{"$f":"IF($C153=\"\",\"\",Simulação!Z153)","v":120.32703741006713},{"$f":"IF($C153=\"\",\"\",Simulação!AA153)","v":"-"},{"$f":"IF($C153=\"\",\"\",Simulação!AB153)","v":122.90333969239128},{"$f":"IF($C153=\"\",\"\",Simulação!AC153)","v":"-"},{"$f":"IF($C153=\"\",\"\",Simulação!AD153)","v":122.11663996330994},{"$f":"IF($C153=\"\",\"\",Simulação!AE153)","v":"-"},{"$f":"IF($C153=\"\",\"\",Simulação!AF153)","v":34.388240562009656},{"$f":"IF($C153=\"\",\"\",Simulação!AG153)","v":"-"},{"$f":"IF($C153=\"\",\"\",Simulação!AH153)","v":29.236023829000793},{"$f":"IF($C153=\"\",\"\",Simulação!AI153)","v":"-"},{"$f":"IF($C153=\"\",\"\",Simulação!AJ153)","v":33.045125393740342},{"$f":"IF($C153=\"\",\"\",Simulação!AK153)","v":"-"},{"$f":"IF($C153=\"\",\"\",Simulação!AL153)","v":32.02721881559642},{"$f":"IF($C153=\"\",\"\",Simulação!AM153)","v":"-"},{"$f":"IF($C153=\"\",\"\",Simulação!AN153)","v":32.217563507182206},{"$f":"IF($C153=\"\",\"\",Simulação!AO153)","v":"-"},{"$f":"IF($C153=\"\",\"\",Simulação!AP153)","v":36.406016086434107},{"$f":"IF($C153=\"\",\"\",Simulação!AQ153)","v":"-"},{"$f":"IF($C153=\"\",\"\",Simulação!AR153)","v":0}]
[null,147,{"$f":"IF(Chegadas!J155<=$C$5,Chegadas!J155,\"\")","v":124.02000000000001},{"$f":"IF($C154=\"\",\"\",Simulação!D154)","v":5.267540152162927},{"$f":"IF($C154=\"\",\"\",Simulação!E154)","v":"*"},{"$f":"IF($C154=\"\",\"\",Simulação!F154)","v":132.76972408768879},{"$f":"IF($C154=\"\",\"\",Simulação!G154)","v":"*"},{"$f":"IF($C154=\"\",\"\",Simulação!H154)","v":125.04551813137221},{"$f":"IF($C154=\"\",\"\",Simulação!I154)","v":"*"},{"$f":"IF($C154=\"\",\"\",Simulação!J154)","v":129.79558728516938},{"$f":"IF($C154=\"\",\"\",Simulação!K154)","v":"*"},{"$f":"IF($C154=\"\",\"\",Simulação!L154)","v":129.18633628597999},{"$f":"IF($C154=\"\",\"\",Simulação!M154)","v":"*"},{"$f":"IF($C154=\"\",\"\",Simulação!N154)","v":130.19637226789177},{"$f":"IF($C154=\"\",\"\",Simulação!O154)","v":"*"},{"$f":"IF($C154=\"\",\"\",Simulação!P154)","v":134.57740250077501},{"$f":"IF($C154=\"\",\"\",Simulação!Q154)","v":124.02000000000001},{"$f":"IF($C154=\"\",\"\",Simulação!R154)","v":129.28754015216293},{"$f":"IF($C154=\"\",\"\",Simulação!S154)","v":"-"},{"$f":"IF($C154=\"\",\"\",Simulação!T154)","v":127.7943381387928},{"$f":"IF($C154=\"\",\"\",Simulação!U154)","v":"-"},{"$f":"IF($C154=\"\",\"\",Simulação!V154)","v":117.03348247606901},{"$f":"IF($C154=\"\",\"\",Simulação!W154)","v":"-"},{"$f":"IF($C154=\"\",\"\",Simulação!X154)","v":126.12001507145766},{"$f":"IF($C154=\"\",\"\",Simulação!Y154)","v":"-"},{"$f":"IF($C154=\"\",\"\",Simulação!Z154)","v":120.32703741006713},{"$f":"IF($C154=\"\",\"\",Simulação!AA154)","v":"-"},{"$f":"IF($C154=\"\",\"\",Simulação!AB154)","v":122.90333969239128},{"$f":"IF($C154=\"\",\"\",Simulação!AC154)","v":"-"},{"$f":"IF($C154=\"\",\"\",Simulação!AD154)","v":122.11663996330994},{"$f":"IF($C154=\"\",\"\",Simulação!AE154)","v":"-"},{"$f":"IF($C154=\"\",\"\",Simulação!AF154)","v":34.388240562009656},{"$f":"IF($C154=\"\",\"\",Simulação!AG154)","v":"-"},{"$f":"IF($C154=\"\",\"\",Simulação!AH154)","v":29.236023829000793},{"$f":"IF($C154=\"\",\"\",Simulação!AI154)","v":"-"},{"$f":"IF($C154=\"\",\"\",Simulação!AJ154)","v":33.045125393740342},{"$f":"IF($C154=\"\",\"\",Simulação!AK154)","v":"-"},{"$f":"IF($C154=\"\",\"\",Simulação!AL154)","v":32.02721881559642},{"$f":"IF($C154=\"\",\"\",Simulação!AM154)","v":"-"},{"$f":"IF($C154=\"\",\"\",Simulação!AN154)","v":32.217563507182206},{"$f":"IF($C154=\"\",\"\",Simulação!AO154)","v":"-"},{"$f":"IF($C154=\"\",\"\",Simulação!AP154)","v":36.406016086434107},{"$f":"IF($C154=\"\",\"\",Simulação!AQ154)","v":"-"},{"$f":"IF($C154=\"\",\"\",Simulação!AR154)","v":0}]
[null,148,{"$f":"IF(Chegadas!J156<=$C$5,Chegadas!J156,\"\")","v":124.17000000000002},{"$f":"IF($C155=\"\",\"\",Simulação!D155)","v":14.952193063966085},{"$f":"IF($C155=\"\",\"\",Simulação!E155)","v":"*"},{"$f":"IF($C155=\"\",\"\",Simulação!F155)","v":132.76972408768879},{"$f":"IF($C155=\"\",\"\",Simulação!G155)","v":"*"},{"$f":"IF($C155=\"\",\"\",Simulação!H155)","v":125.04551813137221},{"$f":"IF($C155=\"\",\"\",Simulação!I155)","v":"*"},{"$f":"IF($C155=\"\",\"\",Simulação!J155)","v":129.79558728516938},{"$f":"IF($C155=\"\",\"\",Simulação!K155)","v":"*"},{"$f":"IF($C155=\"\",\"\",Simulação!L155)","v":129.18633628597999},{"$f":"IF($C155=\"\",\"\",Simulação!M155)","v":"*"},{"$f":"IF($C155=\"\",\"\",Simulação!N155)","v":130.19637226789177},{"$f":"IF($C155=\"\",\"\",Simulação!O155)","v":"*"},{"$f":"IF($C155=\"\",\"\",Simulação!P155)","v":134.57740250077501},{"$f":"IF($C155=\"\",\"\",Simulação!Q155)","v":"*"},{"$f":"IF($C155=\"\",\"\",Simulação!R155)","v":129.28754015216293},{"$f":"IF($C155=\"\",\"\",Simulação!S155)","v":"*"},{"$f":"IF($C155=\"\",\"\",Simulação!T155)","v":127.7943381387928},{"$f":"IF($C155=\"\",\"\",Simulação!U155)","v":124.17000000000002},{"$f":"IF($C155=\"\",\"\",Simulação!V155)","v":139.12219306396611},{"$f":"IF($C155=\"\",\"\",Simulação!W155)","v":"-"},{"$f":"IF($C155=\"\",\"\",Simulação!X155)","v":126.12001507145766},{"$f":"IF($C155=\"\",\"\",Simulação!Y155)","v":"-"},{"$f":"IF($C155=\"\",\"\",Simulação!Z155)","v":120.32703741006713},{"$f":"IF($C155=\"\",\"\",Simulação!AA155)","v":"-"},{"$f":"IF($C155=\"\",\"\",Simulação!AB155)","v":122.90333969239128},{"$f":"IF($C155=\"\",\"\",Simulação!AC155)","v":"-"},{"$f":"IF($C155=\"\",\"\",Simulação!AD155)","v":122.11663996330994},{"$f":"IF($C155=\"\",\"\",Simulação!AE155)","v":"-"},{"$f":"IF($C155=\"\",\"\",Simulação!AF155)","v":34.388240562009656},{"$f":"IF($C155=\"\",\"\",Simulação!AG155)","v":"-"},{"$f":"IF($C155=\"\",\"\",Simulação!AH155)","v":29.236023829000793},{"$f":"IF($C155=\"\",\"\",Simulação!AI155)","v":"-"},{"$f":"IF($C155=\"\",\"\",Simulação!AJ155)","v":33.045125393740342},{"$f":"IF($C155=\"\",\"\",Simulação!AK155)","v":"-"},{"$f":"IF($C155=\"\",\"\",Simulação!AL155)","v":32.02721881559642},{"$f":"IF($C155=\"\",\"\",Simulação!AM155)","v":"-"},{"$f":"IF($C155=\"\",\"\",Simulação!AN155)","v":32.217563507182206},{"$f":"IF($C155=\"\",\"\",Simulação!AO155)","v":"-"},{"$f":"IF($C155=\"\",\"\",Simulação!AP155)","v":36.406016086434107},{"$f":"IF($C155=\"\",\"\",Simulação!AQ155)","v":"-"},{"$f":"IF($C155=\"\",\"\",Simulação!AR155)","v":0}]
[null,149,{"$f":"IF(Chegadas!J157<=$C$5,Chegadas!J157,\"\")","v":125.59000000000002},{"$f":"IF($C156=\"\",\"\",Simulação!D156)","v":9.1498306202099258},{"$f":"IF($C156=\"\",\"\",Simulação!E156)","v":"*"},{"$f":"IF($C156=\"\",\"\",Simulação!F156)","v":132.76972408768879},{"$f":"IF($C156=\"\",\"\",Simulação!G156)","v":125.59000000000002},{"$f":"IF($C156=\"\",\"\",Simulação!H156)","v":134.73983062020994},{"$f":"IF($C156=\"\",\"\",Simulação!I156)","v":"-"},{"$f":"IF($C156=\"\",\"\",Simulação!J156)","v":129.79558728516938},{"$f":"IF($C156=\"\",\"\",Simulação!K156)","v":"-"},{"$f":"IF($C156=\"\",\"\",Simulação!L156)","v":129.18633628597999},{"$f":"IF($C156=\"\",\"\",Simulação!M156)","v":"-"},{"$f":"IF($C156=\"\",\"\",Simulação!N156)","v":130.19637226789177},{"$f":"IF($C156=\"\",\"\",Simulação!O156)","v":"-"},{"$f":"IF($C156=\"\",\"\",Simulação!P156)","v":134.57740250077501},{"$f":"IF($C156=\"\",\"\",Simulação!Q156)","v":"-"},{"$f":"IF($C156=\"\",\"\",Simulação!R156)","v":129.28754015216293},{"$f":"IF($C156=\"\",\"\",Simulação!S156)","v":"-"},{"$f":"IF($C156=\"\",\"\",Simulação!T156)","v":127.7943381387928},{"$f":"IF($C156=\"\",\"\",Simulação!U156)","v":"-"},{"$f":"IF($C156=\"\",\"\",Simulação!V156)","v":139.12219306396611},{"$f":"IF($C156=\"\",\"\",Simulação!W156)","v":"-"},{"$f":"IF($C156=\"\",\"\",Simulação!X156)","v":126.12001507145766},{"$f":"IF($C156=\"\",\"\",Simulação!Y156)","v":"-"},{"$f":"IF($C156=\"\",\"\",Simulação!Z156)","v":120.32703741006713},{"$f":"IF($C156=\"\",\"\",Simulação!AA156)","v":"-"},{"$f":"IF($C156=\"\",\"\",Simulação!AB156)","v":122.90333969239128},{"$f":"IF($C156=\"\",\"\",Simulação!AC156)","v":"-"},{"$f":"IF($C156=\"\",\"\",Simulação!AD156)","v":122.11663996330994},{"$f":"IF($C156=\"\",\"\",Simulação!AE156)","v":"-"},{"$f":"IF($C156=\"\",\"\",Simulação!AF156)","v":34.388240562009656},{"$f":"IF($C156=\"\",\"\",Simulação!AG156)","v":"-"},{"$f":"IF($C156=\"\",\"\",Simulação!AH156)","v":29.236023829000793},{"$f":"IF($C156=\"\",\"\",Simulação!AI156)","v":"-"},{"$f":"IF($C156=\"\",\"\",Simulação!AJ156)","v":33.045125393740342},{"$f":"IF($C156=\"\",\"\",Simulação!AK156)","v":"-"},{"$f":"IF($C156=\"\",\"\",Simulação!AL156)","v":32.02721881559642},{"$f":"IF($C156=\"\",\"\",Simulação!AM156)","v":"-"},{"$f":"IF($C156=\"\",\"\",Simulação!AN156)","v":32.217563507182206},{"$f":"IF($C156=\"\",\"\",Simulação!AO156)","v":"-"},{"$f":"IF($C156=\"\",\"\",Simulação!AP156)","v":36.406016086434107},{"$f":"IF($C156=\"\",\"\",Simulação!AQ156)","v":"-"},{"$f":"IF($C156=\"\",\"\",Simulação!AR156)","v":0}]
[null,150,{"$f":"IF(Chegadas!J158<=$C$5,Chegadas!J158,\"\")","v":126.12000000000002},{"$f":"IF($C157=\"\",\"\",Simulação!D157)","v":9.9584662697485822},{"$f":"IF($C157=\"\",\"\",Simulação!E157)","v":"*"},{"$f":"IF($C157=\"\",\"\",Simulação!F157)","v":132.76972408768879},{"$f":"IF($C157=\"\",\"\",Simulação!G157)","v":"*"},{"$f":"IF($C157=\"\",\"\",Simulação!H157)","v":134.73983062020994},{"$f":"IF($C157=\"\",\"\",Simulação!I157)","v":"*"},{"$f":"IF($C157=\"\",\"\",Simulação!J157)","v":129.79558728516938},{"$f":"IF($C157=\"\",\"\",Simulação!K157)","v":"*"},{"$f":"IF($C157=\"\",\"\",Simulação!L157)","v":129.18633628597999},{"$f":"IF($C157=\"\",\"\",Simulação!M157)","v":"*"},{"$f":"IF($C157=\"\",\"\",Simulação!N157)","v":130.19637226789177},{"$f":"IF($C157=\"\",\"\",Simulação!O157)","v":"*"},{"$f":"IF($C157=\"\",\"\",Simulação!P157)","v":134.57740250077501},{"$f":"IF($C157=\"\",\"\",Simulação!Q157)","v":"*"},{"$f":"IF($C157=\"\",\"\",Simulação!R157)","v":129.28754015216293},{"$f":"IF($C157=\"\",\"\",Simulação!S157)","v":"*"},{"$f":"IF($C157=\"\",\"\",Simulação!T157)","v":127.7943381387928},{"$f":"IF($C157=\"\",\"\",Simulação!U157)","v":"*"},{"$f":"IF($C157=\"\",\"\",Simulação!V157)","v":139.12219306396611},{"$f":"IF($C157=\"\",\"\",Simulação!W157)","v":"*"},{"$f":"IF($C157=\"\",\"\",Simulação!X157)","v":126.12001507145766},{"$f":"IF($C157=\"\",\"\",Simulação!Y157)","v":126.12000000000002},{"$f":"IF($C157=\"\",\"\",Simulação!Z157)","v":136.07846626974859},{"$f":"IF($C157=\"\",\"\",Simulação!AA157)","v":"-"},{"$f":"IF($C157=\"\",\"\",Simulação!AB157)","v":122.90333969239128},{"$f":"IF($C157=\"\",\"\",Simulação!AC157)","v":"-"},{"$f":"IF($C157=\"\",\"\",Simulação!AD157)","v":122.11663996330994},{"$f":"IF($C157=\"\",\"\",Simulação!AE157)","v":"-"},{"$f":"IF($C157=\"\",\"\",Simulação!AF157)","v":34.388240562009656},{"$f":"IF($C157=\"\",\"\",Simulação!AG157)","v":"-"},{"$f":"IF($C157=\"\",\"\",Simulação!AH157)","v":29.236023829000793},{"$f":"IF($C157=\"\",\"\",Simulação!AI157)","v":"-"},{"$f":"IF($C157=\"\",\"\",Simulação!AJ157)","v":33.045125393740342},{"$f":"IF($C157=\"\",\"\",Simulação!AK157)","v":"-"},{"$f":"IF($C157=\"\",\"\",Simulação!AL157)","v":32.02721881559642},{"$f":"IF($C157=\"\",\"\",Simulação!AM157)","v":"-"},{"$f":"IF($C157=\"\",\"\",Simulação!AN157)","v":32.217563507182206},{"$f":"IF($C157=\"\",\"\",Simulação!AO157)","v":"-"},{"$f":"IF($C157=\"\",\"\",Simulação!AP157)","v":36.406016086434107},{"$f":"IF($C157=\"\",\"\",Simulação!AQ157)","v":"-"},{"$f":"IF($C157=\"\",\"\",Simulação!AR157)","v":0}]
[null,151,{"$f":"IF(Chegadas!J159<=$C$5,Chegadas!J159,\"\")","v":127.78000000000002},{"$f":"IF($C158=\"\",\"\",Simulação!D158)","v":5.5473571124999514},{"$f":"IF($C158=\"\",\"\",Simulação!E158)","v":"*"},{"$f":"IF($C158=\"\",\"\",Simulação!F158)","v":132.76972408768879},{"$f":"IF($C158=\"\",\"\",Simulação!G158)","v":"*"},{"$f":"IF($C158=\"\",\"\",Simulação!H158)","v":134.73983062020994},{"$f":"IF($C158=\"\",\"\",Simulação!I158)","v":"*"},{"$f":"IF($C158=\"\",\"\",Simulação!J158)","v":129.79558728516938},{"$f":"IF($C158=\"\",\"\",Simulação!K158)","v":"*"},{"$f":"IF($C158=\"\",\"\",Simulação!L158)","v":129.18633628597999},{"$f":"IF($C158=\"\",\"\",Simulação!M158)","v":"*"},{"$f":"IF($C158=\"\",\"\",Simulação!N158)","v":130.19637226789177},{"$f":"IF($C158=\"\",\"\",Simulação!O158)","v":"*"},{"$f":"IF($C158=\"\",\"\",Simulação!P158)","v":134.57740250077501},{"$f":"IF($C158=\"\",\"\",Simulação!Q158)","v":"*"},{"$f":"IF($C158=\"\",\"\",Simulação!R158)","v":129.28754015216293},{"$f":"IF($C158=\"\",\"\",Simulação!S158)","v":"*"},{"$f":"IF($C158=\"\",\"\",Simulação!T158)","v":127.7943381387928},{"$f":"IF($C158=\"\",\"\",Simulação!U158)","v":"*"},{"$f":"IF($C158=\"\",\"\",Simulação!V158)","v":139.12219306396611},{"$f":"IF($C158=\"\",\"\",Simulação!W158)","v":127.78000000000002},{"$f":"IF($C158=\"\",\"\",Simulação!X158)","v":133.32735711249995},{"$f":"IF($C158=\"\",\"\",Simulação!Y158)","v":"-"},{"$f":"IF($C158=\"\",\"\",Simulação!Z158)","v":136.07846626974859},{"$f":"IF($C158=\"\",\"\",Simulação!AA158)","v":"-"},{"$f":"IF($C158=\"\",\"\",Simulação!AB158)","v":122.90333969239128},{"$f":"IF($C158=\"\",\"\",Simulação!AC158)","v":"-"},{"$f":"IF($C158=\"\",\"\",Simulação!AD158)","v":122.11663996330994},{"$f":"IF($C158=\"\",\"\",Simulação!AE158)","v":"-"},{"$f":"IF($C158=\"\",\"\",Simulação!AF158)","v":34.388240562009656},{"$f":"IF($C158=\"\",\"\",Simulação!AG158)","v":"-"},{"$f":"IF($C158=\"\",\"\",Simulação!AH158)","v":29.236023829000793},{"$f":"IF($C158=\"\",\"\",Simulação!AI158)","v":"-"},{"$f":"IF($C158=\"\",\"\",Simulação!AJ158)","v":33.045125393740342},{"$f":"IF($C158=\"\",\"\",Simulação!AK158)","v":"-"},{"$f":"IF($C158=\"\",\"\",Simulação!AL158)","v":32.02721881559642},{"$f":"IF($C158=\"\",\"\",Simulação!AM158)","v":"-"},{"$f":"IF($C158=\"\",\"\",Simulação!AN158)","v":32.217563507182206},{"$f":"IF($C158=\"\",\"\",Simulação!AO158)","v":"-"},{"$f":"IF($C158=\"\",\"\",Simulação!AP158)","v":36.406016086434107},{"$f":"IF($C158=\"\",\"\",Simulação!AQ158)","v":"-"},{"$f":"IF($C158=\"\",\"\",Simulação!AR158)","v":0}]
[null,152,{"$f":"IF(Chegadas!J160<=$C$5,Chegadas!J160,\"\")","v":128.00000000000003},{"$f":"IF($C159=\"\",\"\",Simulação!D159)","v":9.9877782099254908},{"$f":"IF($C159=\"\",\"\",Simulação!E159)","v":"*"},{"$f":"IF($C159=\"\",\"\",Simulação!F159)","v":132.76972408768879},{"$f":"IF($C159=\"\",\"\",Simulação!G159)","v":"*"},{"$f":"IF($C159=\"\",\"\",Simulação!H159)","v":134.73983062020994},{"$f":"IF($C159=\"\",\"\",Simulação!I159)","v":"*"},{"$f":"IF($C159=\"\",\"\",Simulação!J159)","v":129.79558728516938},{"$f":"IF($C159=\"\",\"\",Simulação!K159)","v":"*"},{"$f":"IF($C159=\"\",\"\",Simulação!L159)","v":129.18633628597999},{"$f":"IF($C159=\"\",\"\",Simulação!M159)","v":"*"},{"$f":"IF($C159=\"\",\"\",Simulação!N159)","v":130.19637226789177},{"$f":"IF($C159=\"\",\"\",Simulação!O159)","v":"*"},{"$f":"IF($C159=\"\",\"\",Simulação!P159)","v":134.57740250077501},{"$f":"IF($C159=\"\",\"\",Simulação!Q159)","v":"*"},{"$f":"IF($C159=\"\",\"\",Simulação!R159)","v":129.28754015216293},{"$f":"IF($C159=\"\",\"\",Simulação!S159)","v":128.00000000000003},{"$f":"IF($C159=\"\",\"\",Simulação!T159)","v":137.98777820992552},{"$f":"IF($C159=\"\",\"\",Simulação!U159)","v":"-"},{"$f":"IF($C159=\"\",\"\",Simulação!V159)","v":139.12219306396611},{"$f":"IF($C159=\"\",\"\",Simulação!W159)","v":"-"},{"$f":"IF($C159=\"\",\"\",Simulação!X159)","v":133.32735711249995},{"$f":"IF($C159=\"\",\"\",Simulação!Y159)","v":"-"},{"$f":"IF($C159=\"\",\"\",Simulação!Z159)","v":136.07846626974859},{"$f":"IF($C159=\"\",\"\",Simulação!AA159)","v":"-"},{"$f":"IF($C159=\"\",\"\",Simulação!AB159)","v":122.90333969239128},{"$f":"IF($C159=\"\",\"\",Simulação!AC159)","v":"-"},{"$f":"IF($C159=\"\",\"\",Simulação!AD159)","v":122.11663996330994},{"$f":"IF($C159=\"\",\"\",Simulação!AE159)","v":"-"},{"$f":"IF($C159=\"\",\"\",Simulação!AF159)","v":34.388240562009656},{"$f":"IF($C159=\"\",\"\",Simulação!AG159)","v":"-"},{"$f":"IF($C159=\"\",\"\",Simulação!AH159)","v":29.236023829000793},{"$f":"IF($C159=\"\",\"\",Simulação!AI159)","v":"-"},{"$f":"IF($C159=\"\",\"\",Simulação!AJ159)","v":33.045125393740342},{"$f":"IF($C159=\"\",\"\",Simulação!AK159)","v":"-"},{"$f":"IF($C159=\"\",\"\",Simulação!AL159)","v":32.02721881559642},{"$f":"IF($C159=\"\",\"\",Simulação!AM159)","v":"-"},{"$f":"IF($C159=\"\",\"\",Simulação!AN159)","v":32.217563507182206},{"$f":"IF($C159=\"\",\"\",Simulação!AO159)","v":"-"},{"$f":"IF($C159=\"\",\"\",Simulação!AP159)","v":36.406016086434107},{"$f":"IF($C159=\"\",\"\",Simulação!AQ159)","v":"-"},{"$f":"IF($C159=\"\",\"\",Simulação!AR159)","v":0}]
[null,153,{"$f":"IF(Chegadas!J161<=$C$5,Chegadas!J161,\"\")","v":128.43000000000004},{"$f":"IF($C160=\"\",\"\",Simulação!D160)","v":8.4006094428453491},{"$f":"IF($C160=\"\",\"\",Simulação!E160)","v":"*"},{"$f":"IF($C160=\"\",\"\",Simulação!F160)","v":132.76972408768879},{"$f":"IF($C160=\"\",\"\",Simulação!G160)","v":"*"},{"$f":"IF($C160=\"\",\"\",Simulação!H160)","v":134.73983062020994},{"$f":"IF($C160=\"\",\"\",Simulação!I160)","v":"*"},{"$f":"IF($C160=\"\",\"\",Simulação!J160)","v":129.79558728516938},{"$f":"IF($C160=\"\",\"\",Simulação!K160)","v":"*"},{"$f":"IF($C160=\"\",\"\",Simulação!L160)","v":129.18633628597999},{"$f":"IF($C160=\"\",\"\",Simulação!M160)","v":"*"},{"$f":"IF($C160=\"\",\"\",Simulação!N160)","v":130.19637226789177},{"$f":"IF($C160=\"\",\"\",Simulação!O160)","v":"*"},{"$f":"IF($C160=\"\",\"\",Simulação!P160)","v":134.57740250077501},{"$f":"IF($C160=\"\",\"\",Simulação!Q160)","v":"*"},{"$f":"IF($C160=\"\",\"\",Simulação!R160)","v":129.28754015216293},{"$f":"IF($C160=\"\",\"\",Simulação!S160)","v":"*"},{"$f":"IF($C160=\"\",\"\",Simulação!T160)","v":137.98777820992552},{"$f":"IF($C160=\"\",\"\",Simulação!U160)","v":"*"},{"$f":"IF($C160=\"\",\"\",Simulação!V160)","v":139.12219306396611},{"$f":"IF($C160=\"\",\"\",Simulação!W160)","v":"*"},{"$f":"IF($C160=\"\",\"\",Simulação!X160)","v":133.32735711249995},{"$f":"IF($C160=\"\",\"\",Simulação!Y160)","v":"*"},{"$f":"IF($C160=\"\",\"\",Simulação!Z160)","v":136.07846626974859},{"$f":"IF($C160=\"\",\"\",Simulação!AA160)","v":128.43000000000004},{"$f":"IF($C160=\"\",\"\",Simulação!AB160)","v":136.83060944284537},{"$f":"IF($C160=\"\",\"\",Simulação!AC160)","v":"-"},{"$f":"IF($C160=\"\",\"\",Simulação!AD160)","v":122.11663996330994},{"$f":"IF($C160=\"\",\"\",Simulação!AE160)","v":"-"},{"$f":"IF($C160=\"\",\"\",Simulação!AF160)","v":34.388240562009656},{"$f":"IF($C160=\"\",\"\",Simulação!AG160)","v":"-"},{"$f":"IF($C160=\"\",\"\",Simulação!AH160)","v":29.236023829000793},{"$f":"IF($C160=\"\",\"\",Simulação!AI160)","v":"-"},{"$f":"IF($C160=\"\",\"\",Simulação!AJ160)","v":33.045125393740342},{"$f":"IF($C160=\"\",\"\",Simulação!AK160)","v":"-"},{"$f":"IF($C160=\"\",\"\",Simulação!AL160)","v":32.02721881559642},{"$f":"IF($C160=\"\",\"\",Simulação!AM160)","v":"-"},{"$f":"IF($C160=\"\",\"\",Simulação!AN160)","v":32.217563507182206},{"$f":"IF($C160=\"\",\"\",Simulação!AO160)","v":"-"},{"$f":"IF($C160=\"\",\"\",Simulação!AP160)","v":36.406016086434107},{"$f":"IF($C160=\"\",\"\",Simulação!AQ160)","v":"-"},{"$f":"IF($C160=\"\",\"\",Simulação!AR160)","v":0}]
[null,154,{"$f":"IF(Chegadas!J162<=$C$5,Chegadas!J162,\"\")","v":128.96000000000004},{"$f":"IF($C161=\"\",\"\",Simulação!D161)","v":11.708874464240385},{"$f":"IF($C161=\"\",\"\",Simulação!E161)","v":"*"},{"$f":"IF($C161=\"\",\"\",Simulação!F161)","v":132.76972408768879},{"$f":"IF($C161=\"\",\"\",Simulação!G161)","v":"*"},{"$f":"IF($C161=\"\",\"\",Simulação!H161)","v":134.73983062020994},{"$f":"IF($C161=\"\",\"\",Simulação!I161)","v":"*"},{"$f":"IF($C161=\"\",\"\",Simulação!J161)","v":129.79558728516938},{"$f":"IF($C161=\"\",\"\",Simulação!K161)","v":"*"},{"$f":"IF($C161=\"\",\"\",Simulação!L161)","v":129.18633628597999},{"$f":"IF($C161=\"\",\"\",Simulação!M161)","v":"*"},{"$f":"IF($C161=\"\",\"\",Simulação!N161)","v":130.19637226789177},{"$f":"IF($C161=\"\",\"\",Simulação!O161)","v":"*"},{"$f":"IF($C161=\"\",\"\",Simulação!P161)","v":134.57740250077501},{"$f":"IF($C161=\"\",\"\",Simulação!Q161)","v":"*"},{"$f":"IF($C161=\"\",\"\",Simulação!R161)","v":129.28754015216293},{"$f":"IF($C161=\"\",\"\",Simulação!S161)","v":"*"},{"$f":"IF($C161=\"\",\"\",Simulação!T161)","v":137.98777820992552},{"$f":"IF($C161=\"\",\"\",Simulação!U161)","v":"*"},{"$f":"IF($C161=\"\",\"\",Simulação!V161)","v":139.12219306396611},{"$f":"IF($C161=\"\",\"\",Simulação!W161)","v":"*"},{"$f":"IF($C161=\"\",\"\",Simulação!X161)","v":133.32735711249995},{"$f":"IF($C161=\"\",\"\",Simulação!Y161)","v":"*"},{"$f":"IF($C161=\"\",\"\",Simulação!Z161)","v":136.07846626974859},{"$f":"IF($C161=\"\",\"\",Simulação!AA161)","v":"*"},{"$f":"IF($C161=\"\",\"\",Simulação!AB161)","v":136.83060944284537},{"$f":"IF($C161=\"\",\"\",Simulação!AC161)","v":128.96000000000004},{"$f":"IF($C161=\"\",\"\",Simulação!AD161)","v":140.66887446424042},{"$f":"IF($C161=\"\",\"\",Simulação!AE161)","v":"-"},{"$f":"IF($C161=\"\",\"\",Simulação!AF161)","v":34.388240562009656},{"$f":"IF($C161=\"\",\"\",Simulação!AG161)","v":"-"},{"$f":"IF($C161=\"\",\"\",Simulação!AH161)","v":29.236023829000793},{"$f":"IF($C161=\"\",\"\",Simulação!AI161)","v":"-"},{"$f":"IF($C161=\"\",\"\",Simulação!AJ161)","v":33.045125393740342},{"$f":"IF($C161=\"\",\"\",Simulação!AK161)","v":"-"},{"$f":"IF($C161=\"\",\"\",Simulação!AL161)","v":32.02721881559642},{"$f":"IF($C161=\"\",\"\",Simulação!AM161)","v":"-"},{"$f":"IF($C161=\"\",\"\",Simulação!AN161)","v":32.217563507182206},{"$f":"IF($C161=\"\",\"\",Simulação!AO161)","v":"-"},{"$f":"IF($C161=\"\",\"\",Simulação!AP161)","v":36.406016086434107},{"$f":"IF($C161=\"\",\"\",Simulação!AQ161)","v":"-"},{"$f":"IF($C161=\"\",\"\",Simulação!AR161)","v":0}]
[null,155,{"$f":"IF(Chegadas!J163<=$C$5,Chegadas!J163,\"\")","v":130.04000000000005},{"$f":"IF($C162=\"\",\"\",Simulação!D162)","v":5.6094348843254727},{"$f":"IF($C162=\"\",\"\",Simulação!E162)","v":"*"},{"$f":"IF($C162=\"\",\"\",Simulação!F162)","v":132.76972408768879},{"$f":"IF($C162=\"\",\"\",Simulação!G162)","v":"*"},{"$f":"IF($C162=\"\",\"\",Simulação!H162)","v":134.73983062020994},{"$f":"IF($C162=\"\",\"\",Simulação!I162)","v":130.04000000000005},{"$f":"IF($C162=\"\",\"\",Simulação!J162)","v":135.64943488432553},{"$f":"IF($C162=\"\",\"\",Simulação!K162)","v":"-"},{"$f":"IF($C162=\"\",\"\",Simulação!L162)","v":129.18633628597999},{"$f":"IF($C162=\"\",\"\",Simulação!M162)","v":"-"},{"$f":"IF($C162=\"\",\"\",Simulação!N162)","v":130.19637226789177},{"$f":"IF($C162=\"\",\"\",Simulação!O162)","v":"-"},{"$f":"IF($C162=\"\",\"\",Simulação!P162)","v":134.57740250077501},{"$f":"IF($C162=\"\",\"\",Simulação!Q162)","v":"-"},{"$f":"IF($C162=\"\",\"\",Simulação!R162)","v":129.28754015216293},{"$f":"IF($C162=\"\",\"\",Simulação!S162)","v":"-"},{"$f":"IF($C162=\"\",\"\",Simulação!T162)","v":137.98777820992552},{"$f":"IF($C162=\"\",\"\",Simulação!U162)","v":"-"},{"$f":"IF($C162=\"\",\"\",Simulação!V162)","v":139.12219306396611},{"$f":"IF($C162=\"\",\"\",Simulação!W162)","v":"-"},{"$f":"IF($C162=\"\",\"\",Simulação!X162)","v":133.32735711249995},{"$f":"IF($C162=\"\",\"\",Simulação!Y162)","v":"-"},{"$f":"IF($C162=\"\",\"\",Simulação!Z162)","v":136.07846626974859},{"$f":"IF($C162=\"\",\"\",Simulação!AA162)","v":"-"},{"$f":"IF($C162=\"\",\"\",Simulação!AB162)","v":136.83060944284537},{"$f":"IF($C162=\"\",\"\",Simulação!AC162)","v":"-"},{"$f":"IF($C162=\"\",\"\",Simulação!AD162)","v":140.66887446424042},{"$f":"IF($C162=\"\",\"\",Simulação!AE162)","v":"-"},{"$f":"IF($C162=\"\",\"\",Simulação!AF162)","v":34.388240562009656},{"$f":"IF($C162=\"\",\"\",Simulação!AG162)","v":"-"},{"$f":"IF($C162=\"\",\"\",Simulação!AH162)","v":29.236023829000793},{"$f":"IF($C162=\"\",\"\",Simulação!AI162)","v":"-"},{"$f":"IF($C162=\"\",\"\",Simulação!AJ162)","v":33.045125393740342},{"$f":"IF($C162=\"\",\"\",Simulação!AK162)","v":"-"},{"$f":"IF($C162=\"\",\"\",Simulação!AL162)","v":32.02721881559642},{"$f":"IF($C162=\"\",\"\",Simulação!AM162)","v":"-"},{"$f":"IF($C162=\"\",\"\",Simulação!AN162)","v":32.217563507182206},{"$f":"IF($C162=\"\",\"\",Simulação!AO162)","v":"-"},{"$f":"IF($C162=\"\",\"\",Simulação!AP162)","v":36.406016086434107},{"$f":"IF($C162=\"\",\"\",Simulação!AQ162)","v":"-"},{"$f":"IF($C162=\"\",\"\",Simulação!AR162)","v":0}]
[null,156,{"$f":"IF(Chegadas!J164<=$C$5,Chegadas!J164,\"\")","v":132.47000000000006},{"$f":"IF($C163=\"\",\"\",Simulação!D163)","v":9.2208611646728009},{"$f":"IF($C163=\"\",\"\",Simulação!E163)","v":"*"},{"$f":"IF($C163=\"\",\"\",Simulação!F163)","v":132.76972408768879},{"$f":"IF($C163=\"\",\"\",Simulação!G163)","v":"*"},{"$f":"IF($C163=\"\",\"\",Simulação!H163)","v":134.73983062020994},{"$f":"IF($C163=\"\",\"\",Simulação!I163)","v":"*"},{"$f":"IF($C163=\"\",\"\",Simulação!J163)","v":135.64943488432553},{"$f":"IF($C163=\"\",\"\",Simulação!K163)","v":132.47000000000006},{"$f":"IF($C163=\"\",\"\",Simulação!L163)","v":141.69086116467287},{"$f":"IF($C163=\"\",\"\",Simulação!M163)","v":"-"},{"$f":"IF($C163=\"\",\"\",Simulação!N163)","v":130.19637226789177},{"$f":"IF($C163=\"\",\"\",Simulação!O163)","v":"-"},{"$f":"IF($C163=\"\",\"\",Simulação!P163)","v":134.57740250077501},{"$f":"IF($C163=\"\",\"\",Simulação!Q163)","v":"-"},{"$f":"IF($C163=\"\",\"\",Simulação!R163)","v":129.28754015216293},{"$f":"IF($C163=\"\",\"\",Simulação!S163)","v":"-"},{"$f":"IF($C163=\"\",\"\",Simulação!T163)","v":137.98777820992552},{"$f":"IF($C163=\"\",\"\",Simulação!U163)","v":"-"},{"$f":"IF($C163=\"\",\"\",Simulação!V163)","v":139.12219306396611},{"$f":"IF($C163=\"\",\"\",Simulação!W163)","v":"-"},{"$f":"IF($C163=\"\",\"\",Simulação!X163)","v":133.32735711249995},{"$f":"IF($C163=\"\",\"\",Simulação!Y163)","v":"-"},{"$f":"IF($C163=\"\",\"\",Simulação!Z163)","v":136.07846626974859},{"$f":"IF($C163=\"\",\"\",Simulação!AA163)","v":"-"},{"$f":"IF($C163=\"\",\"\",Simulação!AB163)","v":136.83060944284537},{"$f":"IF($C163=\"\",\"\",Simulação!AC163)","v":"-"},{"$f":"IF($C163=\"\",\"\",Simulação!AD163)","v":140.66887446424042},{"$f":"IF($C163=\"\",\"\",Simulação!AE163)","v":"-"},{"$f":"IF($C163=\"\",\"\",Simulação!AF163)","v":34.388240562009656},{"$f":"IF($C163=\"\",\"\",Simulação!AG163)","v":"-"},{"$f":"IF($C163=\"\",\"\",Simulação!AH163)","v":29.236023829000793},{"$f":"IF($C163=\"\",\"\",Simulação!AI163)","v":"-"},{"$f":"IF($C163=\"\",\"\",Simulação!AJ163)","v":33.045125393740342},{"$f":"IF($C163=\"\",\"\",Simulação!AK163)","v":"-"},{"$f":"IF($C163=\"\",\"\",Simulação!AL163)","v":32.02721881559642},{"$f":"IF($C163=\"\",\"\",Simulação!AM163)","v":"-"},{"$f":"IF($C163=\"\",\"\",Simulação!AN163)","v":32.217563507182206},{"$f":"IF($C163=\"\",\"\",Simulação!AO163)","v":"-"},{"$f":"IF($C163=\"\",\"\",Simulação!AP163)","v":36.406016086434107},{"$f":"IF($C163=\"\",\"\",Simulação!AQ163)","v":"-"},{"$f":"IF($C163=\"\",\"\",Simulação!AR163)","v":0}]
[null,157,{"$f":"IF(Chegadas!J165<=$C$5,Chegadas!J165,\"\")","v":132.85000000000005},{"$f":"IF($C164=\"\",\"\",Simulação!D164)","v":3.8710067946381423},{"$f":"IF($C164=\"\",\"\",Simulação!E164)","v":132.85000000000005},{"$f":"IF($C164=\"\",\"\",Simulação!F164)","v":136.72100679463819},{"$f":"IF($C164=\"\",\"\",Simulação!G164)","v":"-"},{"$f":"IF($C164=\"\",\"\",Simulação!H164)","v":134.73983062020994},{"$f":"IF($C164=\"\",\"\",Simulação!I164)","v":"-"},{"$f":"IF($C164=\"\",\"\",Simulação!J164)","v":135.64943488432553},{"$f":"IF($C164=\"\",\"\",Simulação!K164)","v":"-"},{"$f":"IF($C164=\"\",\"\",Simulação!L164)","v":141.69086116467287},{"$f":"IF($C164=\"\",\"\",Simulação!M164)","v":"-"},{"$f":"IF($C164=\"\",\"\",Simulação!N164)","v":130.19637226789177},{"$f":"IF($C164=\"\",\"\",Simulação!O164)","v":"-"},{"$f":"IF($C164=\"\",\"\",Simulação!P164)","v":134.57740250077501},{"$f":"IF($C164=\"\",\"\",Simulação!Q164)","v":"-"},{"$f":"IF($C164=\"\",\"\",Simulação!R164)","v":129.28754015216293},{"$f":"IF($C164=\"\",\"\",Simulação!S164)","v":"-"},{"$f":"IF($C164=\"\",\"\",Simulação!T164)","v":137.98777820992552},{"$f":"IF($C164=\"\",\"\",Simulação!U164)","v":"-"},{"$f":"IF($C164=\"\",\"\",Simulação!V164)","v":139.12219306396611},{"$f":"IF($C164=\"\",\"\",Simulação!W164)","v":"-"},{"$f":"IF($C164=\"\",\"\",Simulação!X164)","v":133.32735711249995},{"$f":"IF($C164=\"\",\"\",Simulação!Y164)","v":"-"},{"$f":"IF($C164=\"\",\"\",Simulação!Z164)","v":136.07846626974859},{"$f":"IF($C164=\"\",\"\",Simulação!AA164)","v":"-"},{"$f":"IF($C164=\"\",\"\",Simulação!AB164)","v":136.83060944284537},{"$f":"IF($C164=\"\",\"\",Simulação!AC164)","v":"-"},{"$f":"IF($C164=\"\",\"\",Simulação!AD164)","v":140.66887446424042},{"$f":"IF($C164=\"\",\"\",Simulação!AE164)","v":"-"},{"$f":"IF($C164=\"\",\"\",Simulação!AF164)","v":34.388240562009656},{"$f":"IF($C164=\"\",\"\",Simulação!AG164)","v":"-"},{"$f":"IF($C164=\"\",\"\",Simulação!AH164)","v":29.236023829000793},{"$f":"IF($C164=\"\",\"\",Simulação!AI164)","v":"-"},{"$f":"IF($C164=\"\",\"\",Simulação!AJ164)","v":33.045125393740342},{"$f":"IF($C164=\"\",\"\",Simulação!AK164)","v":"-"},{"$f":"IF($C164=\"\",\"\",Simulação!AL164)","v":32.02721881559642},{"$f":"IF($C164=\"\",\"\",Simulação!AM164)","v":"-"},{"$f":"IF($C164=\"\",\"\",Simulação!AN164)","v":32.217563507182206},{"$f":"IF($C164=\"\",\"\",Simulação!AO164)","v":"-"},{"$f":"IF($C164=\"\",\"\",Simulação!AP164)","v":36.406016086434107},{"$f":"IF($C164=\"\",\"\",Simulação!AQ164)","v":"-"},{"$f":"IF($C164=\"\",\"\",Simulação!AR164)","v":0}]
[null,158,{"$f":"IF(Chegadas!J166<=$C$5,Chegadas!J166,\"\")","v":133.51000000000005},{"$f":"IF($C165=\"\",\"\",Simulação!D165)","v":6.8456405581889186},{"$f":"IF($C165=\"\",\"\",Simulação!E165)","v":"*"},{"$f":"IF($C165=\"\",\"\",Simulação!F165)","v":136.72100679463819},{"$f":"IF($C165=\"\",\"\",Simulação!G165)","v":"*"},{"$f":"IF($C165=\"\",\"\",Simulação!H165)","v":134.73983062020994},{"$f":"IF($C165=\"\",\"\",Simulação!I165)","v":"*"},{"$f":"IF($C165=\"\",\"\",Simulação!J165)","v":135.64943488432553},{"$f":"IF($C165=\"\",\"\",Simulação!K165)","v":"*"},{"$f":"IF($C165=\"\",\"\",Simulação!L165)","v":141.69086116467287},{"$f":"IF($C165=\"\",\"\",Simulação!M165)","v":133.51000000000005},{"$f":"IF($C165=\"\",\"\",Simulação!N165)","v":140.35564055818895},{"$f":"IF($C165=\"\",\"\",Simulação!O165)","v":"-"},{"$f":"IF($C165=\"\",\"\",Simulação!P165)","v":134.57740250077501},{"$f":"IF($C165=\"\",\"\",Simulação!Q165)","v":"-"},{"$f":"IF($C165=\"\",\"\",Simulação!R165)","v":129.28754015216293},{"$f":"IF($C165=\"\",\"\",Simulação!S165)","v":"-"},{"$f":"IF($C165=\"\",\"\",Simulação!T165)","v":137.98777820992552},{"$f":"IF($C165=\"\",\"\",Simulação!U165)","v":"-"},{"$f":"IF($C165=\"\",\"\",Simulação!V165)","v":139.12219306396611},{"$f":"IF($C165=\"\",\"\",Simulação!W165)","v":"-"},{"$f":"IF($C165=\"\",\"\",Simulação!X165)","v":133.32735711249995},{"$f":"IF($C165=\"\",\"\",Simulação!Y165)","v":"-"},{"$f":"IF($C165=\"\",\"\",Simulação!Z165)","v":136.07846626974859},{"$f":"IF($C165=\"\",\"\",Simulação!AA165)","v":"-"},{"$f":"IF($C165=\"\",\"\",Simulação!AB165)","v":136.83060944284537},{"$f":"IF($C165=\"\",\"\",Simulação!AC165)","v":"-"},{"$f":"IF($C165=\"\",\"\",Simulação!AD165)","v":140.66887446424042},{"$f":"IF($C165=\"\",\"\",Simulação!AE165)","v":"-"},{"$f":"IF($C165=\"\",\"\",Simulação!AF165)","v":34.388240562009656},{"$f":"IF($C165=\"\",\"\",Simulação!AG165)","v":"-"},{"$f":"IF($C165=\"\",\"\",Simulação!AH165)","v":29.236023829000793},{"$f":"IF($C165=\"\",\"\",Simulação!AI165)","v":"-"},{"$f":"IF($C165=\"\",\"\",Simulação!AJ165)","v":33.045125393740342},{"$f":"IF($C165=\"\",\"\",Simulação!AK165)","v":"-"},{"$f":"IF($C165=\"\",\"\",Simulação!AL165)","v":32.02721881559642},{"$f":"IF($C165=\"\",\"\",Simulação!AM165)","v":"-"},{"$f":"IF($C165=\"\",\"\",Simulação!AN165)","v":32.217563507182206},{"$f":"IF($C165=\"\",\"\",Simulação!AO165)","v":"-"},{"$f":"IF($C165=\"\",\"\",Simulação!AP165)","v":36.406016086434107},{"$f":"IF($C165=\"\",\"\",Simulação!AQ165)","v":"-"},{"$f":"IF($C165=\"\",\"\",Simulação!AR165)","v":0}]
[null,159,{"$f":"IF(Chegadas!J167<=$C$5,Chegadas!J167,\"\")","v":134.22999999999999},{"$f":"IF($C166=\"\",\"\",Simulação!D166)","v":1.2322969898300555},{"$f":"IF($C166=\"\",\"\",Simulação!E166)","v":"*"},{"$f":"IF($C166=\"\",\"\",Simulação!F166)","v":136.72100679463819},{"$f":"IF($C166=\"\",\"\",Simulação!G166)","v":"*"},{"$f":"IF($C166=\"\",\"\",Simulação!H166)","v":134.73983062020994},{"$f":"IF($C166=\"\",\"\",Simulação!I166)","v":"*"},{"$f":"IF($C166=\"\",\"\",Simulação!J166)","v":135.64943488432553},{"$f":"IF($C166=\"\",\"\",Simulação!K166)","v":"*"},{"$f":"IF($C166=\"\",\"\",Simulação!L166)","v":141.69086116467287},{"$f":"IF($C166=\"\",\"\",Simulação!M166)","v":"*"},{"$f":"IF($C166=\"\",\"\",Simulação!N166)","v":140.35564055818895},{"$f":"IF($C166=\"\",\"\",Simulação!O166)","v":"*"},{"$f":"IF($C166=\"\",\"\",Simulação!P166)","v":134.57740250077501},{"$f":"IF($C166=\"\",\"\",Simulação!Q166)","v":134.22999999999999},{"$f":"IF($C166=\"\",\"\",Simulação!R166)","v":135.46229698983004},{"$f":"IF($C166=\"\",\"\",Simulação!S166)","v":"-"},{"$f":"IF($C166=\"\",\"\",Simulação!T166)","v":137.98777820992552},{"$f":"IF($C166=\"\",\"\",Simulação!U166)","v":"-"},{"$f":"IF($C166=\"\",\"\",Simulação!V166)","v":139.12219306396611},{"$f":"IF($C166=\"\",\"\",Simulação!W166)","v":"-"},{"$f":"IF($C166=\"\",\"\",Simulação!X166)","v":133.32735711249995},{"$f":"IF($C166=\"\",\"\",Simulação!Y166)","v":"-"},{"$f":"IF($C166=\"\",\"\",Simulação!Z166)","v":136.07846626974859},{"$f":"IF($C166=\"\",\"\",Simulação!AA166)","v":"-"},{"$f":"IF($C166=\"\",\"\",Simulação!AB166)","v":136.83060944284537},{"$f":"IF($C166=\"\",\"\",Simulação!AC166)","v":"-"},{"$f":"IF($C166=\"\",\"\",Simulação!AD166)","v":140.66887446424042},{"$f":"IF($C166=\"\",\"\",Simulação!AE166)","v":"-"},{"$f":"IF($C166=\"\",\"\",Simulação!AF166)","v":34.388240562009656},{"$f":"IF($C166=\"\",\"\",Simulação!AG166)","v":"-"},{"$f":"IF($C166=\"\",\"\",Simulação!AH166)","v":29.236023829000793},{"$f":"IF($C166=\"\",\"\",Simulação!AI166)","v":"-"},{"$f":"IF($C166=\"\",\"\",Simulação!AJ166)","v":33.045125393740342},{"$f":"IF($C166=\"\",\"\",Simulação!AK166)","v":"-"},{"$f":"IF($C166=\"\",\"\",Simulação!AL166)","v":32.02721881559642},{"$f":"IF($C166=\"\",\"\",Simulação!AM166)","v":"-"},{"$f":"IF($C166=\"\",\"\",Simulação!AN166)","v":32.217563507182206},{"$f":"IF($C166=\"\",\"\",Simulação!AO166)","v":"-"},{"$f":"IF($C166=\"\",\"\",Simulação!AP166)","v":36.406016086434107},{"$f":"IF($C166=\"\",\"\",Simulação!AQ166)","v":"-"},{"$f":"IF($C166=\"\",\"\",Simulação!AR166)","v":0}]
[null,160,{"$f":"IF(Chegadas!J168<=$C$5,Chegadas!J168,\"\")","v":135.90000000000003},{"$f":"IF($C167=\"\",\"\",Simulação!D167)","v":5.9804484030827867},{"$f":"IF($C167=\"\",\"\",Simulação!E167)","v":"*"},{"$f":"IF($C167=\"\",\"\",Simulação!F167)","v":136.72100679463819},{"$f":"IF($C167=\"\",\"\",Simulação!G167)","v":135.90000000000003},{"$f":"IF($C167=\"\",\"\",Simulação!H167)","v":141.88044840308282},{"$f":"IF($C167=\"\",\"\",Simulação!I167)","v":"-"},{"$f":"IF($C167=\"\",\"\",Simulação!J167)","v":135.64943488432553},{"$f":"IF($C167=\"\",\"\",Simulação!K167)","v":"-"},{"$f":"IF($C167=\"\",\"\",Simulação!L167)","v":141.69086116467287},{"$f":"IF($C167=\"\",\"\",Simulação!M167)","v":"-"},{"$f":"IF($C167=\"\",\"\",Simulação!N167)","v":140.35564055818895},{"$f":"IF($C167=\"\",\"\",Simulação!O167)","v":"-"},{"$f":"IF($C167=\"\",\"\",Simulação!P167)","v":134.57740250077501},{"$f":"IF($C167=\"\",\"\",Simulação!Q167)","v":"-"},{"$f":"IF($C167=\"\",\"\",Simulação!R167)","v":135.46229698983004},{"$f":"IF($C167=\"\",\"\",Simulação!S167)","v":"-"},{"$f":"IF($C167=\"\",\"\",Simulação!T167)","v":137.98777820992552},{"$f":"IF($C167=\"\",\"\",Simulação!U167)","v":"-"},{"$f":"IF($C167=\"\",\"\",Simulação!V167)","v":139.12219306396611},{"$f":"IF($C167=\"\",\"\",Simulação!W167)","v":"-"},{"$f":"IF($C167=\"\",\"\",Simulação!X167)","v":133.32735711249995},{"$f":"IF($C167=\"\",\"\",Simulação!Y167)","v":"-"},{"$f":"IF($C167=\"\",\"\",Simulação!Z167)","v":136.07846626974859},{"$f":"IF($C167=\"\",\"\",Simulação!AA167)","v":"-"},{"$f":"IF($C167=\"\",\"\",Simulação!AB167)","v":136.83060944284537},{"$f":"IF($C167=\"\",\"\",Simulação!AC167)","v":"-"},{"$f":"IF($C167=\"\",\"\",Simulação!AD167)","v":140.66887446424042},{"$f":"IF($C167=\"\",\"\",Simulação!AE167)","v":"-"},{"$f":"IF($C167=\"\",\"\",Simulação!AF167)","v":34.388240562009656},{"$f":"IF($C167=\"\",\"\",Simulação!AG167)","v":"-"},{"$f":"IF($C167=\"\",\"\",Simulação!AH167)","v":29.236023829000793},{"$f":"IF($C167=\"\",\"\",Simulação!AI167)","v":"-"},{"$f":"IF($C167=\"\",\"\",Simulação!AJ167)","v":33.045125393740342},{"$f":"IF($C167=\"\",\"\",Simulação!AK167)","v":"-"},{"$f":"IF($C167=\"\",\"\",Simulação!AL167)","v":32.02721881559642},{"$f":"IF($C167=\"\",\"\",Simulação!AM167)","v":"-"},{"$f":"IF($C167=\"\",\"\",Simulação!AN167)","v":32.217563507182206},{"$f":"IF($C167=\"\",\"\",Simulação!AO167)","v":"-"},{"$f":"IF($C167=\"\",\"\",Simulação!AP167)","v":36.406016086434107},{"$f":"IF($C167=\"\",\"\",Simulação!AQ167)","v":"-"},{"$f":"IF($C167=\"\",\"\",Simulação!AR167)","v":0}]
[null,161,{"$f":"IF(Chegadas!J169<=$C$5,Chegadas!J169,\"\")","v":136.16},{"$f":"IF($C168=\"\",\"\",Simulação!D168)","v":0.79173086834609729},{"$f":"IF($C168=\"\",\"\",Simulação!E168)","v":"*"},{"$f":"IF($C168=\"\",\"\",Simulação!F168)","v":136.72100679463819},{"$f":"IF($C168=\"\",\"\",Simulação!G168)","v":"*"},{"$f":"IF($C168=\"\",\"\",Simulação!H168)","v":141.88044840308282},{"$f":"IF($C168=\"\",\"\",Simulação!I168)","v":136.16},{"$f":"IF($C168=\"\",\"\",Simulação!J168)","v":136.95173086834609},{"$f":"IF($C168=\"\",\"\",Simulação!K168)","v":"-"},{"$f":"IF($C168=\"\",\"\",Simulação!L168)","v":141.69086116467287},{"$f":"IF($C168=\"\",\"\",Simulação!M168)","v":"-"},{"$f":"IF($C168=\"\",\"\",Simulação!N168)","v":140.35564055818895},{"$f":"IF($C168=\"\",\"\",Simulação!O168)","v":"-"},{"$f":"IF($C168=\"\",\"\",Simulação!P168)","v":134.57740250077501},{"$f":"IF($C168=\"\",\"\",Simulação!Q168)","v":"-"},{"$f":"IF($C168=\"\",\"\",Simulação!R168)","v":135.46229698983004},{"$f":"IF($C168=\"\",\"\",Simulação!S168)","v":"-"},{"$f":"IF($C168=\"\",\"\",Simulação!T168)","v":137.98777820992552},{"$f":"IF($C168=\"\",\"\",Simulação!U168)","v":"-"},{"$f":"IF($C168=\"\",\"\",Simulação!V168)","v":139.12219306396611},{"$f":"IF($C168=\"\",\"\",Simulação!W168)","v":"-"},{"$f":"IF($C168=\"\",\"\",Simulação!X168)","v":133.32735711249995},{"$f":"IF($C168=\"\",\"\",Simulação!Y168)","v":"-"},{"$f":"IF($C168=\"\",\"\",Simulação!Z168)","v":136.07846626974859},{"$f":"IF($C168=\"\",\"\",Simulação!AA168)","v":"-"},{"$f":"IF($C168=\"\",\"\",Simulação!AB168)","v":136.83060944284537},{"$f":"IF($C168=\"\",\"\",Simulação!AC168)","v":"-"},{"$f":"IF($C168=\"\",\"\",Simulação!AD168)","v":140.66887446424042},{"$f":"IF($C168=\"\",\"\",Simulação!AE168)","v":"-"},{"$f":"IF($C168=\"\",\"\",Simulação!AF168)","v":34.388240562009656},{"$f":"IF($C168=\"\",\"\",Simulação!AG168)","v":"-"},{"$f":"IF($C168=\"\",\"\",Simulação!AH168)","v":29.236023829000793},{"$f":"IF($C168=\"\",\"\",Simulação!AI168)","v":"-"},{"$f":"IF($C168=\"\",\"\",Simulação!AJ168)","v":33.045125393740342},{"$f":"IF($C168=\"\",\"\",Simulação!AK168)","v":"-"},{"$f":"IF($C168=\"\",\"\",Simulação!AL168)","v":32.02721881559642},{"$f":"IF($C168=\"\",\"\",Simulação!AM168)","v":"-"},{"$f":"IF($C168=\"\",\"\",Simulação!AN168)","v":32.217563507182206},{"$f":"IF($C168=\"\",\"\",Simulação!AO168)","v":"-"},{"$f":"IF($C168=\"\",\"\",Simulação!AP168)","v":36.406016086434107},{"$f":"IF($C168=\"\",\"\",Simulação!AQ168)","v":"-"},{"$f":"IF($C168=\"\",\"\",Simulação!AR168)","v":0}]
[null,162,{"$f":"IF(Chegadas!J170<=$C$5,Chegadas!J170,\"\")","v":137.42000000000004},{"$f":"IF($C169=\"\",\"\",Simulação!D169)","v":9.244009880788985},{"$f":"IF($C169=\"\",\"\",Simulação!E169)","v":137.42000000000004},{"$f":"IF($C169=\"\",\"\",Simulação!F169)","v":146.66400988078902},{"$f":"IF($C169=\"\",\"\",Simulação!G169)","v":"-"},{"$f":"IF($C169=\"\",\"\",Simulação!H169)","v":141.88044840308282},{"$f":"IF($C169=\"\",\"\",Simulação!I169)","v":"-"},{"$f":"IF($C169=\"\",\"\",Simulação!J169)","v":136.95173086834609},{"$f":"IF($C169=\"\",\"\",Simulação!K169)","v":"-"},{"$f":"IF($C169=\"\",\"\",Simulação!L169)","v":141.69086116467287},{"$f":"IF($C169=\"\",\"\",Simulação!M169)","v":"-"},{"$f":"IF($C169=\"\",\"\",Simulação!N169)","v":140.35564055818895},{"$f":"IF($C169=\"\",\"\",Simulação!O169)","v":"-"},{"$f":"IF($C169=\"\",\"\",Simulação!P169)","v":134.57740250077501},{"$f":"IF($C169=\"\",\"\",Simulação!Q169)","v":"-"},{"$f":"IF($C169=\"\",\"\",Simulação!R169)","v":135.46229698983004},{"$f":"IF($C169=\"\",\"\",Simulação!S169)","v":"-"},{"$f":"IF($C169=\"\",\"\",Simulação!T169)","v":137.98777820992552},{"$f":"IF($C169=\"\",\"\",Simulação!U169)","v":"-"},{"$f":"IF($C169=\"\",\"\",Simulação!V169)","v":139.12219306396611},{"$f":"IF($C169=\"\",\"\",Simulação!W169)","v":"-"},{"$f":"IF($C169=\"\",\"\",Simulação!X169)","v":133.32735711249995},{"$f":"IF($C169=\"\",\"\",Simulação!Y169)","v":"-"},{"$f":"IF($C169=\"\",\"\",Simulação!Z169)","v":136.07846626974859},{"$f":"IF($C169=\"\",\"\",Simulação!AA169)","v":"-"},{"$f":"IF($C169=\"\",\"\",Simulação!AB169)","v":136.83060944284537},{"$f":"IF($C169=\"\",\"\",Simulação!AC169)","v":"-"},{"$f":"IF($C169=\"\",\"\",Simulação!AD169)","v":140.66887446424042},{"$f":"IF($C169=\"\",\"\",Simulação!AE169)","v":"-"},{"$f":"IF($C169=\"\",\"\",Simulação!AF169)","v":34.388240562009656},{"$f":"IF($C169=\"\",\"\",Simulação!AG169)","v":"-"},{"$f":"IF($C169=\"\",\"\",Simulação!AH169)","v":29.236023829000793},{"$f":"IF($C169=\"\",\"\",Simulação!AI169)","v":"-"},{"$f":"IF($C169=\"\",\"\",Simulação!AJ169)","v":33.045125393740342},{"$f":"IF($C169=\"\",\"\",Simulação!AK169)","v":"-"},{"$f":"IF($C169=\"\",\"\",Simulação!AL169)","v":32.02721881559642},{"$f":"IF($C169=\"\",\"\",Simulação!AM169)","v":"-"},{"$f":"IF($C169=\"\",\"\",Simulação!AN169)","v":32.217563507182206},{"$f":"IF($C169=\"\",\"\",Simulação!AO169)","v":"-"},{"$f":"IF($C169=\"\",\"\",Simulação!AP169)","v":36.406016086434107},{"$f":"IF($C169=\"\",\"\",Simulação!AQ169)","v":"-"},{"$f":"IF($C169=\"\",\"\",Simulação!AR169)","v":0}]
[null,163,{"$f":"IF(Chegadas!J171<=$C$5,Chegadas!J171,\"\")","v":139.57000000000005},{"$f":"IF($C170=\"\",\"\",Simulação!D170)","v":14.248969452521342},{"$f":"IF($C170=\"\",\"\",Simulação!E170)","v":"*"},{"$f":"IF($C170=\"\",\"\",Simulação!F170)","v":146.66400988078902},{"$f":"IF($C170=\"\",\"\",Simulação!G170)","v":"*"},{"$f":"IF($C170=\"\",\"\",Simulação!H170)","v":141.88044840308282},{"$f":"IF($C170=\"\",\"\",Simulação!I170)","v":139.57000000000005},{"$f":"IF($C170=\"\",\"\",Simulação!J170)","v":153.8189694525214},{"$f":"IF($C170=\"\",\"\",Simulação!K170)","v":"-"},{"$f":"IF($C170=\"\",\"\",Simulação!L170)","v":141.69086116467287},{"$f":"IF($C170=\"\",\"\",Simulação!M170)","v":"-"},{"$f":"IF($C170=\"\",\"\",Simulação!N170)","v":140.35564055818895},{"$f":"IF($C170=\"\",\"\",Simulação!O170)","v":"-"},{"$f":"IF($C170=\"\",\"\",Simulação!P170)","v":134.57740250077501},{"$f":"IF($C170=\"\",\"\",Simulação!Q170)","v":"-"},{"$f":"IF($C170=\"\",\"\",Simulação!R170)","v":135.46229698983004},{"$f":"IF($C170=\"\",\"\",Simulação!S170)","v":"-"},{"$f":"IF($C170=\"\",\"\",Simulação!T170)","v":137.98777820992552},{"$f":"IF($C170=\"\",\"\",Simulação!U170)","v":"-"},{"$f":"IF($C170=\"\",\"\",Simulação!V170)","v":139.12219306396611},{"$f":"IF($C170=\"\",\"\",Simulação!W170)","v":"-"},{"$f":"IF($C170=\"\",\"\",Simulação!X170)","v":133.32735711249995},{"$f":"IF($C170=\"\",\"\",Simulação!Y170)","v":"-"},{"$f":"IF($C170=\"\",\"\",Simulação!Z170)","v":136.07846626974859},{"$f":"IF($C170=\"\",\"\",Simulação!AA170)","v":"-"},{"$f":"IF($C170=\"\",\"\",Simulação!AB170)","v":136.83060944284537},{"$f":"IF($C170=\"\",\"\",Simulação!AC170)","v":"-"},{"$f":"IF($C170=\"\",\"\",Simulação!AD170)","v":140.66887446424042},{"$f":"IF($C170=\"\",\"\",Simulação!AE170)","v":"-"},{"$f":"IF($C170=\"\",\"\",Simulação!AF170)","v":34.388240562009656},{"$f":"IF($C170=\"\",\"\",Simulação!AG170)","v":"-"},{"$f":"IF($C170=\"\",\"\",Simulação!AH170)","v":29.236023829000793},{"$f":"IF($C170=\"\",\"\",Simulação!AI170)","v":"-"},{"$f":"IF($C170=\"\",\"\",Simulação!AJ170)","v":33.045125393740342},{"$f":"IF($C170=\"\",\"\",Simulação!AK170)","v":"-"},{"$f":"IF($C170=\"\",\"\",Simulação!AL170)","v":32.02721881559642},{"$f":"IF($C170=\"\",\"\",Simulação!AM170)","v":"-"},{"$f":"IF($C170=\"\",\"\",Simulação!AN170)","v":32.217563507182206},{"$f":"IF($C170=\"\",\"\",Simulação!AO170)","v":"-"},{"$f":"IF($C170=\"\",\"\",Simulação!AP170)","v":36.406016086434107},{"$f":"IF($C170=\"\",\"\",Simulação!AQ170)","v":"-"},{"$f":"IF($C170=\"\",\"\",Simulação!AR170)","v":0}]
[null,164,{"$f":"IF(Chegadas!J172<=$C$5,Chegadas!J172,\"\")","v":141.35000000000005},{"$f":"IF($C171=\"\",\"\",Simulação!D171)","v":4.1742776233891945},{"$f":"IF($C171=\"\",\"\",Simulação!E171)","v":"*"},{"$f":"IF($C171=\"\",\"\",Simulação!F171)","v":146.66400988078902},{"$f":"IF($C171=\"\",\"\",Simulação!G171)","v":"*"},{"$f":"IF($C171=\"\",\"\",Simulação!H171)","v":141.88044840308282},{"$f":"IF($C171=\"\",\"\",Simulação!I171)","v":"*"},{"$f":"IF($C171=\"\",\"\",Simulação!J171)","v":153.8189694525214},{"$f":"IF($C171=\"\",\"\",Simulação!K171)","v":"*"},{"$f":"IF($C171=\"\",\"\",Simulação!L171)","v":141.69086116467287},{"$f":"IF($C171=\"\",\"\",Simulação!M171)","v":141.35000000000005},{"$f":"IF($C171=\"\",\"\",Simulação!N171)","v":145.52427762338925},{"$f":"IF($C171=\"\",\"\",Simulação!O171)","v":"-"},{"$f":"IF($C171=\"\",\"\",Simulação!P171)","v":134.57740250077501},{"$f":"IF($C171=\"\",\"\",Simulação!Q171)","v":"-"},{"$f":"IF($C171=\"\",\"\",Simulação!R171)","v":135.46229698983004},{"$f":"IF($C171=\"\",\"\",Simulação!S171)","v":"-"},{"$f":"IF($C171=\"\",\"\",Simulação!T171)","v":137.98777820992552},{"$f":"IF($C171=\"\",\"\",Simulação!U171)","v":"-"},{"$f":"IF($C171=\"\",\"\",Simulação!V171)","v":139.12219306396611},{"$f":"IF($C171=\"\",\"\",Simulação!W171)","v":"-"},{"$f":"IF($C171=\"\",\"\",Simulação!X171)","v":133.32735711249995},{"$f":"IF($C171=\"\",\"\",Simulação!Y171)","v":"-"},{"$f":"IF($C171=\"\",\"\",Simulação!Z171)","v":136.07846626974859},{"$f":"IF($C171=\"\",\"\",Simulação!AA171)","v":"-"},{"$f":"IF($C171=\"\",\"\",Simulação!AB171)","v":136.83060944284537},{"$f":"IF($C171=\"\",\"\",Simulação!AC171)","v":"-"},{"$f":"IF($C171=\"\",\"\",Simulação!AD171)","v":140.66887446424042},{"$f":"IF($C171=\"\",\"\",Simulação!AE171)","v":"-"},{"$f":"IF($C171=\"\",\"\",Simulação!AF171)","v":34.388240562009656},{"$f":"IF($C171=\"\",\"\",Simulação!AG171)","v":"-"},{"$f":"IF($C171=\"\",\"\",Simulação!AH171)","v":29.236023829000793},{"$f":"IF($C171=\"\",\"\",Simulação!AI171)","v":"-"},{"$f":"IF($C171=\"\",\"\",Simulação!AJ171)","v":33.045125393740342},{"$f":"IF($C171=\"\",\"\",Simulação!AK171)","v":"-"},{"$f":"IF($C171=\"\",\"\",Simulação!AL171)","v":32.02721881559642},{"$f":"IF($C171=\"\",\"\",Simulação!AM171)","v":"-"},{"$f":"IF($C171=\"\",\"\",Simulação!AN171)","v":32.217563507182206},{"$f":"IF($C171=\"\",\"\",Simulação!AO171)","v":"-"},{"$f":"IF($C171=\"\",\"\",Simulação!AP171)","v":36.406016086434107},{"$f":"IF($C171=\"\",\"\",Simulação!AQ171)","v":"-"},{"$f":"IF($C171=\"\",\"\",Simulação!AR171)","v":0}]
[null,165,{"$f":"IF(Chegadas!J173<=$C$5,Chegadas!J173,\"\")","v":141.93000000000006},{"$f":"IF($C172=\"\",\"\",Simulação!D172)","v":5.8914107979795416},{"$f":"IF($C172=\"\",\"\",Simulação!E172)","v":"*"},{"$f":"IF($C172=\"\",\"\",Simulação!F172)","v":146.66400988078902},{"$f":"IF($C172=\"\",\"\",Simulação!G172)","v":141.93000000000006},{"$f":"IF($C172=\"\",\"\",Simulação!H172)","v":147.82141079797961},{"$f":"IF($C172=\"\",\"\",Simulação!I172)","v":"-"},{"$f":"IF($C172=\"\",\"\",Simulação!J172)","v":153.8189694525214},{"$f":"IF($C172=\"\",\"\",Simulação!K172)","v":"-"},{"$f":"IF($C172=\"\",\"\",Simulação!L172)","v":141.69086116467287},{"$f":"IF($C172=\"\",\"\",Simulação!M172)","v":"-"},{"$f":"IF($C172=\"\",\"\",Simulação!N172)","v":145.52427762338925},{"$f":"IF($C172=\"\",\"\",Simulação!O172)","v":"-"},{"$f":"IF($C172=\"\",\"\",Simulação!P172)","v":134.57740250077501},{"$f":"IF($C172=\"\",\"\",Simulação!Q172)","v":"-"},{"$f":"IF($C172=\"\",\"\",Simulação!R172)","v":135.46229698983004},{"$f":"IF($C172=\"\",\"\",Simulação!S172)","v":"-"},{"$f":"IF($C172=\"\",\"\",Simulação!T172)","v":137.98777820992552},{"$f":"IF($C172=\"\",\"\",Simulação!U172)","v":"-"},{"$f":"IF($C172=\"\",\"\",Simulação!V172)","v":139.12219306396611},{"$f":"IF($C172=\"\",\"\",Simulação!W172)","v":"-"},{"$f":"IF($C172=\"\",\"\",Simulação!X172)","v":133.32735711249995},{"$f":"IF($C172=\"\",\"\",Simulação!Y172)","v":"-"},{"$f":"IF($C172=\"\",\"\",Simulação!Z172)","v":136.07846626974859},{"$f":"IF($C172=\"\",\"\",Simulação!AA172)","v":"-"},{"$f":"IF($C172=\"\",\"\",Simulação!AB172)","v":136.83060944284537},{"$f":"IF($C172=\"\",\"\",Simulação!AC172)","v":"-"},{"$f":"IF($C172=\"\",\"\",Simulação!AD172)","v":140.66887446424042},{"$f":"IF($C172=\"\",\"\",Simulação!AE172)","v":"-"},{"$f":"IF($C172=\"\",\"\",Simulação!AF172)","v":34.388240562009656},{"$f":"IF($C172=\"\",\"\",Simulação!AG172)","v":"-"},{"$f":"IF($C172=\"\",\"\",Simulação!AH172)","v":29.236023829000793},{"$f":"IF($C172=\"\",\"\",Simulação!AI172)","v":"-"},{"$f":"IF($C172=\"\",\"\",Simulação!AJ172)","v":33.045125393740342},{"$f":"IF($C172=\"\",\"\",Simulação!AK172)","v":"-"},{"$f":"IF($C172=\"\",\"\",Simulação!AL172)","v":32.02721881559642},{"$f":"IF($C172=\"\",\"\",Simulação!AM172)","v":"-"},{"$f":"IF($C172=\"\",\"\",Simulação!AN172)","v":32.217563507182206},{"$f":"IF($C172=\"\",\"\",Simulação!AO172)","v":"-"},{"$f":"IF($C172=\"\",\"\",Simulação!AP172)","v":36.406016086434107},{"$f":"IF($C172=\"\",\"\",Simulação!AQ172)","v":"-"},{"$f":"IF($C172=\"\",\"\",Simulação!AR172)","v":0}]
[null,166,{"$f":"IF(Chegadas!J174<=$C$5,Chegadas!J174,\"\")","v":142.82000000000005},{"$f":"IF($C173=\"\",\"\",Simulação!D173)","v":9.6884596421898745},{"$f":"IF($C173=\"\",\"\",Simulação!E173)","v":"*"},{"$f":"IF($C173=\"\",\"\",Simulação!F173)","v":146.66400988078902},{"$f":"IF($C173=\"\",\"\",Simulação!G173)","v":"*"},{"$f":"IF($C173=\"\",\"\",Simulação!H173)","v":147.82141079797961},{"$f":"IF($C173=\"\",\"\",Simulação!I173)","v":"*"},{"$f":"IF($C173=\"\",\"\",Simulação!J173)","v":153.8189694525214},{"$f":"IF($C173=\"\",\"\",Simulação!K173)","v":142.82000000000005},{"$f":"IF($C173=\"\",\"\",Simulação!L173)","v":152.50845964218993},{"$f":"IF($C173=\"\",\"\",Simulação!M173)","v":"-"},{"$f":"IF($C173=\"\",\"\",Simulação!N173)","v":145.52427762338925},{"$f":"IF($C173=\"\",\"\",Simulação!O173)","v":"-"},{"$f":"IF($C173=\"\",\"\",Simulação!P173)","v":134.57740250077501},{"$f":"IF($C173=\"\",\"\",Simulação!Q173)","v":"-"},{"$f":"IF($C173=\"\",\"\",Simulação!R173)","v":135.46229698983004},{"$f":"IF($C173=\"\",\"\",Simulação!S173)","v":"-"},{"$f":"IF($C173=\"\",\"\",Simulação!T173)","v":137.98777820992552},{"$f":"IF($C173=\"\",\"\",Simulação!U173)","v":"-"},{"$f":"IF($C173=\"\",\"\",Simulação!V173)","v":139.12219306396611},{"$f":"IF($C173=\"\",\"\",Simulação!W173)","v":"-"},{"$f":"IF($C173=\"\",\"\",Simulação!X173)","v":133.32735711249995},{"$f":"IF($C173=\"\",\"\",Simulação!Y173)","v":"-"},{"$f":"IF($C173=\"\",\"\",Simulação!Z173)","v":136.07846626974859},{"$f":"IF($C173=\"\",\"\",Simulação!AA173)","v":"-"},{"$f":"IF($C173=\"\",\"\",Simulação!AB173)","v":136.83060944284537},{"$f":"IF($C173=\"\",\"\",Simulação!AC173)","v":"-"},{"$f":"IF($C173=\"\",\"\",Simulação!AD173)","v":140.66887446424042},{"$f":"IF($C173=\"\",\"\",Simulação!AE173)","v":"-"},{"$f":"IF($C173=\"\",\"\",Simulação!AF173)","v":34.388240562009656},{"$f":"IF($C173=\"\",\"\",Simulação!AG173)","v":"-"},{"$f":"IF($C173=\"\",\"\",Simulação!AH173)","v":29.236023829000793},{"$f":"IF($C173=\"\",\"\",Simulação!AI173)","v":"-"},{"$f":"IF($C173=\"\",\"\",Simulação!AJ173)","v":33.045125393740342},{"$f":"IF($C173=\"\",\"\",Simulação!AK173)","v":"-"},{"$f":"IF($C173=\"\",\"\",Simulação!AL173)","v":32.02721881559642},{"$f":"IF($C173=\"\",\"\",Simulação!AM173)","v":"-"},{"$f":"IF($C173=\"\",\"\",Simulação!AN173)","v":32.217563507182206},{"$f":"IF($C173=\"\",\"\",Simulação!AO173)","v":"-"},{"$f":"IF($C173=\"\",\"\",Simulação!AP173)","v":36.406016086434107},{"$f":"IF($C173=\"\",\"\",Simulação!AQ173)","v":"-"},{"$f":"IF($C173=\"\",\"\",Simulação!AR173)","v":0}]
[null,167,{"$f":"IF(Chegadas!J175<=$C$5,Chegadas!J175,\"\")","v":142.84000000000006},{"$f":"IF($C174=\"\",\"\",Simulação!D174)","v":15.947682695841905},{"$f":"IF($C174=\"\",\"\",Simulação!E174)","v":"*"},{"$f":"IF($C174=\"\",\"\",Simulação!F174)","v":146.66400988078902},{"$f":"IF($C174=\"\",\"\",Simulação!G174)","v":"*"},{"$f":"IF($C174=\"\",\"\",Simulação!H174)","v":147.82141079797961},{"$f":"IF($C174=\"\",\"\",Simulação!I174)","v":"*"},{"$f":"IF($C174=\"\",\"\",Simulação!J174)","v":153.8189694525214},{"$f":"IF($C174=\"\",\"\",Simulação!K174)","v":"*"},{"$f":"IF($C174=\"\",\"\",Simulação!L174)","v":152.50845964218993},{"$f":"IF($C174=\"\",\"\",Simulação!M174)","v":"*"},{"$f":"IF($C174=\"\",\"\",Simulação!N174)","v":145.52427762338925},{"$f":"IF($C174=\"\",\"\",Simulação!O174)","v":142.84000000000006},{"$f":"IF($C174=\"\",\"\",Simulação!P174)","v":158.78768269584197},{"$f":"IF($C174=\"\",\"\",Simulação!Q174)","v":"-"},{"$f":"IF($C174=\"\",\"\",Simulação!R174)","v":135.46229698983004},{"$f":"IF($C174=\"\",\"\",Simulação!S174)","v":"-"},{"$f":"IF($C174=\"\",\"\",Simulação!T174)","v":137.98777820992552},{"$f":"IF($C174=\"\",\"\",Simulação!U174)","v":"-"},{"$f":"IF($C174=\"\",\"\",Simulação!V174)","v":139.12219306396611},{"$f":"IF($C174=\"\",\"\",Simulação!W174)","v":"-"},{"$f":"IF($C174=\"\",\"\",Simulação!X174)","v":133.32735711249995},{"$f":"IF($C174=\"\",\"\",Simulação!Y174)","v":"-"},{"$f":"IF($C174=\"\",\"\",Simulação!Z174)","v":136.07846626974859},{"$f":"IF($C174=\"\",\"\",Simulação!AA174)","v":"-"},{"$f":"IF($C174=\"\",\"\",Simulação!AB174)","v":136.83060944284537},{"$f":"IF($C174=\"\",\"\",Simulação!AC174)","v":"-"},{"$f":"IF($C174=\"\",\"\",Simulação!AD174)","v":140.66887446424042},{"$f":"IF($C174=\"\",\"\",Simulação!AE174)","v":"-"},{"$f":"IF($C174=\"\",\"\",Simulação!AF174)","v":34.388240562009656},{"$f":"IF($C174=\"\",\"\",Simulação!AG174)","v":"-"},{"$f":"IF($C174=\"\",\"\",Simulação!AH174)","v":29.236023829000793},{"$f":"IF($C174=\"\",\"\",Simulação!AI174)","v":"-"},{"$f":"IF($C174=\"\",\"\",Simulação!AJ174)","v":33.045125393740342},{"$f":"IF($C174=\"\",\"\",Simulação!AK174)","v":"-"},{"$f":"IF($C174=\"\",\"\",Simulação!AL174)","v":32.02721881559642},{"$f":"IF($C174=\"\",\"\",Simulação!AM174)","v":"-"},{"$f":"IF($C174=\"\",\"\",Simulação!AN174)","v":32.217563507182206},{"$f":"IF($C174=\"\",\"\",Simulação!AO174)","v":"-"},{"$f":"IF($C174=\"\",\"\",Simulação!AP174)","v":36.406016086434107},{"$f":"IF($C174=\"\",\"\",Simulação!AQ174)","v":"-"},{"$f":"IF($C174=\"\",\"\",Simulação!AR174)","v":0}]
[null,168,{"$f":"IF(Chegadas!J176<=$C$5,Chegadas!J176,\"\")","v":145.00000000000006},{"$f":"IF($C175=\"\",\"\",Simulação!D175)","v":2.0928782470624601},{"$f":"IF($C175=\"\",\"\",Simulação!E175)","v":"*"},{"$f":"IF($C175=\"\",\"\",Simulação!F175)","v":146.66400988078902},{"$f":"IF($C175=\"\",\"\",Simulação!G175)","v":"*"},{"$f":"IF($C175=\"\",\"\",Simulação!H175)","v":147.82141079797961},{"$f":"IF($C175=\"\",\"\",Simulação!I175)","v":"*"},{"$f":"IF($C175=\"\",\"\",Simulação!J175)","v":153.8189694525214},{"$f":"IF($C175=\"\",\"\",Simulação!K175)","v":"*"},{"$f":"IF($C175=\"\",\"\",Simulação!L175)","v":152.50845964218993},{"$f":"IF($C175=\"\",\"\",Simulação!M175)","v":"*"},{"$f":"IF($C175=\"\",\"\",Simulação!N175)","v":145.52427762338925},{"$f":"IF($C175=\"\",\"\",Simulação!O175)","v":"*"},{"$f":"IF($C175=\"\",\"\",Simulação!P175)","v":158.78768269584197},{"$f":"IF($C175=\"\",\"\",Simulação!Q175)","v":145.00000000000006},{"$f":"IF($C175=\"\",\"\",Simulação!R175)","v":147.09287824706252},{"$f":"IF($C175=\"\",\"\",Simulação!S175)","v":"-"},{"$f":"IF($C175=\"\",\"\",Simulação!T175)","v":137.98777820992552},{"$f":"IF($C175=\"\",\"\",Simulação!U175)","v":"-"},{"$f":"IF($C175=\"\",\"\",Simulação!V175)","v":139.12219306396611},{"$f":"IF($C175=\"\",\"\",Simulação!W175)","v":"-"},{"$f":"IF($C175=\"\",\"\",Simulação!X175)","v":133.32735711249995},{"$f":"IF($C175=\"\",\"\",Simulação!Y175)","v":"-"},{"$f":"IF($C175=\"\",\"\",Simulação!Z175)","v":136.07846626974859},{"$f":"IF($C175=\"\",\"\",Simulação!AA175)","v":"-"},{"$f":"IF($C175=\"\",\"\",Simulação!AB175)","v":136.83060944284537},{"$f":"IF($C175=\"\",\"\",Simulação!AC175)","v":"-"},{"$f":"IF($C175=\"\",\"\",Simulação!AD175)","v":140.66887446424042},{"$f":"IF($C175=\"\",\"\",Simulação!AE175)","v":"-"},{"$f":"IF($C175=\"\",\"\",Simulação!AF175)","v":34.388240562009656},{"$f":"IF($C175=\"\",\"\",Simulação!AG175)","v":"-"},{"$f":"IF($C175=\"\",\"\",Simulação!AH175)","v":29.236023829000793},{"$f":"IF($C175=\"\",\"\",Simulação!AI175)","v":"-"},{"$f":"IF($C175=\"\",\"\",Simulação!AJ175)","v":33.045125393740342},{"$f":"IF($C175=\"\",\"\",Simulação!AK175)","v":"-"},{"$f":"IF($C175=\"\",\"\",Simulação!AL175)","v":32.02721881559642},{"$f":"IF($C175=\"\",\"\",Simulação!AM175)","v":"-"},{"$f":"IF($C175=\"\",\"\",Simulação!AN175)","v":32.217563507182206},{"$f":"IF($C175=\"\",\"\",Simulação!AO175)","v":"-"},{"$f":"IF($C175=\"\",\"\",Simulação!AP175)","v":36.406016086434107},{"$f":"IF($C175=\"\",\"\",Simulação!AQ175)","v":"-"},{"$f":"IF($C175=\"\",\"\",Simulação!AR175)","v":0}]
[null,169,{"$f":"IF(Chegadas!J177<=$C$5,Chegadas!J177,\"\")","v":145.17000000000004},{"$f":"IF($C176=\"\",\"\",Simulação!D176)","v":4.2568472157158297},{"$f":"IF($C176=\"\",\"\",Simulação!E176)","v":"*"},{"$f":"IF($C176=\"\",\"\",Simulação!F176)","v":146.66400988078902},{"$f":"IF($C176=\"\",\"\",Simulação!G176)","v":"*"},{"$f":"IF($C176=\"\",\"\",Simulação!H176)","v":147.82141079797961},{"$f":"IF($C176=\"\",\"\",Simulação!I176)","v":"*"},{"$f":"IF($C176=\"\",\"\",Simulação!J176)","v":153.8189694525214},{"$f":"IF($C176=\"\",\"\",Simulação!K176)","v":"*"},{"$f":"IF($C176=\"\",\"\",Simulação!L176)","v":152.50845964218993},{"$f":"IF($C176=\"\",\"\",Simulação!M176)","v":"*"},{"$f":"IF($C176=\"\",\"\",Simulação!N176)","v":145.52427762338925},{"$f":"IF($C176=\"\",\"\",Simulação!O176)","v":"*"},{"$f":"IF($C176=\"\",\"\",Simulação!P176)","v":158.78768269584197},{"$f":"IF($C176=\"\",\"\",Simulação!Q176)","v":"*"},{"$f":"IF($C176=\"\",\"\",Simulação!R176)","v":147.09287824706252},{"$f":"IF($C176=\"\",\"\",Simulação!S176)","v":145.17000000000004},{"$f":"IF($C176=\"\",\"\",Simulação!T176)","v":149.42684721571587},{"$f":"IF($C176=\"\",\"\",Simulação!U176)","v":"-"},{"$f":"IF($C176=\"\",\"\",Simulação!V176)","v":139.12219306396611},{"$f":"IF($C176=\"\",\"\",Simulação!W176)","v":"-"},{"$f":"IF($C176=\"\",\"\",Simulação!X176)","v":133.32735711249995},{"$f":"IF($C176=\"\",\"\",Simulação!Y176)","v":"-"},{"$f":"IF($C176=\"\",\"\",Simulação!Z176)","v":136.07846626974859},{"$f":"IF($C176=\"\",\"\",Simulação!AA176)","v":"-"},{"$f":"IF($C176=\"\",\"\",Simulação!AB176)","v":136.83060944284537},{"$f":"IF($C176=\"\",\"\",Simulação!AC176)","v":"-"},{"$f":"IF($C176=\"\",\"\",Simulação!AD176)","v":140.66887446424042},{"$f":"IF($C176=\"\",\"\",Simulação!AE176)","v":"-"},{"$f":"IF($C176=\"\",\"\",Simulação!AF176)","v":34.388240562009656},{"$f":"IF($C176=\"\",\"\",Simulação!AG176)","v":"-"},{"$f":"IF($C176=\"\",\"\",Simulação!AH176)","v":29.236023829000793},{"$f":"IF($C176=\"\",\"\",Simulação!AI176)","v":"-"},{"$f":"IF($C176=\"\",\"\",Simulação!AJ176)","v":33.045125393740342},{"$f":"IF($C176=\"\",\"\",Simulação!AK176)","v":"-"},{"$f":"IF($C176=\"\",\"\",Simulação!AL176)","v":32.02721881559642},{"$f":"IF($C176=\"\",\"\",Simulação!AM176)","v":"-"},{"$f":"IF($C176=\"\",\"\",Simulação!AN176)","v":32.217563507182206},{"$f":"IF($C176=\"\",\"\",Simulação!AO176)","v":"-"},{"$f":"IF($C176=\"\",\"\",Simulação!AP176)","v":36.406016086434107},{"$f":"IF($C176=\"\",\"\",Simulação!AQ176)","v":"-"},{"$f":"IF($C176=\"\",\"\",Simulação!AR176)","v":0}]
[null,170,{"$f":"IF(Chegadas!J178<=$C$5,Chegadas!J178,\"\")","v":145.46000000000004},{"$f":"IF($C177=\"\",\"\",Simulação!D177)","v":3.2142144944279818},{"$f":"IF($C177=\"\",\"\",Simulação!E177)","v":"*"},{"$f":"IF($C177=\"\",\"\",Simulação!F177)","v":146.66400988078902},{"$f":"IF($C177=\"\",\"\",Simulação!G177)","v":"*"},{"$f":"IF($C177=\"\",\"\",Simulação!H177)","v":147.82141079797961},{"$f":"IF($C177=\"\",\"\",Simulação!I177)","v":"*"},{"$f":"IF($C177=\"\",\"\",Simulação!J177)","v":153.8189694525214},{"$f":"IF($C177=\"\",\"\",Simulação!K177)","v":"*"},{"$f":"IF($C177=\"\",\"\",Simulação!L177)","v":152.50845964218993},{"$f":"IF($C177=\"\",\"\",Simulação!M177)","v":"*"},{"$f":"IF($C177=\"\",\"\",Simulação!N177)","v":145.52427762338925},{"$f":"IF($C177=\"\",\"\",Simulação!O177)","v":"*"},{"$f":"IF($C177=\"\",\"\",Simulação!P177)","v":158.78768269584197},{"$f":"IF($C177=\"\",\"\",Simulação!Q177)","v":"*"},{"$f":"IF($C177=\"\",\"\",Simulação!R177)","v":147.09287824706252},{"$f":"IF($C177=\"\",\"\",Simulação!S177)","v":"*"},{"$f":"IF($C177=\"\",\"\",Simulação!T177)","v":149.42684721571587},{"$f":"IF($C177=\"\",\"\",Simulação!U177)","v":145.46000000000004},{"$f":"IF($C177=\"\",\"\",Simulação!V177)","v":148.67421449442801},{"$f":"IF($C177=\"\",\"\",Simulação!W177)","v":"-"},{"$f":"IF($C177=\"\",\"\",Simulação!X177)","v":133.32735711249995},{"$f":"IF($C177=\"\",\"\",Simulação!Y177)","v":"-"},{"$f":"IF($C177=\"\",\"\",Simulação!Z177)","v":136.07846626974859},{"$f":"IF($C177=\"\",\"\",Simulação!AA177)","v":"-"},{"$f":"IF($C177=\"\",\"\",Simulação!AB177)","v":136.83060944284537},{"$f":"IF($C177=\"\",\"\",Simulação!AC177)","v":"-"},{"$f":"IF($C177=\"\",\"\",Simulação!AD177)","v":140.66887446424042},{"$f":"IF($C177=\"\",\"\",Simulação!AE177)","v":"-"},{"$f":"IF($C177=\"\",\"\",Simulação!AF177)","v":34.388240562009656},{"$f":"IF($C177=\"\",\"\",Simulação!AG177)","v":"-"},{"$f":"IF($C177=\"\",\"\",Simulação!AH177)","v":29.236023829000793},{"$f":"IF($C177=\"\",\"\",Simulação!AI177)","v":"-"},{"$f":"IF($C177=\"\",\"\",Simulação!AJ177)","v":33.045125393740342},{"$f":"IF($C177=\"\",\"\",Simulação!AK177)","v":"-"},{"$f":"IF($C177=\"\",\"\",Simulação!AL177)","v":32.02721881559642},{"$f":"IF($C177=\"\",\"\",Simulação!AM177)","v":"-"},{"$f":"IF($C177=\"\",\"\",Simulação!AN177)","v":32.217563507182206},{"$f":"IF($C177=\"\",\"\",Simulação!AO177)","v":"-"},{"$f":"IF($C177=\"\",\"\",Simulação!AP177)","v":36.406016086434107},{"$f":"IF($C177=\"\",\"\",Simulação!AQ177)","v":"-"},{"$f":"IF($C177=\"\",\"\",Simulação!AR177)","v":0}]
[null,171,{"$f":"IF(Chegadas!J179<=$C$5,Chegadas!J179,\"\")","v":146.94000000000003},{"$f":"IF($C178=\"\",\"\",Simulação!D178)","v":7.1484370320129758},{"$f":"IF($C178=\"\",\"\",Simulação!E178)","v":146.94000000000003},{"$f":"IF($C178=\"\",\"\",Simulação!F178)","v":154.08843703201299},{"$f":"IF($C178=\"\",\"\",Simulação!G178)","v":"-"},{"$f":"IF($C178=\"\",\"\",Simulação!H178)","v":147.82141079797961},{"$f":"IF($C178=\"\",\"\",Simulação!I178)","v":"-"},{"$f":"IF($C178=\"\",\"\",Simulação!J178)","v":153.8189694525214},{"$f":"IF($C178=\"\",\"\",Simulação!K178)","v":"-"},{"$f":"IF($C178=\"\",\"\",Simulação!L178)","v":152.50845964218993},{"$f":"IF($C178=\"\",\"\",Simulação!M178)","v":"-"},{"$f":"IF($C178=\"\",\"\",Simulação!N178)","v":145.52427762338925},{"$f":"IF($C178=\"\",\"\",Simulação!O178)","v":"-"},{"$f":"IF($C178=\"\",\"\",Simulação!P178)","v":158.78768269584197},{"$f":"IF($C178=\"\",\"\",Simulação!Q178)","v":"-"},{"$f":"IF($C178=\"\",\"\",Simulação!R178)","v":147.09287824706252},{"$f":"IF($C178=\"\",\"\",Simulação!S178)","v":"-"},{"$f":"IF($C178=\"\",\"\",Simulação!T178)","v":149.42684721571587},{"$f":"IF($C178=\"\",\"\",Simulação!U178)","v":"-"},{"$f":"IF($C178=\"\",\"\",Simulação!V178)","v":148.67421449442801},{"$f":"IF($C178=\"\",\"\",Simulação!W178)","v":"-"},{"$f":"IF($C178=\"\",\"\",Simulação!X178)","v":133.32735711249995},{"$f":"IF($C178=\"\",\"\",Simulação!Y178)","v":"-"},{"$f":"IF($C178=\"\",\"\",Simulação!Z178)","v":136.07846626974859},{"$f":"IF($C178=\"\",\"\",Simulação!AA178)","v":"-"},{"$f":"IF($C178=\"\",\"\",Simulação!AB178)","v":136.83060944284537},{"$f":"IF($C178=\"\",\"\",Simulação!AC178)","v":"-"},{"$f":"IF($C178=\"\",\"\",Simulação!AD178)","v":140.66887446424042},{"$f":"IF($C178=\"\",\"\",Simulação!AE178)","v":"-"},{"$f":"IF($C178=\"\",\"\",Simulação!AF178)","v":34.388240562009656},{"$f":"IF($C178=\"\",\"\",Simulação!AG178)","v":"-"},{"$f":"IF($C178=\"\",\"\",Simulação!AH178)","v":29.236023829000793},{"$f":"IF($C178=\"\",\"\",Simulação!AI178)","v":"-"},{"$f":"IF($C178=\"\",\"\",Simulação!AJ178)","v":33.045125393740342},{"$f":"IF($C178=\"\",\"\",Simulação!AK178)","v":"-"},{"$f":"IF($C178=\"\",\"\",Simulação!AL178)","v":32.02721881559642},{"$f":"IF($C178=\"\",\"\",Simulação!AM178)","v":"-"},{"$f":"IF($C178=\"\",\"\",Simulação!AN178)","v":32.217563507182206},{"$f":"IF($C178=\"\",\"\",Simulação!AO178)","v":"-"},{"$f":"IF($C178=\"\",\"\",Simulação!AP178)","v":36.406016086434107},{"$f":"IF($C178=\"\",\"\",Simulação!AQ178)","v":"-"},{"$f":"IF($C178=\"\",\"\",Simulação!AR178)","v":0}]
[null,172,{"$f":"IF(Chegadas!J180<=$C$5,Chegadas!J180,\"\")","v":147.31000000000003},{"$f":"IF($C179=\"\",\"\",Simulação!D179)","v":12.836460668641291},{"$f":"IF($C179=\"\",\"\",Simulação!E179)","v":"*"},{"$f":"IF($C179=\"\",\"\",Simulação!F179)","v":154.08843703201299},{"$f":"IF($C179=\"\",\"\",Simulação!G179)","v":"*"},{"$f":"IF($C179=\"\",\"\",Simulação!H179)","v":147.82141079797961},{"$f":"IF($C179=\"\",\"\",Simulação!I179)","v":"*"},{"$f":"IF($C179=\"\",\"\",Simulação!J179)","v":153.8189694525214},{"$f":"IF($C179=\"\",\"\",Simulação!K179)","v":"*"},{"$f":"IF($C179=\"\",\"\",Simulação!L179)","v":152.50845964218993},{"$f":"IF($C179=\"\",\"\",Simulação!M179)","v":147.31000000000003},{"$f":"IF($C179=\"\",\"\",Simulação!N179)","v":160.14646066864131},{"$f":"IF($C179=\"\",\"\",Simulação!O179)","v":"-"},{"$f":"IF($C179=\"\",\"\",Simulação!P179)","v":158.78768269584197},{"$f":"IF($C179=\"\",\"\",Simulação!Q179)","v":"-"},{"$f":"IF($C179=\"\",\"\",Simulação!R179)","v":147.09287824706252},{"$f":"IF($C179=\"\",\"\",Simulação!S179)","v":"-"},{"$f":"IF($C179=\"\",\"\",Simulação!T179)","v":149.42684721571587},{"$f":"IF($C179=\"\",\"\",Simulação!U179)","v":"-"},{"$f":"IF($C179=\"\",\"\",Simulação!V179)","v":148.67421449442801},{"$f":"IF($C179=\"\",\"\",Simulação!W179)","v":"-"},{"$f":"IF($C179=\"\",\"\",Simulação!X179)","v":133.32735711249995},{"$f":"IF($C179=\"\",\"\",Simulação!Y179)","v":"-"},{"$f":"IF($C179=\"\",\"\",Simulação!Z179)","v":136.07846626974859},{"$f":"IF($C179=\"\",\"\",Simulação!AA179)","v":"-"},{"$f":"IF($C179=\"\",\"\",Simulação!AB179)","v":136.83060944284537},{"$f":"IF($C179=\"\",\"\",Simulação!AC179)","v":"-"},{"$f":"IF($C179=\"\",\"\",Simulação!AD179)","v":140.66887446424042},{"$f":"IF($C179=\"\",\"\",Simulação!AE179)","v":"-"},{"$f":"IF($C179=\"\",\"\",Simulação!AF179)","v":34.388240562009656},{"$f":"IF($C179=\"\",\"\",Simulação!AG179)","v":"-"},{"$f":"IF($C179=\"\",\"\",Simulação!AH179)","v":29.236023829000793},{"$f":"IF($C179=\"\",\"\",Simulação!AI179)","v":"-"},{"$f":"IF($C179=\"\",\"\",Simulação!AJ179)","v":33.045125393740342},{"$f":"IF($C179=\"\",\"\",Simulação!AK179)","v":"-"},{"$f":"IF($C179=\"\",\"\",Simulação!AL179)","v":32.02721881559642},{"$f":"IF($C179=\"\",\"\",Simulação!AM179)","v":"-"},{"$f":"IF($C179=\"\",\"\",Simulação!AN179)","v":32.217563507182206},{"$f":"IF($C179=\"\",\"\",Simulação!AO179)","v":"-"},{"$f":"IF($C179=\"\",\"\",Simulação!AP179)","v":36.406016086434107},{"$f":"IF($C179=\"\",\"\",Simulação!AQ179)","v":"-"},{"$f":"IF($C179=\"\",\"\",Simulação!AR179)","v":0}]
[null,173,{"$f":"IF(Chegadas!J181<=$C$5,Chegadas!J181,\"\")","v":148.9},{"$f":"IF($C180=\"\",\"\",Simulação!D180)","v":1.3220562097924167},{"$f":"IF($C180=\"\",\"\",Simulação!E180)","v":"*"},{"$f":"IF($C180=\"\",\"\",Simulação!F180)","v":154.08843703201299},{"$f":"IF($C180=\"\",\"\",Simulação!G180)","v":148.9},{"$f":"IF($C180=\"\",\"\",Simulação!H180)","v":150.22205620979241},{"$f":"IF($C180=\"\",\"\",Simulação!I180)","v":"-"},{"$f":"IF($C180=\"\",\"\",Simulação!J180)","v":153.8189694525214},{"$f":"IF($C180=\"\",\"\",Simulação!K180)","v":"-"},{"$f":"IF($C180=\"\",\"\",Simulação!L180)","v":152.50845964218993},{"$f":"IF($C180=\"\",\"\",Simulação!M180)","v":"-"},{"$f":"IF($C180=\"\",\"\",Simulação!N180)","v":160.14646066864131},{"$f":"IF($C180=\"\",\"\",Simulação!O180)","v":"-"},{"$f":"IF($C180=\"\",\"\",Simulação!P180)","v":158.78768269584197},{"$f":"IF($C180=\"\",\"\",Simulação!Q180)","v":"-"},{"$f":"IF($C180=\"\",\"\",Simulação!R180)","v":147.09287824706252},{"$f":"IF($C180=\"\",\"\",Simulação!S180)","v":"-"},{"$f":"IF($C180=\"\",\"\",Simulação!T180)","v":149.42684721571587},{"$f":"IF($C180=\"\",\"\",Simulação!U180)","v":"-"},{"$f":"IF($C180=\"\",\"\",Simulação!V180)","v":148.67421449442801},{"$f":"IF($C180=\"\",\"\",Simulação!W180)","v":"-"},{"$f":"IF($C180=\"\",\"\",Simulação!X180)","v":133.32735711249995},{"$f":"IF($C180=\"\",\"\",Simulação!Y180)","v":"-"},{"$f":"IF($C180=\"\",\"\",Simulação!Z180)","v":136.07846626974859},{"$f":"IF($C180=\"\",\"\",Simulação!AA180)","v":"-"},{"$f":"IF($C180=\"\",\"\",Simulação!AB180)","v":136.83060944284537},{"$f":"IF($C180=\"\",\"\",Simulação!AC180)","v":"-"},{"$f":"IF($C180=\"\",\"\",Simulação!AD180)","v":140.66887446424042},{"$f":"IF($C180=\"\",\"\",Simulação!AE180)","v":"-"},{"$f":"IF($C180=\"\",\"\",Simulação!AF180)","v":34.388240562009656},{"$f":"IF($C180=\"\",\"\",Simulação!AG180)","v":"-"},{"$f":"IF($C180=\"\",\"\",Simulação!AH180)","v":29.236023829000793},{"$f":"IF($C180=\"\",\"\",Simulação!AI180)","v":"-"},{"$f":"IF($C180=\"\",\"\",Simulação!AJ180)","v":33.045125393740342},{"$f":"IF($C180=\"\",\"\",Simulação!AK180)","v":"-"},{"$f":"IF($C180=\"\",\"\",Simulação!AL180)","v":32.02721881559642},{"$f":"IF($C180=\"\",\"\",Simulação!AM180)","v":"-"},{"$f":"IF($C180=\"\",\"\",Simulação!AN180)","v":32.217563507182206},{"$f":"IF($C180=\"\",\"\",Simulação!AO180)","v":"-"},{"$f":"IF($C180=\"\",\"\",Simulação!AP180)","v":36.406016086434107},{"$f":"IF($C180=\"\",\"\",Simulação!AQ180)","v":"-"},{"$f":"IF($C180=\"\",\"\",Simulação!AR180)","v":0}]
[null,174,{"$f":"IF(Chegadas!J182<=$C$5,Chegadas!J182,\"\")","v":149.39000000000004},{"$f":"IF($C181=\"\",\"\",Simulação!D181)","v":8.5911320886909159},{"$f":"IF($C181=\"\",\"\",Simulação!E181)","v":"*"},{"$f":"IF($C181=\"\",\"\",Simulação!F181)","v":154.08843703201299},{"$f":"IF($C181=\"\",\"\",Simulação!G181)","v":"*"},{"$f":"IF($C181=\"\",\"\",Simulação!H181)","v":150.22205620979241},{"$f":"IF($C181=\"\",\"\",Simulação!I181)","v":"*"},{"$f":"IF($C181=\"\",\"\",Simulação!J181)","v":153.8189694525214},{"$f":"IF($C181=\"\",\"\",Simulação!K181)","v":"*"},{"$f":"IF($C181=\"\",\"\",Simulação!L181)","v":152.50845964218993},{"$f":"IF($C181=\"\",\"\",Simulação!M181)","v":"*"},{"$f":"IF($C181=\"\",\"\",Simulação!N181)","v":160.14646066864131},{"$f":"IF($C181=\"\",\"\",Simulação!O181)","v":"*"},{"$f":"IF($C181=\"\",\"\",Simulação!P181)","v":158.78768269584197},{"$f":"IF($C181=\"\",\"\",Simulação!Q181)","v":149.39000000000004},{"$f":"IF($C181=\"\",\"\",Simulação!R181)","v":157.98113208869097},{"$f":"IF($C181=\"\",\"\",Simulação!S181)","v":"-"},{"$f":"IF($C181=\"\",\"\",Simulação!T181)","v":149.42684721571587},{"$f":"IF($C181=\"\",\"\",Simulação!U181)","v":"-"},{"$f":"IF($C181=\"\",\"\",Simulação!V181)","v":148.67421449442801},{"$f":"IF($C181=\"\",\"\",Simulação!W181)","v":"-"},{"$f":"IF($C181=\"\",\"\",Simulação!X181)","v":133.32735711249995},{"$f":"IF($C181=\"\",\"\",Simulação!Y181)","v":"-"},{"$f":"IF($C181=\"\",\"\",Simulação!Z181)","v":136.07846626974859},{"$f":"IF($C181=\"\",\"\",Simulação!AA181)","v":"-"},{"$f":"IF($C181=\"\",\"\",Simulação!AB181)","v":136.83060944284537},{"$f":"IF($C181=\"\",\"\",Simulação!AC181)","v":"-"},{"$f":"IF($C181=\"\",\"\",Simulação!AD181)","v":140.66887446424042},{"$f":"IF($C181=\"\",\"\",Simulação!AE181)","v":"-"},{"$f":"IF($C181=\"\",\"\",Simulação!AF181)","v":34.388240562009656},{"$f":"IF($C181=\"\",\"\",Simulação!AG181)","v":"-"},{"$f":"IF($C181=\"\",\"\",Simulação!AH181)","v":29.236023829000793},{"$f":"IF($C181=\"\",\"\",Simulação!AI181)","v":"-"},{"$f":"IF($C181=\"\",\"\",Simulação!AJ181)","v":33.045125393740342},{"$f":"IF($C181=\"\",\"\",Simulação!AK181)","v":"-"},{"$f":"IF($C181=\"\",\"\",Simulação!AL181)","v":32.02721881559642},{"$f":"IF($C181=\"\",\"\",Simulação!AM181)","v":"-"},{"$f":"IF($C181=\"\",\"\",Simulação!AN181)","v":32.217563507182206},{"$f":"IF($C181=\"\",\"\",Simulação!AO181)","v":"-"},{"$f":"IF($C181=\"\",\"\",Simulação!AP181)","v":36.406016086434107},{"$f":"IF($C181=\"\",\"\",Simulação!AQ181)","v":"-"},{"$f":"IF($C181=\"\",\"\",Simulação!AR181)","v":0}]
[null,175,{"$f":"IF(Chegadas!J183<=$C$5,Chegadas!J183,\"\")","v":149.49000000000004},{"$f":"IF($C182=\"\",\"\",Simulação!D182)","v":8.3420236442818769},{"$f":"IF($C182=\"\",\"\",Simulação!E182)","v":"*"},{"$f":"IF($C182=\"\",\"\",Simulação!F182)","v":154.08843703201299},{"$f":"IF($C182=\"\",\"\",Simulação!G182)","v":"*"},{"$f":"IF($C182=\"\",\"\",Simulação!H182)","v":150.22205620979241},{"$f":"IF($C182=\"\",\"\",Simulação!I182)","v":"*"},{"$f":"IF($C182=\"\",\"\",Simulação!J182)","v":153.8189694525214},{"$f":"IF($C182=\"\",\"\",Simulação!K182)","v":"*"},{"$f":"IF($C182=\"\",\"\",Simulação!L182)","v":152.50845964218993},{"$f":"IF($C182=\"\",\"\",Simulação!M182)","v":"*"},{"$f":"IF($C182=\"\",\"\",Simulação!N182)","v":160.14646066864131},{"$f":"IF($C182=\"\",\"\",Simulação!O182)","v":"*"},{"$f":"IF($C182=\"\",\"\",Simulação!P182)","v":158.78768269584197},{"$f":"IF($C182=\"\",\"\",Simulação!Q182)","v":"*"},{"$f":"IF($C182=\"\",\"\",Simulação!R182)","v":157.98113208869097},{"$f":"IF($C182=\"\",\"\",Simulação!S182)","v":149.49000000000004},{"$f":"IF($C182=\"\",\"\",Simulação!T182)","v":157.83202364428192},{"$f":"IF($C182=\"\",\"\",Simulação!U182)","v":"-"},{"$f":"IF($C182=\"\",\"\",Simulação!V182)","v":148.67421449442801},{"$f":"IF($C182=\"\",\"\",Simulação!W182)","v":"-"},{"$f":"IF($C182=\"\",\"\",Simulação!X182)","v":133.32735711249995},{"$f":"IF($C182=\"\",\"\",Simulação!Y182)","v":"-"},{"$f":"IF($C182=\"\",\"\",Simulação!Z182)","v":136.07846626974859},{"$f":"IF($C182=\"\",\"\",Simulação!AA182)","v":"-"},{"$f":"IF($C182=\"\",\"\",Simulação!AB182)","v":136.83060944284537},{"$f":"IF($C182=\"\",\"\",Simulação!AC182)","v":"-"},{"$f":"IF($C182=\"\",\"\",Simulação!AD182)","v":140.66887446424042},{"$f":"IF($C182=\"\",\"\",Simulação!AE182)","v":"-"},{"$f":"IF($C182=\"\",\"\",Simulação!AF182)","v":34.388240562009656},{"$f":"IF($C182=\"\",\"\",Simulação!AG182)","v":"-"},{"$f":"IF($C182=\"\",\"\",Simulação!AH182)","v":29.236023829000793},{"$f":"IF($C182=\"\",\"\",Simulação!AI182)","v":"-"},{"$f":"IF($C182=\"\",\"\",Simulação!AJ182)","v":33.045125393740342},{"$f":"IF($C182=\"\",\"\",Simulação!AK182)","v":"-"},{"$f":"IF($C182=\"\",\"\",Simulação!AL182)","v":32.02721881559642},{"$f":"IF($C182=\"\",\"\",Simulação!AM182)","v":"-"},{"$f":"IF($C182=\"\",\"\",Simulação!AN182)","v":32.217563507182206},{"$f":"IF($C182=\"\",\"\",Simulação!AO182)","v":"-"},{"$f":"IF($C182=\"\",\"\",Simulação!AP182)","v":36.406016086434107},{"$f":"IF($C182=\"\",\"\",Simulação!AQ182)","v":"-"},{"$f":"IF($C182=\"\",\"\",Simulação!AR182)","v":0}]
[null,176,{"$f":"IF(Chegadas!J184<=$C$5,Chegadas!J184,\"\")","v":149.78000000000003},{"$f":"IF($C183=\"\",\"\",Simulação!D183)","v":7.9866563442263203},{"$f":"IF($C183=\"\",\"\",Simulação!E183)","v":"*"},{"$f":"IF($C183=\"\",\"\",Simulação!F183)","v":154.08843703201299},{"$f":"IF($C183=\"\",\"\",Simulação!G183)","v":"*"},{"$f":"IF($C183=\"\",\"\",Simulação!H183)","v":150.22205620979241},{"$f":"IF($C183=\"\",\"\",Simulação!I183)","v":"*"},{"$f":"IF($C183=\"\",\"\",Simulação!J183)","v":153.8189694525214},{"$f":"IF($C183=\"\",\"\",Simulação!K183)","v":"*"},{"$f":"IF($C183=\"\",\"\",Simulação!L183)","v":152.50845964218993},{"$f":"IF($C183=\"\",\"\",Simulação!M183)","v":"*"},{"$f":"IF($C183=\"\",\"\",Simulação!N183)","v":160.14646066864131},{"$f":"IF($C183=\"\",\"\",Simulação!O183)","v":"*"},{"$f":"IF($C183=\"\",\"\",Simulação!P183)","v":158.78768269584197},{"$f":"IF($C183=\"\",\"\",Simulação!Q183)","v":"*"},{"$f":"IF($C183=\"\",\"\",Simulação!R183)","v":157.98113208869097},{"$f":"IF($C183=\"\",\"\",Simulação!S183)","v":"*"},{"$f":"IF($C183=\"\",\"\",Simulação!T183)","v":157.83202364428192},{"$f":"IF($C183=\"\",\"\",Simulação!U183)","v":149.78000000000003},{"$f":"IF($C183=\"\",\"\",Simulação!V183)","v":157.76665634422636},{"$f":"IF($C183=\"\",\"\",Simulação!W183)","v":"-"},{"$f":"IF($C183=\"\",\"\",Simulação!X183)","v":133.32735711249995},{"$f":"IF($C183=\"\",\"\",Simulação!Y183)","v":"-"},{"$f":"IF($C183=\"\",\"\",Simulação!Z183)","v":136.07846626974859},{"$f":"IF($C183=\"\",\"\",Simulação!AA183)","v":"-"},{"$f":"IF($C183=\"\",\"\",Simulação!AB183)","v":136.83060944284537},{"$f":"IF($C183=\"\",\"\",Simulação!AC183)","v":"-"},{"$f":"IF($C183=\"\",\"\",Simulação!AD183)","v":140.66887446424042},{"$f":"IF($C183=\"\",\"\",Simulação!AE183)","v":"-"},{"$f":"IF($C183=\"\",\"\",Simulação!AF183)","v":34.388240562009656},{"$f":"IF($C183=\"\",\"\",Simulação!AG183)","v":"-"},{"$f":"IF($C183=\"\",\"\",Simulação!AH183)","v":29.236023829000793},{"$f":"IF($C183=\"\",\"\",Simulação!AI183)","v":"-"},{"$f":"IF($C183=\"\",\"\",Simulação!AJ183)","v":33.045125393740342},{"$f":"IF($C183=\"\",\"\",Simulação!AK183)","v":"-"},{"$f":"IF($C183=\"\",\"\",Simulação!AL183)","v":32.02721881559642},{"$f":"IF($C183=\"\",\"\",Simulação!AM183)","v":"-"},{"$f":"IF($C183=\"\",\"\",Simulação!AN183)","v":32.217563507182206},{"$f":"IF($C183=\"\",\"\",Simulação!AO183)","v":"-"},{"$f":"IF($C183=\"\",\"\",Simulação!AP183)","v":36.406016086434107},{"$f":"IF($C183=\"\",\"\",Simulação!AQ183)","v":"-"},{"$f":"IF($C183=\"\",\"\",Simulação!AR183)","v":0}]
[null,177,{"$f":"IF(Chegadas!J185<=$C$5,Chegadas!J185,\"\")","v":150.38000000000002},{"$f":"IF($C184=\"\",\"\",Simulação!D184)","v":5.2160824068413385},{"$f":"IF($C184=\"\",\"\",Simulação!E184)","v":"*"},{"$f":"IF($C184=\"\",\"\",Simulação!F184)","v":154.08843703201299},{"$f":"IF($C184=\"\",\"\",Simulação!G184)","v":150.38000000000002},{"$f":"IF($C184=\"\",\"\",Simulação!H184)","v":155.59608240684136},{"$f":"IF($C184=\"\",\"\",Simulação!I184)","v":"-"},{"$f":"IF($C184=\"\",\"\",Simulação!J184)","v":153.8189694525214},{"$f":"IF($C184=\"\",\"\",Simulação!K184)","v":"-"},{"$f":"IF($C184=\"\",\"\",Simulação!L184)","v":152.50845964218993},{"$f":"IF($C184=\"\",\"\",Simulação!M184)","v":"-"},{"$f":"IF($C184=\"\",\"\",Simulação!N184)","v":160.14646066864131},{"$f":"IF($C184=\"\",\"\",Simulação!O184)","v":"-"},{"$f":"IF($C184=\"\",\"\",Simulação!P184)","v":158.78768269584197},{"$f":"IF($C184=\"\",\"\",Simulação!Q184)","v":"-"},{"$f":"IF($C184=\"\",\"\",Simulação!R184)","v":157.98113208869097},{"$f":"IF($C184=\"\",\"\",Simulação!S184)","v":"-"},{"$f":"IF($C184=\"\",\"\",Simulação!T184)","v":157.83202364428192},{"$f":"IF($C184=\"\",\"\",Simulação!U184)","v":"-"},{"$f":"IF($C184=\"\",\"\",Simulação!V184)","v":157.76665634422636},{"$f":"IF($C184=\"\",\"\",Simulação!W184)","v":"-"},{"$f":"IF($C184=\"\",\"\",Simulação!X184)","v":133.32735711249995},{"$f":"IF($C184=\"\",\"\",Simulação!Y184)","v":"-"},{"$f":"IF($C184=\"\",\"\",Simulação!Z184)","v":136.07846626974859},{"$f":"IF($C184=\"\",\"\",Simulação!AA184)","v":"-"},{"$f":"IF($C184=\"\",\"\",Simulação!AB184)","v":136.83060944284537},{"$f":"IF($C184=\"\",\"\",Simulação!AC184)","v":"-"},{"$f":"IF($C184=\"\",\"\",Simulação!AD184)","v":140.66887446424042},{"$f":"IF($C184=\"\",\"\",Simulação!AE184)","v":"-"},{"$f":"IF($C184=\"\",\"\",Simulação!AF184)","v":34.388240562009656},{"$f":"IF($C184=\"\",\"\",Simulação!AG184)","v":"-"},{"$f":"IF($C184=\"\",\"\",Simulação!AH184)","v":29.236023829000793},{"$f":"IF($C184=\"\",\"\",Simulação!AI184)","v":"-"},{"$f":"IF($C184=\"\",\"\",Simulação!AJ184)","v":33.045125393740342},{"$f":"IF($C184=\"\",\"\",Simulação!AK184)","v":"-"},{"$f":"IF($C184=\"\",\"\",Simulação!AL184)","v":32.02721881559642},{"$f":"IF($C184=\"\",\"\",Simulação!AM184)","v":"-"},{"$f":"IF($C184=\"\",\"\",Simulação!AN184)","v":32.217563507182206},{"$f":"IF($C184=\"\",\"\",Simulação!AO184)","v":"-"},{"$f":"IF($C184=\"\",\"\",Simulação!AP184)","v":36.406016086434107},{"$f":"IF($C184=\"\",\"\",Simulação!AQ184)","v":"-"},{"$f":"IF($C184=\"\",\"\",Simulação!AR184)","v":0}]
[null,178,{"$f":"IF(Chegadas!J186<=$C$5,Chegadas!J186,\"\")","v":151.37000000000003},{"$f":"IF($C185=\"\",\"\",Simulação!D185)","v":10.028390400659115},{"$f":"IF($C185=\"\",\"\",Simulação!E185)","v":"*"},{"$f":"IF($C185=\"\",\"\",Simulação!F185)","v":154.08843703201299},{"$f":"IF($C185=\"\",\"\",Simulação!G185)","v":"*"},{"$f":"IF($C185=\"\",\"\",Simulação!H185)","v":155.59608240684136},{"$f":"IF($C185=\"\",\"\",Simulação!I185)","v":"*"},{"$f":"IF($C185=\"\",\"\",Simulação!J185)","v":153.8189694525214},{"$f":"IF($C185=\"\",\"\",Simulação!K185)","v":"*"},{"$f":"IF($C185=\"\",\"\",Simulação!L185)","v":152.50845964218993},{"$f":"IF($C185=\"\",\"\",Simulação!M185)","v":"*"},{"$f":"IF($C185=\"\",\"\",Simulação!N185)","v":160.14646066864131},{"$f":"IF($C185=\"\",\"\",Simulação!O185)","v":"*"},{"$f":"IF($C185=\"\",\"\",Simulação!P185)","v":158.78768269584197},{"$f":"IF($C185=\"\",\"\",Simulação!Q185)","v":"*"},{"$f":"IF($C185=\"\",\"\",Simulação!R185)","v":157.98113208869097},{"$f":"IF($C185=\"\",\"\",Simulação!S185)","v":"*"},{"$f":"IF($C185=\"\",\"\",Simulação!T185)","v":157.83202364428192},{"$f":"IF($C185=\"\",\"\",Simulação!U185)","v":"*"},{"$f":"IF($C185=\"\",\"\",Simulação!V185)","v":157.76665634422636},{"$f":"IF($C185=\"\",\"\",Simulação!W185)","v":151.37000000000003},{"$f":"IF($C185=\"\",\"\",Simulação!X185)","v":161.39839040065914},{"$f":"IF($C185=\"\",\"\",Simulação!Y185)","v":"-"},{"$f":"IF($C185=\"\",\"\",Simulação!Z185)","v":136.07846626974859},{"$f":"IF($C185=\"\",\"\",Simulação!AA185)","v":"-"},{"$f":"IF($C185=\"\",\"\",Simulação!AB185)","v":136.83060944284537},{"$f":"IF($C185=\"\",\"\",Simulação!AC185)","v":"-"},{"$f":"IF($C185=\"\",\"\",Simulação!AD185)","v":140.66887446424042},{"$f":"IF($C185=\"\",\"\",Simulação!AE185)","v":"-"},{"$f":"IF($C185=\"\",\"\",Simulação!AF185)","v":34.388240562009656},{"$f":"IF($C185=\"\",\"\",Simulação!AG185)","v":"-"},{"$f":"IF($C185=\"\",\"\",Simulação!AH185)","v":29.236023829000793},{"$f":"IF($C185=\"\",\"\",Simulação!AI185)","v":"-"},{"$f":"IF($C185=\"\",\"\",Simulação!AJ185)","v":33.045125393740342},{"$f":"IF($C185=\"\",\"\",Simulação!AK185)","v":"-"},{"$f":"IF($C185=\"\",\"\",Simulação!AL185)","v":32.02721881559642},{"$f":"IF($C185=\"\",\"\",Simulação!AM185)","v":"-"},{"$f":"IF($C185=\"\",\"\",Simulação!AN185)","v":32.217563507182206},{"$f":"IF($C185=\"\",\"\",Simulação!AO185)","v":"-"},{"$f":"IF($C185=\"\",\"\",Simulação!AP185)","v":36.406016086434107},{"$f":"IF($C185=\"\",\"\",Simulação!AQ185)","v":"-"},{"$f":"IF($C185=\"\",\"\",Simulação!AR185)","v":0}]
[null,179,{"$f":"IF(Chegadas!J187<=$C$5,Chegadas!J187,\"\")","v":151.90000000000003},{"$f":"IF($C186=\"\",\"\",Simulação!D186)","v":4.2377841201936679},{"$f":"IF($C186=\"\",\"\",Simulação!E186)","v":"*"},{"$f":"IF($C186=\"\",\"\",Simulação!F186)","v":154.08843703201299},{"$f":"IF($C186=\"\",\"\",Simulação!G186)","v":"*"},{"$f":"IF($C186=\"\",\"\",Simulação!H186)","v":155.59608240684136},{"$f":"IF($C186=\"\",\"\",Simulação!I186)","v":"*"},{"$f":"IF($C186=\"\",\"\",Simulação!J186)","v":153.8189694525214},{"$f":"IF($C186=\"\",\"\",Simulação!K186)","v":"*"},{"$f":"IF($C186=\"\",\"\",Simulação!L186)","v":152.50845964218993},{"$f":"IF($C186=\"\",\"\",Simulação!M186)","v":"*"},{"$f":"IF($C186=\"\",\"\",Simulação!N186)","v":160.14646066864131},{"$f":"IF($C186=\"\",\"\",Simulação!O186)","v":"*"},{"$f":"IF($C186=\"\",\"\",Simulação!P186)","v":158.78768269584197},{"$f":"IF($C186=\"\",\"\",Simulação!Q186)","v":"*"},{"$f":"IF($C186=\"\",\"\",Simulação!R186)","v":157.98113208869097},{"$f":"IF($C186=\"\",\"\",Simulação!S186)","v":"*"},{"$f":"IF($C186=\"\",\"\",Simulação!T186)","v":157.83202364428192},{"$f":"IF($C186=\"\",\"\",Simulação!U186)","v":"*"},{"$f":"IF($C186=\"\",\"\",Simulação!V186)","v":157.76665634422636},{"$f":"IF($C186=\"\",\"\",Simulação!W186)","v":"*"},{"$f":"IF($C186=\"\",\"\",Simulação!X186)","v":161.39839040065914},{"$f":"IF($C186=\"\",\"\",Simulação!Y186)","v":151.90000000000003},{"$f":"IF($C186=\"\",\"\",Simulação!Z186)","v":156.13778412019371},{"$f":"IF($C186=\"\",\"\",Simulação!AA186)","v":"-"},{"$f":"IF($C186=\"\",\"\",Simulação!AB186)","v":136.83060944284537},{"$f":"IF($C186=\"\",\"\",Simulação!AC186)","v":"-"},{"$f":"IF($C186=\"\",\"\",Simulação!AD186)","v":140.66887446424042},{"$f":"IF($C186=\"\",\"\",Simulação!AE186)","v":"-"},{"$f":"IF($C186=\"\",\"\",Simulação!AF186)","v":34.388240562009656},{"$f":"IF($C186=\"\",\"\",Simulação!AG186)","v":"-"},{"$f":"IF($C186=\"\",\"\",Simulação!AH186)","v":29.236023829000793},{"$f":"IF($C186=\"\",\"\",Simulação!AI186)","v":"-"},{"$f":"IF($C186=\"\",\"\",Simulação!AJ186)","v":33.045125393740342},{"$f":"IF($C186=\"\",\"\",Simulação!AK186)","v":"-"},{"$f":"IF($C186=\"\",\"\",Simulação!AL186)","v":32.02721881559642},{"$f":"IF($C186=\"\",\"\",Simulação!AM186)","v":"-"},{"$f":"IF($C186=\"\",\"\",Simulação!AN186)","v":32.217563507182206},{"$f":"IF($C186=\"\",\"\",Simulação!AO186)","v":"-"},{"$f":"IF($C186=\"\",\"\",Simulação!AP186)","v":36.406016086434107},{"$f":"IF($C186=\"\",\"\",Simulação!AQ186)","v":"-"},{"$f":"IF($C186=\"\",\"\",Simulação!AR186)","v":0}]
[null,180,{"$f":"IF(Chegadas!J188<=$C$5,Chegadas!J188,\"\")","v":156.06000000000003},{"$f":"IF($C187=\"\",\"\",Simulação!D187)","v":9.5532318027183489},{"$f":"IF($C187=\"\",\"\",Simulação!E187)","v":156.06000000000003},{"$f":"IF($C187=\"\",\"\",Simulação!F187)","v":165.61323180271839},{"$f":"IF($C187=\"\",\"\",Simulação!G187)","v":"-"},{"$f":"IF($C187=\"\",\"\",Simulação!H187)","v":155.59608240684136},{"$f":"IF($C187=\"\",\"\",Simulação!I187)","v":"-"},{"$f":"IF($C187=\"\",\"\",Simulação!J187)","v":153.8189694525214},{"$f":"IF($C187=\"\",\"\",Simulação!K187)","v":"-"},{"$f":"IF($C187=\"\",\"\",Simulação!L187)","v":152.50845964218993},{"$f":"IF($C187=\"\",\"\",Simulação!M187)","v":"-"},{"$f":"IF($C187=\"\",\"\",Simulação!N187)","v":160.14646066864131},{"$f":"IF($C187=\"\",\"\",Simulação!O187)","v":"-"},{"$f":"IF($C187=\"\",\"\",Simulação!P187)","v":158.78768269584197},{"$f":"IF($C187=\"\",\"\",Simulação!Q187)","v":"-"},{"$f":"IF($C187=\"\",\"\",Simulação!R187)","v":157.98113208869097},{"$f":"IF($C187=\"\",\"\",Simulação!S187)","v":"-"},{"$f":"IF($C187=\"\",\"\",Simulação!T187)","v":157.83202364428192},{"$f":"IF($C187=\"\",\"\",Simulação!U187)","v":"-"},{"$f":"IF($C187=\"\",\"\",Simulação!V187)","v":157.76665634422636},{"$f":"IF($C187=\"\",\"\",Simulação!W187)","v":"-"},{"$f":"IF($C187=\"\",\"\",Simulação!X187)","v":161.39839040065914},{"$f":"IF($C187=\"\",\"\",Simulação!Y187)","v":"-"},{"$f":"IF($C187=\"\",\"\",Simulação!Z187)","v":156.13778412019371},{"$f":"IF($C187=\"\",\"\",Simulação!AA187)","v":"-"},{"$f":"IF($C187=\"\",\"\",Simulação!AB187)","v":136.83060944284537},{"$f":"IF($C187=\"\",\"\",Simulação!AC187)","v":"-"},{"$f":"IF($C187=\"\",\"\",Simulação!AD187)","v":140.66887446424042},{"$f":"IF($C187=\"\",\"\",Simulação!AE187)","v":"-"},{"$f":"IF($C187=\"\",\"\",Simulação!AF187)","v":34.388240562009656},{"$f":"IF($C187=\"\",\"\",Simulação!AG187)","v":"-"},{"$f":"IF($C187=\"\",\"\",Simulação!AH187)","v":29.236023829000793},{"$f":"IF($C187=\"\",\"\",Simulação!AI187)","v":"-"},{"$f":"IF($C187=\"\",\"\",Simulação!AJ187)","v":33.045125393740342},{"$f":"IF($C187=\"\",\"\",Simulação!AK187)","v":"-"},{"$f":"IF($C187=\"\",\"\",Simulação!AL187)","v":32.02721881559642},{"$f":"IF($C187=\"\",\"\",Simulação!AM187)","v":"-"},{"$f":"IF($C187=\"\",\"\",Simulação!AN187)","v":32.217563507182206},{"$f":"IF($C187=\"\",\"\",Simulação!AO187)","v":"-"},{"$f":"IF($C187=\"\",\"\",Simulação!AP187)","v":36.406016086434107},{"$f":"IF($C187=\"\",\"\",Simulação!AQ187)","v":"-"},{"$f":"IF($C187=\"\",\"\",Simulação!AR187)","v":0}]
[null,181,{"$f":"IF(Chegadas!J189<=$C$5,Chegadas!J189,\"\")","v":156.39000000000004},{"$f":"IF($C188=\"\",\"\",Simulação!D188)","v":6.4175502672912002},{"$f":"IF($C188=\"\",\"\",Simulação!E188)","v":"*"},{"$f":"IF($C188=\"\",\"\",Simulação!F188)","v":165.61323180271839},{"$f":"IF($C188=\"\",\"\",Simulação!G188)","v":156.39000000000004},{"$f":"IF($C188=\"\",\"\",Simulação!H188)","v":162.80755026729125},{"$f":"IF($C188=\"\",\"\",Simulação!I188)","v":"-"},{"$f":"IF($C188=\"\",\"\",Simulação!J188)","v":153.8189694525214},{"$f":"IF($C188=\"\",\"\",Simulação!K188)","v":"-"},{"$f":"IF($C188=\"\",\"\",Simulação!L188)","v":152.50845964218993},{"$f":"IF($C188=\"\",\"\",Simulação!M188)","v":"-"},{"$f":"IF($C188=\"\",\"\",Simulação!N188)","v":160.14646066864131},{"$f":"IF($C188=\"\",\"\",Simulação!O188)","v":"-"},{"$f":"IF($C188=\"\",\"\",Simulação!P188)","v":158.78768269584197},{"$f":"IF($C188=\"\",\"\",Simulação!Q188)","v":"-"},{"$f":"IF($C188=\"\",\"\",Simulação!R188)","v":157.98113208869097},{"$f":"IF($C188=\"\",\"\",Simulação!S188)","v":"-"},{"$f":"IF($C188=\"\",\"\",Simulação!T188)","v":157.83202364428192},{"$f":"IF($C188=\"\",\"\",Simulação!U188)","v":"-"},{"$f":"IF($C188=\"\",\"\",Simulação!V188)","v":157.76665634422636},{"$f":"IF($C188=\"\",\"\",Simulação!W188)","v":"-"},{"$f":"IF($C188=\"\",\"\",Simulação!X188)","v":161.39839040065914},{"$f":"IF($C188=\"\",\"\",Simulação!Y188)","v":"-"},{"$f":"IF($C188=\"\",\"\",Simulação!Z188)","v":156.13778412019371},{"$f":"IF($C188=\"\",\"\",Simulação!AA188)","v":"-"},{"$f":"IF($C188=\"\",\"\",Simulação!AB188)","v":136.83060944284537},{"$f":"IF($C188=\"\",\"\",Simulação!AC188)","v":"-"},{"$f":"IF($C188=\"\",\"\",Simulação!AD188)","v":140.66887446424042},{"$f":"IF($C188=\"\",\"\",Simulação!AE188)","v":"-"},{"$f":"IF($C188=\"\",\"\",Simulação!AF188)","v":34.388240562009656},{"$f":"IF($C188=\"\",\"\",Simulação!AG188)","v":"-"},{"$f":"IF($C188=\"\",\"\",Simulação!AH188)","v":29.236023829000793},{"$f":"IF($C188=\"\",\"\",Simulação!AI188)","v":"-"},{"$f":"IF($C188=\"\",\"\",Simulação!AJ188)","v":33.045125393740342},{"$f":"IF($C188=\"\",\"\",Simulação!AK188)","v":"-"},{"$f":"IF($C188=\"\",\"\",Simulação!AL188)","v":32.02721881559642},{"$f":"IF($C188=\"\",\"\",Simulação!AM188)","v":"-"},{"$f":"IF($C188=\"\",\"\",Simulação!AN188)","v":32.217563507182206},{"$f":"IF($C188=\"\",\"\",Simulação!AO188)","v":"-"},{"$f":"IF($C188=\"\",\"\",Simulação!AP188)","v":36.406016086434107},{"$f":"IF($C188=\"\",\"\",Simulação!AQ188)","v":"-"},{"$f":"IF($C188=\"\",\"\",Simulação!AR188)","v":0}]
[null,182,{"$f":"IF(Chegadas!J190<=$C$5,Chegadas!J190,\"\")","v":156.71000000000004},{"$f":"IF($C189=\"\",\"\",Simulação!D189)","v":2.0671635188706623},{"$f":"IF($C189=\"\",\"\",Simulação!E189)","v":"*"},{"$f":"IF($C189=\"\",\"\",Simulação!F189)","v":165.61323180271839},{"$f":"IF($C189=\"\",\"\",Simulação!G189)","v":"*"},{"$f":"IF($C189=\"\",\"\",Simulação!H189)","v":162.80755026729125},{"$f":"IF($C189=\"\",\"\",Simulação!I189)","v":156.71000000000004},{"$f":"IF($C189=\"\",\"\",Simulação!J189)","v":158.77716351887071},{"$f":"IF($C189=\"\",\"\",Simulação!K189)","v":"-"},{"$f":"IF($C189=\"\",\"\",Simulação!L189)","v":152.50845964218993},{"$f":"IF($C189=\"\",\"\",Simulação!M189)","v":"-"},{"$f":"IF($C189=\"\",\"\",Simulação!N189)","v":160.14646066864131},{"$f":"IF($C189=\"\",\"\",Simulação!O189)","v":"-"},{"$f":"IF($C189=\"\",\"\",Simulação!P189)","v":158.78768269584197},{"$f":"IF($C189=\"\",\"\",Simulação!Q189)","v":"-"},{"$f":"IF($C189=\"\",\"\",Simulação!R189)","v":157.98113208869097},{"$f":"IF($C189=\"\",\"\",Simulação!S189)","v":"-"},{"$f":"IF($C189=\"\",\"\",Simulação!T189)","v":157.83202364428192},{"$f":"IF($C189=\"\",\"\",Simulação!U189)","v":"-"},{"$f":"IF($C189=\"\",\"\",Simulação!V189)","v":157.76665634422636},{"$f":"IF($C189=\"\",\"\",Simulação!W189)","v":"-"},{"$f":"IF($C189=\"\",\"\",Simulação!X189)","v":161.39839040065914},{"$f":"IF($C189=\"\",\"\",Simulação!Y189)","v":"-"},{"$f":"IF($C189=\"\",\"\",Simulação!Z189)","v":156.13778412019371},{"$f":"IF($C189=\"\",\"\",Simulação!AA189)","v":"-"},{"$f":"IF($C189=\"\",\"\",Simulação!AB189)","v":136.83060944284537},{"$f":"IF($C189=\"\",\"\",Simulação!AC189)","v":"-"},{"$f":"IF($C189=\"\",\"\",Simulação!AD189)","v":140.66887446424042},{"$f":"IF($C189=\"\",\"\",Simulação!AE189)","v":"-"},{"$f":"IF($C189=\"\",\"\",Simulação!AF189)","v":34.388240562009656},{"$f":"IF($C189=\"\",\"\",Simulação!AG189)","v":"-"},{"$f":"IF($C189=\"\",\"\",Simulação!AH189)","v":29.236023829000793},{"$f":"IF($C189=\"\",\"\",Simulação!AI189)","v":"-"},{"$f":"IF($C189=\"\",\"\",Simulação!AJ189)","v":33.045125393740342},{"$f":"IF($C189=\"\",\"\",Simulação!AK189)","v":"-"},{"$f":"IF($C189=\"\",\"\",Simulação!AL189)","v":32.02721881559642},{"$f":"IF($C189=\"\",\"\",Simulação!AM189)","v":"-"},{"$f":"IF($C189=\"\",\"\",Simulação!AN189)","v":32.217563507182206},{"$f":"IF($C189=\"\",\"\",Simulação!AO189)","v":"-"},{"$f":"IF($C189=\"\",\"\",Simulação!AP189)","v":36.406016086434107},{"$f":"IF($C189=\"\",\"\",Simulação!AQ189)","v":"-"},{"$f":"IF($C189=\"\",\"\",Simulação!AR189)","v":0}]
[null,183,{"$f":"IF(Chegadas!J191<=$C$5,Chegadas!J191,\"\")","v":157.08000000000001},{"$f":"IF($C190=\"\",\"\",Simulação!D190)","v":1.3302711166546237},{"$f":"IF($C190=\"\",\"\",Simulação!E190)","v":"*"},{"$f":"IF($C190=\"\",\"\",Simulação!F190)","v":165.61323180271839},{"$f":"IF($C190=\"\",\"\",Simulação!G190)","v":"*"},{"$f":"IF($C190=\"\",\"\",Simulação!H190)","v":162.80755026729125},{"$f":"IF($C190=\"\",\"\",Simulação!I190)","v":"*"},{"$f":"IF($C190=\"\",\"\",Simulação!J190)","v":158.77716351887071},{"$f":"IF($C190=\"\",\"\",Simulação!K190)","v":157.08000000000001},{"$f":"IF($C190=\"\",\"\",Simulação!L190)","v":158.41027111665463},{"$f":"IF($C190=\"\",\"\",Simulação!M190)","v":"-"},{"$f":"IF($C190=\"\",\"\",Simulação!N190)","v":160.14646066864131},{"$f":"IF($C190=\"\",\"\",Simulação!O190)","v":"-"},{"$f":"IF($C190=\"\",\"\",Simulação!P190)","v":158.78768269584197},{"$f":"IF($C190=\"\",\"\",Simulação!Q190)","v":"-"},{"$f":"IF($C190=\"\",\"\",Simulação!R190)","v":157.98113208869097},{"$f":"IF($C190=\"\",\"\",Simulação!S190)","v":"-"},{"$f":"IF($C190=\"\",\"\",Simulação!T190)","v":157.83202364428192},{"$f":"IF($C190=\"\",\"\",Simulação!U190)","v":"-"},{"$f":"IF($C190=\"\",\"\",Simulação!V190)","v":157.76665634422636},{"$f":"IF($C190=\"\",\"\",Simulação!W190)","v":"-"},{"$f":"IF($C190=\"\",\"\",Simulação!X190)","v":161.39839040065914},{"$f":"IF($C190=\"\",\"\",Simulação!Y190)","v":"-"},{"$f":"IF($C190=\"\",\"\",Simulação!Z190)","v":156.13778412019371},{"$f":"IF($C190=\"\",\"\",Simulação!AA190)","v":"-"},{"$f":"IF($C190=\"\",\"\",Simulação!AB190)","v":136.83060944284537},{"$f":"IF($C190=\"\",\"\",Simulação!AC190)","v":"-"},{"$f":"IF($C190=\"\",\"\",Simulação!AD190)","v":140.66887446424042},{"$f":"IF($C190=\"\",\"\",Simulação!AE190)","v":"-"},{"$f":"IF($C190=\"\",\"\",Simulação!AF190)","v":34.388240562009656},{"$f":"IF($C190=\"\",\"\",Simulação!AG190)","v":"-"},{"$f":"IF($C190=\"\",\"\",Simulação!AH190)","v":29.236023829000793},{"$f":"IF($C190=\"\",\"\",Simulação!AI190)","v":"-"},{"$f":"IF($C190=\"\",\"\",Simulação!AJ190)","v":33.045125393740342},{"$f":"IF($C190=\"\",\"\",Simulação!AK190)","v":"-"},{"$f":"IF($C190=\"\",\"\",Simulação!AL190)","v":32.02721881559642},{"$f":"IF($C190=\"\",\"\",Simulação!AM190)","v":"-"},{"$f":"IF($C190=\"\",\"\",Simulação!AN190)","v":32.217563507182206},{"$f":"IF($C190=\"\",\"\",Simulação!AO190)","v":"-"},{"$f":"IF($C190=\"\",\"\",Simulação!AP190)","v":36.406016086434107},{"$f":"IF($C190=\"\",\"\",Simulação!AQ190)","v":"-"},{"$f":"IF($C190=\"\",\"\",Simulação!AR190)","v":0}]
[null,184,{"$f":"IF(Chegadas!J192<=$C$5,Chegadas!J192,\"\")","v":157.84000000000003},{"$f":"IF($C191=\"\",\"\",Simulação!D191)","v":14.688782448738813},{"$f":"IF($C191=\"\",\"\",Simulação!E191)","v":"*"},{"$f":"IF($C191=\"\",\"\",Simulação!F191)","v":165.61323180271839},{"$f":"IF($C191=\"\",\"\",Simulação!G191)","v":"*"},{"$f":"IF($C191=\"\",\"\",Simulação!H191)","v":162.80755026729125},{"$f":"IF($C191=\"\",\"\",Simulação!I191)","v":"*"},{"$f":"IF($C191=\"\",\"\",Simulação!J191)","v":158.77716351887071},{"$f":"IF($C191=\"\",\"\",Simulação!K191)","v":"*"},{"$f":"IF($C191=\"\",\"\",Simulação!L191)","v":158.41027111665463},{"$f":"IF($C191=\"\",\"\",Simulação!M191)","v":"*"},{"$f":"IF($C191=\"\",\"\",Simulação!N191)","v":160.14646066864131},{"$f":"IF($C191=\"\",\"\",Simulação!O191)","v":"*"},{"$f":"IF($C191=\"\",\"\",Simulação!P191)","v":158.78768269584197},{"$f":"IF($C191=\"\",\"\",Simulação!Q191)","v":"*"},{"$f":"IF($C191=\"\",\"\",Simulação!R191)","v":157.98113208869097},{"$f":"IF($C191=\"\",\"\",Simulação!S191)","v":157.84000000000003},{"$f":"IF($C191=\"\",\"\",Simulação!T191)","v":172.52878244873884},{"$f":"IF($C191=\"\",\"\",Simulação!U191)","v":"-"},{"$f":"IF($C191=\"\",\"\",Simulação!V191)","v":157.76665634422636},{"$f":"IF($C191=\"\",\"\",Simulação!W191)","v":"-"},{"$f":"IF($C191=\"\",\"\",Simulação!X191)","v":161.39839040065914},{"$f":"IF($C191=\"\",\"\",Simulação!Y191)","v":"-"},{"$f":"IF($C191=\"\",\"\",Simulação!Z191)","v":156.13778412019371},{"$f":"IF($C191=\"\",\"\",Simulação!AA191)","v":"-"},{"$f":"IF($C191=\"\",\"\",Simulação!AB191)","v":136.83060944284537},{"$f":"IF($C191=\"\",\"\",Simulação!AC191)","v":"-"},{"$f":"IF($C191=\"\",\"\",Simulação!AD191)","v":140.66887446424042},{"$f":"IF($C191=\"\",\"\",Simulação!AE191)","v":"-"},{"$f":"IF($C191=\"\",\"\",Simulação!AF191)","v":34.388240562009656},{"$f":"IF($C191=\"\",\"\",Simulação!AG191)","v":"-"},{"$f":"IF($C191=\"\",\"\",Simulação!AH191)","v":29.236023829000793},{"$f":"IF($C191=\"\",\"\",Simulação!AI191)","v":"-"},{"$f":"IF($C191=\"\",\"\",Simulação!AJ191)","v":33.045125393740342},{"$f":"IF($C191=\"\",\"\",Simulação!AK191)","v":"-"},{"$f":"IF($C191=\"\",\"\",Simulação!AL191)","v":32.02721881559642},{"$f":"IF($C191=\"\",\"\",Simulação!AM191)","v":"-"},{"$f":"IF($C191=\"\",\"\",Simulação!AN191)","v":32.217563507182206},{"$f":"IF($C191=\"\",\"\",Simulação!AO191)","v":"-"},{"$f":"IF($C191=\"\",\"\",Simulação!AP191)","v":36.406016086434107},{"$f":"IF($C191=\"\",\"\",Simulação!AQ191)","v":"-"},{"$f":"IF($C191=\"\",\"\",Simulação!AR191)","v":0}]
[null,185,{"$f":"IF(Chegadas!J193<=$C$5,Chegadas!J193,\"\")","v":159.32000000000002},{"$f":"IF($C192=\"\",\"\",Simulação!D192)","v":5.5668662051137305},{"$f":"IF($C192=\"\",\"\",Simulação!E192)","v":"*"},{"$f":"IF($C192=\"\",\"\",Simulação!F192)","v":165.61323180271839},{"$f":"IF($C192=\"\",\"\",Simulação!G192)","v":"*"},{"$f":"IF($C192=\"\",\"\",Simulação!H192)","v":162.80755026729125},{"$f":"IF($C192=\"\",\"\",Simulação!I192)","v":159.32000000000002},{"$f":"IF($C192=\"\",\"\",Simulação!J192)","v":164.88686620511376},{"$f":"IF($C192=\"\",\"\",Simulação!K192)","v":"-"},{"$f":"IF($C192=\"\",\"\",Simulação!L192)","v":158.41027111665463},{"$f":"IF($C192=\"\",\"\",Simulação!M192)","v":"-"},{"$f":"IF($C192=\"\",\"\",Simulação!N192)","v":160.14646066864131},{"$f":"IF($C192=\"\",\"\",Simulação!O192)","v":"-"},{"$f":"IF($C192=\"\",\"\",Simulação!P192)","v":158.78768269584197},{"$f":"IF($C192=\"\",\"\",Simulação!Q192)","v":"-"},{"$f":"IF($C192=\"\",\"\",Simulação!R192)","v":157.98113208869097},{"$f":"IF($C192=\"\",\"\",Simulação!S192)","v":"-"},{"$f":"IF($C192=\"\",\"\",Simulação!T192)","v":172.52878244873884},{"$f":"IF($C192=\"\",\"\",Simulação!U192)","v":"-"},{"$f":"IF($C192=\"\",\"\",Simulação!V192)","v":157.76665634422636},{"$f":"IF($C192=\"\",\"\",Simulação!W192)","v":"-"},{"$f":"IF($C192=\"\",\"\",Simulação!X192)","v":161.39839040065914},{"$f":"IF($C192=\"\",\"\",Simulação!Y192)","v":"-"},{"$f":"IF($C192=\"\",\"\",Simulação!Z192)","v":156.13778412019371},{"$f":"IF($C192=\"\",\"\",Simulação!AA192)","v":"-"},{"$f":"IF($C192=\"\",\"\",Simulação!AB192)","v":136.83060944284537},{"$f":"IF($C192=\"\",\"\",Simulação!AC192)","v":"-"},{"$f":"IF($C192=\"\",\"\",Simulação!AD192)","v":140.66887446424042},{"$f":"IF($C192=\"\",\"\",Simulação!AE192)","v":"-"},{"$f":"IF($C192=\"\",\"\",Simulação!AF192)","v":34.388240562009656},{"$f":"IF($C192=\"\",\"\",Simulação!AG192)","v":"-"},{"$f":"IF($C192=\"\",\"\",Simulação!AH192)","v":29.236023829000793},{"$f":"IF($C192=\"\",\"\",Simulação!AI192)","v":"-"},{"$f":"IF($C192=\"\",\"\",Simulação!AJ192)","v":33.045125393740342},{"$f":"IF($C192=\"\",\"\",Simulação!AK192)","v":"-"},{"$f":"IF($C192=\"\",\"\",Simulação!AL192)","v":32.02721881559642},{"$f":"IF($C192=\"\",\"\",Simulação!AM192)","v":"-"},{"$f":"IF($C192=\"\",\"\",Simulação!AN192)","v":32.217563507182206},{"$f":"IF($C192=\"\",\"\",Simulação!AO192)","v":"-"},{"$f":"IF($C192=\"\",\"\",Simulação!AP192)","v":36.406016086434107},{"$f":"IF($C192=\"\",\"\",Simulação!AQ192)","v":"-"},{"$f":"IF($C192=\"\",\"\",Simulação!AR192)","v":0}]
[null,186,{"$f":"IF(Chegadas!J194<=$C$5,Chegadas!J194,\"\")","v":160.20000000000002},{"$f":"IF($C193=\"\",\"\",Simulação!D193)","v":9.035318831075525},{"$f":"IF($C193=\"\",\"\",Simulação!E193)","v":"*"},{"$f":"IF($C193=\"\",\"\",Simulação!F193)","v":165.61323180271839},{"$f":"IF($C193=\"\",\"\",Simulação!G193)","v":"*"},{"$f":"IF($C193=\"\",\"\",Simulação!H193)","v":162.80755026729125},{"$f":"IF($C193=\"\",\"\",Simulação!I193)","v":"*"},{"$f":"IF($C193=\"\",\"\",Simulação!J193)","v":164.88686620511376},{"$f":"IF($C193=\"\",\"\",Simulação!K193)","v":160.20000000000002},{"$f":"IF($C193=\"\",\"\",Simulação!L193)","v":169.23531883107555},{"$f":"IF($C193=\"\",\"\",Simulação!M193)","v":"-"},{"$f":"IF($C193=\"\",\"\",Simulação!N193)","v":160.14646066864131},{"$f":"IF($C193=\"\",\"\",Simulação!O193)","v":"-"},{"$f":"IF($C193=\"\",\"\",Simulação!P193)","v":158.78768269584197},{"$f":"IF($C193=\"\",\"\",Simulação!Q193)","v":"-"},{"$f":"IF($C193=\"\",\"\",Simulação!R193)","v":157.98113208869097},{"$f":"IF($C193=\"\",\"\",Simulação!S193)","v":"-"},{"$f":"IF($C193=\"\",\"\",Simulação!T193)","v":172.52878244873884},{"$f":"IF($C193=\"\",\"\",Simulação!U193)","v":"-"},{"$f":"IF($C193=\"\",\"\",Simulação!V193)","v":157.76665634422636},{"$f":"IF($C193=\"\",\"\",Simulação!W193)","v":"-"},{"$f":"IF($C193=\"\",\"\",Simulação!X193)","v":161.39839040065914},{"$f":"IF($C193=\"\",\"\",Simulação!Y193)","v":"-"},{"$f":"IF($C193=\"\",\"\",Simulação!Z193)","v":156.13778412019371},{"$f":"IF($C193=\"\",\"\",Simulação!AA193)","v":"-"},{"$f":"IF($C193=\"\",\"\",Simulação!AB193)","v":136.83060944284537},{"$f":"IF($C193=\"\",\"\",Simulação!AC193)","v":"-"},{"$f":"IF($C193=\"\",\"\",Simulação!AD193)","v":140.66887446424042},{"$f":"IF($C193=\"\",\"\",Simulação!AE193)","v":"-"},{"$f":"IF($C193=\"\",\"\",Simulação!AF193)","v":34.388240562009656},{"$f":"IF($C193=\"\",\"\",Simulação!AG193)","v":"-"},{"$f":"IF($C193=\"\",\"\",Simulação!AH193)","v":29.236023829000793},{"$f":"IF($C193=\"\",\"\",Simulação!AI193)","v":"-"},{"$f":"IF($C193=\"\",\"\",Simulação!AJ193)","v":33.045125393740342},{"$f":"IF($C193=\"\",\"\",Simulação!AK193)","v":"-"},{"$f":"IF($C193=\"\",\"\",Simulação!AL193)","v":32.02721881559642},{"$f":"IF($C193=\"\",\"\",Simulação!AM193)","v":"-"},{"$f":"IF($C193=\"\",\"\",Simulação!AN193)","v":32.217563507182206},{"$f":"IF($C193=\"\",\"\",Simulação!AO193)","v":"-"},{"$f":"IF($C193=\"\",\"\",Simulação!AP193)","v":36.406016086434107},{"$f":"IF($C193=\"\",\"\",Simulação!AQ193)","v":"-"},{"$f":"IF($C193=\"\",\"\",Simulação!AR193)","v":0}]
[null,187,{"$f":"IF(Chegadas!J195<=$C$5,Chegadas!J195,\"\")","v":160.60000000000002},{"$f":"IF($C194=\"\",\"\",Simulação!D194)","v":11.311529010267773},{"$f":"IF($C194=\"\",\"\",Simulação!E194)","v":"*"},{"$f":"IF($C194=\"\",\"\",Simulação!F194)","v":165.61323180271839},{"$f":"IF($C194=\"\",\"\",Simulação!G194)","v":"*"},{"$f":"IF($C194=\"\",\"\",Simulação!H194)","v":162.80755026729125},{"$f":"IF($C194=\"\",\"\",Simulação!I194)","v":"*"},{"$f":"IF($C194=\"\",\"\",Simulação!J194)","v":164.88686620511376},{"$f":"IF($C194=\"\",\"\",Simulação!K194)","v":"*"},{"$f":"IF($C194=\"\",\"\",Simulação!L194)","v":169.23531883107555},{"$f":"IF($C194=\"\",\"\",Simulação!M194)","v":160.60000000000002},{"$f":"IF($C194=\"\",\"\",Simulação!N194)","v":171.9115290102678},{"$f":"IF($C194=\"\",\"\",Simulação!O194)","v":"-"},{"$f":"IF($C194=\"\",\"\",Simulação!P194)","v":158.78768269584197},{"$f":"IF($C194=\"\",\"\",Simulação!Q194)","v":"-"},{"$f":"IF($C194=\"\",\"\",Simulação!R194)","v":157.98113208869097},{"$f":"IF($C194=\"\",\"\",Simulação!S194)","v":"-"},{"$f":"IF($C194=\"\",\"\",Simulação!T194)","v":172.52878244873884},{"$f":"IF($C194=\"\",\"\",Simulação!U194)","v":"-"},{"$f":"IF($C194=\"\",\"\",Simulação!V194)","v":157.76665634422636},{"$f":"IF($C194=\"\",\"\",Simulação!W194)","v":"-"},{"$f":"IF($C194=\"\",\"\",Simulação!X194)","v":161.39839040065914},{"$f":"IF($C194=\"\",\"\",Simulação!Y194)","v":"-"},{"$f":"IF($C194=\"\",\"\",Simulação!Z194)","v":156.13778412019371},{"$f":"IF($C194=\"\",\"\",Simulação!AA194)","v":"-"},{"$f":"IF($C194=\"\",\"\",Simulação!AB194)","v":136.83060944284537},{"$f":"IF($C194=\"\",\"\",Simulação!AC194)","v":"-"},{"$f":"IF($C194=\"\",\"\",Simulação!AD194)","v":140.66887446424042},{"$f":"IF($C194=\"\",\"\",Simulação!AE194)","v":"-"},{"$f":"IF($C194=\"\",\"\",Simulação!AF194)","v":34.388240562009656},{"$f":"IF($C194=\"\",\"\",Simulação!AG194)","v":"-"},{"$f":"IF($C194=\"\",\"\",Simulação!AH194)","v":29.236023829000793},{"$f":"IF($C194=\"\",\"\",Simulação!AI194)","v":"-"},{"$f":"IF($C194=\"\",\"\",Simulação!AJ194)","v":33.045125393740342},{"$f":"IF($C194=\"\",\"\",Simulação!AK194)","v":"-"},{"$f":"IF($C194=\"\",\"\",Simulação!AL194)","v":32.02721881559642},{"$f":"IF($C194=\"\",\"\",Simulação!AM194)","v":"-"},{"$f":"IF($C194=\"\",\"\",Simulação!AN194)","v":32.217563507182206},{"$f":"IF($C194=\"\",\"\",Simulação!AO194)","v":"-"},{"$f":"IF($C194=\"\",\"\",Simulação!AP194)","v":36.406016086434107},{"$f":"IF($C194=\"\",\"\",Simulação!AQ194)","v":"-"},{"$f":"IF($C194=\"\",\"\",Simulação!AR194)","v":0}]
[null,188,{"$f":"IF(Chegadas!J196<=$C$5,Chegadas!J196,\"\")","v":161.74},{"$f":"IF($C195=\"\",\"\",Simulação!D195)","v":6.6338297727132378},{"$f":"IF($C195=\"\",\"\",Simulação!E195)","v":"*"},{"$f":"IF($C195=\"\",\"\",Simulação!F195)","v":165.61323180271839},{"$f":"IF($C195=\"\",\"\",Simulação!G195)","v":"*"},{"$f":"IF($C195=\"\",\"\",Simulação!H195)","v":162.80755026729125},{"$f":"IF($C195=\"\",\"\",Simulação!I195)","v":"*"},{"$f":"IF($C195=\"\",\"\",Simulação!J195)","v":164.88686620511376},{"$f":"IF($C195=\"\",\"\",Simulação!K195)","v":"*"},{"$f":"IF($C195=\"\",\"\",Simulação!L195)","v":169.23531883107555},{"$f":"IF($C195=\"\",\"\",Simulação!M195)","v":"*"},{"$f":"IF($C195=\"\",\"\",Simulação!N195)","v":171.9115290102678},{"$f":"IF($C195=\"\",\"\",Simulação!O195)","v":161.74},{"$f":"IF($C195=\"\",\"\",Simulação!P195)","v":168.37382977271324},{"$f":"IF($C195=\"\",\"\",Simulação!Q195)","v":"-"},{"$f":"IF($C195=\"\",\"\",Simulação!R195)","v":157.98113208869097},{"$f":"IF($C195=\"\",\"\",Simulação!S195)","v":"-"},{"$f":"IF($C195=\"\",\"\",Simulação!T195)","v":172.52878244873884},{"$f":"IF($C195=\"\",\"\",Simulação!U195)","v":"-"},{"$f":"IF($C195=\"\",\"\",Simulação!V195)","v":157.76665634422636},{"$f":"IF($C195=\"\",\"\",Simulação!W195)","v":"-"},{"$f":"IF($C195=\"\",\"\",Simulação!X195)","v":161.39839040065914},{"$f":"IF($C195=\"\",\"\",Simulação!Y195)","v":"-"},{"$f":"IF($C195=\"\",\"\",Simulação!Z195)","v":156.13778412019371},{"$f":"IF($C195=\"\",\"\",Simulação!AA195)","v":"-"},{"$f":"IF($C195=\"\",\"\",Simulação!AB195)","v":136.83060944284537},{"$f":"IF($C195=\"\",\"\",Simulação!AC195)","v":"-"},{"$f":"IF($C195=\"\",\"\",Simulação!AD195)","v":140.66887446424042},{"$f":"IF($C195=\"\",\"\",Simulação!AE195)","v":"-"},{"$f":"IF($C195=\"\",\"\",Simulação!AF195)","v":34.388240562009656},{"$f":"IF($C195=\"\",\"\",Simulação!AG195)","v":"-"},{"$f":"IF($C195=\"\",\"\",Simulação!AH195)","v":29.236023829000793},{"$f":"IF($C195=\"\",\"\",Simulação!AI195)","v":"-"},{"$f":"IF($C195=\"\",\"\",Simulação!AJ195)","v":33.045125393740342},{"$f":"IF($C195=\"\",\"\",Simulação!AK195)","v":"-"},{"$f":"IF($C195=\"\",\"\",Simulação!AL195)","v":32.02721881559642},{"$f":"IF($C195=\"\",\"\",Simulação!AM195)","v":"-"},{"$f":"IF($C195=\"\",\"\",Simulação!AN195)","v":32.217563507182206},{"$f":"IF($C195=\"\",\"\",Simulação!AO195)","v":"-"},{"$f":"IF($C195=\"\",\"\",Simulação!AP195)","v":36.406016086434107},{"$f":"IF($C195=\"\",\"\",Simulação!AQ195)","v":"-"},{"$f":"IF($C195=\"\",\"\",Simulação!AR195)","v":0}]
[null,189,{"$f":"IF(Chegadas!J197<=$C$5,Chegadas!J197,\"\")","v":162.08000000000001},{"$f":"IF($C196=\"\",\"\",Simulação!D196)","v":8.555559960191383},{"$f":"IF($C196=\"\",\"\",Simulação!E196)","v":"*"},{"$f":"IF($C196=\"\",\"\",Simulação!F196)","v":165.61323180271839},{"$f":"IF($C196=\"\",\"\",Simulação!G196)","v":"*"},{"$f":"IF($C196=\"\",\"\",Simulação!H196)","v":162.80755026729125},{"$f":"IF($C196=\"\",\"\",Simulação!I196)","v":"*"},{"$f":"IF($C196=\"\",\"\",Simulação!J196)","v":164.88686620511376},{"$f":"IF($C196=\"\",\"\",Simulação!K196)","v":"*"},{"$f":"IF($C196=\"\",\"\",Simulação!L196)","v":169.23531883107555},{"$f":"IF($C196=\"\",\"\",Simulação!M196)","v":"*"},{"$f":"IF($C196=\"\",\"\",Simulação!N196)","v":171.9115290102678},{"$f":"IF($C196=\"\",\"\",Simulação!O196)","v":"*"},{"$f":"IF($C196=\"\",\"\",Simulação!P196)","v":168.37382977271324},{"$f":"IF($C196=\"\",\"\",Simulação!Q196)","v":162.08000000000001},{"$f":"IF($C196=\"\",\"\",Simulação!R196)","v":170.63555996019139},{"$f":"IF($C196=\"\",\"\",Simulação!S196)","v":"-"},{"$f":"IF($C196=\"\",\"\",Simulação!T196)","v":172.52878244873884},{"$f":"IF($C196=\"\",\"\",Simulação!U196)","v":"-"},{"$f":"IF($C196=\"\",\"\",Simulação!V196)","v":157.76665634422636},{"$f":"IF($C196=\"\",\"\",Simulação!W196)","v":"-"},{"$f":"IF($C196=\"\",\"\",Simulação!X196)","v":161.39839040065914},{"$f":"IF($C196=\"\",\"\",Simulação!Y196)","v":"-"},{"$f":"IF($C196=\"\",\"\",Simulação!Z196)","v":156.13778412019371},{"$f":"IF($C196=\"\",\"\",Simulação!AA196)","v":"-"},{"$f":"IF($C196=\"\",\"\",Simulação!AB196)","v":136.83060944284537},{"$f":"IF($C196=\"\",\"\",Simulação!AC196)","v":"-"},{"$f":"IF($C196=\"\",\"\",Simulação!AD196)","v":140.66887446424042},{"$f":"IF($C196=\"\",\"\",Simulação!AE196)","v":"-"},{"$f":"IF($C196=\"\",\"\",Simulação!AF196)","v":34.388240562009656},{"$f":"IF($C196=\"\",\"\",Simulação!AG196)","v":"-"},{"$f":"IF($C196=\"\",\"\",Simulação!AH196)","v":29.236023829000793},{"$f":"IF($C196=\"\",\"\",Simulação!AI196)","v":"-"},{"$f":"IF($C196=\"\",\"\",Simulação!AJ196)","v":33.045125393740342},{"$f":"IF($C196=\"\",\"\",Simulação!AK196)","v":"-"},{"$f":"IF($C196=\"\",\"\",Simulação!AL196)","v":32.02721881559642},{"$f":"IF($C196=\"\",\"\",Simulação!AM196)","v":"-"},{"$f":"IF($C196=\"\",\"\",Simulação!AN196)","v":32.217563507182206},{"$f":"IF($C196=\"\",\"\",Simulação!AO196)","v":"-"},{"$f":"IF($C196=\"\",\"\",Simulação!AP196)","v":36.406016086434107},{"$f":"IF($C196=\"\",\"\",Simulação!AQ196)","v":"-"},{"$f":"IF($C196=\"\",\"\",Simulação!AR196)","v":0}]
[null,190,{"$f":"IF(Chegadas!J198<=$C$5,Chegadas!J198,\"\")","v":162.25},{"$f":"IF($C197=\"\",\"\",Simulação!D197)","v":9.3499945769298769},{"$f":"IF($C197=\"\",\"\",Simulação!E197)","v":"*"},{"$f":"IF($C197=\"\",\"\",Simulação!F197)","v":165.61323180271839},{"$f":"IF($C197=\"\",\"\",Simulação!G197)","v":"*"},{"$f":"IF($C197=\"\",\"\",Simulação!H197)","v":162.80755026729125},{"$f":"IF($C197=\"\",\"\",Simulação!I197)","v":"*"},{"$f":"IF($C197=\"\",\"\",Simulação!J197)","v":164.88686620511376},{"$f":"IF($C197=\"\",\"\",Simulação!K197)","v":"*"},{"$f":"IF($C197=\"\",\"\",Simulação!L197)","v":169.23531883107555},{"$f":"IF($C197=\"\",\"\",Simulação!M197)","v":"*"},{"$f":"IF($C197=\"\",\"\",Simulação!N197)","v":171.9115290102678},{"$f":"IF($C197=\"\",\"\",Simulação!O197)","v":"*"},{"$f":"IF($C197=\"\",\"\",Simulação!P197)","v":168.37382977271324},{"$f":"IF($C197=\"\",\"\",Simulação!Q197)","v":"*"},{"$f":"IF($C197=\"\",\"\",Simulação!R197)","v":170.63555996019139},{"$f":"IF($C197=\"\",\"\",Simulação!S197)","v":"*"},{"$f":"IF($C197=\"\",\"\",Simulação!T197)","v":172.52878244873884},{"$f":"IF($C197=\"\",\"\",Simulação!U197)","v":162.25},{"$f":"IF($C197=\"\",\"\",Simulação!V197)","v":171.59999457692987},{"$f":"IF($C197=\"\",\"\",Simulação!W197)","v":"-"},{"$f":"IF($C197=\"\",\"\",Simulação!X197)","v":161.39839040065914},{"$f":"IF($C197=\"\",\"\",Simulação!Y197)","v":"-"},{"$f":"IF($C197=\"\",\"\",Simulação!Z197)","v":156.13778412019371},{"$f":"IF($C197=\"\",\"\",Simulação!AA197)","v":"-"},{"$f":"IF($C197=\"\",\"\",Simulação!AB197)","v":136.83060944284537},{"$f":"IF($C197=\"\",\"\",Simulação!AC197)","v":"-"},{"$f":"IF($C197=\"\",\"\",Simulação!AD197)","v":140.66887446424042},{"$f":"IF($C197=\"\",\"\",Simulação!AE197)","v":"-"},{"$f":"IF($C197=\"\",\"\",Simulação!AF197)","v":34.388240562009656},{"$f":"IF($C197=\"\",\"\",Simulação!AG197)","v":"-"},{"$f":"IF($C197=\"\",\"\",Simulação!AH197)","v":29.236023829000793},{"$f":"IF($C197=\"\",\"\",Simulação!AI197)","v":"-"},{"$f":"IF($C197=\"\",\"\",Simulação!AJ197)","v":33.045125393740342},{"$f":"IF($C197=\"\",\"\",Simulação!AK197)","v":"-"},{"$f":"IF($C197=\"\",\"\",Simulação!AL197)","v":32.02721881559642},{"$f":"IF($C197=\"\",\"\",Simulação!AM197)","v":"-"},{"$f":"IF($C197=\"\",\"\",Simulação!AN197)","v":32.217563507182206},{"$f":"IF($C197=\"\",\"\",Simulação!AO197)","v":"-"},{"$f":"IF($C197=\"\",\"\",Simulação!AP197)","v":36.406016086434107},{"$f":"IF($C197=\"\",\"\",Simulação!AQ197)","v":"-"},{"$f":"IF($C197=\"\",\"\",Simulação!AR197)","v":0}]
[null,191,{"$f":"IF(Chegadas!J199<=$C$5,Chegadas!J199,\"\")","v":163.34},{"$f":"IF($C198=\"\",\"\",Simulação!D198)","v":2.05462370249231},{"$f":"IF($C198=\"\",\"\",Simulação!E198)","v":"*"},{"$f":"IF($C198=\"\",\"\",Simulação!F198)","v":165.61323180271839},{"$f":"IF($C198=\"\",\"\",Simulação!G198)","v":163.34},{"$f":"IF($C198=\"\",\"\",Simulação!H198)","v":165.39462370249231},{"$f":"IF($C198=\"\",\"\",Simulação!I198)","v":"-"},{"$f":"IF($C198=\"\",\"\",Simulação!J198)","v":164.88686620511376},{"$f":"IF($C198=\"\",\"\",Simulação!K198)","v":"-"},{"$f":"IF($C198=\"\",\"\",Simulação!L198)","v":169.23531883107555},{"$f":"IF($C198=\"\",\"\",Simulação!M198)","v":"-"},{"$f":"IF($C198=\"\",\"\",Simulação!N198)","v":171.9115290102678},{"$f":"IF($C198=\"\",\"\",Simulação!O198)","v":"-"},{"$f":"IF($C198=\"\",\"\",Simulação!P198)","v":168.37382977271324},{"$f":"IF($C198=\"\",\"\",Simulação!Q198)","v":"-"},{"$f":"IF($C198=\"\",\"\",Simulação!R198)","v":170.63555996019139},{"$f":"IF($C198=\"\",\"\",Simulação!S198)","v":"-"},{"$f":"IF($C198=\"\",\"\",Simulação!T198)","v":172.52878244873884},{"$f":"IF($C198=\"\",\"\",Simulação!U198)","v":"-"},{"$f":"IF($C198=\"\",\"\",Simulação!V198)","v":171.59999457692987},{"$f":"IF($C198=\"\",\"\",Simulação!W198)","v":"-"},{"$f":"IF($C198=\"\",\"\",Simulação!X198)","v":161.39839040065914},{"$f":"IF($C198=\"\",\"\",Simulação!Y198)","v":"-"},{"$f":"IF($C198=\"\",\"\",Simulação!Z198)","v":156.13778412019371},{"$f":"IF($C198=\"\",\"\",Simulação!AA198)","v":"-"},{"$f":"IF($C198=\"\",\"\",Simulação!AB198)","v":136.83060944284537},{"$f":"IF($C198=\"\",\"\",Simulação!AC198)","v":"-"},{"$f":"IF($C198=\"\",\"\",Simulação!AD198)","v":140.66887446424042},{"$f":"IF($C198=\"\",\"\",Simulação!AE198)","v":"-"},{"$f":"IF($C198=\"\",\"\",Simulação!AF198)","v":34.388240562009656},{"$f":"IF($C198=\"\",\"\",Simulação!AG198)","v":"-"},{"$f":"IF($C198=\"\",\"\",Simulação!AH198)","v":29.236023829000793},{"$f":"IF($C198=\"\",\"\",Simulação!AI198)","v":"-"},{"$f":"IF($C198=\"\",\"\",Simulação!AJ198)","v":33.045125393740342},{"$f":"IF($C198=\"\",\"\",Simulação!AK198)","v":"-"},{"$f":"IF($C198=\"\",\"\",Simulação!AL198)","v":32.02721881559642},{"$f":"IF($C198=\"\",\"\",Simulação!AM198)","v":"-"},{"$f":"IF($C198=\"\",\"\",Simulação!AN198)","v":32.217563507182206},{"$f":"IF($C198=\"\",\"\",Simulação!AO198)","v":"-"},{"$f":"IF($C198=\"\",\"\",Simulação!AP198)","v":36.406016086434107},{"$f":"IF($C198=\"\",\"\",Simulação!AQ198)","v":"-"},{"$f":"IF($C198=\"\",\"\",Simulação!AR198)","v":0}]
[null,192,{"$f":"IF(Chegadas!J200<=$C$5,Chegadas!J200,\"\")","v":163.46},{"$f":"IF($C199=\"\",\"\",Simulação!D199)","v":8.494796495209668},{"$f":"IF($C199=\"\",\"\",Simulação!E199)","v":"*"},{"$f":"IF($C199=\"\",\"\",Simulação!F199)","v":165.61323180271839},{"$f":"IF($C199=\"\",\"\",Simulação!G199)","v":"*"},{"$f":"IF($C199=\"\",\"\",Simulação!H199)","v":165.39462370249231},{"$f":"IF($C199=\"\",\"\",Simulação!I199)","v":"*"},{"$f":"IF($C199=\"\",\"\",Simulação!J199)","v":164.88686620511376},{"$f":"IF($C199=\"\",\"\",Simulação!K199)","v":"*"},{"$f":"IF($C199=\"\",\"\",Simulação!L199)","v":169.23531883107555},{"$f":"IF($C199=\"\",\"\",Simulação!M199)","v":"*"},{"$f":"IF($C199=\"\",\"\",Simulação!N199)","v":171.9115290102678},{"$f":"IF($C199=\"\",\"\",Simulação!O199)","v":"*"},{"$f":"IF($C199=\"\",\"\",Simulação!P199)","v":168.37382977271324},{"$f":"IF($C199=\"\",\"\",Simulação!Q199)","v":"*"},{"$f":"IF($C199=\"\",\"\",Simulação!R199)","v":170.63555996019139},{"$f":"IF($C199=\"\",\"\",Simulação!S199)","v":"*"},{"$f":"IF($C199=\"\",\"\",Simulação!T199)","v":172.52878244873884},{"$f":"IF($C199=\"\",\"\",Simulação!U199)","v":"*"},{"$f":"IF($C199=\"\",\"\",Simulação!V199)","v":171.59999457692987},{"$f":"IF($C199=\"\",\"\",Simulação!W199)","v":163.46},{"$f":"IF($C199=\"\",\"\",Simulação!X199)","v":171.95479649520968},{"$f":"IF($C199=\"\",\"\",Simulação!Y199)","v":"-"},{"$f":"IF($C199=\"\",\"\",Simulação!Z199)","v":156.13778412019371},{"$f":"IF($C199=\"\",\"\",Simulação!AA199)","v":"-"},{"$f":"IF($C199=\"\",\"\",Simulação!AB199)","v":136.83060944284537},{"$f":"IF($C199=\"\",\"\",Simulação!AC199)","v":"-"},{"$f":"IF($C199=\"\",\"\",Simulação!AD199)","v":140.66887446424042},{"$f":"IF($C199=\"\",\"\",Simulação!AE199)","v":"-"},{"$f":"IF($C199=\"\",\"\",Simulação!AF199)","v":34.388240562009656},{"$f":"IF($C199=\"\",\"\",Simulação!AG199)","v":"-"},{"$f":"IF($C199=\"\",\"\",Simulação!AH199)","v":29.236023829000793},{"$f":"IF($C199=\"\",\"\",Simulação!AI199)","v":"-"},{"$f":"IF($C199=\"\",\"\",Simulação!AJ199)","v":33.045125393740342},{"$f":"IF($C199=\"\",\"\",Simulação!AK199)","v":"-"},{"$f":"IF($C199=\"\",\"\",Simulação!AL199)","v":32.02721881559642},{"$f":"IF($C199=\"\",\"\",Simulação!AM199)","v":"-"},{"$f":"IF($C199=\"\",\"\",Simulação!AN199)","v":32.217563507182206},{"$f":"IF($C199=\"\",\"\",Simulação!AO199)","v":"-"},{"$f":"IF($C199=\"\",\"\",Simulação!AP199)","v":36.406016086434107},{"$f":"IF($C199=\"\",\"\",Simulação!AQ199)","v":"-"},{"$f":"IF($C199=\"\",\"\",Simulação!AR199)","v":0}]
[null,193,{"$f":"IF(Chegadas!J201<=$C$5,Chegadas!J201,\"\")","v":165.48000000000002},{"$f":"IF($C200=\"\",\"\",Simulação!D200)","v":7.8871289381873542},{"$f":"IF($C200=\"\",\"\",Simulação!E200)","v":"*"},{"$f":"IF($C200=\"\",\"\",Simulação!F200)","v":165.61323180271839},{"$f":"IF($C200=\"\",\"\",Simulação!G200)","v":165.48000000000002},{"$f":"IF($C200=\"\",\"\",Simulação!H200)","v":173.36712893818736},{"$f":"IF($C200=\"\",\"\",Simulação!I200)","v":"-"},{"$f":"IF($C200=\"\",\"\",Simulação!J200)","v":164.88686620511376},{"$f":"IF($C200=\"\",\"\",Simulação!K200)","v":"-"},{"$f":"IF($C200=\"\",\"\",Simulação!L200)","v":169.23531883107555},{"$f":"IF($C200=\"\",\"\",Simulação!M200)","v":"-"},{"$f":"IF($C200=\"\",\"\",Simulação!N200)","v":171.9115290102678},{"$f":"IF($C200=\"\",\"\",Simulação!O200)","v":"-"},{"$f":"IF($C200=\"\",\"\",Simulação!P200)","v":168.37382977271324},{"$f":"IF($C200=\"\",\"\",Simulação!Q200)","v":"-"},{"$f":"IF($C200=\"\",\"\",Simulação!R200)","v":170.63555996019139},{"$f":"IF($C200=\"\",\"\",Simulação!S200)","v":"-"},{"$f":"IF($C200=\"\",\"\",Simulação!T200)","v":172.52878244873884},{"$f":"IF($C200=\"\",\"\",Simulação!U200)","v":"-"},{"$f":"IF($C200=\"\",\"\",Simulação!V200)","v":171.59999457692987},{"$f":"IF($C200=\"\",\"\",Simulação!W200)","v":"-"},{"$f":"IF($C200=\"\",\"\",Simulação!X200)","v":171.95479649520968},{"$f":"IF($C200=\"\",\"\",Simulação!Y200)","v":"-"},{"$f":"IF($C200=\"\",\"\",Simulação!Z200)","v":156.13778412019371},{"$f":"IF($C200=\"\",\"\",Simulação!AA200)","v":"-"},{"$f":"IF($C200=\"\",\"\",Simulação!AB200)","v":136.83060944284537},{"$f":"IF($C200=\"\",\"\",Simulação!AC200)","v":"-"},{"$f":"IF($C200=\"\",\"\",Simulação!AD200)","v":140.66887446424042},{"$f":"IF($C200=\"\",\"\",Simulação!AE200)","v":"-"},{"$f":"IF($C200=\"\",\"\",Simulação!AF200)","v":34.388240562009656},{"$f":"IF($C200=\"\",\"\",Simulação!AG200)","v":"-"},{"$f":"IF($C200=\"\",\"\",Simulação!AH200)","v":29.236023829000793},{"$f":"IF($C200=\"\",\"\",Simulação!AI200)","v":"-"},{"$f":"IF($C200=\"\",\"\",Simulação!AJ200)","v":33.045125393740342},{"$f":"IF($C200=\"\",\"\",Simulação!AK200)","v":"-"},{"$f":"IF($C200=\"\",\"\",Simulação!AL200)","v":32.02721881559642},{"$f":"IF($C200=\"\",\"\",Simulação!AM200)","v":"-"},{"$f":"IF($C200=\"\",\"\",Simulação!AN200)","v":32.217563507182206},{"$f":"IF($C200=\"\",\"\",Simulação!AO200)","v":"-"},{"$f":"IF($C200=\"\",\"\",Simulação!AP200)","v":36.406016086434107},{"$f":"IF($C200=\"\",\"\",Simulação!AQ200)","v":"-"},{"$f":"IF($C200=\"\",\"\",Simulação!AR200)","v":0}]
[null,194,{"$f":"IF(Chegadas!J202<=$C$5,Chegadas!J202,\"\")","v":165.52},{"$f":"IF($C201=\"\",\"\",Simulação!D201)","v":3.4677140076713493},{"$f":"IF($C201=\"\",\"\",Simulação!E201)","v":"*"},{"$f":"IF($C201=\"\",\"\",Simulação!F201)","v":165.61323180271839},{"$f":"IF($C201=\"\",\"\",Simulação!G201)","v":"*"},{"$f":"IF($C201=\"\",\"\",Simulação!H201)","v":173.36712893818736},{"$f":"IF($C201=\"\",\"\",Simulação!I201)","v":165.52},{"$f":"IF($C201=\"\",\"\",Simulação!J201)","v":168.98771400767137},{"$f":"IF($C201=\"\",\"\",Simulação!K201)","v":"-"},{"$f":"IF($C201=\"\",\"\",Simulação!L201)","v":169.23531883107555},{"$f":"IF($C201=\"\",\"\",Simulação!M201)","v":"-"},{"$f":"IF($C201=\"\",\"\",Simulação!N201)","v":171.9115290102678},{"$f":"IF($C201=\"\",\"\",Simulação!O201)","v":"-"},{"$f":"IF($C201=\"\",\"\",Simulação!P201)","v":168.37382977271324},{"$f":"IF($C201=\"\",\"\",Simulação!Q201)","v":"-"},{"$f":"IF($C201=\"\",\"\",Simulação!R201)","v":170.63555996019139},{"$f":"IF($C201=\"\",\"\",Simulação!S201)","v":"-"},{"$f":"IF($C201=\"\",\"\",Simulação!T201)","v":172.52878244873884},{"$f":"IF($C201=\"\",\"\",Simulação!U201)","v":"-"},{"$f":"IF($C201=\"\",\"\",Simulação!V201)","v":171.59999457692987},{"$f":"IF($C201=\"\",\"\",Simulação!W201)","v":"-"},{"$f":"IF($C201=\"\",\"\",Simulação!X201)","v":171.95479649520968},{"$f":"IF($C201=\"\",\"\",Simulação!Y201)","v":"-"},{"$f":"IF($C201=\"\",\"\",Simulação!Z201)","v":156.13778412019371},{"$f":"IF($C201=\"\",\"\",Simulação!AA201)","v":"-"},{"$f":"IF($C201=\"\",\"\",Simulação!AB201)","v":136.83060944284537},{"$f":"IF($C201=\"\",\"\",Simulação!AC201)","v":"-"},{"$f":"IF($C201=\"\",\"\",Simulação!AD201)","v":140.66887446424042},{"$f":"IF($C201=\"\",\"\",Simulação!AE201)","v":"-"},{"$f":"IF($C201=\"\",\"\",Simulação!AF201)","v":34.388240562009656},{"$f":"IF($C201=\"\",\"\",Simulação!AG201)","v":"-"},{"$f":"IF($C201=\"\",\"\",Simulação!AH201)","v":29.236023829000793},{"$f":"IF($C201=\"\",\"\",Simulação!AI201)","v":"-"},{"$f":"IF($C201=\"\",\"\",Simulação!AJ201)","v":33.045125393740342},{"$f":"IF($C201=\"\",\"\",Simulação!AK201)","v":"-"},{"$f":"IF($C201=\"\",\"\",Simulação!AL201)","v":32.02721881559642},{"$f":"IF($C201=\"\",\"\",Simulação!AM201)","v":"-"},{"$f":"IF($C201=\"\",\"\",Simulação!AN201)","v":32.217563507182206},{"$f":"IF($C201=\"\",\"\",Simulação!AO201)","v":"-"},{"$f":"IF($C201=\"\",\"\",Simulação!AP201)","v":36.406016086434107},{"$f":"IF($C201=\"\",\"\",Simulação!AQ201)","v":"-"},{"$f":"IF($C201=\"\",\"\",Simulação!AR201)","v":0}]
[null,195,{"$f":"IF(Chegadas!J203<=$C$5,Chegadas!J203,\"\")","v":167.12},{"$f":"IF($C202=\"\",\"\",Simulação!D202)","v":8.0508209476425847},{"$f":"IF($C202=\"\",\"\",Simulação!E202)","v":167.12},{"$f":"IF($C202=\"\",\"\",Simulação!F202)","v":175.1708209476426},{"$f":"IF($C202=\"\",\"\",Simulação!G202)","v":"-"},{"$f":"IF($C202=\"\",\"\",Simulação!H202)","v":173.36712893818736},{"$f":"IF($C202=\"\",\"\",Simulação!I202)","v":"-"},{"$f":"IF($C202=\"\",\"\",Simulação!J202)","v":168.98771400767137},{"$f":"IF($C202=\"\",\"\",Simulação!K202)","v":"-"},{"$f":"IF($C202=\"\",\"\",Simulação!L202)","v":169.23531883107555},{"$f":"IF($C202=\"\",\"\",Simulação!M202)","v":"-"},{"$f":"IF($C202=\"\",\"\",Simulação!N202)","v":171.9115290102678},{"$f":"IF($C202=\"\",\"\",Simulação!O202)","v":"-"},{"$f":"IF($C202=\"\",\"\",Simulação!P202)","v":168.37382977271324},{"$f":"IF($C202=\"\",\"\",Simulação!Q202)","v":"-"},{"$f":"IF($C202=\"\",\"\",Simulação!R202)","v":170.63555996019139},{"$f":"IF($C202=\"\",\"\",Simulação!S202)","v":"-"},{"$f":"IF($C202=\"\",\"\",Simulação!T202)","v":172.52878244873884},{"$f":"IF($C202=\"\",\"\",Simulação!U202)","v":"-"},{"$f":"IF($C202=\"\",\"\",Simulação!V202)","v":171.59999457692987},{"$f":"IF($C202=\"\",\"\",Simulação!W202)","v":"-"},{"$f":"IF($C202=\"\",\"\",Simulação!X202)","v":171.95479649520968},{"$f":"IF($C202=\"\",\"\",Simulação!Y202)","v":"-"},{"$f":"IF($C202=\"\",\"\",Simulação!Z202)","v":156.13778412019371},{"$f":"IF($C202=\"\",\"\",Simulação!AA202)","v":"-"},{"$f":"IF($C202=\"\",\"\",Simulação!AB202)","v":136.83060944284537},{"$f":"IF($C202=\"\",\"\",Simulação!AC202)","v":"-"},{"$f":"IF($C202=\"\",\"\",Simulação!AD202)","v":140.66887446424042},{"$f":"IF($C202=\"\",\"\",Simulação!AE202)","v":"-"},{"$f":"IF($C202=\"\",\"\",Simulação!AF202)","v":34.388240562009656},{"$f":"IF($C202=\"\",\"\",Simulação!AG202)","v":"-"},{"$f":"IF($C202=\"\",\"\",Simulação!AH202)","v":29.236023829000793},{"$f":"IF($C202=\"\",\"\",Simulação!AI202)","v":"-"},{"$f":"IF($C202=\"\",\"\",Simulação!AJ202)","v":33.045125393740342},{"$f":"IF($C202=\"\",\"\",Simulação!AK202)","v":"-"},{"$f":"IF($C202=\"\",\"\",Simulação!AL202)","v":32.02721881559642},{"$f":"IF($C202=\"\",\"\",Simulação!AM202)","v":"-"},{"$f":"IF($C202=\"\",\"\",Simulação!AN202)","v":32.217563507182206},{"$f":"IF($C202=\"\",\"\",Simulação!AO202)","v":"-"},{"$f":"IF($C202=\"\",\"\",Simulação!AP202)","v":36.406016086434107},{"$f":"IF($C202=\"\",\"\",Simulação!AQ202)","v":"-"},{"$f":"IF($C202=\"\",\"\",Simulação!AR202)","v":0}]
[null,196,{"$f":"IF(Chegadas!J204<=$C$5,Chegadas!J204,\"\")","v":169.48000000000002},{"$f":"IF($C203=\"\",\"\",Simulação!D203)","v":12.058278815549162},{"$f":"IF($C203=\"\",\"\",Simulação!E203)","v":"*"},{"$f":"IF($C203=\"\",\"\",Simulação!F203)","v":175.1708209476426},{"$f":"IF($C203=\"\",\"\",Simulação!G203)","v":"*"},{"$f":"IF($C203=\"\",\"\",Simulação!H203)","v":173.36712893818736},{"$f":"IF($C203=\"\",\"\",Simulação!I203)","v":169.48000000000002},{"$f":"IF($C203=\"\",\"\",Simulação!J203)","v":181.53827881554918},{"$f":"IF($C203=\"\",\"\",Simulação!K203)","v":"-"},{"$f":"IF($C203=\"\",\"\",Simulação!L203)","v":169.23531883107555},{"$f":"IF($C203=\"\",\"\",Simulação!M203)","v":"-"},{"$f":"IF($C203=\"\",\"\",Simulação!N203)","v":171.9115290102678},{"$f":"IF($C203=\"\",\"\",Simulação!O203)","v":"-"},{"$f":"IF($C203=\"\",\"\",Simulação!P203)","v":168.37382977271324},{"$f":"IF($C203=\"\",\"\",Simulação!Q203)","v":"-"},{"$f":"IF($C203=\"\",\"\",Simulação!R203)","v":170.63555996019139},{"$f":"IF($C203=\"\",\"\",Simulação!S203)","v":"-"},{"$f":"IF($C203=\"\",\"\",Simulação!T203)","v":172.52878244873884},{"$f":"IF($C203=\"\",\"\",Simulação!U203)","v":"-"},{"$f":"IF($C203=\"\",\"\",Simulação!V203)","v":171.59999457692987},{"$f":"IF($C203=\"\",\"\",Simulação!W203)","v":"-"},{"$f":"IF($C203=\"\",\"\",Simulação!X203)","v":171.95479649520968},{"$f":"IF($C203=\"\",\"\",Simulação!Y203)","v":"-"},{"$f":"IF($C203=\"\",\"\",Simulação!Z203)","v":156.13778412019371},{"$f":"IF($C203=\"\",\"\",Simulação!AA203)","v":"-"},{"$f":"IF($C203=\"\",\"\",Simulação!AB203)","v":136.83060944284537},{"$f":"IF($C203=\"\",\"\",Simulação!AC203)","v":"-"},{"$f":"IF($C203=\"\",\"\",Simulação!AD203)","v":140.66887446424042},{"$f":"IF($C203=\"\",\"\",Simulação!AE203)","v":"-"},{"$f":"IF($C203=\"\",\"\",Simulação!AF203)","v":34.388240562009656},{"$f":"IF($C203=\"\",\"\",Simulação!AG203)","v":"-"},{"$f":"IF($C203=\"\",\"\",Simulação!AH203)","v":29.236023829000793},{"$f":"IF($C203=\"\",\"\",Simulação!AI203)","v":"-"},{"$f":"IF($C203=\"\",\"\",Simulação!AJ203)","v":33.045125393740342},{"$f":"IF($C203=\"\",\"\",Simulação!AK203)","v":"-"},{"$f":"IF($C203=\"\",\"\",Simulação!AL203)","v":32.02721881559642},{"$f":"IF($C203=\"\",\"\",Simulação!AM203)","v":"-"},{"$f":"IF($C203=\"\",\"\",Simulação!AN203)","v":32.217563507182206},{"$f":"IF($C203=\"\",\"\",Simulação!AO203)","v":"-"},{"$f":"IF($C203=\"\",\"\",Simulação!AP203)","v":36.406016086434107},{"$f":"IF($C203=\"\",\"\",Simulação!AQ203)","v":"-"},{"$f":"IF($C203=\"\",\"\",Simulação!AR203)","v":0}]
[null,197,{"$f":"IF(Chegadas!J205<=$C$5,Chegadas!J205,\"\")","v":172.23000000000002},{"$f":"IF($C204=\"\",\"\",Simulação!D204)","v":0.93332827321092127},{"$f":"IF($C204=\"\",\"\",Simulação!E204)","v":"*"},{"$f":"IF($C204=\"\",\"\",Simulação!F204)","v":175.1708209476426},{"$f":"IF($C204=\"\",\"\",Simulação!G204)","v":"*"},{"$f":"IF($C204=\"\",\"\",Simulação!H204)","v":173.36712893818736},{"$f":"IF($C204=\"\",\"\",Simulação!I204)","v":"*"},{"$f":"IF($C204=\"\",\"\",Simulação!J204)","v":181.53827881554918},{"$f":"IF($C204=\"\",\"\",Simulação!K204)","v":172.23000000000002},{"$f":"IF($C204=\"\",\"\",Simulação!L204)","v":173.16332827321094},{"$f":"IF($C204=\"\",\"\",Simulação!M204)","v":"-"},{"$f":"IF($C204=\"\",\"\",Simulação!N204)","v":171.9115290102678},{"$f":"IF($C204=\"\",\"\",Simulação!O204)","v":"-"},{"$f":"IF($C204=\"\",\"\",Simulação!P204)","v":168.37382977271324},{"$f":"IF($C204=\"\",\"\",Simulação!Q204)","v":"-"},{"$f":"IF($C204=\"\",\"\",Simulação!R204)","v":170.63555996019139},{"$f":"IF($C204=\"\",\"\",Simulação!S204)","v":"-"},{"$f":"IF($C204=\"\",\"\",Simulação!T204)","v":172.52878244873884},{"$f":"IF($C204=\"\",\"\",Simulação!U204)","v":"-"},{"$f":"IF($C204=\"\",\"\",Simulação!V204)","v":171.59999457692987},{"$f":"IF($C204=\"\",\"\",Simulação!W204)","v":"-"},{"$f":"IF($C204=\"\",\"\",Simulação!X204)","v":171.95479649520968},{"$f":"IF($C204=\"\",\"\",Simulação!Y204)","v":"-"},{"$f":"IF($C204=\"\",\"\",Simulação!Z204)","v":156.13778412019371},{"$f":"IF($C204=\"\",\"\",Simulação!AA204)","v":"-"},{"$f":"IF($C204=\"\",\"\",Simulação!AB204)","v":136.83060944284537},{"$f":"IF($C204=\"\",\"\",Simulação!AC204)","v":"-"},{"$f":"IF($C204=\"\",\"\",Simulação!AD204)","v":140.66887446424042},{"$f":"IF($C204=\"\",\"\",Simulação!AE204)","v":"-"},{"$f":"IF($C204=\"\",\"\",Simulação!AF204)","v":34.388240562009656},{"$f":"IF($C204=\"\",\"\",Simulação!AG204)","v":"-"},{"$f":"IF($C204=\"\",\"\",Simulação!AH204)","v":29.236023829000793},{"$f":"IF($C204=\"\",\"\",Simulação!AI204)","v":"-"},{"$f":"IF($C204=\"\",\"\",Simulação!AJ204)","v":33.045125393740342},{"$f":"IF($C204=\"\",\"\",Simulação!AK204)","v":"-"},{"$f":"IF($C204=\"\",\"\",Simulação!AL204)","v":32.02721881559642},{"$f":"IF($C204=\"\",\"\",Simulação!AM204)","v":"-"},{"$f":"IF($C204=\"\",\"\",Simulação!AN204)","v":32.217563507182206},{"$f":"IF($C204=\"\",\"\",Simulação!AO204)","v":"-"},{"$f":"IF($C204=\"\",\"\",Simulação!AP204)","v":36.406016086434107},{"$f":"IF($C204=\"\",\"\",Simulação!AQ204)","v":"-"},{"$f":"IF($C204=\"\",\"\",Simulação!AR204)","v":0}]
[null,198,{"$f":"IF(Chegadas!J206<=$C$5,Chegadas!J206,\"\")","v":172.53000000000003},{"$f":"IF($C205=\"\",\"\",Simulação!D205)","v":8.6078138253319594},{"$f":"IF($C205=\"\",\"\",Simulação!E205)","v":"*"},{"$f":"IF($C205=\"\",\"\",Simulação!F205)","v":175.1708209476426},{"$f":"IF($C205=\"\",\"\",Simulação!G205)","v":"*"},{"$f":"IF($C205=\"\",\"\",Simulação!H205)","v":173.36712893818736},{"$f":"IF($C205=\"\",\"\",Simulação!I205)","v":"*"},{"$f":"IF($C205=\"\",\"\",Simulação!J205)","v":181.53827881554918},{"$f":"IF($C205=\"\",\"\",Simulação!K205)","v":"*"},{"$f":"IF($C205=\"\",\"\",Simulação!L205)","v":173.16332827321094},{"$f":"IF($C205=\"\",\"\",Simulação!M205)","v":172.53000000000003},{"$f":"IF($C205=\"\",\"\",Simulação!N205)","v":181.13781382533199},{"$f":"IF($C205=\"\",\"\",Simulação!O205)","v":"-"},{"$f":"IF($C205=\"\",\"\",Simulação!P205)","v":168.37382977271324},{"$f":"IF($C205=\"\",\"\",Simulação!Q205)","v":"-"},{"$f":"IF($C205=\"\",\"\",Simulação!R205)","v":170.63555996019139},{"$f":"IF($C205=\"\",\"\",Simulação!S205)","v":"-"},{"$f":"IF($C205=\"\",\"\",Simulação!T205)","v":172.52878244873884},{"$f":"IF($C205=\"\",\"\",Simulação!U205)","v":"-"},{"$f":"IF($C205=\"\",\"\",Simulação!V205)","v":171.59999457692987},{"$f":"IF($C205=\"\",\"\",Simulação!W205)","v":"-"},{"$f":"IF($C205=\"\",\"\",Simulação!X205)","v":171.95479649520968},{"$f":"IF($C205=\"\",\"\",Simulação!Y205)","v":"-"},{"$f":"IF($C205=\"\",\"\",Simulação!Z205)","v":156.13778412019371},{"$f":"IF($C205=\"\",\"\",Simulação!AA205)","v":"-"},{"$f":"IF($C205=\"\",\"\",Simulação!AB205)","v":136.83060944284537},{"$f":"IF($C205=\"\",\"\",Simulação!AC205)","v":"-"},{"$f":"IF($C205=\"\",\"\",Simulação!AD205)","v":140.66887446424042},{"$f":"IF($C205=\"\",\"\",Simulação!AE205)","v":"-"},{"$f":"IF($C205=\"\",\"\",Simulação!AF205)","v":34.388240562009656},{"$f":"IF($C205=\"\",\"\",Simulação!AG205)","v":"-"},{"$f":"IF($C205=\"\",\"\",Simulação!AH205)","v":29.236023829000793},{"$f":"IF($C205=\"\",\"\",Simulação!AI205)","v":"-"},{"$f":"IF($C205=\"\",\"\",Simulação!AJ205)","v":33.045125393740342},{"$f":"IF($C205=\"\",\"\",Simulação!AK205)","v":"-"},{"$f":"IF($C205=\"\",\"\",Simulação!AL205)","v":32.02721881559642},{"$f":"IF($C205=\"\",\"\",Simulação!AM205)","v":"-"},{"$f":"IF($C205=\"\",\"\",Simulação!AN205)","v":32.217563507182206},{"$f":"IF($C205=\"\",\"\",Simulação!AO205)","v":"-"},{"$f":"IF($C205=\"\",\"\",Simulação!AP205)","v":36.406016086434107},{"$f":"IF($C205=\"\",\"\",Simulação!AQ205)","v":"-"},{"$f":"IF($C205=\"\",\"\",Simulação!AR205)","v":0}]
[null,199,{"$f":"IF(Chegadas!J207<=$C$5,Chegadas!J207,\"\")","v":173.02000000000004},{"$f":"IF($C206=\"\",\"\",Simulação!D206)","v":4.9592900685095849},{"$f":"IF($C206=\"\",\"\",Simulação!E206)","v":"*"},{"$f":"IF($C206=\"\",\"\",Simulação!F206)","v":175.1708209476426},{"$f":"IF($C206=\"\",\"\",Simulação!G206)","v":"*"},{"$f":"IF($C206=\"\",\"\",Simulação!H206)","v":173.36712893818736},{"$f":"IF($C206=\"\",\"\",Simulação!I206)","v":"*"},{"$f":"IF($C206=\"\",\"\",Simulação!J206)","v":181.53827881554918},{"$f":"IF($C206=\"\",\"\",Simulação!K206)","v":"*"},{"$f":"IF($C206=\"\",\"\",Simulação!L206)","v":173.16332827321094},{"$f":"IF($C206=\"\",\"\",Simulação!M206)","v":"*"},{"$f":"IF($C206=\"\",\"\",Simulação!N206)","v":181.13781382533199},{"$f":"IF($C206=\"\",\"\",Simulação!O206)","v":173.02000000000004},{"$f":"IF($C206=\"\",\"\",Simulação!P206)","v":177.97929006850961},{"$f":"IF($C206=\"\",\"\",Simulação!Q206)","v":"-"},{"$f":"IF($C206=\"\",\"\",Simulação!R206)","v":170.63555996019139},{"$f":"IF($C206=\"\",\"\",Simulação!S206)","v":"-"},{"$f":"IF($C206=\"\",\"\",Simulação!T206)","v":172.52878244873884},{"$f":"IF($C206=\"\",\"\",Simulação!U206)","v":"-"},{"$f":"IF($C206=\"\",\"\",Simulação!V206)","v":171.59999457692987},{"$f":"IF($C206=\"\",\"\",Simulação!W206)","v":"-"},{"$f":"IF($C206=\"\",\"\",Simulação!X206)","v":171.95479649520968},{"$f":"IF($C206=\"\",\"\",Simulação!Y206)","v":"-"},{"$f":"IF($C206=\"\",\"\",Simulação!Z206)","v":156.13778412019371},{"$f":"IF($C206=\"\",\"\",Simulação!AA206)","v":"-"},{"$f":"IF($C206=\"\",\"\",Simulação!AB206)","v":136.83060944284537},{"$f":"IF($C206=\"\",\"\",Simulação!AC206)","v":"-"},{"$f":"IF($C206=\"\",\"\",Simulação!AD206)","v":140.66887446424042},{"$f":"IF($C206=\"\",\"\",Simulação!AE206)","v":"-"},{"$f":"IF($C206=\"\",\"\",Simulação!AF206)","v":34.388240562009656},{"$f":"IF($C206=\"\",\"\",Simulação!AG206)","v":"-"},{"$f":"IF($C206=\"\",\"\",Simulação!AH206)","v":29.236023829000793},{"$f":"IF($C206=\"\",\"\",Simulação!AI206)","v":"-"},{"$f":"IF($C206=\"\",\"\",Simulação!AJ206)","v":33.045125393740342},{"$f":"IF($C206=\"\",\"\",Simulação!AK206)","v":"-"},{"$f":"IF($C206=\"\",\"\",Simulação!AL206)","v":32.02721881559642},{"$f":"IF($C206=\"\",\"\",Simulação!AM206)","v":"-"},{"$f":"IF($C206=\"\",\"\",Simulação!AN206)","v":32.217563507182206},{"$f":"IF($C206=\"\",\"\",Simulação!AO206)","v":"-"},{"$f":"IF($C206=\"\",\"\",Simulação!AP206)","v":36.406016086434107},{"$f":"IF($C206=\"\",\"\",Simulação!AQ206)","v":"-"},{"$f":"IF($C206=\"\",\"\",Simulação!AR206)","v":0}]
[null,200,{"$f":"IF(Chegadas!J208<=$C$5,Chegadas!J208,\"\")","v":173.69000000000003},{"$f":"IF($C207=\"\",\"\",Simulação!D207)","v":6.7431292390513065},{"$f":"IF($C207=\"\",\"\",Simulação!E207)","v":"*"},{"$f":"IF($C207=\"\",\"\",Simulação!F207)","v":175.1708209476426},{"$f":"IF($C207=\"\",\"\",Simulação!G207)","v":173.69000000000003},{"$f":"IF($C207=\"\",\"\",Simulação!H207)","v":180.43312923905134},{"$f":"IF($C207=\"\",\"\",Simulação!I207)","v":"-"},{"$f":"IF($C207=\"\",\"\",Simulação!J207)","v":181.53827881554918},{"$f":"IF($C207=\"\",\"\",Simulação!K207)","v":"-"},{"$f":"IF($C207=\"\",\"\",Simulação!L207)","v":173.16332827321094},{"$f":"IF($C207=\"\",\"\",Simulação!M207)","v":"-"},{"$f":"IF($C207=\"\",\"\",Simulação!N207)","v":181.13781382533199},{"$f":"IF($C207=\"\",\"\",Simulação!O207)","v":"-"},{"$f":"IF($C207=\"\",\"\",Simulação!P207)","v":177.97929006850961},{"$f":"IF($C207=\"\",\"\",Simulação!Q207)","v":"-"},{"$f":"IF($C207=\"\",\"\",Simulação!R207)","v":170.63555996019139},{"$f":"IF($C207=\"\",\"\",Simulação!S207)","v":"-"},{"$f":"IF($C207=\"\",\"\",Simulação!T207)","v":172.52878244873884},{"$f":"IF($C207=\"\",\"\",Simulação!U207)","v":"-"},{"$f":"IF($C207=\"\",\"\",Simulação!V207)","v":171.59999457692987},{"$f":"IF($C207=\"\",\"\",Simulação!W207)","v":"-"},{"$f":"IF($C207=\"\",\"\",Simulação!X207)","v":171.95479649520968},{"$f":"IF($C207=\"\",\"\",Simulação!Y207)","v":"-"},{"$f":"IF($C207=\"\",\"\",Simulação!Z207)","v":156.13778412019371},{"$f":"IF($C207=\"\",\"\",Simulação!AA207)","v":"-"},{"$f":"IF($C207=\"\",\"\",Simulação!AB207)","v":136.83060944284537},{"$f":"IF($C207=\"\",\"\",Simulação!AC207)","v":"-"},{"$f":"IF($C207=\"\",\"\",Simulação!AD207)","v":140.66887446424042},{"$f":"IF($C207=\"\",\"\",Simulação!AE207)","v":"-"},{"$f":"IF($C207=\"\",\"\",Simulação!AF207)","v":34.388240562009656},{"$f":"IF($C207=\"\",\"\",Simulação!AG207)","v":"-"},{"$f":"IF($C207=\"\",\"\",Simulação!AH207)","v":29.236023829000793},{"$f":"IF($C207=\"\",\"\",Simulação!AI207)","v":"-"},{"$f":"IF($C207=\"\",\"\",Simulação!AJ207)","v":33.045125393740342},{"$f":"IF($C207=\"\",\"\",Simulação!AK207)","v":"-"},{"$f":"IF($C207=\"\",\"\",Simulação!AL207)","v":32.02721881559642},{"$f":"IF($C207=\"\",\"\",Simulação!AM207)","v":"-"},{"$f":"IF($C207=\"\",\"\",Simulação!AN207)","v":32.217563507182206},{"$f":"IF($C207=\"\",\"\",Simulação!AO207)","v":"-"},{"$f":"IF($C207=\"\",\"\",Simulação!AP207)","v":36.406016086434107},{"$f":"IF($C207=\"\",\"\",Simulação!AQ207)","v":"-"},{"$f":"IF($C207=\"\",\"\",Simulação!AR207)","v":0}]
[null,201,{"$f":"IF(Chegadas!J209<=$C$5,Chegadas!J209,\"\")","v":173.91000000000003},{"$f":"IF($C208=\"\",\"\",Simulação!D208)","v":8.062091842850089},{"$f":"IF($C208=\"\",\"\",Simulação!E208)","v":"*"},{"$f":"IF($C208=\"\",\"\",Simulação!F208)","v":175.1708209476426},{"$f":"IF($C208=\"\",\"\",Simulação!G208)","v":"*"},{"$f":"IF($C208=\"\",\"\",Simulação!H208)","v":180.43312923905134},{"$f":"IF($C208=\"\",\"\",Simulação!I208)","v":"*"},{"$f":"IF($C208=\"\",\"\",Simulação!J208)","v":181.53827881554918},{"$f":"IF($C208=\"\",\"\",Simulação!K208)","v":173.91000000000003},{"$f":"IF($C208=\"\",\"\",Simulação!L208)","v":181.97209184285012},{"$f":"IF($C208=\"\",\"\",Simulação!M208)","v":"-"},{"$f":"IF($C208=\"\",\"\",Simulação!N208)","v":181.13781382533199},{"$f":"IF($C208=\"\",\"\",Simulação!O208)","v":"-"},{"$f":"IF($C208=\"\",\"\",Simulação!P208)","v":177.97929006850961},{"$f":"IF($C208=\"\",\"\",Simulação!Q208)","v":"-"},{"$f":"IF($C208=\"\",\"\",Simulação!R208)","v":170.63555996019139},{"$f":"IF($C208=\"\",\"\",Simulação!S208)","v":"-"},{"$f":"IF($C208=\"\",\"\",Simulação!T208)","v":172.52878244873884},{"$f":"IF($C208=\"\",\"\",Simulação!U208)","v":"-"},{"$f":"IF($C208=\"\",\"\",Simulação!V208)","v":171.59999457692987},{"$f":"IF($C208=\"\",\"\",Simulação!W208)","v":"-"},{"$f":"IF($C208=\"\",\"\",Simulação!X208)","v":171.95479649520968},{"$f":"IF($C208=\"\",\"\",Simulação!Y208)","v":"-"},{"$f":"IF($C208=\"\",\"\",Simulação!Z208)","v":156.13778412019371},{"$f":"IF($C208=\"\",\"\",Simulação!AA208)","v":"-"},{"$f":"IF($C208=\"\",\"\",Simulação!AB208)","v":136.83060944284537},{"$f":"IF($C208=\"\",\"\",Simulação!AC208)","v":"-"},{"$f":"IF($C208=\"\",\"\",Simulação!AD208)","v":140.66887446424042},{"$f":"IF($C208=\"\",\"\",Simulação!AE208)","v":"-"},{"$f":"IF($C208=\"\",\"\",Simulação!AF208)","v":34.388240562009656},{"$f":"IF($C208=\"\",\"\",Simulação!AG208)","v":"-"},{"$f":"IF($C208=\"\",\"\",Simulação!AH208)","v":29.236023829000793},{"$f":"IF($C208=\"\",\"\",Simulação!AI208)","v":"-"},{"$f":"IF($C208=\"\",\"\",Simulação!AJ208)","v":33.045125393740342},{"$f":"IF($C208=\"\",\"\",Simulação!AK208)","v":"-"},{"$f":"IF($C208=\"\",\"\",Simulação!AL208)","v":32.02721881559642},{"$f":"IF($C208=\"\",\"\",Simulação!AM208)","v":"-"},{"$f":"IF($C208=\"\",\"\",Simulação!AN208)","v":32.217563507182206},{"$f":"IF($C208=\"\",\"\",Simulação!AO208)","v":"-"},{"$f":"IF($C208=\"\",\"\",Simulação!AP208)","v":36.406016086434107},{"$f":"IF($C208=\"\",\"\",Simulação!AQ208)","v":"-"},{"$f":"IF($C208=\"\",\"\",Simulação!AR208)","v":0}]
[null,202,{"$f":"IF(Chegadas!J210<=$C$5,Chegadas!J210,\"\")","v":176.34000000000003},{"$f":"IF($C209=\"\",\"\",Simulação!D209)","v":4.9756254312113999},{"$f":"IF($C209=\"\",\"\",Simulação!E209)","v":176.34000000000003},{"$f":"IF($C209=\"\",\"\",Simulação!F209)","v":181.31562543121143},{"$f":"IF($C209=\"\",\"\",Simulação!G209)","v":"-"},{"$f":"IF($C209=\"\",\"\",Simulação!H209)","v":180.43312923905134},{"$f":"IF($C209=\"\",\"\",Simulação!I209)","v":"-"},{"$f":"IF($C209=\"\",\"\",Simulação!J209)","v":181.53827881554918},{"$f":"IF($C209=\"\",\"\",Simulação!K209)","v":"-"},{"$f":"IF($C209=\"\",\"\",Simulação!L209)","v":181.97209184285012},{"$f":"IF($C209=\"\",\"\",Simulação!M209)","v":"-"},{"$f":"IF($C209=\"\",\"\",Simulação!N209)","v":181.13781382533199},{"$f":"IF($C209=\"\",\"\",Simulação!O209)","v":"-"},{"$f":"IF($C209=\"\",\"\",Simulação!P209)","v":177.97929006850961},{"$f":"IF($C209=\"\",\"\",Simulação!Q209)","v":"-"},{"$f":"IF($C209=\"\",\"\",Simulação!R209)","v":170.63555996019139},{"$f":"IF($C209=\"\",\"\",Simulação!S209)","v":"-"},{"$f":"IF($C209=\"\",\"\",Simulação!T209)","v":172.52878244873884},{"$f":"IF($C209=\"\",\"\",Simulação!U209)","v":"-"},{"$f":"IF($C209=\"\",\"\",Simulação!V209)","v":171.59999457692987},{"$f":"IF($C209=\"\",\"\",Simulação!W209)","v":"-"},{"$f":"IF($C209=\"\",\"\",Simulação!X209)","v":171.95479649520968},{"$f":"IF($C209=\"\",\"\",Simulação!Y209)","v":"-"},{"$f":"IF($C209=\"\",\"\",Simulação!Z209)","v":156.13778412019371},{"$f":"IF($C209=\"\",\"\",Simulação!AA209)","v":"-"},{"$f":"IF($C209=\"\",\"\",Simulação!AB209)","v":136.83060944284537},{"$f":"IF($C209=\"\",\"\",Simulação!AC209)","v":"-"},{"$f":"IF($C209=\"\",\"\",Simulação!AD209)","v":140.66887446424042},{"$f":"IF($C209=\"\",\"\",Simulação!AE209)","v":"-"},{"$f":"IF($C209=\"\",\"\",Simulação!AF209)","v":34.388240562009656},{"$f":"IF($C209=\"\",\"\",Simulação!AG209)","v":"-"},{"$f":"IF($C209=\"\",\"\",Simulação!AH209)","v":29.236023829000793},{"$f":"IF($C209=\"\",\"\",Simulação!AI209)","v":"-"},{"$f":"IF($C209=\"\",\"\",Simulação!AJ209)","v":33.045125393740342},{"$f":"IF($C209=\"\",\"\",Simulação!AK209)","v":"-"},{"$f":"IF($C209=\"\",\"\",Simulação!AL209)","v":32.02721881559642},{"$f":"IF($C209=\"\",\"\",Simulação!AM209)","v":"-"},{"$f":"IF($C209=\"\",\"\",Simulação!AN209)","v":32.217563507182206},{"$f":"IF($C209=\"\",\"\",Simulação!AO209)","v":"-"},{"$f":"IF($C209=\"\",\"\",Simulação!AP209)","v":36.406016086434107},{"$f":"IF($C209=\"\",\"\",Simulação!AQ209)","v":"-"},{"$f":"IF($C209=\"\",\"\",Simulação!AR209)","v":0}]
[null,203,{"$f":"IF(Chegadas!J211<=$C$5,Chegadas!J211,\"\")","v":176.43000000000004},{"$f":"IF($C210=\"\",\"\",Simulação!D210)","v":4.4714146383686826},{"$f":"IF($C210=\"\",\"\",Simulação!E210)","v":"*"},{"$f":"IF($C210=\"\",\"\",Simulação!F210)","v":181.31562543121143},{"$f":"IF($C210=\"\",\"\",Simulação!G210)","v":"*"},{"$f":"IF($C210=\"\",\"\",Simulação!H210)","v":180.43312923905134},{"$f":"IF($C210=\"\",\"\",Simulação!I210)","v":"*"},{"$f":"IF($C210=\"\",\"\",Simulação!J210)","v":181.53827881554918},{"$f":"IF($C210=\"\",\"\",Simulação!K210)","v":"*"},{"$f":"IF($C210=\"\",\"\",Simulação!L210)","v":181.97209184285012},{"$f":"IF($C210=\"\",\"\",Simulação!M210)","v":"*"},{"$f":"IF($C210=\"\",\"\",Simulação!N210)","v":181.13781382533199},{"$f":"IF($C210=\"\",\"\",Simulação!O210)","v":"*"},{"$f":"IF($C210=\"\",\"\",Simulação!P210)","v":177.97929006850961},{"$f":"IF($C210=\"\",\"\",Simulação!Q210)","v":176.43000000000004},{"$f":"IF($C210=\"\",\"\",Simulação!R210)","v":180.90141463836872},{"$f":"IF($C210=\"\",\"\",Simulação!S210)","v":"-"},{"$f":"IF($C210=\"\",\"\",Simulação!T210)","v":172.52878244873884},{"$f":"IF($C210=\"\",\"\",Simulação!U210)","v":"-"},{"$f":"IF($C210=\"\",\"\",Simulação!V210)","v":171.59999457692987},{"$f":"IF($C210=\"\",\"\",Simulação!W210)","v":"-"},{"$f":"IF($C210=\"\",\"\",Simulação!X210)","v":171.95479649520968},{"$f":"IF($C210=\"\",\"\",Simulação!Y210)","v":"-"},{"$f":"IF($C210=\"\",\"\",Simulação!Z210)","v":156.13778412019371},{"$f":"IF($C210=\"\",\"\",Simulação!AA210)","v":"-"},{"$f":"IF($C210=\"\",\"\",Simulação!AB210)","v":136.83060944284537},{"$f":"IF($C210=\"\",\"\",Simulação!AC210)","v":"-"},{"$f":"IF($C210=\"\",\"\",Simulação!AD210)","v":140.66887446424042},{"$f":"IF($C210=\"\",\"\",Simulação!AE210)","v":"-"},{"$f":"IF($C210=\"\",\"\",Simulação!AF210)","v":34.388240562009656},{"$f":"IF($C210=\"\",\"\",Simulação!AG210)","v":"-"},{"$f":"IF($C210=\"\",\"\",Simulação!AH210)","v":29.236023829000793},{"$f":"IF($C210=\"\",\"\",Simulação!AI210)","v":"-"},{"$f":"IF($C210=\"\",\"\",Simulação!AJ210)","v":33.045125393740342},{"$f":"IF($C210=\"\",\"\",Simulação!AK210)","v":"-"},{"$f":"IF($C210=\"\",\"\",Simulação!AL210)","v":32.02721881559642},{"$f":"IF($C210=\"\",\"\",Simulação!AM210)","v":"-"},{"$f":"IF($C210=\"\",\"\",Simulação!AN210)","v":32.217563507182206},{"$f":"IF($C210=\"\",\"\",Simulação!AO210)","v":"-"},{"$f":"IF($C210=\"\",\"\",Simulação!AP210)","v":36.406016086434107},{"$f":"IF($C210=\"\",\"\",Simulação!AQ210)","v":"-"},{"$f":"IF($C210=\"\",\"\",Simulação!AR210)","v":0}]
[null,204,{"$f":"IF(Chegadas!J212<=$C$5,Chegadas!J212,\"\")","v":178.00000000000003},{"$f":"IF($C211=\"\",\"\",Simulação!D211)","v":4.7459095089609864},{"$f":"IF($C211=\"\",\"\",Simulação!E211)","v":"*"},{"$f":"IF($C211=\"\",\"\",Simulação!F211)","v":181.31562543121143},{"$f":"IF($C211=\"\",\"\",Simulação!G211)","v":"*"},{"$f":"IF($C211=\"\",\"\",Simulação!H211)","v":180.43312923905134},{"$f":"IF($C211=\"\",\"\",Simulação!I211)","v":"*"},{"$f":"IF($C211=\"\",\"\",Simulação!J211)","v":181.53827881554918},{"$f":"IF($C211=\"\",\"\",Simulação!K211)","v":"*"},{"$f":"IF($C211=\"\",\"\",Simulação!L211)","v":181.97209184285012},{"$f":"IF($C211=\"\",\"\",Simulação!M211)","v":"*"},{"$f":"IF($C211=\"\",\"\",Simulação!N211)","v":181.13781382533199},{"$f":"IF($C211=\"\",\"\",Simulação!O211)","v":178.00000000000003},{"$f":"IF($C211=\"\",\"\",Simulação!P211)","v":182.74590950896101},{"$f":"IF($C211=\"\",\"\",Simulação!Q211)","v":"-"},{"$f":"IF($C211=\"\",\"\",Simulação!R211)","v":180.90141463836872},{"$f":"IF($C211=\"\",\"\",Simulação!S211)","v":"-"},{"$f":"IF($C211=\"\",\"\",Simulação!T211)","v":172.52878244873884},{"$f":"IF($C211=\"\",\"\",Simulação!U211)","v":"-"},{"$f":"IF($C211=\"\",\"\",Simulação!V211)","v":171.59999457692987},{"$f":"IF($C211=\"\",\"\",Simulação!W211)","v":"-"},{"$f":"IF($C211=\"\",\"\",Simulação!X211)","v":171.95479649520968},{"$f":"IF($C211=\"\",\"\",Simulação!Y211)","v":"-"},{"$f":"IF($C211=\"\",\"\",Simulação!Z211)","v":156.13778412019371},{"$f":"IF($C211=\"\",\"\",Simulação!AA211)","v":"-"},{"$f":"IF($C211=\"\",\"\",Simulação!AB211)","v":136.83060944284537},{"$f":"IF($C211=\"\",\"\",Simulação!AC211)","v":"-"},{"$f":"IF($C211=\"\",\"\",Simulação!AD211)","v":140.66887446424042},{"$f":"IF($C211=\"\",\"\",Simulação!AE211)","v":"-"},{"$f":"IF($C211=\"\",\"\",Simulação!AF211)","v":34.388240562009656},{"$f":"IF($C211=\"\",\"\",Simulação!AG211)","v":"-"},{"$f":"IF($C211=\"\",\"\",Simulação!AH211)","v":29.236023829000793},{"$f":"IF($C211=\"\",\"\",Simulação!AI211)","v":"-"},{"$f":"IF($C211=\"\",\"\",Simulação!AJ211)","v":33.045125393740342},{"$f":"IF($C211=\"\",\"\",Simulação!AK211)","v":"-"},{"$f":"IF($C211=\"\",\"\",Simulação!AL211)","v":32.02721881559642},{"$f":"IF($C211=\"\",\"\",Simulação!AM211)","v":"-"},{"$f":"IF($C211=\"\",\"\",Simulação!AN211)","v":32.217563507182206},{"$f":"IF($C211=\"\",\"\",Simulação!AO211)","v":"-"},{"$f":"IF($C211=\"\",\"\",Simulação!AP211)","v":36.406016086434107},{"$f":"IF($C211=\"\",\"\",Simulação!AQ211)","v":"-"},{"$f":"IF($C211=\"\",\"\",Simulação!AR211)","v":0}]
[null,205,{"$f":"IF(Chegadas!J213<=$C$5,Chegadas!J213,\"\")","v":178.07000000000002},{"$f":"IF($C212=\"\",\"\",Simulação!D212)","v":1.130064145022486},{"$f":"IF($C212=\"\",\"\",Simulação!E212)","v":"*"},{"$f":"IF($C212=\"\",\"\",Simulação!F212)","v":181.31562543121143},{"$f":"IF($C212=\"\",\"\",Simulação!G212)","v":"*"},{"$f":"IF($C212=\"\",\"\",Simulação!H212)","v":180.43312923905134},{"$f":"IF($C212=\"\",\"\",Simulação!I212)","v":"*"},{"$f":"IF($C212=\"\",\"\",Simulação!J212)","v":181.53827881554918},{"$f":"IF($C212=\"\",\"\",Simulação!K212)","v":"*"},{"$f":"IF($C212=\"\",\"\",Simulação!L212)","v":181.97209184285012},{"$f":"IF($C212=\"\",\"\",Simulação!M212)","v":"*"},{"$f":"IF($C212=\"\",\"\",Simulação!N212)","v":181.13781382533199},{"$f":"IF($C212=\"\",\"\",Simulação!O212)","v":"*"},{"$f":"IF($C212=\"\",\"\",Simulação!P212)","v":182.74590950896101},{"$f":"IF($C212=\"\",\"\",Simulação!Q212)","v":"*"},{"$f":"IF($C212=\"\",\"\",Simulação!R212)","v":180.90141463836872},{"$f":"IF($C212=\"\",\"\",Simulação!S212)","v":178.07000000000002},{"$f":"IF($C212=\"\",\"\",Simulação!T212)","v":179.20006414502251},{"$f":"IF($C212=\"\",\"\",Simulação!U212)","v":"-"},{"$f":"IF($C212=\"\",\"\",Simulação!V212)","v":171.59999457692987},{"$f":"IF($C212=\"\",\"\",Simulação!W212)","v":"-"},{"$f":"IF($C212=\"\",\"\",Simulação!X212)","v":171.95479649520968},{"$f":"IF($C212=\"\",\"\",Simulação!Y212)","v":"-"},{"$f":"IF($C212=\"\",\"\",Simulação!Z212)","v":156.13778412019371},{"$f":"IF($C212=\"\",\"\",Simulação!AA212)","v":"-"},{"$f":"IF($C212=\"\",\"\",Simulação!AB212)","v":136.83060944284537},{"$f":"IF($C212=\"\",\"\",Simulação!AC212)","v":"-"},{"$f":"IF($C212=\"\",\"\",Simulação!AD212)","v":140.66887446424042},{"$f":"IF($C212=\"\",\"\",Simulação!AE212)","v":"-"},{"$f":"IF($C212=\"\",\"\",Simulação!AF212)","v":34.388240562009656},{"$f":"IF($C212=\"\",\"\",Simulação!AG212)","v":"-"},{"$f":"IF($C212=\"\",\"\",Simulação!AH212)","v":29.236023829000793},{"$f":"IF($C212=\"\",\"\",Simulação!AI212)","v":"-"},{"$f":"IF($C212=\"\",\"\",Simulação!AJ212)","v":33.045125393740342},{"$f":"IF($C212=\"\",\"\",Simulação!AK212)","v":"-"},{"$f":"IF($C212=\"\",\"\",Simulação!AL212)","v":32.02721881559642},{"$f":"IF($C212=\"\",\"\",Simulação!AM212)","v":"-"},{"$f":"IF($C212=\"\",\"\",Simulação!AN212)","v":32.217563507182206},{"$f":"IF($C212=\"\",\"\",Simulação!AO212)","v":"-"},{"$f":"IF($C212=\"\",\"\",Simulação!AP212)","v":36.406016086434107},{"$f":"IF($C212=\"\",\"\",Simulação!AQ212)","v":"-"},{"$f":"IF($C212=\"\",\"\",Simulação!AR212)","v":0}]
[null,206,{"$f":"IF(Chegadas!J214<=$C$5,Chegadas!J214,\"\")","v":179.57000000000002},{"$f":"IF($C213=\"\",\"\",Simulação!D213)","v":14.840729157870676},{"$f":"IF($C213=\"\",\"\",Simulação!E213)","v":"*"},{"$f":"IF($C213=\"\",\"\",Simulação!F213)","v":181.31562543121143},{"$f":"IF($C213=\"\",\"\",Simulação!G213)","v":"*"},{"$f":"IF($C213=\"\",\"\",Simulação!H213)","v":180.43312923905134},{"$f":"IF($C213=\"\",\"\",Simulação!I213)","v":"*"},{"$f":"IF($C213=\"\",\"\",Simulação!J213)","v":181.53827881554918},{"$f":"IF($C213=\"\",\"\",Simulação!K213)","v":"*"},{"$f":"IF($C213=\"\",\"\",Simulação!L213)","v":181.97209184285012},{"$f":"IF($C213=\"\",\"\",Simulação!M213)","v":"*"},{"$f":"IF($C213=\"\",\"\",Simulação!N213)","v":181.13781382533199},{"$f":"IF($C213=\"\",\"\",Simulação!O213)","v":"*"},{"$f":"IF($C213=\"\",\"\",Simulação!P213)","v":182.74590950896101},{"$f":"IF($C213=\"\",\"\",Simulação!Q213)","v":"*"},{"$f":"IF($C213=\"\",\"\",Simulação!R213)","v":180.90141463836872},{"$f":"IF($C213=\"\",\"\",Simulação!S213)","v":179.57000000000002},{"$f":"IF($C213=\"\",\"\",Simulação!T213)","v":194.41072915787069},{"$f":"IF($C213=\"\",\"\",Simulação!U213)","v":"-"},{"$f":"IF($C213=\"\",\"\",Simulação!V213)","v":171.59999457692987},{"$f":"IF($C213=\"\",\"\",Simulação!W213)","v":"-"},{"$f":"IF($C213=\"\",\"\",Simulação!X213)","v":171.95479649520968},{"$f":"IF($C213=\"\",\"\",Simulação!Y213)","v":"-"},{"$f":"IF($C213=\"\",\"\",Simulação!Z213)","v":156.13778412019371},{"$f":"IF($C213=\"\",\"\",Simulação!AA213)","v":"-"},{"$f":"IF($C213=\"\",\"\",Simulação!AB213)","v":136.83060944284537},{"$f":"IF($C213=\"\",\"\",Simulação!AC213)","v":"-"},{"$f":"IF($C213=\"\",\"\",Simulação!AD213)","v":140.66887446424042},{"$f":"IF($C213=\"\",\"\",Simulação!AE213)","v":"-"},{"$f":"IF($C213=\"\",\"\",Simulação!AF213)","v":34.388240562009656},{"$f":"IF($C213=\"\",\"\",Simulação!AG213)","v":"-"},{"$f":"IF($C213=\"\",\"\",Simulação!AH213)","v":29.236023829000793},{"$f":"IF($C213=\"\",\"\",Simulação!AI213)","v":"-"},{"$f":"IF($C213=\"\",\"\",Simulação!AJ213)","v":33.045125393740342},{"$f":"IF($C213=\"\",\"\",Simulação!AK213)","v":"-"},{"$f":"IF($C213=\"\",\"\",Simulação!AL213)","v":32.02721881559642},{"$f":"IF($C213=\"\",\"\",Simulação!AM213)","v":"-"},{"$f":"IF($C213=\"\",\"\",Simulação!AN213)","v":32.217563507182206},{"$f":"IF($C213=\"\",\"\",Simulação!AO213)","v":"-"},{"$f":"IF($C213=\"\",\"\",Simulação!AP213)","v":36.406016086434107},{"$f":"IF($C213=\"\",\"\",Simulação!AQ213)","v":"-"},{"$f":"IF($C213=\"\",\"\",Simulação!AR213)","v":0}]
[null,207,{"$f":"IF(Chegadas!J215<=$C$5,Chegadas!J215,\"\")","v":182.28000000000003},{"$f":"IF($C214=\"\",\"\",Simulação!D214)","v":2.3194037948329607},{"$f":"IF($C214=\"\",\"\",Simulação!E214)","v":182.28000000000003},{"$f":"IF($C214=\"\",\"\",Simulação!F214)","v":184.59940379483299},{"$f":"IF($C214=\"\",\"\",Simulação!G214)","v":"-"},{"$f":"IF($C214=\"\",\"\",Simulação!H214)","v":180.43312923905134},{"$f":"IF($C214=\"\",\"\",Simulação!I214)","v":"-"},{"$f":"IF($C214=\"\",\"\",Simulação!J214)","v":181.53827881554918},{"$f":"IF($C214=\"\",\"\",Simulação!K214)","v":"-"},{"$f":"IF($C214=\"\",\"\",Simulação!L214)","v":181.97209184285012},{"$f":"IF($C214=\"\",\"\",Simulação!M214)","v":"-"},{"$f":"IF($C214=\"\",\"\",Simulação!N214)","v":181.13781382533199},{"$f":"IF($C214=\"\",\"\",Simulação!O214)","v":"-"},{"$f":"IF($C214=\"\",\"\",Simulação!P214)","v":182.74590950896101},{"$f":"IF($C214=\"\",\"\",Simulação!Q214)","v":"-"},{"$f":"IF($C214=\"\",\"\",Simulação!R214)","v":180.90141463836872},{"$f":"IF($C214=\"\",\"\",Simulação!S214)","v":"-"},{"$f":"IF($C214=\"\",\"\",Simulação!T214)","v":194.41072915787069},{"$f":"IF($C214=\"\",\"\",Simulação!U214)","v":"-"},{"$f":"IF($C214=\"\",\"\",Simulação!V214)","v":171.59999457692987},{"$f":"IF($C214=\"\",\"\",Simulação!W214)","v":"-"},{"$f":"IF($C214=\"\",\"\",Simulação!X214)","v":171.95479649520968},{"$f":"IF($C214=\"\",\"\",Simulação!Y214)","v":"-"},{"$f":"IF($C214=\"\",\"\",Simulação!Z214)","v":156.13778412019371},{"$f":"IF($C214=\"\",\"\",Simulação!AA214)","v":"-"},{"$f":"IF($C214=\"\",\"\",Simulação!AB214)","v":136.83060944284537},{"$f":"IF($C214=\"\",\"\",Simulação!AC214)","v":"-"},{"$f":"IF($C214=\"\",\"\",Simulação!AD214)","v":140.66887446424042},{"$f":"IF($C214=\"\",\"\",Simulação!AE214)","v":"-"},{"$f":"IF($C214=\"\",\"\",Simulação!AF214)","v":34.388240562009656},{"$f":"IF($C214=\"\",\"\",Simulação!AG214)","v":"-"},{"$f":"IF($C214=\"\",\"\",Simulação!AH214)","v":29.236023829000793},{"$f":"IF($C214=\"\",\"\",Simulação!AI214)","v":"-"},{"$f":"IF($C214=\"\",\"\",Simulação!AJ214)","v":33.045125393740342},{"$f":"IF($C214=\"\",\"\",Simulação!AK214)","v":"-"},{"$f":"IF($C214=\"\",\"\",Simulação!AL214)","v":32.02721881559642},{"$f":"IF($C214=\"\",\"\",Simulação!AM214)","v":"-"},{"$f":"IF($C214=\"\",\"\",Simulação!AN214)","v":32.217563507182206},{"$f":"IF($C214=\"\",\"\",Simulação!AO214)","v":"-"},{"$f":"IF($C214=\"\",\"\",Simulação!AP214)","v":36.406016086434107},{"$f":"IF($C214=\"\",\"\",Simulação!AQ214)","v":"-"},{"$f":"IF($C214=\"\",\"\",Simulação!AR214)","v":0}]
[null,208,{"$f":"IF(Chegadas!J216<=$C$5,Chegadas!J216,\"\")","v":183.99000000000004},{"$f":"IF($C215=\"\",\"\",Simulação!D215)","v":4.8605156758805679},{"$f":"IF($C215=\"\",\"\",Simulação!E215)","v":"*"},{"$f":"IF($C215=\"\",\"\",Simulação!F215)","v":184.59940379483299},{"$f":"IF($C215=\"\",\"\",Simulação!G215)","v":183.99000000000004},{"$f":"IF($C215=\"\",\"\",Simulação!H215)","v":188.85051567588062},{"$f":"IF($C215=\"\",\"\",Simulação!I215)","v":"-"},{"$f":"IF($C215=\"\",\"\",Simulação!J215)","v":181.53827881554918},{"$f":"IF($C215=\"\",\"\",Simulação!K215)","v":"-"},{"$f":"IF($C215=\"\",\"\",Simulação!L215)","v":181.97209184285012},{"$f":"IF($C215=\"\",\"\",Simulação!M215)","v":"-"},{"$f":"IF($C215=\"\",\"\",Simulação!N215)","v":181.13781382533199},{"$f":"IF($C215=\"\",\"\",Simulação!O215)","v":"-"},{"$f":"IF($C215=\"\",\"\",Simulação!P215)","v":182.74590950896101},{"$f":"IF($C215=\"\",\"\",Simulação!Q215)","v":"-"},{"$f":"IF($C215=\"\",\"\",Simulação!R215)","v":180.90141463836872},{"$f":"IF($C215=\"\",\"\",Simulação!S215)","v":"-"},{"$f":"IF($C215=\"\",\"\",Simulação!T215)","v":194.41072915787069},{"$f":"IF($C215=\"\",\"\",Simulação!U215)","v":"-"},{"$f":"IF($C215=\"\",\"\",Simulação!V215)","v":171.59999457692987},{"$f":"IF($C215=\"\",\"\",Simulação!W215)","v":"-"},{"$f":"IF($C215=\"\",\"\",Simulação!X215)","v":171.95479649520968},{"$f":"IF($C215=\"\",\"\",Simulação!Y215)","v":"-"},{"$f":"IF($C215=\"\",\"\",Simulação!Z215)","v":156.13778412019371},{"$f":"IF($C215=\"\",\"\",Simulação!AA215)","v":"-"},{"$f":"IF($C215=\"\",\"\",Simulação!AB215)","v":136.83060944284537},{"$f":"IF($C215=\"\",\"\",Simulação!AC215)","v":"-"},{"$f":"IF($C215=\"\",\"\",Simulação!AD215)","v":140.66887446424042},{"$f":"IF($C215=\"\",\"\",Simulação!AE215)","v":"-"},{"$f":"IF($C215=\"\",\"\",Simulação!AF215)","v":34.388240562009656},{"$f":"IF($C215=\"\",\"\",Simulação!AG215)","v":"-"},{"$f":"IF($C215=\"\",\"\",Simulação!AH215)","v":29.236023829000793},{"$f":"IF($C215=\"\",\"\",Simulação!AI215)","v":"-"},{"$f":"IF($C215=\"\",\"\",Simulação!AJ215)","v":33.045125393740342},{"$f":"IF($C215=\"\",\"\",Simulação!AK215)","v":"-"},{"$f":"IF($C215=\"\",\"\",Simulação!AL215)","v":32.02721881559642},{"$f":"IF($C215=\"\",\"\",Simulação!AM215)","v":"-"},{"$f":"IF($C215=\"\",\"\",Simulação!AN215)","v":32.217563507182206},{"$f":"IF($C215=\"\",\"\",Simulação!AO215)","v":"-"},{"$f":"IF($C215=\"\",\"\",Simulação!AP215)","v":36.406016086434107},{"$f":"IF($C215=\"\",\"\",Simulação!AQ215)","v":"-"},{"$f":"IF($C215=\"\",\"\",Simulação!AR215)","v":0}]
[null,209,{"$f":"IF(Chegadas!J217<=$C$5,Chegadas!J217,\"\")","v":186.91000000000003},{"$f":"IF($C216=\"\",\"\",Simulação!D216)","v":3.0523288128701229},{"$f":"IF($C216=\"\",\"\",Simulação!E216)","v":186.91000000000003},{"$f":"IF($C216=\"\",\"\",Simulação!F216)","v":189.96232881287014},{"$f":"IF($C216=\"\",\"\",Simulação!G216)","v":"-"},{"$f":"IF($C216=\"\",\"\",Simulação!H216)","v":188.85051567588062},{"$f":"IF($C216=\"\",\"\",Simulação!I216)","v":"-"},{"$f":"IF($C216=\"\",\"\",Simulação!J216)","v":181.53827881554918},{"$f":"IF($C216=\"\",\"\",Simulação!K216)","v":"-"},{"$f":"IF($C216=\"\",\"\",Simulação!L216)","v":181.97209184285012},{"$f":"IF($C216=\"\",\"\",Simulação!M216)","v":"-"},{"$f":"IF($C216=\"\",\"\",Simulação!N216)","v":181.13781382533199},{"$f":"IF($C216=\"\",\"\",Simulação!O216)","v":"-"},{"$f":"IF($C216=\"\",\"\",Simulação!P216)","v":182.74590950896101},{"$f":"IF($C216=\"\",\"\",Simulação!Q216)","v":"-"},{"$f":"IF($C216=\"\",\"\",Simulação!R216)","v":180.90141463836872},{"$f":"IF($C216=\"\",\"\",Simulação!S216)","v":"-"},{"$f":"IF($C216=\"\",\"\",Simulação!T216)","v":194.41072915787069},{"$f":"IF($C216=\"\",\"\",Simulação!U216)","v":"-"},{"$f":"IF($C216=\"\",\"\",Simulação!V216)","v":171.59999457692987},{"$f":"IF($C216=\"\",\"\",Simulação!W216)","v":"-"},{"$f":"IF($C216=\"\",\"\",Simulação!X216)","v":171.95479649520968},{"$f":"IF($C216=\"\",\"\",Simulação!Y216)","v":"-"},{"$f":"IF($C216=\"\",\"\",Simulação!Z216)","v":156.13778412019371},{"$f":"IF($C216=\"\",\"\",Simulação!AA216)","v":"-"},{"$f":"IF($C216=\"\",\"\",Simulação!AB216)","v":136.83060944284537},{"$f":"IF($C216=\"\",\"\",Simulação!AC216)","v":"-"},{"$f":"IF($C216=\"\",\"\",Simulação!AD216)","v":140.66887446424042},{"$f":"IF($C216=\"\",\"\",Simulação!AE216)","v":"-"},{"$f":"IF($C216=\"\",\"\",Simulação!AF216)","v":34.388240562009656},{"$f":"IF($C216=\"\",\"\",Simulação!AG216)","v":"-"},{"$f":"IF($C216=\"\",\"\",Simulação!AH216)","v":29.236023829000793},{"$f":"IF($C216=\"\",\"\",Simulação!AI216)","v":"-"},{"$f":"IF($C216=\"\",\"\",Simulação!AJ216)","v":33.045125393740342},{"$f":"IF($C216=\"\",\"\",Simulação!AK216)","v":"-"},{"$f":"IF($C216=\"\",\"\",Simulação!AL216)","v":32.02721881559642},{"$f":"IF($C216=\"\",\"\",Simulação!AM216)","v":"-"},{"$f":"IF($C216=\"\",\"\",Simulação!AN216)","v":32.217563507182206},{"$f":"IF($C216=\"\",\"\",Simulação!AO216)","v":"-"},{"$f":"IF($C216=\"\",\"\",Simulação!AP216)","v":36.406016086434107},{"$f":"IF($C216=\"\",\"\",Simulação!AQ216)","v":"-"},{"$f":"IF($C216=\"\",\"\",Simulação!AR216)","v":0}]
[null,210,{"$f":"IF(Chegadas!J218<=$C$5,Chegadas!J218,\"\")","v":187.76000000000002},{"$f":"IF($C217=\"\",\"\",Simulação!D217)","v":13.692916204584353},{"$f":"IF($C217=\"\",\"\",Simulação!E217)","v":"*"},{"$f":"IF($C217=\"\",\"\",Simulação!F217)","v":189.96232881287014},{"$f":"IF($C217=\"\",\"\",Simulação!G217)","v":"*"},{"$f":"IF($C217=\"\",\"\",Simulação!H217)","v":188.85051567588062},{"$f":"IF($C217=\"\",\"\",Simulação!I217)","v":187.76000000000002},{"$f":"IF($C217=\"\",\"\",Simulação!J217)","v":201.45291620458437},{"$f":"IF($C217=\"\",\"\",Simulação!K217)","v":"-"},{"$f":"IF($C217=\"\",\"\",Simulação!L217)","v":181.97209184285012},{"$f":"IF($C217=\"\",\"\",Simulação!M217)","v":"-"},{"$f":"IF($C217=\"\",\"\",Simulação!N217)","v":181.13781382533199},{"$f":"IF($C217=\"\",\"\",Simulação!O217)","v":"-"},{"$f":"IF($C217=\"\",\"\",Simulação!P217)","v":182.74590950896101},{"$f":"IF($C217=\"\",\"\",Simulação!Q217)","v":"-"},{"$f":"IF($C217=\"\",\"\",Simulação!R217)","v":180.90141463836872},{"$f":"IF($C217=\"\",\"\",Simulação!S217)","v":"-"},{"$f":"IF($C217=\"\",\"\",Simulação!T217)","v":194.41072915787069},{"$f":"IF($C217=\"\",\"\",Simulação!U217)","v":"-"},{"$f":"IF($C217=\"\",\"\",Simulação!V217)","v":171.59999457692987},{"$f":"IF($C217=\"\",\"\",Simulação!W217)","v":"-"},{"$f":"IF($C217=\"\",\"\",Simulação!X217)","v":171.95479649520968},{"$f":"IF($C217=\"\",\"\",Simulação!Y217)","v":"-"},{"$f":"IF($C217=\"\",\"\",Simulação!Z217)","v":156.13778412019371},{"$f":"IF($C217=\"\",\"\",Simulação!AA217)","v":"-"},{"$f":"IF($C217=\"\",\"\",Simulação!AB217)","v":136.83060944284537},{"$f":"IF($C217=\"\",\"\",Simulação!AC217)","v":"-"},{"$f":"IF($C217=\"\",\"\",Simulação!AD217)","v":140.66887446424042},{"$f":"IF($C217=\"\",\"\",Simulação!AE217)","v":"-"},{"$f":"IF($C217=\"\",\"\",Simulação!AF217)","v":34.388240562009656},{"$f":"IF($C217=\"\",\"\",Simulação!AG217)","v":"-"},{"$f":"IF($C217=\"\",\"\",Simulação!AH217)","v":29.236023829000793},{"$f":"IF($C217=\"\",\"\",Simulação!AI217)","v":"-"},{"$f":"IF($C217=\"\",\"\",Simulação!AJ217)","v":33.045125393740342},{"$f":"IF($C217=\"\",\"\",Simulação!AK217)","v":"-"},{"$f":"IF($C217=\"\",\"\",Simulação!AL217)","v":32.02721881559642},{"$f":"IF($C217=\"\",\"\",Simulação!AM217)","v":"-"},{"$f":"IF($C217=\"\",\"\",Simulação!AN217)","v":32.217563507182206},{"$f":"IF($C217=\"\",\"\",Simulação!AO217)","v":"-"},{"$f":"IF($C217=\"\",\"\",Simulação!AP217)","v":36.406016086434107},{"$f":"IF($C217=\"\",\"\",Simulação!AQ217)","v":"-"},{"$f":"IF($C217=\"\",\"\",Simulação!AR217)","v":0}]
[null,211,{"$f":"IF(Chegadas!J219<=$C$5,Chegadas!J219,\"\")","v":189.51000000000002},{"$f":"IF($C218=\"\",\"\",Simulação!D218)","v":2.9183237178935162},{"$f":"IF($C218=\"\",\"\",Simulação!E218)","v":"*"},{"$f":"IF($C218=\"\",\"\",Simulação!F218)","v":189.96232881287014},{"$f":"IF($C218=\"\",\"\",Simulação!G218)","v":189.51000000000002},{"$f":"IF($C218=\"\",\"\",Simulação!H218)","v":192.42832371789353},{"$f":"IF($C218=\"\",\"\",Simulação!I218)","v":"-"},{"$f":"IF($C218=\"\",\"\",Simulação!J218)","v":201.45291620458437},{"$f":"IF($C218=\"\",\"\",Simulação!K218)","v":"-"},{"$f":"IF($C218=\"\",\"\",Simulação!L218)","v":181.97209184285012},{"$f":"IF($C218=\"\",\"\",Simulação!M218)","v":"-"},{"$f":"IF($C218=\"\",\"\",Simulação!N218)","v":181.13781382533199},{"$f":"IF($C218=\"\",\"\",Simulação!O218)","v":"-"},{"$f":"IF($C218=\"\",\"\",Simulação!P218)","v":182.74590950896101},{"$f":"IF($C218=\"\",\"\",Simulação!Q218)","v":"-"},{"$f":"IF($C218=\"\",\"\",Simulação!R218)","v":180.90141463836872},{"$f":"IF($C218=\"\",\"\",Simulação!S218)","v":"-"},{"$f":"IF($C218=\"\",\"\",Simulação!T218)","v":194.41072915787069},{"$f":"IF($C218=\"\",\"\",Simulação!U218)","v":"-"},{"$f":"IF($C218=\"\",\"\",Simulação!V218)","v":171.59999457692987},{"$f":"IF($C218=\"\",\"\",Simulação!W218)","v":"-"},{"$f":"IF($C218=\"\",\"\",Simulação!X218)","v":171.95479649520968},{"$f":"IF($C218=\"\",\"\",Simulação!Y218)","v":"-"},{"$f":"IF($C218=\"\",\"\",Simulação!Z218)","v":156.13778412019371},{"$f":"IF($C218=\"\",\"\",Simulação!AA218)","v":"-"},{"$f":"IF($C218=\"\",\"\",Simulação!AB218)","v":136.83060944284537},{"$f":"IF($C218=\"\",\"\",Simulação!AC218)","v":"-"},{"$f":"IF($C218=\"\",\"\",Simulação!AD218)","v":140.66887446424042},{"$f":"IF($C218=\"\",\"\",Simulação!AE218)","v":"-"},{"$f":"IF($C218=\"\",\"\",Simulação!AF218)","v":34.388240562009656},{"$f":"IF($C218=\"\",\"\",Simulação!AG218)","v":"-"},{"$f":"IF($C218=\"\",\"\",Simulação!AH218)","v":29.236023829000793},{"$f":"IF($C218=\"\",\"\",Simulação!AI218)","v":"-"},{"$f":"IF($C218=\"\",\"\",Simulação!AJ218)","v":33.045125393740342},{"$f":"IF($C218=\"\",\"\",Simulação!AK218)","v":"-"},{"$f":"IF($C218=\"\",\"\",Simulação!AL218)","v":32.02721881559642},{"$f":"IF($C218=\"\",\"\",Simulação!AM218)","v":"-"},{"$f":"IF($C218=\"\",\"\",Simulação!AN218)","v":32.217563507182206},{"$f":"IF($C218=\"\",\"\",Simulação!AO218)","v":"-"},{"$f":"IF($C218=\"\",\"\",Simulação!AP218)","v":36.406016086434107},{"$f":"IF($C218=\"\",\"\",Simulação!AQ218)","v":"-"},{"$f":"IF($C218=\"\",\"\",Simulação!AR218)","v":0}]
[null,212,{"$f":"IF(Chegadas!J220<=$C$5,Chegadas!J220,\"\")","v":190.87000000000003},{"$f":"IF($C219=\"\",\"\",Simulação!D219)","v":12.09341629904177},{"$f":"IF($C219=\"\",\"\",Simulação!E219)","v":190.87000000000003},{"$f":"IF($C219=\"\",\"\",Simulação!F219)","v":202.9634162990418},{"$f":"IF($C219=\"\",\"\",Simulação!G219)","v":"-"},{"$f":"IF($C219=\"\",\"\",Simulação!H219)","v":192.42832371789353},{"$f":"IF($C219=\"\",\"\",Simulação!I219)","v":"-"},{"$f":"IF($C219=\"\",\"\",Simulação!J219)","v":201.45291620458437},{"$f":"IF($C219=\"\",\"\",Simulação!K219)","v":"-"},{"$f":"IF($C219=\"\",\"\",Simulação!L219)","v":181.97209184285012},{"$f":"IF($C219=\"\",\"\",Simulação!M219)","v":"-"},{"$f":"IF($C219=\"\",\"\",Simulação!N219)","v":181.13781382533199},{"$f":"IF($C219=\"\",\"\",Simulação!O219)","v":"-"},{"$f":"IF($C219=\"\",\"\",Simulação!P219)","v":182.74590950896101},{"$f":"IF($C219=\"\",\"\",Simulação!Q219)","v":"-"},{"$f":"IF($C219=\"\",\"\",Simulação!R219)","v":180.90141463836872},{"$f":"IF($C219=\"\",\"\",Simulação!S219)","v":"-"},{"$f":"IF($C219=\"\",\"\",Simulação!T219)","v":194.41072915787069},{"$f":"IF($C219=\"\",\"\",Simulação!U219)","v":"-"},{"$f":"IF($C219=\"\",\"\",Simulação!V219)","v":171.59999457692987},{"$f":"IF($C219=\"\",\"\",Simulação!W219)","v":"-"},{"$f":"IF($C219=\"\",\"\",Simulação!X219)","v":171.95479649520968},{"$f":"IF($C219=\"\",\"\",Simulação!Y219)","v":"-"},{"$f":"IF($C219=\"\",\"\",Simulação!Z219)","v":156.13778412019371},{"$f":"IF($C219=\"\",\"\",Simulação!AA219)","v":"-"},{"$f":"IF($C219=\"\",\"\",Simulação!AB219)","v":136.83060944284537},{"$f":"IF($C219=\"\",\"\",Simulação!AC219)","v":"-"},{"$f":"IF($C219=\"\",\"\",Simulação!AD219)","v":140.66887446424042},{"$f":"IF($C219=\"\",\"\",Simulação!AE219)","v":"-"},{"$f":"IF($C219=\"\",\"\",Simulação!AF219)","v":34.388240562009656},{"$f":"IF($C219=\"\",\"\",Simulação!AG219)","v":"-"},{"$f":"IF($C219=\"\",\"\",Simulação!AH219)","v":29.236023829000793},{"$f":"IF($C219=\"\",\"\",Simulação!AI219)","v":"-"},{"$f":"IF($C219=\"\",\"\",Simulação!AJ219)","v":33.045125393740342},{"$f":"IF($C219=\"\",\"\",Simulação!AK219)","v":"-"},{"$f":"IF($C219=\"\",\"\",Simulação!AL219)","v":32.02721881559642},{"$f":"IF($C219=\"\",\"\",Simulação!AM219)","v":"-"},{"$f":"IF($C219=\"\",\"\",Simulação!AN219)","v":32.217563507182206},{"$f":"IF($C219=\"\",\"\",Simulação!AO219)","v":"-"},{"$f":"IF($C219=\"\",\"\",Simulação!AP219)","v":36.406016086434107},{"$f":"IF($C219=\"\",\"\",Simulação!AQ219)","v":"-"},{"$f":"IF($C219=\"\",\"\",Simulação!AR219)","v":0}]
[null,213,{"$f":"IF(Chegadas!J221<=$C$5,Chegadas!J221,\"\")","v":191.02000000000004},{"$f":"IF($C220=\"\",\"\",Simulação!D220)","v":10.752965070696558},{"$f":"IF($C220=\"\",\"\",Simulação!E220)","v":"*"},{"$f":"IF($C220=\"\",\"\",Simulação!F220)","v":202.9634162990418},{"$f":"IF($C220=\"\",\"\",Simulação!G220)","v":"*"},{"$f":"IF($C220=\"\",\"\",Simulação!H220)","v":192.42832371789353},{"$f":"IF($C220=\"\",\"\",Simulação!I220)","v":"*"},{"$f":"IF($C220=\"\",\"\",Simulação!J220)","v":201.45291620458437},{"$f":"IF($C220=\"\",\"\",Simulação!K220)","v":191.02000000000004},{"$f":"IF($C220=\"\",\"\",Simulação!L220)","v":201.77296507069659},{"$f":"IF($C220=\"\",\"\",Simulação!M220)","v":"-"},{"$f":"IF($C220=\"\",\"\",Simulação!N220)","v":181.13781382533199},{"$f":"IF($C220=\"\",\"\",Simulação!O220)","v":"-"},{"$f":"IF($C220=\"\",\"\",Simulação!P220)","v":182.74590950896101},{"$f":"IF($C220=\"\",\"\",Simulação!Q220)","v":"-"},{"$f":"IF($C220=\"\",\"\",Simulação!R220)","v":180.90141463836872},{"$f":"IF($C220=\"\",\"\",Simulação!S220)","v":"-"},{"$f":"IF($C220=\"\",\"\",Simulação!T220)","v":194.41072915787069},{"$f":"IF($C220=\"\",\"\",Simulação!U220)","v":"-"},{"$f":"IF($C220=\"\",\"\",Simulação!V220)","v":171.59999457692987},{"$f":"IF($C220=\"\",\"\",Simulação!W220)","v":"-"},{"$f":"IF($C220=\"\",\"\",Simulação!X220)","v":171.95479649520968},{"$f":"IF($C220=\"\",\"\",Simulação!Y220)","v":"-"},{"$f":"IF($C220=\"\",\"\",Simulação!Z220)","v":156.13778412019371},{"$f":"IF($C220=\"\",\"\",Simulação!AA220)","v":"-"},{"$f":"IF($C220=\"\",\"\",Simulação!AB220)","v":136.83060944284537},{"$f":"IF($C220=\"\",\"\",Simulação!AC220)","v":"-"},{"$f":"IF($C220=\"\",\"\",Simulação!AD220)","v":140.66887446424042},{"$f":"IF($C220=\"\",\"\",Simulação!AE220)","v":"-"},{"$f":"IF($C220=\"\",\"\",Simulação!AF220)","v":34.388240562009656},{"$f":"IF($C220=\"\",\"\",Simulação!AG220)","v":"-"},{"$f":"IF($C220=\"\",\"\",Simulação!AH220)","v":29.236023829000793},{"$f":"IF($C220=\"\",\"\",Simulação!AI220)","v":"-"},{"$f":"IF($C220=\"\",\"\",Simulação!AJ220)","v":33.045125393740342},{"$f":"IF($C220=\"\",\"\",Simulação!AK220)","v":"-"},{"$f":"IF($C220=\"\",\"\",Simulação!AL220)","v":32.02721881559642},{"$f":"IF($C220=\"\",\"\",Simulação!AM220)","v":"-"},{"$f":"IF($C220=\"\",\"\",Simulação!AN220)","v":32.217563507182206},{"$f":"IF($C220=\"\",\"\",Simulação!AO220)","v":"-"},{"$f":"IF($C220=\"\",\"\",Simulação!AP220)","v":36.406016086434107},{"$f":"IF($C220=\"\",\"\",Simulação!AQ220)","v":"-"},{"$f":"IF($C220=\"\",\"\",Simulação!AR220)","v":0}]
[null,214,{"$f":"IF(Chegadas!J222<=$C$5,Chegadas!J222,\"\")","v":191.42000000000002},{"$f":"IF($C221=\"\",\"\",Simulação!D221)","v":1.2291048391283472},{"$f":"IF($C221=\"\",\"\",Simulação!E221)","v":"*"},{"$f":"IF($C221=\"\",\"\",Simulação!F221)","v":202.9634162990418},{"$f":"IF($C221=\"\",\"\",Simulação!G221)","v":"*"},{"$f":"IF($C221=\"\",\"\",Simulação!H221)","v":192.42832371789353},{"$f":"IF($C221=\"\",\"\",Simulação!I221)","v":"*"},{"$f":"IF($C221=\"\",\"\",Simulação!J221)","v":201.45291620458437},{"$f":"IF($C221=\"\",\"\",Simulação!K221)","v":"*"},{"$f":"IF($C221=\"\",\"\",Simulação!L221)","v":201.77296507069659},{"$f":"IF($C221=\"\",\"\",Simulação!M221)","v":191.42000000000002},{"$f":"IF($C221=\"\",\"\",Simulação!N221)","v":192.64910483912837},{"$f":"IF($C221=\"\",\"\",Simulação!O221)","v":"-"},{"$f":"IF($C221=\"\",\"\",Simulação!P221)","v":182.74590950896101},{"$f":"IF($C221=\"\",\"\",Simulação!Q221)","v":"-"},{"$f":"IF($C221=\"\",\"\",Simulação!R221)","v":180.90141463836872},{"$f":"IF($C221=\"\",\"\",Simulação!S221)","v":"-"},{"$f":"IF($C221=\"\",\"\",Simulação!T221)","v":194.41072915787069},{"$f":"IF($C221=\"\",\"\",Simulação!U221)","v":"-"},{"$f":"IF($C221=\"\",\"\",Simulação!V221)","v":171.59999457692987},{"$f":"IF($C221=\"\",\"\",Simulação!W221)","v":"-"},{"$f":"IF($C221=\"\",\"\",Simulação!X221)","v":171.95479649520968},{"$f":"IF($C221=\"\",\"\",Simulação!Y221)","v":"-"},{"$f":"IF($C221=\"\",\"\",Simulação!Z221)","v":156.13778412019371},{"$f":"IF($C221=\"\",\"\",Simulação!AA221)","v":"-"},{"$f":"IF($C221=\"\",\"\",Simulação!AB221)","v":136.83060944284537},{"$f":"IF($C221=\"\",\"\",Simulação!AC221)","v":"-"},{"$f":"IF($C221=\"\",\"\",Simulação!AD221)","v":140.66887446424042},{"$f":"IF($C221=\"\",\"\",Simulação!AE221)","v":"-"},{"$f":"IF($C221=\"\",\"\",Simulação!AF221)","v":34.388240562009656},{"$f":"IF($C221=\"\",\"\",Simulação!AG221)","v":"-"},{"$f":"IF($C221=\"\",\"\",Simulação!AH221)","v":29.236023829000793},{"$f":"IF($C221=\"\",\"\",Simulação!AI221)","v":"-"},{"$f":"IF($C221=\"\",\"\",Simulação!AJ221)","v":33.045125393740342},{"$f":"IF($C221=\"\",\"\",Simulação!AK221)","v":"-"},{"$f":"IF($C221=\"\",\"\",Simulação!AL221)","v":32.02721881559642},{"$f":"IF($C221=\"\",\"\",Simulação!AM221)","v":"-"},{"$f":"IF($C221=\"\",\"\",Simulação!AN221)","v":32.217563507182206},{"$f":"IF($C221=\"\",\"\",Simulação!AO221)","v":"-"},{"$f":"IF($C221=\"\",\"\",Simulação!AP221)","v":36.406016086434107},{"$f":"IF($C221=\"\",\"\",Simulação!AQ221)","v":"-"},{"$f":"IF($C221=\"\",\"\",Simulação!AR221)","v":0}]
[null,215,{"$f":"IF(Chegadas!J223<=$C$5,Chegadas!J223,\"\")","v":192.23000000000005},{"$f":"IF($C222=\"\",\"\",Simulação!D222)","v":5.6584208979623165},{"$f":"IF($C222=\"\",\"\",Simulação!E222)","v":"*"},{"$f":"IF($C222=\"\",\"\",Simulação!F222)","v":202.9634162990418},{"$f":"IF($C222=\"\",\"\",Simulação!G222)","v":"*"},{"$f":"IF($C222=\"\",\"\",Simulação!H222)","v":192.42832371789353},{"$f":"IF($C222=\"\",\"\",Simulação!I222)","v":"*"},{"$f":"IF($C222=\"\",\"\",Simulação!J222)","v":201.45291620458437},{"$f":"IF($C222=\"\",\"\",Simulação!K222)","v":"*"},{"$f":"IF($C222=\"\",\"\",Simulação!L222)","v":201.77296507069659},{"$f":"IF($C222=\"\",\"\",Simulação!M222)","v":"*"},{"$f":"IF($C222=\"\",\"\",Simulação!N222)","v":192.64910483912837},{"$f":"IF($C222=\"\",\"\",Simulação!O222)","v":192.23000000000005},{"$f":"IF($C222=\"\",\"\",Simulação!P222)","v":197.88842089796236},{"$f":"IF($C222=\"\",\"\",Simulação!Q222)","v":"-"},{"$f":"IF($C222=\"\",\"\",Simulação!R222)","v":180.90141463836872},{"$f":"IF($C222=\"\",\"\",Simulação!S222)","v":"-"},{"$f":"IF($C222=\"\",\"\",Simulação!T222)","v":194.41072915787069},{"$f":"IF($C222=\"\",\"\",Simulação!U222)","v":"-"},{"$f":"IF($C222=\"\",\"\",Simulação!V222)","v":171.59999457692987},{"$f":"IF($C222=\"\",\"\",Simulação!W222)","v":"-"},{"$f":"IF($C222=\"\",\"\",Simulação!X222)","v":171.95479649520968},{"$f":"IF($C222=\"\",\"\",Simulação!Y222)","v":"-"},{"$f":"IF($C222=\"\",\"\",Simulação!Z222)","v":156.13778412019371},{"$f":"IF($C222=\"\",\"\",Simulação!AA222)","v":"-"},{"$f":"IF($C222=\"\",\"\",Simulação!AB222)","v":136.83060944284537},{"$f":"IF($C222=\"\",\"\",Simulação!AC222)","v":"-"},{"$f":"IF($C222=\"\",\"\",Simulação!AD222)","v":140.66887446424042},{"$f":"IF($C222=\"\",\"\",Simulação!AE222)","v":"-"},{"$f":"IF($C222=\"\",\"\",Simulação!AF222)","v":34.388240562009656},{"$f":"IF($C222=\"\",\"\",Simulação!AG222)","v":"-"},{"$f":"IF($C222=\"\",\"\",Simulação!AH222)","v":29.236023829000793},{"$f":"IF($C222=\"\",\"\",Simulação!AI222)","v":"-"},{"$f":"IF($C222=\"\",\"\",Simulação!AJ222)","v":33.045125393740342},{"$f":"IF($C222=\"\",\"\",Simulação!AK222)","v":"-"},{"$f":"IF($C222=\"\",\"\",Simulação!AL222)","v":32.02721881559642},{"$f":"IF($C222=\"\",\"\",Simulação!AM222)","v":"-"},{"$f":"IF($C222=\"\",\"\",Simulação!AN222)","v":32.217563507182206},{"$f":"IF($C222=\"\",\"\",Simulação!AO222)","v":"-"},{"$f":"IF($C222=\"\",\"\",Simulação!AP222)","v":36.406016086434107},{"$f":"IF($C222=\"\",\"\",Simulação!AQ222)","v":"-"},{"$f":"IF($C222=\"\",\"\",Simulação!AR222)","v":0}]
[null,216,{"$f":"IF(Chegadas!J224<=$C$5,Chegadas!J224,\"\")","v":193.32000000000005},{"$f":"IF($C223=\"\",\"\",Simulação!D223)","v":7.6308749690307689},{"$f":"IF($C223=\"\",\"\",Simulação!E223)","v":"*"},{"$f":"IF($C223=\"\",\"\",Simulação!F223)","v":202.9634162990418},{"$f":"IF($C223=\"\",\"\",Simulação!G223)","v":193.32000000000005},{"$f":"IF($C223=\"\",\"\",Simulação!H223)","v":200.95087496903082},{"$f":"IF($C223=\"\",\"\",Simulação!I223)","v":"-"},{"$f":"IF($C223=\"\",\"\",Simulação!J223)","v":201.45291620458437},{"$f":"IF($C223=\"\",\"\",Simulação!K223)","v":"-"},{"$f":"IF($C223=\"\",\"\",Simulação!L223)","v":201.77296507069659},{"$f":"IF($C223=\"\",\"\",Simulação!M223)","v":"-"},{"$f":"IF($C223=\"\",\"\",Simulação!N223)","v":192.64910483912837},{"$f":"IF($C223=\"\",\"\",Simulação!O223)","v":"-"},{"$f":"IF($C223=\"\",\"\",Simulação!P223)","v":197.88842089796236},{"$f":"IF($C223=\"\",\"\",Simulação!Q223)","v":"-"},{"$f":"IF($C223=\"\",\"\",Simulação!R223)","v":180.90141463836872},{"$f":"IF($C223=\"\",\"\",Simulação!S223)","v":"-"},{"$f":"IF($C223=\"\",\"\",Simulação!T223)","v":194.41072915787069},{"$f":"IF($C223=\"\",\"\",Simulação!U223)","v":"-"},{"$f":"IF($C223=\"\",\"\",Simulação!V223)","v":171.59999457692987},{"$f":"IF($C223=\"\",\"\",Simulação!W223)","v":"-"},{"$f":"IF($C223=\"\",\"\",Simulação!X223)","v":171.95479649520968},{"$f":"IF($C223=\"\",\"\",Simulação!Y223)","v":"-"},{"$f":"IF($C223=\"\",\"\",Simulação!Z223)","v":156.13778412019371},{"$f":"IF($C223=\"\",\"\",Simulação!AA223)","v":"-"},{"$f":"IF($C223=\"\",\"\",Simulação!AB223)","v":136.83060944284537},{"$f":"IF($C223=\"\",\"\",Simulação!AC223)","v":"-"},{"$f":"IF($C223=\"\",\"\",Simulação!AD223)","v":140.66887446424042},{"$f":"IF($C223=\"\",\"\",Simulação!AE223)","v":"-"},{"$f":"IF($C223=\"\",\"\",Simulação!AF223)","v":34.388240562009656},{"$f":"IF($C223=\"\",\"\",Simulação!AG223)","v":"-"},{"$f":"IF($C223=\"\",\"\",Simulação!AH223)","v":29.236023829000793},{"$f":"IF($C223=\"\",\"\",Simulação!AI223)","v":"-"},{"$f":"IF($C223=\"\",\"\",Simulação!AJ223)","v":33.045125393740342},{"$f":"IF($C223=\"\",\"\",Simulação!AK223)","v":"-"},{"$f":"IF($C223=\"\",\"\",Simulação!AL223)","v":32.02721881559642},{"$f":"IF($C223=\"\",\"\",Simulação!AM223)","v":"-"},{"$f":"IF($C223=\"\",\"\",Simulação!AN223)","v":32.217563507182206},{"$f":"IF($C223=\"\",\"\",Simulação!AO223)","v":"-"},{"$f":"IF($C223=\"\",\"\",Simulação!AP223)","v":36.406016086434107},{"$f":"IF($C223=\"\",\"\",Simulação!AQ223)","v":"-"},{"$f":"IF($C223=\"\",\"\",Simulação!AR223)","v":0}]
[null,217,{"$f":"IF(Chegadas!J225<=$C$5,Chegadas!J225,\"\")","v":193.56000000000006},{"$f":"IF($C224=\"\",\"\",Simulação!D224)","v":4.326729246771321},{"$f":"IF($C224=\"\",\"\",Simulação!E224)","v":"*"},{"$f":"IF($C224=\"\",\"\",Simulação!F224)","v":202.9634162990418},{"$f":"IF($C224=\"\",\"\",Simulação!G224)","v":"*"},{"$f":"IF($C224=\"\",\"\",Simulação!H224)","v":200.95087496903082},{"$f":"IF($C224=\"\",\"\",Simulação!I224)","v":"*"},{"$f":"IF($C224=\"\",\"\",Simulação!J224)","v":201.45291620458437},{"$f":"IF($C224=\"\",\"\",Simulação!K224)","v":"*"},{"$f":"IF($C224=\"\",\"\",Simulação!L224)","v":201.77296507069659},{"$f":"IF($C224=\"\",\"\",Simulação!M224)","v":193.56000000000006},{"$f":"IF($C224=\"\",\"\",Simulação!N224)","v":197.88672924677138},{"$f":"IF($C224=\"\",\"\",Simulação!O224)","v":"-"},{"$f":"IF($C224=\"\",\"\",Simulação!P224)","v":197.88842089796236},{"$f":"IF($C224=\"\",\"\",Simulação!Q224)","v":"-"},{"$f":"IF($C224=\"\",\"\",Simulação!R224)","v":180.90141463836872},{"$f":"IF($C224=\"\",\"\",Simulação!S224)","v":"-"},{"$f":"IF($C224=\"\",\"\",Simulação!T224)","v":194.41072915787069},{"$f":"IF($C224=\"\",\"\",Simulação!U224)","v":"-"},{"$f":"IF($C224=\"\",\"\",Simulação!V224)","v":171.59999457692987},{"$f":"IF($C224=\"\",\"\",Simulação!W224)","v":"-"},{"$f":"IF($C224=\"\",\"\",Simulação!X224)","v":171.95479649520968},{"$f":"IF($C224=\"\",\"\",Simulação!Y224)","v":"-"},{"$f":"IF($C224=\"\",\"\",Simulação!Z224)","v":156.13778412019371},{"$f":"IF($C224=\"\",\"\",Simulação!AA224)","v":"-"},{"$f":"IF($C224=\"\",\"\",Simulação!AB224)","v":136.83060944284537},{"$f":"IF($C224=\"\",\"\",Simulação!AC224)","v":"-"},{"$f":"IF($C224=\"\",\"\",Simulação!AD224)","v":140.66887446424042},{"$f":"IF($C224=\"\",\"\",Simulação!AE224)","v":"-"},{"$f":"IF($C224=\"\",\"\",Simulação!AF224)","v":34.388240562009656},{"$f":"IF($C224=\"\",\"\",Simulação!AG224)","v":"-"},{"$f":"IF($C224=\"\",\"\",Simulação!AH224)","v":29.236023829000793},{"$f":"IF($C224=\"\",\"\",Simulação!AI224)","v":"-"},{"$f":"IF($C224=\"\",\"\",Simulação!AJ224)","v":33.045125393740342},{"$f":"IF($C224=\"\",\"\",Simulação!AK224)","v":"-"},{"$f":"IF($C224=\"\",\"\",Simulação!AL224)","v":32.02721881559642},{"$f":"IF($C224=\"\",\"\",Simulação!AM224)","v":"-"},{"$f":"IF($C224=\"\",\"\",Simulação!AN224)","v":32.217563507182206},{"$f":"IF($C224=\"\",\"\",Simulação!AO224)","v":"-"},{"$f":"IF($C224=\"\",\"\",Simulação!AP224)","v":36.406016086434107},{"$f":"IF($C224=\"\",\"\",Simulação!AQ224)","v":"-"},{"$f":"IF($C224=\"\",\"\",Simulação!AR224)","v":0}]
[null,218,{"$f":"IF(Chegadas!J226<=$C$5,Chegadas!J226,\"\")","v":195.04000000000002},{"$f":"IF($C225=\"\",\"\",Simulação!D225)","v":1.0410973530929959},{"$f":"IF($C225=\"\",\"\",Simulação!E225)","v":"*"},{"$f":"IF($C225=\"\",\"\",Simulação!F225)","v":202.9634162990418},{"$f":"IF($C225=\"\",\"\",Simulação!G225)","v":"*"},{"$f":"IF($C225=\"\",\"\",Simulação!H225)","v":200.95087496903082},{"$f":"IF($C225=\"\",\"\",Simulação!I225)","v":"*"},{"$f":"IF($C225=\"\",\"\",Simulação!J225)","v":201.45291620458437},{"$f":"IF($C225=\"\",\"\",Simulação!K225)","v":"*"},{"$f":"IF($C225=\"\",\"\",Simulação!L225)","v":201.77296507069659},{"$f":"IF($C225=\"\",\"\",Simulação!M225)","v":"*"},{"$f":"IF($C225=\"\",\"\",Simulação!N225)","v":197.88672924677138},{"$f":"IF($C225=\"\",\"\",Simulação!O225)","v":"*"},{"$f":"IF($C225=\"\",\"\",Simulação!P225)","v":197.88842089796236},{"$f":"IF($C225=\"\",\"\",Simulação!Q225)","v":195.04000000000002},{"$f":"IF($C225=\"\",\"\",Simulação!R225)","v":196.08109735309301},{"$f":"IF($C225=\"\",\"\",Simulação!S225)","v":"-"},{"$f":"IF($C225=\"\",\"\",Simulação!T225)","v":194.41072915787069},{"$f":"IF($C225=\"\",\"\",Simulação!U225)","v":"-"},{"$f":"IF($C225=\"\",\"\",Simulação!V225)","v":171.59999457692987},{"$f":"IF($C225=\"\",\"\",Simulação!W225)","v":"-"},{"$f":"IF($C225=\"\",\"\",Simulação!X225)","v":171.95479649520968},{"$f":"IF($C225=\"\",\"\",Simulação!Y225)","v":"-"},{"$f":"IF($C225=\"\",\"\",Simulação!Z225)","v":156.13778412019371},{"$f":"IF($C225=\"\",\"\",Simulação!AA225)","v":"-"},{"$f":"IF($C225=\"\",\"\",Simulação!AB225)","v":136.83060944284537},{"$f":"IF($C225=\"\",\"\",Simulação!AC225)","v":"-"},{"$f":"IF($C225=\"\",\"\",Simulação!AD225)","v":140.66887446424042},{"$f":"IF($C225=\"\",\"\",Simulação!AE225)","v":"-"},{"$f":"IF($C225=\"\",\"\",Simulação!AF225)","v":34.388240562009656},{"$f":"IF($C225=\"\",\"\",Simulação!AG225)","v":"-"},{"$f":"IF($C225=\"\",\"\",Simulação!AH225)","v":29.236023829000793},{"$f":"IF($C225=\"\",\"\",Simulação!AI225)","v":"-"},{"$f":"IF($C225=\"\",\"\",Simulação!AJ225)","v":33.045125393740342},{"$f":"IF($C225=\"\",\"\",Simulação!AK225)","v":"-"},{"$f":"IF($C225=\"\",\"\",Simulação!AL225)","v":32.02721881559642},{"$f":"IF($C225=\"\",\"\",Simulação!AM225)","v":"-"},{"$f":"IF($C225=\"\",\"\",Simulação!AN225)","v":32.217563507182206},{"$f":"IF($C225=\"\",\"\",Simulação!AO225)","v":"-"},{"$f":"IF($C225=\"\",\"\",Simulação!AP225)","v":36.406016086434107},{"$f":"IF($C225=\"\",\"\",Simulação!AQ225)","v":"-"},{"$f":"IF($C225=\"\",\"\",Simulação!AR225)","v":0}]
[null,219,{"$f":"IF(Chegadas!J227<=$C$5,Chegadas!J227,\"\")","v":195.18000000000006},{"$f":"IF($C226=\"\",\"\",Simulação!D226)","v":14.389870948666339},{"$f":"IF($C226=\"\",\"\",Simulação!E226)","v":"*"},{"$f":"IF($C226=\"\",\"\",Simulação!F226)","v":202.9634162990418},{"$f":"IF($C226=\"\",\"\",Simulação!G226)","v":"*"},{"$f":"IF($C226=\"\",\"\",Simulação!H226)","v":200.95087496903082},{"$f":"IF($C226=\"\",\"\",Simulação!I226)","v":"*"},{"$f":"IF($C226=\"\",\"\",Simulação!J226)","v":201.45291620458437},{"$f":"IF($C226=\"\",\"\",Simulação!K226)","v":"*"},{"$f":"IF($C226=\"\",\"\",Simulação!L226)","v":201.77296507069659},{"$f":"IF($C226=\"\",\"\",Simulação!M226)","v":"*"},{"$f":"IF($C226=\"\",\"\",Simulação!N226)","v":197.88672924677138},{"$f":"IF($C226=\"\",\"\",Simulação!O226)","v":"*"},{"$f":"IF($C226=\"\",\"\",Simulação!P226)","v":197.88842089796236},{"$f":"IF($C226=\"\",\"\",Simulação!Q226)","v":"*"},{"$f":"IF($C226=\"\",\"\",Simulação!R226)","v":196.08109735309301},{"$f":"IF($C226=\"\",\"\",Simulação!S226)","v":195.18000000000006},{"$f":"IF($C226=\"\",\"\",Simulação!T226)","v":209.56987094866639},{"$f":"IF($C226=\"\",\"\",Simulação!U226)","v":"-"},{"$f":"IF($C226=\"\",\"\",Simulação!V226)","v":171.59999457692987},{"$f":"IF($C226=\"\",\"\",Simulação!W226)","v":"-"},{"$f":"IF($C226=\"\",\"\",Simulação!X226)","v":171.95479649520968},{"$f":"IF($C226=\"\",\"\",Simulação!Y226)","v":"-"},{"$f":"IF($C226=\"\",\"\",Simulação!Z226)","v":156.13778412019371},{"$f":"IF($C226=\"\",\"\",Simulação!AA226)","v":"-"},{"$f":"IF($C226=\"\",\"\",Simulação!AB226)","v":136.83060944284537},{"$f":"IF($C226=\"\",\"\",Simulação!AC226)","v":"-"},{"$f":"IF($C226=\"\",\"\",Simulação!AD226)","v":140.66887446424042},{"$f":"IF($C226=\"\",\"\",Simulação!AE226)","v":"-"},{"$f":"IF($C226=\"\",\"\",Simulação!AF226)","v":34.388240562009656},{"$f":"IF($C226=\"\",\"\",Simulação!AG226)","v":"-"},{"$f":"IF($C226=\"\",\"\",Simulação!AH226)","v":29.236023829000793},{"$f":"IF($C226=\"\",\"\",Simulação!AI226)","v":"-"},{"$f":"IF($C226=\"\",\"\",Simulação!AJ226)","v":33.045125393740342},{"$f":"IF($C226=\"\",\"\",Simulação!AK226)","v":"-"},{"$f":"IF($C226=\"\",\"\",Simulação!AL226)","v":32.02721881559642},{"$f":"IF($C226=\"\",\"\",Simulação!AM226)","v":"-"},{"$f":"IF($C226=\"\",\"\",Simulação!AN226)","v":32.217563507182206},{"$f":"IF($C226=\"\",\"\",Simulação!AO226)","v":"-"},{"$f":"IF($C226=\"\",\"\",Simulação!AP226)","v":36.406016086434107},{"$f":"IF($C226=\"\",\"\",Simulação!AQ226)","v":"-"},{"$f":"IF($C226=\"\",\"\",Simulação!AR226)","v":0}]
[null,220,{"$f":"IF(Chegadas!J228<=$C$5,Chegadas!J228,\"\")","v":195.19000000000005},{"$f":"IF($C227=\"\",\"\",Simulação!D227)","v":11.441611776606168},{"$f":"IF($C227=\"\",\"\",Simulação!E227)","v":"*"},{"$f":"IF($C227=\"\",\"\",Simulação!F227)","v":202.9634162990418},{"$f":"IF($C227=\"\",\"\",Simulação!G227)","v":"*"},{"$f":"IF($C227=\"\",\"\",Simulação!H227)","v":200.95087496903082},{"$f":"IF($C227=\"\",\"\",Simulação!I227)","v":"*"},{"$f":"IF($C227=\"\",\"\",Simulação!J227)","v":201.45291620458437},{"$f":"IF($C227=\"\",\"\",Simulação!K227)","v":"*"},{"$f":"IF($C227=\"\",\"\",Simulação!L227)","v":201.77296507069659},{"$f":"IF($C227=\"\",\"\",Simulação!M227)","v":"*"},{"$f":"IF($C227=\"\",\"\",Simulação!N227)","v":197.88672924677138},{"$f":"IF($C227=\"\",\"\",Simulação!O227)","v":"*"},{"$f":"IF($C227=\"\",\"\",Simulação!P227)","v":197.88842089796236},{"$f":"IF($C227=\"\",\"\",Simulação!Q227)","v":"*"},{"$f":"IF($C227=\"\",\"\",Simulação!R227)","v":196.08109735309301},{"$f":"IF($C227=\"\",\"\",Simulação!S227)","v":"*"},{"$f":"IF($C227=\"\",\"\",Simulação!T227)","v":209.56987094866639},{"$f":"IF($C227=\"\",\"\",Simulação!U227)","v":195.19000000000005},{"$f":"IF($C227=\"\",\"\",Simulação!V227)","v":206.63161177660623},{"$f":"IF($C227=\"\",\"\",Simulação!W227)","v":"-"},{"$f":"IF($C227=\"\",\"\",Simulação!X227)","v":171.95479649520968},{"$f":"IF($C227=\"\",\"\",Simulação!Y227)","v":"-"},{"$f":"IF($C227=\"\",\"\",Simulação!Z227)","v":156.13778412019371},{"$f":"IF($C227=\"\",\"\",Simulação!AA227)","v":"-"},{"$f":"IF($C227=\"\",\"\",Simulação!AB227)","v":136.83060944284537},{"$f":"IF($C227=\"\",\"\",Simulação!AC227)","v":"-"},{"$f":"IF($C227=\"\",\"\",Simulação!AD227)","v":140.66887446424042},{"$f":"IF($C227=\"\",\"\",Simulação!AE227)","v":"-"},{"$f":"IF($C227=\"\",\"\",Simulação!AF227)","v":34.388240562009656},{"$f":"IF($C227=\"\",\"\",Simulação!AG227)","v":"-"},{"$f":"IF($C227=\"\",\"\",Simulação!AH227)","v":29.236023829000793},{"$f":"IF($C227=\"\",\"\",Simulação!AI227)","v":"-"},{"$f":"IF($C227=\"\",\"\",Simulação!AJ227)","v":33.045125393740342},{"$f":"IF($C227=\"\",\"\",Simulação!AK227)","v":"-"},{"$f":"IF($C227=\"\",\"\",Simulação!AL227)","v":32.02721881559642},{"$f":"IF($C227=\"\",\"\",Simulação!AM227)","v":"-"},{"$f":"IF($C227=\"\",\"\",Simulação!AN227)","v":32.217563507182206},{"$f":"IF($C227=\"\",\"\",Simulação!AO227)","v":"-"},{"$f":"IF($C227=\"\",\"\",Simulação!AP227)","v":36.406016086434107},{"$f":"IF($C227=\"\",\"\",Simulação!AQ227)","v":"-"},{"$f":"IF($C227=\"\",\"\",Simulação!AR227)","v":0}]
[null,221,{"$f":"IF(Chegadas!J229<=$C$5,Chegadas!J229,\"\")","v":195.39000000000004},{"$f":"IF($C228=\"\",\"\",Simulação!D228)","v":10.065325613229005},{"$f":"IF($C228=\"\",\"\",Simulação!E228)","v":"*"},{"$f":"IF($C228=\"\",\"\",Simulação!F228)","v":202.9634162990418},{"$f":"IF($C228=\"\",\"\",Simulação!G228)","v":"*"},{"$f":"IF($C228=\"\",\"\",Simulação!H228)","v":200.95087496903082},{"$f":"IF($C228=\"\",\"\",Simulação!I228)","v":"*"},{"$f":"IF($C228=\"\",\"\",Simulação!J228)","v":201.45291620458437},{"$f":"IF($C228=\"\",\"\",Simulação!K228)","v":"*"},{"$f":"IF($C228=\"\",\"\",Simulação!L228)","v":201.77296507069659},{"$f":"IF($C228=\"\",\"\",Simulação!M228)","v":"*"},{"$f":"IF($C228=\"\",\"\",Simulação!N228)","v":197.88672924677138},{"$f":"IF($C228=\"\",\"\",Simulação!O228)","v":"*"},{"$f":"IF($C228=\"\",\"\",Simulação!P228)","v":197.88842089796236},{"$f":"IF($C228=\"\",\"\",Simulação!Q228)","v":"*"},{"$f":"IF($C228=\"\",\"\",Simulação!R228)","v":196.08109735309301},{"$f":"IF($C228=\"\",\"\",Simulação!S228)","v":"*"},{"$f":"IF($C228=\"\",\"\",Simulação!T228)","v":209.56987094866639},{"$f":"IF($C228=\"\",\"\",Simulação!U228)","v":"*"},{"$f":"IF($C228=\"\",\"\",Simulação!V228)","v":206.63161177660623},{"$f":"IF($C228=\"\",\"\",Simulação!W228)","v":195.39000000000004},{"$f":"IF($C228=\"\",\"\",Simulação!X228)","v":205.45532561322904},{"$f":"IF($C228=\"\",\"\",Simulação!Y228)","v":"-"},{"$f":"IF($C228=\"\",\"\",Simulação!Z228)","v":156.13778412019371},{"$f":"IF($C228=\"\",\"\",Simulação!AA228)","v":"-"},{"$f":"IF($C228=\"\",\"\",Simulação!AB228)","v":136.83060944284537},{"$f":"IF($C228=\"\",\"\",Simulação!AC228)","v":"-"},{"$f":"IF($C228=\"\",\"\",Simulação!AD228)","v":140.66887446424042},{"$f":"IF($C228=\"\",\"\",Simulação!AE228)","v":"-"},{"$f":"IF($C228=\"\",\"\",Simulação!AF228)","v":34.388240562009656},{"$f":"IF($C228=\"\",\"\",Simulação!AG228)","v":"-"},{"$f":"IF($C228=\"\",\"\",Simulação!AH228)","v":29.236023829000793},{"$f":"IF($C228=\"\",\"\",Simulação!AI228)","v":"-"},{"$f":"IF($C228=\"\",\"\",Simulação!AJ228)","v":33.045125393740342},{"$f":"IF($C228=\"\",\"\",Simulação!AK228)","v":"-"},{"$f":"IF($C228=\"\",\"\",Simulação!AL228)","v":32.02721881559642},{"$f":"IF($C228=\"\",\"\",Simulação!AM228)","v":"-"},{"$f":"IF($C228=\"\",\"\",Simulação!AN228)","v":32.217563507182206},{"$f":"IF($C228=\"\",\"\",Simulação!AO228)","v":"-"},{"$f":"IF($C228=\"\",\"\",Simulação!AP228)","v":36.406016086434107},{"$f":"IF($C228=\"\",\"\",Simulação!AQ228)","v":"-"},{"$f":"IF($C228=\"\",\"\",Simulação!AR228)","v":0}]
[null,222,{"$f":"IF(Chegadas!J230<=$C$5,Chegadas!J230,\"\")","v":197.32000000000005},{"$f":"IF($C229=\"\",\"\",Simulação!D229)","v":4.1888141529426868},{"$f":"IF($C229=\"\",\"\",Simulação!E229)","v":"*"},{"$f":"IF($C229=\"\",\"\",Simulação!F229)","v":202.9634162990418},{"$f":"IF($C229=\"\",\"\",Simulação!G229)","v":"*"},{"$f":"IF($C229=\"\",\"\",Simulação!H229)","v":200.95087496903082},{"$f":"IF($C229=\"\",\"\",Simulação!I229)","v":"*"},{"$f":"IF($C229=\"\",\"\",Simulação!J229)","v":201.45291620458437},{"$f":"IF($C229=\"\",\"\",Simulação!K229)","v":"*"},{"$f":"IF($C229=\"\",\"\",Simulação!L229)","v":201.77296507069659},{"$f":"IF($C229=\"\",\"\",Simulação!M229)","v":"*"},{"$f":"IF($C229=\"\",\"\",Simulação!N229)","v":197.88672924677138},{"$f":"IF($C229=\"\",\"\",Simulação!O229)","v":"*"},{"$f":"IF($C229=\"\",\"\",Simulação!P229)","v":197.88842089796236},{"$f":"IF($C229=\"\",\"\",Simulação!Q229)","v":197.32000000000005},{"$f":"IF($C229=\"\",\"\",Simulação!R229)","v":201.50881415294273},{"$f":"IF($C229=\"\",\"\",Simulação!S229)","v":"-"},{"$f":"IF($C229=\"\",\"\",Simulação!T229)","v":209.56987094866639},{"$f":"IF($C229=\"\",\"\",Simulação!U229)","v":"-"},{"$f":"IF($C229=\"\",\"\",Simulação!V229)","v":206.63161177660623},{"$f":"IF($C229=\"\",\"\",Simulação!W229)","v":"-"},{"$f":"IF($C229=\"\",\"\",Simulação!X229)","v":205.45532561322904},{"$f":"IF($C229=\"\",\"\",Simulação!Y229)","v":"-"},{"$f":"IF($C229=\"\",\"\",Simulação!Z229)","v":156.13778412019371},{"$f":"IF($C229=\"\",\"\",Simulação!AA229)","v":"-"},{"$f":"IF($C229=\"\",\"\",Simulação!AB229)","v":136.83060944284537},{"$f":"IF($C229=\"\",\"\",Simulação!AC229)","v":"-"},{"$f":"IF($C229=\"\",\"\",Simulação!AD229)","v":140.66887446424042},{"$f":"IF($C229=\"\",\"\",Simulação!AE229)","v":"-"},{"$f":"IF($C229=\"\",\"\",Simulação!AF229)","v":34.388240562009656},{"$f":"IF($C229=\"\",\"\",Simulação!AG229)","v":"-"},{"$f":"IF($C229=\"\",\"\",Simulação!AH229)","v":29.236023829000793},{"$f":"IF($C229=\"\",\"\",Simulação!AI229)","v":"-"},{"$f":"IF($C229=\"\",\"\",Simulação!AJ229)","v":33.045125393740342},{"$f":"IF($C229=\"\",\"\",Simulação!AK229)","v":"-"},{"$f":"IF($C229=\"\",\"\",Simulação!AL229)","v":32.02721881559642},{"$f":"IF($C229=\"\",\"\",Simulação!AM229)","v":"-"},{"$f":"IF($C229=\"\",\"\",Simulação!AN229)","v":32.217563507182206},{"$f":"IF($C229=\"\",\"\",Simulação!AO229)","v":"-"},{"$f":"IF($C229=\"\",\"\",Simulação!AP229)","v":36.406016086434107},{"$f":"IF($C229=\"\",\"\",Simulação!AQ229)","v":"-"},{"$f":"IF($C229=\"\",\"\",Simulação!AR229)","v":0}]
[null,223,{"$f":"IF(Chegadas!J231<=$C$5,Chegadas!J231,\"\")","v":197.49},{"$f":"IF($C230=\"\",\"\",Simulação!D230)","v":1.0096747639047239},{"$f":"IF($C230=\"\",\"\",Simulação!E230)","v":"*"},{"$f":"IF($C230=\"\",\"\",Simulação!F230)","v":202.9634162990418},{"$f":"IF($C230=\"\",\"\",Simulação!G230)","v":"*"},{"$f":"IF($C230=\"\",\"\",Simulação!H230)","v":200.95087496903082},{"$f":"IF($C230=\"\",\"\",Simulação!I230)","v":"*"},{"$f":"IF($C230=\"\",\"\",Simulação!J230)","v":201.45291620458437},{"$f":"IF($C230=\"\",\"\",Simulação!K230)","v":"*"},{"$f":"IF($C230=\"\",\"\",Simulação!L230)","v":201.77296507069659},{"$f":"IF($C230=\"\",\"\",Simulação!M230)","v":"*"},{"$f":"IF($C230=\"\",\"\",Simulação!N230)","v":197.88672924677138},{"$f":"IF($C230=\"\",\"\",Simulação!O230)","v":"*"},{"$f":"IF($C230=\"\",\"\",Simulação!P230)","v":197.88842089796236},{"$f":"IF($C230=\"\",\"\",Simulação!Q230)","v":"*"},{"$f":"IF($C230=\"\",\"\",Simulação!R230)","v":201.50881415294273},{"$f":"IF($C230=\"\",\"\",Simulação!S230)","v":"*"},{"$f":"IF($C230=\"\",\"\",Simulação!T230)","v":209.56987094866639},{"$f":"IF($C230=\"\",\"\",Simulação!U230)","v":"*"},{"$f":"IF($C230=\"\",\"\",Simulação!V230)","v":206.63161177660623},{"$f":"IF($C230=\"\",\"\",Simulação!W230)","v":"*"},{"$f":"IF($C230=\"\",\"\",Simulação!X230)","v":205.45532561322904},{"$f":"IF($C230=\"\",\"\",Simulação!Y230)","v":197.49},{"$f":"IF($C230=\"\",\"\",Simulação!Z230)","v":198.49967476390472},{"$f":"IF($C230=\"\",\"\",Simulação!AA230)","v":"-"},{"$f":"IF($C230=\"\",\"\",Simulação!AB230)","v":136.83060944284537},{"$f":"IF($C230=\"\",\"\",Simulação!AC230)","v":"-"},{"$f":"IF($C230=\"\",\"\",Simulação!AD230)","v":140.66887446424042},{"$f":"IF($C230=\"\",\"\",Simulação!AE230)","v":"-"},{"$f":"IF($C230=\"\",\"\",Simulação!AF230)","v":34.388240562009656},{"$f":"IF($C230=\"\",\"\",Simulação!AG230)","v":"-"},{"$f":"IF($C230=\"\",\"\",Simulação!AH230)","v":29.236023829000793},{"$f":"IF($C230=\"\",\"\",Simulação!AI230)","v":"-"},{"$f":"IF($C230=\"\",\"\",Simulação!AJ230)","v":33.045125393740342},{"$f":"IF($C230=\"\",\"\",Simulação!AK230)","v":"-"},{"$f":"IF($C230=\"\",\"\",Simulação!AL230)","v":32.02721881559642},{"$f":"IF($C230=\"\",\"\",Simulação!AM230)","v":"-"},{"$f":"IF($C230=\"\",\"\",Simulação!AN230)","v":32.217563507182206},{"$f":"IF($C230=\"\",\"\",Simulação!AO230)","v":"-"},{"$f":"IF($C230=\"\",\"\",Simulação!AP230)","v":36.406016086434107},{"$f":"IF($C230=\"\",\"\",Simulação!AQ230)","v":"-"},{"$f":"IF($C230=\"\",\"\",Simulação!AR230)","v":0}]
[null,224,{"$f":"IF(Chegadas!J232<=$C$5,Chegadas!J232,\"\")","v":197.98000000000005},{"$f":"IF($C231=\"\",\"\",Simulação!D231)","v":5.1062043893427997},{"$f":"IF($C231=\"\",\"\",Simulação!E231)","v":"*"},{"$f":"IF($C231=\"\",\"\",Simulação!F231)","v":202.9634162990418},{"$f":"IF($C231=\"\",\"\",Simulação!G231)","v":"*"},{"$f":"IF($C231=\"\",\"\",Simulação!H231)","v":200.95087496903082},{"$f":"IF($C231=\"\",\"\",Simulação!I231)","v":"*"},{"$f":"IF($C231=\"\",\"\",Simulação!J231)","v":201.45291620458437},{"$f":"IF($C231=\"\",\"\",Simulação!K231)","v":"*"},{"$f":"IF($C231=\"\",\"\",Simulação!L231)","v":201.77296507069659},{"$f":"IF($C231=\"\",\"\",Simulação!M231)","v":197.98000000000005},{"$f":"IF($C231=\"\",\"\",Simulação!N231)","v":203.08620438934284},{"$f":"IF($C231=\"\",\"\",Simulação!O231)","v":"-"},{"$f":"IF($C231=\"\",\"\",Simulação!P231)","v":197.88842089796236},{"$f":"IF($C231=\"\",\"\",Simulação!Q231)","v":"-"},{"$f":"IF($C231=\"\",\"\",Simulação!R231)","v":201.50881415294273},{"$f":"IF($C231=\"\",\"\",Simulação!S231)","v":"-"},{"$f":"IF($C231=\"\",\"\",Simulação!T231)","v":209.56987094866639},{"$f":"IF($C231=\"\",\"\",Simulação!U231)","v":"-"},{"$f":"IF($C231=\"\",\"\",Simulação!V231)","v":206.63161177660623},{"$f":"IF($C231=\"\",\"\",Simulação!W231)","v":"-"},{"$f":"IF($C231=\"\",\"\",Simulação!X231)","v":205.45532561322904},{"$f":"IF($C231=\"\",\"\",Simulação!Y231)","v":"-"},{"$f":"IF($C231=\"\",\"\",Simulação!Z231)","v":198.49967476390472},{"$f":"IF($C231=\"\",\"\",Simulação!AA231)","v":"-"},{"$f":"IF($C231=\"\",\"\",Simulação!AB231)","v":136.83060944284537},{"$f":"IF($C231=\"\",\"\",Simulação!AC231)","v":"-"},{"$f":"IF($C231=\"\",\"\",Simulação!AD231)","v":140.66887446424042},{"$f":"IF($C231=\"\",\"\",Simulação!AE231)","v":"-"},{"$f":"IF($C231=\"\",\"\",Simulação!AF231)","v":34.388240562009656},{"$f":"IF($C231=\"\",\"\",Simulação!AG231)","v":"-"},{"$f":"IF($C231=\"\",\"\",Simulação!AH231)","v":29.236023829000793},{"$f":"IF($C231=\"\",\"\",Simulação!AI231)","v":"-"},{"$f":"IF($C231=\"\",\"\",Simulação!AJ231)","v":33.045125393740342},{"$f":"IF($C231=\"\",\"\",Simulação!AK231)","v":"-"},{"$f":"IF($C231=\"\",\"\",Simulação!AL231)","v":32.02721881559642},{"$f":"IF($C231=\"\",\"\",Simulação!AM231)","v":"-"},{"$f":"IF($C231=\"\",\"\",Simulação!AN231)","v":32.217563507182206},{"$f":"IF($C231=\"\",\"\",Simulação!AO231)","v":"-"},{"$f":"IF($C231=\"\",\"\",Simulação!AP231)","v":36.406016086434107},{"$f":"IF($C231=\"\",\"\",Simulação!AQ231)","v":"-"},{"$f":"IF($C231=\"\",\"\",Simulação!AR231)","v":0}]
[null,225,{"$f":"IF(Chegadas!J233<=$C$5,Chegadas!J233,\"\")","v":201.00000000000006},{"$f":"IF($C232=\"\",\"\",Simulação!D232)","v":9.1519401368088147},{"$f":"IF($C232=\"\",\"\",Simulação!E232)","v":"*"},{"$f":"IF($C232=\"\",\"\",Simulação!F232)","v":202.9634162990418},{"$f":"IF($C232=\"\",\"\",Simulação!G232)","v":201.00000000000006},{"$f":"IF($C232=\"\",\"\",Simulação!H232)","v":210.15194013680886},{"$f":"IF($C232=\"\",\"\",Simulação!I232)","v":"-"},{"$f":"IF($C232=\"\",\"\",Simulação!J232)","v":201.45291620458437},{"$f":"IF($C232=\"\",\"\",Simulação!K232)","v":"-"},{"$f":"IF($C232=\"\",\"\",Simulação!L232)","v":201.77296507069659},{"$f":"IF($C232=\"\",\"\",Simulação!M232)","v":"-"},{"$f":"IF($C232=\"\",\"\",Simulação!N232)","v":203.08620438934284},{"$f":"IF($C232=\"\",\"\",Simulação!O232)","v":"-"},{"$f":"IF($C232=\"\",\"\",Simulação!P232)","v":197.88842089796236},{"$f":"IF($C232=\"\",\"\",Simulação!Q232)","v":"-"},{"$f":"IF($C232=\"\",\"\",Simulação!R232)","v":201.50881415294273},{"$f":"IF($C232=\"\",\"\",Simulação!S232)","v":"-"},{"$f":"IF($C232=\"\",\"\",Simulação!T232)","v":209.56987094866639},{"$f":"IF($C232=\"\",\"\",Simulação!U232)","v":"-"},{"$f":"IF($C232=\"\",\"\",Simulação!V232)","v":206.63161177660623},{"$f":"IF($C232=\"\",\"\",Simulação!W232)","v":"-"},{"$f":"IF($C232=\"\",\"\",Simulação!X232)","v":205.45532561322904},{"$f":"IF($C232=\"\",\"\",Simulação!Y232)","v":"-"},{"$f":"IF($C232=\"\",\"\",Simulação!Z232)","v":198.49967476390472},{"$f":"IF($C232=\"\",\"\",Simulação!AA232)","v":"-"},{"$f":"IF($C232=\"\",\"\",Simulação!AB232)","v":136.83060944284537},{"$f":"IF($C232=\"\",\"\",Simulação!AC232)","v":"-"},{"$f":"IF($C232=\"\",\"\",Simulação!AD232)","v":140.66887446424042},{"$f":"IF($C232=\"\",\"\",Simulação!AE232)","v":"-"},{"$f":"IF($C232=\"\",\"\",Simulação!AF232)","v":34.388240562009656},{"$f":"IF($C232=\"\",\"\",Simulação!AG232)","v":"-"},{"$f":"IF($C232=\"\",\"\",Simulação!AH232)","v":29.236023829000793},{"$f":"IF($C232=\"\",\"\",Simulação!AI232)","v":"-"},{"$f":"IF($C232=\"\",\"\",Simulação!AJ232)","v":33.045125393740342},{"$f":"IF($C232=\"\",\"\",Simulação!AK232)","v":"-"},{"$f":"IF($C232=\"\",\"\",Simulação!AL232)","v":32.02721881559642},{"$f":"IF($C232=\"\",\"\",Simulação!AM232)","v":"-"},{"$f":"IF($C232=\"\",\"\",Simulação!AN232)","v":32.217563507182206},{"$f":"IF($C232=\"\",\"\",Simulação!AO232)","v":"-"},{"$f":"IF($C232=\"\",\"\",Simulação!AP232)","v":36.406016086434107},{"$f":"IF($C232=\"\",\"\",Simulação!AQ232)","v":"-"},{"$f":"IF($C232=\"\",\"\",Simulação!AR232)","v":0}]
[null,226,{"$f":"IF(Chegadas!J234<=$C$5,Chegadas!J234,\"\")","v":201.32000000000002},{"$f":"IF($C233=\"\",\"\",Simulação!D233)","v":1.4864770877036939},{"$f":"IF($C233=\"\",\"\",Simulação!E233)","v":"*"},{"$f":"IF($C233=\"\",\"\",Simulação!F233)","v":202.9634162990418},{"$f":"IF($C233=\"\",\"\",Simulação!G233)","v":"*"},{"$f":"IF($C233=\"\",\"\",Simulação!H233)","v":210.15194013680886},{"$f":"IF($C233=\"\",\"\",Simulação!I233)","v":"*"},{"$f":"IF($C233=\"\",\"\",Simulação!J233)","v":201.45291620458437},{"$f":"IF($C233=\"\",\"\",Simulação!K233)","v":"*"},{"$f":"IF($C233=\"\",\"\",Simulação!L233)","v":201.77296507069659},{"$f":"IF($C233=\"\",\"\",Simulação!M233)","v":"*"},{"$f":"IF($C233=\"\",\"\",Simulação!N233)","v":203.08620438934284},{"$f":"IF($C233=\"\",\"\",Simulação!O233)","v":201.32000000000002},{"$f":"IF($C233=\"\",\"\",Simulação!P233)","v":202.80647708770371},{"$f":"IF($C233=\"\",\"\",Simulação!Q233)","v":"-"},{"$f":"IF($C233=\"\",\"\",Simulação!R233)","v":201.50881415294273},{"$f":"IF($C233=\"\",\"\",Simulação!S233)","v":"-"},{"$f":"IF($C233=\"\",\"\",Simulação!T233)","v":209.56987094866639},{"$f":"IF($C233=\"\",\"\",Simulação!U233)","v":"-"},{"$f":"IF($C233=\"\",\"\",Simulação!V233)","v":206.63161177660623},{"$f":"IF($C233=\"\",\"\",Simulação!W233)","v":"-"},{"$f":"IF($C233=\"\",\"\",Simulação!X233)","v":205.45532561322904},{"$f":"IF($C233=\"\",\"\",Simulação!Y233)","v":"-"},{"$f":"IF($C233=\"\",\"\",Simulação!Z233)","v":198.49967476390472},{"$f":"IF($C233=\"\",\"\",Simulação!AA233)","v":"-"},{"$f":"IF($C233=\"\",\"\",Simulação!AB233)","v":136.83060944284537},{"$f":"IF($C233=\"\",\"\",Simulação!AC233)","v":"-"},{"$f":"IF($C233=\"\",\"\",Simulação!AD233)","v":140.66887446424042},{"$f":"IF($C233=\"\",\"\",Simulação!AE233)","v":"-"},{"$f":"IF($C233=\"\",\"\",Simulação!AF233)","v":34.388240562009656},{"$f":"IF($C233=\"\",\"\",Simulação!AG233)","v":"-"},{"$f":"IF($C233=\"\",\"\",Simulação!AH233)","v":29.236023829000793},{"$f":"IF($C233=\"\",\"\",Simulação!AI233)","v":"-"},{"$f":"IF($C233=\"\",\"\",Simulação!AJ233)","v":33.045125393740342},{"$f":"IF($C233=\"\",\"\",Simulação!AK233)","v":"-"},{"$f":"IF($C233=\"\",\"\",Simulação!AL233)","v":32.02721881559642},{"$f":"IF($C233=\"\",\"\",Simulação!AM233)","v":"-"},{"$f":"IF($C233=\"\",\"\",Simulação!AN233)","v":32.217563507182206},{"$f":"IF($C233=\"\",\"\",Simulação!AO233)","v":"-"},{"$f":"IF($C233=\"\",\"\",Simulação!AP233)","v":36.406016086434107},{"$f":"IF($C233=\"\",\"\",Simulação!AQ233)","v":"-"},{"$f":"IF($C233=\"\",\"\",Simulação!AR233)","v":0}]
[null,227,{"$f":"IF(Chegadas!J235<=$C$5,Chegadas!J235,\"\")","v":201.74000000000007},{"$f":"IF($C234=\"\",\"\",Simulação!D234)","v":4.8489968125235654},{"$f":"IF($C234=\"\",\"\",Simulação!E234)","v":"*"},{"$f":"IF($C234=\"\",\"\",Simulação!F234)","v":202.9634162990418},{"$f":"IF($C234=\"\",\"\",Simulação!G234)","v":"*"},{"$f":"IF($C234=\"\",\"\",Simulação!H234)","v":210.15194013680886},{"$f":"IF($C234=\"\",\"\",Simulação!I234)","v":201.74000000000007},{"$f":"IF($C234=\"\",\"\",Simulação!J234)","v":206.58899681252362},{"$f":"IF($C234=\"\",\"\",Simulação!K234)","v":"-"},{"$f":"IF($C234=\"\",\"\",Simulação!L234)","v":201.77296507069659},{"$f":"IF($C234=\"\",\"\",Simulação!M234)","v":"-"},{"$f":"IF($C234=\"\",\"\",Simulação!N234)","v":203.08620438934284},{"$f":"IF($C234=\"\",\"\",Simulação!O234)","v":"-"},{"$f":"IF($C234=\"\",\"\",Simulação!P234)","v":202.80647708770371},{"$f":"IF($C234=\"\",\"\",Simulação!Q234)","v":"-"},{"$f":"IF($C234=\"\",\"\",Simulação!R234)","v":201.50881415294273},{"$f":"IF($C234=\"\",\"\",Simulação!S234)","v":"-"},{"$f":"IF($C234=\"\",\"\",Simulação!T234)","v":209.56987094866639},{"$f":"IF($C234=\"\",\"\",Simulação!U234)","v":"-"},{"$f":"IF($C234=\"\",\"\",Simulação!V234)","v":206.63161177660623},{"$f":"IF($C234=\"\",\"\",Simulação!W234)","v":"-"},{"$f":"IF($C234=\"\",\"\",Simulação!X234)","v":205.45532561322904},{"$f":"IF($C234=\"\",\"\",Simulação!Y234)","v":"-"},{"$f":"IF($C234=\"\",\"\",Simulação!Z234)","v":198.49967476390472},{"$f":"IF($C234=\"\",\"\",Simulação!AA234)","v":"-"},{"$f":"IF($C234=\"\",\"\",Simulação!AB234)","v":136.83060944284537},{"$f":"IF($C234=\"\",\"\",Simulação!AC234)","v":"-"},{"$f":"IF($C234=\"\",\"\",Simulação!AD234)","v":140.66887446424042},{"$f":"IF($C234=\"\",\"\",Simulação!AE234)","v":"-"},{"$f":"IF($C234=\"\",\"\",Simulação!AF234)","v":34.388240562009656},{"$f":"IF($C234=\"\",\"\",Simulação!AG234)","v":"-"},{"$f":"IF($C234=\"\",\"\",Simulação!AH234)","v":29.236023829000793},{"$f":"IF($C234=\"\",\"\",Simulação!AI234)","v":"-"},{"$f":"IF($C234=\"\",\"\",Simulação!AJ234)","v":33.045125393740342},{"$f":"IF($C234=\"\",\"\",Simulação!AK234)","v":"-"},{"$f":"IF($C234=\"\",\"\",Simulação!AL234)","v":32.02721881559642},{"$f":"IF($C234=\"\",\"\",Simulação!AM234)","v":"-"},{"$f":"IF($C234=\"\",\"\",Simulação!AN234)","v":32.217563507182206},{"$f":"IF($C234=\"\",\"\",Simulação!AO234)","v":"-"},{"$f":"IF($C234=\"\",\"\",Simulação!AP234)","v":36.406016086434107},{"$f":"IF($C234=\"\",\"\",Simulação!AQ234)","v":"-"},{"$f":"IF($C234=\"\",\"\",Simulação!AR234)","v":0}]
[null,228,{"$f":"IF(Chegadas!J236<=$C$5,Chegadas!J236,\"\")","v":202.33},{"$f":"IF($C235=\"\",\"\",Simulação!D235)","v":1.5414827030810332},{"$f":"IF($C235=\"\",\"\",Simulação!E235)","v":"*"},{"$f":"IF($C235=\"\",\"\",Simulação!F235)","v":202.9634162990418},{"$f":"IF($C235=\"\",\"\",Simulação!G235)","v":"*"},{"$f":"IF($C235=\"\",\"\",Simulação!H235)","v":210.15194013680886},{"$f":"IF($C235=\"\",\"\",Simulação!I235)","v":"*"},{"$f":"IF($C235=\"\",\"\",Simulação!J235)","v":206.58899681252362},{"$f":"IF($C235=\"\",\"\",Simulação!K235)","v":202.33},{"$f":"IF($C235=\"\",\"\",Simulação!L235)","v":203.87148270308106},{"$f":"IF($C235=\"\",\"\",Simulação!M235)","v":"-"},{"$f":"IF($C235=\"\",\"\",Simulação!N235)","v":203.08620438934284},{"$f":"IF($C235=\"\",\"\",Simulação!O235)","v":"-"},{"$f":"IF($C235=\"\",\"\",Simulação!P235)","v":202.80647708770371},{"$f":"IF($C235=\"\",\"\",Simulação!Q235)","v":"-"},{"$f":"IF($C235=\"\",\"\",Simulação!R235)","v":201.50881415294273},{"$f":"IF($C235=\"\",\"\",Simulação!S235)","v":"-"},{"$f":"IF($C235=\"\",\"\",Simulação!T235)","v":209.56987094866639},{"$f":"IF($C235=\"\",\"\",Simulação!U235)","v":"-"},{"$f":"IF($C235=\"\",\"\",Simulação!V235)","v":206.63161177660623},{"$f":"IF($C235=\"\",\"\",Simulação!W235)","v":"-"},{"$f":"IF($C235=\"\",\"\",Simulação!X235)","v":205.45532561322904},{"$f":"IF($C235=\"\",\"\",Simulação!Y235)","v":"-"},{"$f":"IF($C235=\"\",\"\",Simulação!Z235)","v":198.49967476390472},{"$f":"IF($C235=\"\",\"\",Simulação!AA235)","v":"-"},{"$f":"IF($C235=\"\",\"\",Simulação!AB235)","v":136.83060944284537},{"$f":"IF($C235=\"\",\"\",Simulação!AC235)","v":"-"},{"$f":"IF($C235=\"\",\"\",Simulação!AD235)","v":140.66887446424042},{"$f":"IF($C235=\"\",\"\",Simulação!AE235)","v":"-"},{"$f":"IF($C235=\"\",\"\",Simulação!AF235)","v":34.388240562009656},{"$f":"IF($C235=\"\",\"\",Simulação!AG235)","v":"-"},{"$f":"IF($C235=\"\",\"\",Simulação!AH235)","v":29.236023829000793},{"$f":"IF($C235=\"\",\"\",Simulação!AI235)","v":"-"},{"$f":"IF($C235=\"\",\"\",Simulação!AJ235)","v":33.045125393740342},{"$f":"IF($C235=\"\",\"\",Simulação!AK235)","v":"-"},{"$f":"IF($C235=\"\",\"\",Simulação!AL235)","v":32.02721881559642},{"$f":"IF($C235=\"\",\"\",Simulação!AM235)","v":"-"},{"$f":"IF($C235=\"\",\"\",Simulação!AN235)","v":32.217563507182206},{"$f":"IF($C235=\"\",\"\",Simulação!AO235)","v":"-"},{"$f":"IF($C235=\"\",\"\",Simulação!AP235)","v":36.406016086434107},{"$f":"IF($C235=\"\",\"\",Simulação!AQ235)","v":"-"},{"$f":"IF($C235=\"\",\"\",Simulação!AR235)","v":0}]
[null,229,{"$f":"IF(Chegadas!J237<=$C$5,Chegadas!J237,\"\")","v":202.36000000000007},{"$f":"IF($C236=\"\",\"\",Simulação!D236)","v":8.9926146869445542},{"$f":"IF($C236=\"\",\"\",Simulação!E236)","v":"*"},{"$f":"IF($C236=\"\",\"\",Simulação!F236)","v":202.9634162990418},{"$f":"IF($C236=\"\",\"\",Simulação!G236)","v":"*"},{"$f":"IF($C236=\"\",\"\",Simulação!H236)","v":210.15194013680886},{"$f":"IF($C236=\"\",\"\",Simulação!I236)","v":"*"},{"$f":"IF($C236=\"\",\"\",Simulação!J236)","v":206.58899681252362},{"$f":"IF($C236=\"\",\"\",Simulação!K236)","v":"*"},{"$f":"IF($C236=\"\",\"\",Simulação!L236)","v":203.87148270308106},{"$f":"IF($C236=\"\",\"\",Simulação!M236)","v":"*"},{"$f":"IF($C236=\"\",\"\",Simulação!N236)","v":203.08620438934284},{"$f":"IF($C236=\"\",\"\",Simulação!O236)","v":"*"},{"$f":"IF($C236=\"\",\"\",Simulação!P236)","v":202.80647708770371},{"$f":"IF($C236=\"\",\"\",Simulação!Q236)","v":202.36000000000007},{"$f":"IF($C236=\"\",\"\",Simulação!R236)","v":211.35261468694463},{"$f":"IF($C236=\"\",\"\",Simulação!S236)","v":"-"},{"$f":"IF($C236=\"\",\"\",Simulação!T236)","v":209.56987094866639},{"$f":"IF($C236=\"\",\"\",Simulação!U236)","v":"-"},{"$f":"IF($C236=\"\",\"\",Simulação!V236)","v":206.63161177660623},{"$f":"IF($C236=\"\",\"\",Simulação!W236)","v":"-"},{"$f":"IF($C236=\"\",\"\",Simulação!X236)","v":205.45532561322904},{"$f":"IF($C236=\"\",\"\",Simulação!Y236)","v":"-"},{"$f":"IF($C236=\"\",\"\",Simulação!Z236)","v":198.49967476390472},{"$f":"IF($C236=\"\",\"\",Simulação!AA236)","v":"-"},{"$f":"IF($C236=\"\",\"\",Simulação!AB236)","v":136.83060944284537},{"$f":"IF($C236=\"\",\"\",Simulação!AC236)","v":"-"},{"$f":"IF($C236=\"\",\"\",Simulação!AD236)","v":140.66887446424042},{"$f":"IF($C236=\"\",\"\",Simulação!AE236)","v":"-"},{"$f":"IF($C236=\"\",\"\",Simulação!AF236)","v":34.388240562009656},{"$f":"IF($C236=\"\",\"\",Simulação!AG236)","v":"-"},{"$f":"IF($C236=\"\",\"\",Simulação!AH236)","v":29.236023829000793},{"$f":"IF($C236=\"\",\"\",Simulação!AI236)","v":"-"},{"$f":"IF($C236=\"\",\"\",Simulação!AJ236)","v":33.045125393740342},{"$f":"IF($C236=\"\",\"\",Simulação!AK236)","v":"-"},{"$f":"IF($C236=\"\",\"\",Simulação!AL236)","v":32.02721881559642},{"$f":"IF($C236=\"\",\"\",Simulação!AM236)","v":"-"},{"$f":"IF($C236=\"\",\"\",Simulação!AN236)","v":32.217563507182206},{"$f":"IF($C236=\"\",\"\",Simulação!AO236)","v":"-"},{"$f":"IF($C236=\"\",\"\",Simulação!AP236)","v":36.406016086434107},{"$f":"IF($C236=\"\",\"\",Simulação!AQ236)","v":"-"},{"$f":"IF($C236=\"\",\"\",Simulação!AR236)","v":0}]
[null,230,{"$f":"IF(Chegadas!J238<=$C$5,Chegadas!J238,\"\")","v":202.76000000000008},{"$f":"IF($C237=\"\",\"\",Simulação!D237)","v":13.657760364356886},{"$f":"IF($C237=\"\",\"\",Simulação!E237)","v":"*"},{"$f":"IF($C237=\"\",\"\",Simulação!F237)","v":202.9634162990418},{"$f":"IF($C237=\"\",\"\",Simulação!G237)","v":"*"},{"$f":"IF($C237=\"\",\"\",Simulação!H237)","v":210.15194013680886},{"$f":"IF($C237=\"\",\"\",Simulação!I237)","v":"*"},{"$f":"IF($C237=\"\",\"\",Simulação!J237)","v":206.58899681252362},{"$f":"IF($C237=\"\",\"\",Simulação!K237)","v":"*"},{"$f":"IF($C237=\"\",\"\",Simulação!L237)","v":203.87148270308106},{"$f":"IF($C237=\"\",\"\",Simulação!M237)","v":"*"},{"$f":"IF($C237=\"\",\"\",Simulação!N237)","v":203.08620438934284},{"$f":"IF($C237=\"\",\"\",Simulação!O237)","v":"*"},{"$f":"IF($C237=\"\",\"\",Simulação!P237)","v":202.80647708770371},{"$f":"IF($C237=\"\",\"\",Simulação!Q237)","v":"*"},{"$f":"IF($C237=\"\",\"\",Simulação!R237)","v":211.35261468694463},{"$f":"IF($C237=\"\",\"\",Simulação!S237)","v":"*"},{"$f":"IF($C237=\"\",\"\",Simulação!T237)","v":209.56987094866639},{"$f":"IF($C237=\"\",\"\",Simulação!U237)","v":"*"},{"$f":"IF($C237=\"\",\"\",Simulação!V237)","v":206.63161177660623},{"$f":"IF($C237=\"\",\"\",Simulação!W237)","v":"*"},{"$f":"IF($C237=\"\",\"\",Simulação!X237)","v":205.45532561322904},{"$f":"IF($C237=\"\",\"\",Simulação!Y237)","v":202.76000000000008},{"$f":"IF($C237=\"\",\"\",Simulação!Z237)","v":216.41776036435695},{"$f":"IF($C237=\"\",\"\",Simulação!AA237)","v":"-"},{"$f":"IF($C237=\"\",\"\",Simulação!AB237)","v":136.83060944284537},{"$f":"IF($C237=\"\",\"\",Simulação!AC237)","v":"-"},{"$f":"IF($C237=\"\",\"\",Simulação!AD237)","v":140.66887446424042},{"$f":"IF($C237=\"\",\"\",Simulação!AE237)","v":"-"},{"$f":"IF($C237=\"\",\"\",Simulação!AF237)","v":34.388240562009656},{"$f":"IF($C237=\"\",\"\",Simulação!AG237)","v":"-"},{"$f":"IF($C237=\"\",\"\",Simulação!AH237)","v":29.236023829000793},{"$f":"IF($C237=\"\",\"\",Simulação!AI237)","v":"-"},{"$f":"IF($C237=\"\",\"\",Simulação!AJ237)","v":33.045125393740342},{"$f":"IF($C237=\"\",\"\",Simulação!AK237)","v":"-"},{"$f":"IF($C237=\"\",\"\",Simulação!AL237)","v":32.02721881559642},{"$f":"IF($C237=\"\",\"\",Simulação!AM237)","v":"-"},{"$f":"IF($C237=\"\",\"\",Simulação!AN237)","v":32.217563507182206},{"$f":"IF($C237=\"\",\"\",Simulação!AO237)","v":"-"},{"$f":"IF($C237=\"\",\"\",Simulação!AP237)","v":36.406016086434107},{"$f":"IF($C237=\"\",\"\",Simulação!AQ237)","v":"-"},{"$f":"IF($C237=\"\",\"\",Simulação!AR237)","v":0}]
[null,231,{"$f":"IF(Chegadas!J239<=$C$5,Chegadas!J239,\"\")","v":204.92000000000007},{"$f":"IF($C238=\"\",\"\",Simulação!D238)","v":8.3899228036572495},{"$f":"IF($C238=\"\",\"\",Simulação!E238)","v":204.92000000000007},{"$f":"IF($C238=\"\",\"\",Simulação!F238)","v":213.30992280365732},{"$f":"IF($C238=\"\",\"\",Simulação!G238)","v":"-"},{"$f":"IF($C238=\"\",\"\",Simulação!H238)","v":210.15194013680886},{"$f":"IF($C238=\"\",\"\",Simulação!I238)","v":"-"},{"$f":"IF($C238=\"\",\"\",Simulação!J238)","v":206.58899681252362},{"$f":"IF($C238=\"\",\"\",Simulação!K238)","v":"-"},{"$f":"IF($C238=\"\",\"\",Simulação!L238)","v":203.87148270308106},{"$f":"IF($C238=\"\",\"\",Simulação!M238)","v":"-"},{"$f":"IF($C238=\"\",\"\",Simulação!N238)","v":203.08620438934284},{"$f":"IF($C238=\"\",\"\",Simulação!O238)","v":"-"},{"$f":"IF($C238=\"\",\"\",Simulação!P238)","v":202.80647708770371},{"$f":"IF($C238=\"\",\"\",Simulação!Q238)","v":"-"},{"$f":"IF($C238=\"\",\"\",Simulação!R238)","v":211.35261468694463},{"$f":"IF($C238=\"\",\"\",Simulação!S238)","v":"-"},{"$f":"IF($C238=\"\",\"\",Simulação!T238)","v":209.56987094866639},{"$f":"IF($C238=\"\",\"\",Simulação!U238)","v":"-"},{"$f":"IF($C238=\"\",\"\",Simulação!V238)","v":206.63161177660623},{"$f":"IF($C238=\"\",\"\",Simulação!W238)","v":"-"},{"$f":"IF($C238=\"\",\"\",Simulação!X238)","v":205.45532561322904},{"$f":"IF($C238=\"\",\"\",Simulação!Y238)","v":"-"},{"$f":"IF($C238=\"\",\"\",Simulação!Z238)","v":216.41776036435695},{"$f":"IF($C238=\"\",\"\",Simulação!AA238)","v":"-"},{"$f":"IF($C238=\"\",\"\",Simulação!AB238)","v":136.83060944284537},{"$f":"IF($C238=\"\",\"\",Simulação!AC238)","v":"-"},{"$f":"IF($C238=\"\",\"\",Simulação!AD238)","v":140.66887446424042},{"$f":"IF($C238=\"\",\"\",Simulação!AE238)","v":"-"},{"$f":"IF($C238=\"\",\"\",Simulação!AF238)","v":34.388240562009656},{"$f":"IF($C238=\"\",\"\",Simulação!AG238)","v":"-"},{"$f":"IF($C238=\"\",\"\",Simulação!AH238)","v":29.236023829000793},{"$f":"IF($C238=\"\",\"\",Simulação!AI238)","v":"-"},{"$f":"IF($C238=\"\",\"\",Simulação!AJ238)","v":33.045125393740342},{"$f":"IF($C238=\"\",\"\",Simulação!AK238)","v":"-"},{"$f":"IF($C238=\"\",\"\",Simulação!AL238)","v":32.02721881559642},{"$f":"IF($C238=\"\",\"\",Simulação!AM238)","v":"-"},{"$f":"IF($C238=\"\",\"\",Simulação!AN238)","v":32.217563507182206},{"$f":"IF($C238=\"\",\"\",Simulação!AO238)","v":"-"},{"$f":"IF($C238=\"\",\"\",Simulação!AP238)","v":36.406016086434107},{"$f":"IF($C238=\"\",\"\",Simulação!AQ238)","v":"-"},{"$f":"IF($C238=\"\",\"\",Simulação!AR238)","v":0}]
[null,232,{"$f":"IF(Chegadas!J240<=$C$5,Chegadas!J240,\"\")","v":205.82000000000008},{"$f":"IF($C239=\"\",\"\",Simulação!D239)","v":11.104506457236509},{"$f":"IF($C239=\"\",\"\",Simulação!E239)","v":"*"},{"$f":"IF($C239=\"\",\"\",Simulação!F239)","v":213.30992280365732},{"$f":"IF($C239=\"\",\"\",Simulação!G239)","v":"*"},{"$f":"IF($C239=\"\",\"\",Simulação!H239)","v":210.15194013680886},{"$f":"IF($C239=\"\",\"\",Simulação!I239)","v":"*"},{"$f":"IF($C239=\"\",\"\",Simulação!J239)","v":206.58899681252362},{"$f":"IF($C239=\"\",\"\",Simulação!K239)","v":205.82000000000008},{"$f":"IF($C239=\"\",\"\",Simulação!L239)","v":216.92450645723659},{"$f":"IF($C239=\"\",\"\",Simulação!M239)","v":"-"},{"$f":"IF($C239=\"\",\"\",Simulação!N239)","v":203.08620438934284},{"$f":"IF($C239=\"\",\"\",Simulação!O239)","v":"-"},{"$f":"IF($C239=\"\",\"\",Simulação!P239)","v":202.80647708770371},{"$f":"IF($C239=\"\",\"\",Simulação!Q239)","v":"-"},{"$f":"IF($C239=\"\",\"\",Simulação!R239)","v":211.35261468694463},{"$f":"IF($C239=\"\",\"\",Simulação!S239)","v":"-"},{"$f":"IF($C239=\"\",\"\",Simulação!T239)","v":209.56987094866639},{"$f":"IF($C239=\"\",\"\",Simulação!U239)","v":"-"},{"$f":"IF($C239=\"\",\"\",Simulação!V239)","v":206.63161177660623},{"$f":"IF($C239=\"\",\"\",Simulação!W239)","v":"-"},{"$f":"IF($C239=\"\",\"\",Simulação!X239)","v":205.45532561322904},{"$f":"IF($C239=\"\",\"\",Simulação!Y239)","v":"-"},{"$f":"IF($C239=\"\",\"\",Simulação!Z239)","v":216.41776036435695},{"$f":"IF($C239=\"\",\"\",Simulação!AA239)","v":"-"},{"$f":"IF($C239=\"\",\"\",Simulação!AB239)","v":136.83060944284537},{"$f":"IF($C239=\"\",\"\",Simulação!AC239)","v":"-"},{"$f":"IF($C239=\"\",\"\",Simulação!AD239)","v":140.66887446424042},{"$f":"IF($C239=\"\",\"\",Simulação!AE239)","v":"-"},{"$f":"IF($C239=\"\",\"\",Simulação!AF239)","v":34.388240562009656},{"$f":"IF($C239=\"\",\"\",Simulação!AG239)","v":"-"},{"$f":"IF($C239=\"\",\"\",Simulação!AH239)","v":29.236023829000793},{"$f":"IF($C239=\"\",\"\",Simulação!AI239)","v":"-"},{"$f":"IF($C239=\"\",\"\",Simulação!AJ239)","v":33.045125393740342},{"$f":"IF($C239=\"\",\"\",Simulação!AK239)","v":"-"},{"$f":"IF($C239=\"\",\"\",Simulação!AL239)","v":32.02721881559642},{"$f":"IF($C239=\"\",\"\",Simulação!AM239)","v":"-"},{"$f":"IF($C239=\"\",\"\",Simulação!AN239)","v":32.217563507182206},{"$f":"IF($C239=\"\",\"\",Simulação!AO239)","v":"-"},{"$f":"IF($C239=\"\",\"\",Simulação!AP239)","v":36.406016086434107},{"$f":"IF($C239=\"\",\"\",Simulação!AQ239)","v":"-"},{"$f":"IF($C239=\"\",\"\",Simulação!AR239)","v":0}]
[null,233,{"$f":"IF(Chegadas!J241<=$C$5,Chegadas!J241,\"\")","v":205.93000000000009},{"$f":"IF($C240=\"\",\"\",Simulação!D240)","v":12.523432555206094},{"$f":"IF($C240=\"\",\"\",Simulação!E240)","v":"*"},{"$f":"IF($C240=\"\",\"\",Simulação!F240)","v":213.30992280365732},{"$f":"IF($C240=\"\",\"\",Simulação!G240)","v":"*"},{"$f":"IF($C240=\"\",\"\",Simulação!H240)","v":210.15194013680886},{"$f":"IF($C240=\"\",\"\",Simulação!I240)","v":"*"},{"$f":"IF($C240=\"\",\"\",Simulação!J240)","v":206.58899681252362},{"$f":"IF($C240=\"\",\"\",Simulação!K240)","v":"*"},{"$f":"IF($C240=\"\",\"\",Simulação!L240)","v":216.92450645723659},{"$f":"IF($C240=\"\",\"\",Simulação!M240)","v":205.93000000000009},{"$f":"IF($C240=\"\",\"\",Simulação!N240)","v":218.45343255520618},{"$f":"IF($C240=\"\",\"\",Simulação!O240)","v":"-"},{"$f":"IF($C240=\"\",\"\",Simulação!P240)","v":202.80647708770371},{"$f":"IF($C240=\"\",\"\",Simulação!Q240)","v":"-"},{"$f":"IF($C240=\"\",\"\",Simulação!R240)","v":211.35261468694463},{"$f":"IF($C240=\"\",\"\",Simulação!S240)","v":"-"},{"$f":"IF($C240=\"\",\"\",Simulação!T240)","v":209.56987094866639},{"$f":"IF($C240=\"\",\"\",Simulação!U240)","v":"-"},{"$f":"IF($C240=\"\",\"\",Simulação!V240)","v":206.63161177660623},{"$f":"IF($C240=\"\",\"\",Simulação!W240)","v":"-"},{"$f":"IF($C240=\"\",\"\",Simulação!X240)","v":205.45532561322904},{"$f":"IF($C240=\"\",\"\",Simulação!Y240)","v":"-"},{"$f":"IF($C240=\"\",\"\",Simulação!Z240)","v":216.41776036435695},{"$f":"IF($C240=\"\",\"\",Simulação!AA240)","v":"-"},{"$f":"IF($C240=\"\",\"\",Simulação!AB240)","v":136.83060944284537},{"$f":"IF($C240=\"\",\"\",Simulação!AC240)","v":"-"},{"$f":"IF($C240=\"\",\"\",Simulação!AD240)","v":140.66887446424042},{"$f":"IF($C240=\"\",\"\",Simulação!AE240)","v":"-"},{"$f":"IF($C240=\"\",\"\",Simulação!AF240)","v":34.388240562009656},{"$f":"IF($C240=\"\",\"\",Simulação!AG240)","v":"-"},{"$f":"IF($C240=\"\",\"\",Simulação!AH240)","v":29.236023829000793},{"$f":"IF($C240=\"\",\"\",Simulação!AI240)","v":"-"},{"$f":"IF($C240=\"\",\"\",Simulação!AJ240)","v":33.045125393740342},{"$f":"IF($C240=\"\",\"\",Simulação!AK240)","v":"-"},{"$f":"IF($C240=\"\",\"\",Simulação!AL240)","v":32.02721881559642},{"$f":"IF($C240=\"\",\"\",Simulação!AM240)","v":"-"},{"$f":"IF($C240=\"\",\"\",Simulação!AN240)","v":32.217563507182206},{"$f":"IF($C240=\"\",\"\",Simulação!AO240)","v":"-"},{"$f":"IF($C240=\"\",\"\",Simulação!AP240)","v":36.406016086434107},{"$f":"IF($C240=\"\",\"\",Simulação!AQ240)","v":"-"},{"$f":"IF($C240=\"\",\"\",Simulação!AR240)","v":0}]
[null,234,{"$f":"IF(Chegadas!J242<=$C$5,Chegadas!J242,\"\")","v":205.94000000000008},{"$f":"IF($C241=\"\",\"\",Simulação!D241)","v":4.9354485217499473},{"$f":"IF($C241=\"\",\"\",Simulação!E241)","v":"*"},{"$f":"IF($C241=\"\",\"\",Simulação!F241)","v":213.30992280365732},{"$f":"IF($C241=\"\",\"\",Simulação!G241)","v":"*"},{"$f":"IF($C241=\"\",\"\",Simulação!H241)","v":210.15194013680886},{"$f":"IF($C241=\"\",\"\",Simulação!I241)","v":"*"},{"$f":"IF($C241=\"\",\"\",Simulação!J241)","v":206.58899681252362},{"$f":"IF($C241=\"\",\"\",Simulação!K241)","v":"*"},{"$f":"IF($C241=\"\",\"\",Simulação!L241)","v":216.92450645723659},{"$f":"IF($C241=\"\",\"\",Simulação!M241)","v":"*"},{"$f":"IF($C241=\"\",\"\",Simulação!N241)","v":218.45343255520618},{"$f":"IF($C241=\"\",\"\",Simulação!O241)","v":205.94000000000008},{"$f":"IF($C241=\"\",\"\",Simulação!P241)","v":210.87544852175003},{"$f":"IF($C241=\"\",\"\",Simulação!Q241)","v":"-"},{"$f":"IF($C241=\"\",\"\",Simulação!R241)","v":211.35261468694463},{"$f":"IF($C241=\"\",\"\",Simulação!S241)","v":"-"},{"$f":"IF($C241=\"\",\"\",Simulação!T241)","v":209.56987094866639},{"$f":"IF($C241=\"\",\"\",Simulação!U241)","v":"-"},{"$f":"IF($C241=\"\",\"\",Simulação!V241)","v":206.63161177660623},{"$f":"IF($C241=\"\",\"\",Simulação!W241)","v":"-"},{"$f":"IF($C241=\"\",\"\",Simulação!X241)","v":205.45532561322904},{"$f":"IF($C241=\"\",\"\",Simulação!Y241)","v":"-"},{"$f":"IF($C241=\"\",\"\",Simulação!Z241)","v":216.41776036435695},{"$f":"IF($C241=\"\",\"\",Simulação!AA241)","v":"-"},{"$f":"IF($C241=\"\",\"\",Simulação!AB241)","v":136.83060944284537},{"$f":"IF($C241=\"\",\"\",Simulação!AC241)","v":"-"},{"$f":"IF($C241=\"\",\"\",Simulação!AD241)","v":140.66887446424042},{"$f":"IF($C241=\"\",\"\",Simulação!AE241)","v":"-"},{"$f":"IF($C241=\"\",\"\",Simulação!AF241)","v":34.388240562009656},{"$f":"IF($C241=\"\",\"\",Simulação!AG241)","v":"-"},{"$f":"IF($C241=\"\",\"\",Simulação!AH241)","v":29.236023829000793},{"$f":"IF($C241=\"\",\"\",Simulação!AI241)","v":"-"},{"$f":"IF($C241=\"\",\"\",Simulação!AJ241)","v":33.045125393740342},{"$f":"IF($C241=\"\",\"\",Simulação!AK241)","v":"-"},{"$f":"IF($C241=\"\",\"\",Simulação!AL241)","v":32.02721881559642},{"$f":"IF($C241=\"\",\"\",Simulação!AM241)","v":"-"},{"$f":"IF($C241=\"\",\"\",Simulação!AN241)","v":32.217563507182206},{"$f":"IF($C241=\"\",\"\",Simulação!AO241)","v":"-"},{"$f":"IF($C241=\"\",\"\",Simulação!AP241)","v":36.406016086434107},{"$f":"IF($C241=\"\",\"\",Simulação!AQ241)","v":"-"},{"$f":"IF($C241=\"\",\"\",Simulação!AR241)","v":0}]
[null,235,{"$f":"IF(Chegadas!J243<=$C$5,Chegadas!J243,\"\")","v":208.66000000000008},{"$f":"IF($C242=\"\",\"\",Simulação!D242)","v":9.2078101332663618},{"$f":"IF($C242=\"\",\"\",Simulação!E242)","v":"*"},{"$f":"IF($C242=\"\",\"\",Simulação!F242)","v":213.30992280365732},{"$f":"IF($C242=\"\",\"\",Simulação!G242)","v":"*"},{"$f":"IF($C242=\"\",\"\",Simulação!H242)","v":210.15194013680886},{"$f":"IF($C242=\"\",\"\",Simulação!I242)","v":208.66000000000008},{"$f":"IF($C242=\"\",\"\",Simulação!J242)","v":217.86781013326643},{"$f":"IF($C242=\"\",\"\",Simulação!K242)","v":"-"},{"$f":"IF($C242=\"\",\"\",Simulação!L242)","v":216.92450645723659},{"$f":"IF($C242=\"\",\"\",Simulação!M242)","v":"-"},{"$f":"IF($C242=\"\",\"\",Simulação!N242)","v":218.45343255520618},{"$f":"IF($C242=\"\",\"\",Simulação!O242)","v":"-"},{"$f":"IF($C242=\"\",\"\",Simulação!P242)","v":210.87544852175003},{"$f":"IF($C242=\"\",\"\",Simulação!Q242)","v":"-"},{"$f":"IF($C242=\"\",\"\",Simulação!R242)","v":211.35261468694463},{"$f":"IF($C242=\"\",\"\",Simulação!S242)","v":"-"},{"$f":"IF($C242=\"\",\"\",Simulação!T242)","v":209.56987094866639},{"$f":"IF($C242=\"\",\"\",Simulação!U242)","v":"-"},{"$f":"IF($C242=\"\",\"\",Simulação!V242)","v":206.63161177660623},{"$f":"IF($C242=\"\",\"\",Simulação!W242)","v":"-"},{"$f":"IF($C242=\"\",\"\",Simulação!X242)","v":205.45532561322904},{"$f":"IF($C242=\"\",\"\",Simulação!Y242)","v":"-"},{"$f":"IF($C242=\"\",\"\",Simulação!Z242)","v":216.41776036435695},{"$f":"IF($C242=\"\",\"\",Simulação!AA242)","v":"-"},{"$f":"IF($C242=\"\",\"\",Simulação!AB242)","v":136.83060944284537},{"$f":"IF($C242=\"\",\"\",Simulação!AC242)","v":"-"},{"$f":"IF($C242=\"\",\"\",Simulação!AD242)","v":140.66887446424042},{"$f":"IF($C242=\"\",\"\",Simulação!AE242)","v":"-"},{"$f":"IF($C242=\"\",\"\",Simulação!AF242)","v":34.388240562009656},{"$f":"IF($C242=\"\",\"\",Simulação!AG242)","v":"-"},{"$f":"IF($C242=\"\",\"\",Simulação!AH242)","v":29.236023829000793},{"$f":"IF($C242=\"\",\"\",Simulação!AI242)","v":"-"},{"$f":"IF($C242=\"\",\"\",Simulação!AJ242)","v":33.045125393740342},{"$f":"IF($C242=\"\",\"\",Simulação!AK242)","v":"-"},{"$f":"IF($C242=\"\",\"\",Simulação!AL242)","v":32.02721881559642},{"$f":"IF($C242=\"\",\"\",Simulação!AM242)","v":"-"},{"$f":"IF($C242=\"\",\"\",Simulação!AN242)","v":32.217563507182206},{"$f":"IF($C242=\"\",\"\",Simulação!AO242)","v":"-"},{"$f":"IF($C242=\"\",\"\",Simulação!AP242)","v":36.406016086434107},{"$f":"IF($C242=\"\",\"\",Simulação!AQ242)","v":"-"},{"$f":"IF($C242=\"\",\"\",Simulação!AR242)","v":0}]
[null,236,{"$f":"IF(Chegadas!J244<=$C$5,Chegadas!J244,\"\")","v":208.78000000000009},{"$f":"IF($C243=\"\",\"\",Simulação!D243)","v":7.8083250286187962},{"$f":"IF($C243=\"\",\"\",Simulação!E243)","v":"*"},{"$f":"IF($C243=\"\",\"\",Simulação!F243)","v":213.30992280365732},{"$f":"IF($C243=\"\",\"\",Simulação!G243)","v":"*"},{"$f":"IF($C243=\"\",\"\",Simulação!H243)","v":210.15194013680886},{"$f":"IF($C243=\"\",\"\",Simulação!I243)","v":"*"},{"$f":"IF($C243=\"\",\"\",Simulação!J243)","v":217.86781013326643},{"$f":"IF($C243=\"\",\"\",Simulação!K243)","v":"*"},{"$f":"IF($C243=\"\",\"\",Simulação!L243)","v":216.92450645723659},{"$f":"IF($C243=\"\",\"\",Simulação!M243)","v":"*"},{"$f":"IF($C243=\"\",\"\",Simulação!N243)","v":218.45343255520618},{"$f":"IF($C243=\"\",\"\",Simulação!O243)","v":"*"},{"$f":"IF($C243=\"\",\"\",Simulação!P243)","v":210.87544852175003},{"$f":"IF($C243=\"\",\"\",Simulação!Q243)","v":"*"},{"$f":"IF($C243=\"\",\"\",Simulação!R243)","v":211.35261468694463},{"$f":"IF($C243=\"\",\"\",Simulação!S243)","v":"*"},{"$f":"IF($C243=\"\",\"\",Simulação!T243)","v":209.56987094866639},{"$f":"IF($C243=\"\",\"\",Simulação!U243)","v":208.78000000000009},{"$f":"IF($C243=\"\",\"\",Simulação!V243)","v":216.5883250286189},{"$f":"IF($C243=\"\",\"\",Simulação!W243)","v":"-"},{"$f":"IF($C243=\"\",\"\",Simulação!X243)","v":205.45532561322904},{"$f":"IF($C243=\"\",\"\",Simulação!Y243)","v":"-"},{"$f":"IF($C243=\"\",\"\",Simulação!Z243)","v":216.41776036435695},{"$f":"IF($C243=\"\",\"\",Simulação!AA243)","v":"-"},{"$f":"IF($C243=\"\",\"\",Simulação!AB243)","v":136.83060944284537},{"$f":"IF($C243=\"\",\"\",Simulação!AC243)","v":"-"},{"$f":"IF($C243=\"\",\"\",Simulação!AD243)","v":140.66887446424042},{"$f":"IF($C243=\"\",\"\",Simulação!AE243)","v":"-"},{"$f":"IF($C243=\"\",\"\",Simulação!AF243)","v":34.388240562009656},{"$f":"IF($C243=\"\",\"\",Simulação!AG243)","v":"-"},{"$f":"IF($C243=\"\",\"\",Simulação!AH243)","v":29.236023829000793},{"$f":"IF($C243=\"\",\"\",Simulação!AI243)","v":"-"},{"$f":"IF($C243=\"\",\"\",Simulação!AJ243)","v":33.045125393740342},{"$f":"IF($C243=\"\",\"\",Simulação!AK243)","v":"-"},{"$f":"IF($C243=\"\",\"\",Simulação!AL243)","v":32.02721881559642},{"$f":"IF($C243=\"\",\"\",Simulação!AM243)","v":"-"},{"$f":"IF($C243=\"\",\"\",Simulação!AN243)","v":32.217563507182206},{"$f":"IF($C243=\"\",\"\",Simulação!AO243)","v":"-"},{"$f":"IF($C243=\"\",\"\",Simulação!AP243)","v":36.406016086434107},{"$f":"IF($C243=\"\",\"\",Simulação!AQ243)","v":"-"},{"$f":"IF($C243=\"\",\"\",Simulação!AR243)","v":0}]
[null,237,{"$f":"IF(Chegadas!J245<=$C$5,Chegadas!J245,\"\")","v":210.5500000000001},{"$f":"IF($C244=\"\",\"\",Simulação!D244)","v":6.2681858126985475},{"$f":"IF($C244=\"\",\"\",Simulação!E244)","v":"*"},{"$f":"IF($C244=\"\",\"\",Simulação!F244)","v":213.30992280365732},{"$f":"IF($C244=\"\",\"\",Simulação!G244)","v":210.5500000000001},{"$f":"IF($C244=\"\",\"\",Simulação!H244)","v":216.81818581269863},{"$f":"IF($C244=\"\",\"\",Simulação!I244)","v":"-"},{"$f":"IF($C244=\"\",\"\",Simulação!J244)","v":217.86781013326643},{"$f":"IF($C244=\"\",\"\",Simulação!K244)","v":"-"},{"$f":"IF($C244=\"\",\"\",Simulação!L244)","v":216.92450645723659},{"$f":"IF($C244=\"\",\"\",Simulação!M244)","v":"-"},{"$f":"IF($C244=\"\",\"\",Simulação!N244)","v":218.45343255520618},{"$f":"IF($C244=\"\",\"\",Simulação!O244)","v":"-"},{"$f":"IF($C244=\"\",\"\",Simulação!P244)","v":210.87544852175003},{"$f":"IF($C244=\"\",\"\",Simulação!Q244)","v":"-"},{"$f":"IF($C244=\"\",\"\",Simulação!R244)","v":211.35261468694463},{"$f":"IF($C244=\"\",\"\",Simulação!S244)","v":"-"},{"$f":"IF($C244=\"\",\"\",Simulação!T244)","v":209.56987094866639},{"$f":"IF($C244=\"\",\"\",Simulação!U244)","v":"-"},{"$f":"IF($C244=\"\",\"\",Simulação!V244)","v":216.5883250286189},{"$f":"IF($C244=\"\",\"\",Simulação!W244)","v":"-"},{"$f":"IF($C244=\"\",\"\",Simulação!X244)","v":205.45532561322904},{"$f":"IF($C244=\"\",\"\",Simulação!Y244)","v":"-"},{"$f":"IF($C244=\"\",\"\",Simulação!Z244)","v":216.41776036435695},{"$f":"IF($C244=\"\",\"\",Simulação!AA244)","v":"-"},{"$f":"IF($C244=\"\",\"\",Simulação!AB244)","v":136.83060944284537},{"$f":"IF($C244=\"\",\"\",Simulação!AC244)","v":"-"},{"$f":"IF($C244=\"\",\"\",Simulação!AD244)","v":140.66887446424042},{"$f":"IF($C244=\"\",\"\",Simulação!AE244)","v":"-"},{"$f":"IF($C244=\"\",\"\",Simulação!AF244)","v":34.388240562009656},{"$f":"IF($C244=\"\",\"\",Simulação!AG244)","v":"-"},{"$f":"IF($C244=\"\",\"\",Simulação!AH244)","v":29.236023829000793},{"$f":"IF($C244=\"\",\"\",Simulação!AI244)","v":"-"},{"$f":"IF($C244=\"\",\"\",Simulação!AJ244)","v":33.045125393740342},{"$f":"IF($C244=\"\",\"\",Simulação!AK244)","v":"-"},{"$f":"IF($C244=\"\",\"\",Simulação!AL244)","v":32.02721881559642},{"$f":"IF($C244=\"\",\"\",Simulação!AM244)","v":"-"},{"$f":"IF($C244=\"\",\"\",Simulação!AN244)","v":32.217563507182206},{"$f":"IF($C244=\"\",\"\",Simulação!AO244)","v":"-"},{"$f":"IF($C244=\"\",\"\",Simulação!AP244)","v":36.406016086434107},{"$f":"IF($C244=\"\",\"\",Simulação!AQ244)","v":"-"},{"$f":"IF($C244=\"\",\"\",Simulação!AR244)","v":0}]
[null,238,{"$f":"IF(Chegadas!J246<=$C$5,Chegadas!J246,\"\")","v":211.1700000000001},{"$f":"IF($C245=\"\",\"\",Simulação!D245)","v":5.1358390051069618},{"$f":"IF($C245=\"\",\"\",Simulação!E245)","v":"*"},{"$f":"IF($C245=\"\",\"\",Simulação!F245)","v":213.30992280365732},{"$f":"IF($C245=\"\",\"\",Simulação!G245)","v":"*"},{"$f":"IF($C245=\"\",\"\",Simulação!H245)","v":216.81818581269863},{"$f":"IF($C245=\"\",\"\",Simulação!I245)","v":"*"},{"$f":"IF($C245=\"\",\"\",Simulação!J245)","v":217.86781013326643},{"$f":"IF($C245=\"\",\"\",Simulação!K245)","v":"*"},{"$f":"IF($C245=\"\",\"\",Simulação!L245)","v":216.92450645723659},{"$f":"IF($C245=\"\",\"\",Simulação!M245)","v":"*"},{"$f":"IF($C245=\"\",\"\",Simulação!N245)","v":218.45343255520618},{"$f":"IF($C245=\"\",\"\",Simulação!O245)","v":211.1700000000001},{"$f":"IF($C245=\"\",\"\",Simulação!P245)","v":216.30583900510706},{"$f":"IF($C245=\"\",\"\",Simulação!Q245)","v":"-"},{"$f":"IF($C245=\"\",\"\",Simulação!R245)","v":211.35261468694463},{"$f":"IF($C245=\"\",\"\",Simulação!S245)","v":"-"},{"$f":"IF($C245=\"\",\"\",Simulação!T245)","v":209.56987094866639},{"$f":"IF($C245=\"\",\"\",Simulação!U245)","v":"-"},{"$f":"IF($C245=\"\",\"\",Simulação!V245)","v":216.5883250286189},{"$f":"IF($C245=\"\",\"\",Simulação!W245)","v":"-"},{"$f":"IF($C245=\"\",\"\",Simulação!X245)","v":205.45532561322904},{"$f":"IF($C245=\"\",\"\",Simulação!Y245)","v":"-"},{"$f":"IF($C245=\"\",\"\",Simulação!Z245)","v":216.41776036435695},{"$f":"IF($C245=\"\",\"\",Simulação!AA245)","v":"-"},{"$f":"IF($C245=\"\",\"\",Simulação!AB245)","v":136.83060944284537},{"$f":"IF($C245=\"\",\"\",Simulação!AC245)","v":"-"},{"$f":"IF($C245=\"\",\"\",Simulação!AD245)","v":140.66887446424042},{"$f":"IF($C245=\"\",\"\",Simulação!AE245)","v":"-"},{"$f":"IF($C245=\"\",\"\",Simulação!AF245)","v":34.388240562009656},{"$f":"IF($C245=\"\",\"\",Simulação!AG245)","v":"-"},{"$f":"IF($C245=\"\",\"\",Simulação!AH245)","v":29.236023829000793},{"$f":"IF($C245=\"\",\"\",Simulação!AI245)","v":"-"},{"$f":"IF($C245=\"\",\"\",Simulação!AJ245)","v":33.045125393740342},{"$f":"IF($C245=\"\",\"\",Simulação!AK245)","v":"-"},{"$f":"IF($C245=\"\",\"\",Simulação!AL245)","v":32.02721881559642},{"$f":"IF($C245=\"\",\"\",Simulação!AM245)","v":"-"},{"$f":"IF($C245=\"\",\"\",Simulação!AN245)","v":32.217563507182206},{"$f":"IF($C245=\"\",\"\",Simulação!AO245)","v":"-"},{"$f":"IF($C245=\"\",\"\",Simulação!AP245)","v":36.406016086434107},{"$f":"IF($C245=\"\",\"\",Simulação!AQ245)","v":"-"},{"$f":"IF($C245=\"\",\"\",Simulação!AR245)","v":0}]
[null,239,{"$f":"IF(Chegadas!J247<=$C$5,Chegadas!J247,\"\")","v":211.38000000000011},{"$f":"IF($C246=\"\",\"\",Simulação!D246)","v":8.2387472803217339},{"$f":"IF($C246=\"\",\"\",Simulação!E246)","v":"*"},{"$f":"IF($C246=\"\",\"\",Simulação!F246)","v":213.30992280365732},{"$f":"IF($C246=\"\",\"\",Simulação!G246)","v":"*"},{"$f":"IF($C246=\"\",\"\",Simulação!H246)","v":216.81818581269863},{"$f":"IF($C246=\"\",\"\",Simulação!I246)","v":"*"},{"$f":"IF($C246=\"\",\"\",Simulação!J246)","v":217.86781013326643},{"$f":"IF($C246=\"\",\"\",Simulação!K246)","v":"*"},{"$f":"IF($C246=\"\",\"\",Simulação!L246)","v":216.92450645723659},{"$f":"IF($C246=\"\",\"\",Simulação!M246)","v":"*"},{"$f":"IF($C246=\"\",\"\",Simulação!N246)","v":218.45343255520618},{"$f":"IF($C246=\"\",\"\",Simulação!O246)","v":"*"},{"$f":"IF($C246=\"\",\"\",Simulação!P246)","v":216.30583900510706},{"$f":"IF($C246=\"\",\"\",Simulação!Q246)","v":211.38000000000011},{"$f":"IF($C246=\"\",\"\",Simulação!R246)","v":219.61874728032186},{"$f":"IF($C246=\"\",\"\",Simulação!S246)","v":"-"},{"$f":"IF($C246=\"\",\"\",Simulação!T246)","v":209.56987094866639},{"$f":"IF($C246=\"\",\"\",Simulação!U246)","v":"-"},{"$f":"IF($C246=\"\",\"\",Simulação!V246)","v":216.5883250286189},{"$f":"IF($C246=\"\",\"\",Simulação!W246)","v":"-"},{"$f":"IF($C246=\"\",\"\",Simulação!X246)","v":205.45532561322904},{"$f":"IF($C246=\"\",\"\",Simulação!Y246)","v":"-"},{"$f":"IF($C246=\"\",\"\",Simulação!Z246)","v":216.41776036435695},{"$f":"IF($C246=\"\",\"\",Simulação!AA246)","v":"-"},{"$f":"IF($C246=\"\",\"\",Simulação!AB246)","v":136.83060944284537},{"$f":"IF($C246=\"\",\"\",Simulação!AC246)","v":"-"},{"$f":"IF($C246=\"\",\"\",Simulação!AD246)","v":140.66887446424042},{"$f":"IF($C246=\"\",\"\",Simulação!AE246)","v":"-"},{"$f":"IF($C246=\"\",\"\",Simulação!AF246)","v":34.388240562009656},{"$f":"IF($C246=\"\",\"\",Simulação!AG246)","v":"-"},{"$f":"IF($C246=\"\",\"\",Simulação!AH246)","v":29.236023829000793},{"$f":"IF($C246=\"\",\"\",Simulação!AI246)","v":"-"},{"$f":"IF($C246=\"\",\"\",Simulação!AJ246)","v":33.045125393740342},{"$f":"IF($C246=\"\",\"\",Simulação!AK246)","v":"-"},{"$f":"IF($C246=\"\",\"\",Simulação!AL246)","v":32.02721881559642},{"$f":"IF($C246=\"\",\"\",Simulação!AM246)","v":"-"},{"$f":"IF($C246=\"\",\"\",Simulação!AN246)","v":32.217563507182206},{"$f":"IF($C246=\"\",\"\",Simulação!AO246)","v":"-"},{"$f":"IF($C246=\"\",\"\",Simulação!AP246)","v":36.406016086434107},{"$f":"IF($C246=\"\",\"\",Simulação!AQ246)","v":"-"},{"$f":"IF($C246=\"\",\"\",Simulação!AR246)","v":0}]
[null,240,{"$f":"IF(Chegadas!J248<=$C$5,Chegadas!J248,\"\")","v":211.72000000000011},{"$f":"IF($C247=\"\",\"\",Simulação!D247)","v":3.0757726482041798},{"$f":"IF($C247=\"\",\"\",Simulação!E247)","v":"*"},{"$f":"IF($C247=\"\",\"\",Simulação!F247)","v":213.30992280365732},{"$f":"IF($C247=\"\",\"\",Simulação!G247)","v":"*"},{"$f":"IF($C247=\"\",\"\",Simulação!H247)","v":216.81818581269863},{"$f":"IF($C247=\"\",\"\",Simulação!I247)","v":"*"},{"$f":"IF($C247=\"\",\"\",Simulação!J247)","v":217.86781013326643},{"$f":"IF($C247=\"\",\"\",Simulação!K247)","v":"*"},{"$f":"IF($C247=\"\",\"\",Simulação!L247)","v":216.92450645723659},{"$f":"IF($C247=\"\",\"\",Simulação!M247)","v":"*"},{"$f":"IF($C247=\"\",\"\",Simulação!N247)","v":218.45343255520618},{"$f":"IF($C247=\"\",\"\",Simulação!O247)","v":"*"},{"$f":"IF($C247=\"\",\"\",Simulação!P247)","v":216.30583900510706},{"$f":"IF($C247=\"\",\"\",Simulação!Q247)","v":"*"},{"$f":"IF($C247=\"\",\"\",Simulação!R247)","v":219.61874728032186},{"$f":"IF($C247=\"\",\"\",Simulação!S247)","v":211.72000000000011},{"$f":"IF($C247=\"\",\"\",Simulação!T247)","v":214.79577264820429},{"$f":"IF($C247=\"\",\"\",Simulação!U247)","v":"-"},{"$f":"IF($C247=\"\",\"\",Simulação!V247)","v":216.5883250286189},{"$f":"IF($C247=\"\",\"\",Simulação!W247)","v":"-"},{"$f":"IF($C247=\"\",\"\",Simulação!X247)","v":205.45532561322904},{"$f":"IF($C247=\"\",\"\",Simulação!Y247)","v":"-"},{"$f":"IF($C247=\"\",\"\",Simulação!Z247)","v":216.41776036435695},{"$f":"IF($C247=\"\",\"\",Simulação!AA247)","v":"-"},{"$f":"IF($C247=\"\",\"\",Simulação!AB247)","v":136.83060944284537},{"$f":"IF($C247=\"\",\"\",Simulação!AC247)","v":"-"},{"$f":"IF($C247=\"\",\"\",Simulação!AD247)","v":140.66887446424042},{"$f":"IF($C247=\"\",\"\",Simulação!AE247)","v":"-"},{"$f":"IF($C247=\"\",\"\",Simulação!AF247)","v":34.388240562009656},{"$f":"IF($C247=\"\",\"\",Simulação!AG247)","v":"-"},{"$f":"IF($C247=\"\",\"\",Simulação!AH247)","v":29.236023829000793},{"$f":"IF($C247=\"\",\"\",Simulação!AI247)","v":"-"},{"$f":"IF($C247=\"\",\"\",Simulação!AJ247)","v":33.045125393740342},{"$f":"IF($C247=\"\",\"\",Simulação!AK247)","v":"-"},{"$f":"IF($C247=\"\",\"\",Simulação!AL247)","v":32.02721881559642},{"$f":"IF($C247=\"\",\"\",Simulação!AM247)","v":"-"},{"$f":"IF($C247=\"\",\"\",Simulação!AN247)","v":32.217563507182206},{"$f":"IF($C247=\"\",\"\",Simulação!AO247)","v":"-"},{"$f":"IF($C247=\"\",\"\",Simulação!AP247)","v":36.406016086434107},{"$f":"IF($C247=\"\",\"\",Simulação!AQ247)","v":"-"},{"$f":"IF($C247=\"\",\"\",Simulação!AR247)","v":0}]
[null,241,{"$f":"IF(Chegadas!J249<=$C$5,Chegadas!J249,\"\")","v":216.28},{"$f":"IF($C248=\"\",\"\",Simulação!D248)","v":0.85345598748714668},{"$f":"IF($C248=\"\",\"\",Simulação!E248)","v":216.28},{"$f":"IF($C248=\"\",\"\",Simulação!F248)","v":217.13345598748714},{"$f":"IF($C248=\"\",\"\",Simulação!G248)","v":"-"},{"$f":"IF($C248=\"\",\"\",Simulação!H248)","v":216.81818581269863},{"$f":"IF($C248=\"\",\"\",Simulação!I248)","v":"-"},{"$f":"IF($C248=\"\",\"\",Simulação!J248)","v":217.86781013326643},{"$f":"IF($C248=\"\",\"\",Simulação!K248)","v":"-"},{"$f":"IF($C248=\"\",\"\",Simulação!L248)","v":216.92450645723659},{"$f":"IF($C248=\"\",\"\",Simulação!M248)","v":"-"},{"$f":"IF($C248=\"\",\"\",Simulação!N248)","v":218.45343255520618},{"$f":"IF($C248=\"\",\"\",Simulação!O248)","v":"-"},{"$f":"IF($C248=\"\",\"\",Simulação!P248)","v":216.30583900510706},{"$f":"IF($C248=\"\",\"\",Simulação!Q248)","v":"-"},{"$f":"IF($C248=\"\",\"\",Simulação!R248)","v":219.61874728032186},{"$f":"IF($C248=\"\",\"\",Simulação!S248)","v":"-"},{"$f":"IF($C248=\"\",\"\",Simulação!T248)","v":214.79577264820429},{"$f":"IF($C248=\"\",\"\",Simulação!U248)","v":"-"},{"$f":"IF($C248=\"\",\"\",Simulação!V248)","v":216.5883250286189},{"$f":"IF($C248=\"\",\"\",Simulação!W248)","v":"-"},{"$f":"IF($C248=\"\",\"\",Simulação!X248)","v":205.45532561322904},{"$f":"IF($C248=\"\",\"\",Simulação!Y248)","v":"-"},{"$f":"IF($C248=\"\",\"\",Simulação!Z248)","v":216.41776036435695},{"$f":"IF($C248=\"\",\"\",Simulação!AA248)","v":"-"},{"$f":"IF($C248=\"\",\"\",Simulação!AB248)","v":136.83060944284537},{"$f":"IF($C248=\"\",\"\",Simulação!AC248)","v":"-"},{"$f":"IF($C248=\"\",\"\",Simulação!AD248)","v":140.66887446424042},{"$f":"IF($C248=\"\",\"\",Simulação!AE248)","v":"-"},{"$f":"IF($C248=\"\",\"\",Simulação!AF248)","v":34.388240562009656},{"$f":"IF($C248=\"\",\"\",Simulação!AG248)","v":"-"},{"$f":"IF($C248=\"\",\"\",Simulação!AH248)","v":29.236023829000793},{"$f":"IF($C248=\"\",\"\",Simulação!AI248)","v":"-"},{"$f":"IF($C248=\"\",\"\",Simulação!AJ248)","v":33.045125393740342},{"$f":"IF($C248=\"\",\"\",Simulação!AK248)","v":"-"},{"$f":"IF($C248=\"\",\"\",Simulação!AL248)","v":32.02721881559642},{"$f":"IF($C248=\"\",\"\",Simulação!AM248)","v":"-"},{"$f":"IF($C248=\"\",\"\",Simulação!AN248)","v":32.217563507182206},{"$f":"IF($C248=\"\",\"\",Simulação!AO248)","v":"-"},{"$f":"IF($C248=\"\",\"\",Simulação!AP248)","v":36.406016086434107},{"$f":"IF($C248=\"\",\"\",Simulação!AQ248)","v":"-"},{"$f":"IF($C248=\"\",\"\",Simulação!AR248)","v":0}]
[null,242,{"$f":"IF(Chegadas!J250<=$C$5,Chegadas!J250,\"\")","v":216.77000000000012},{"$f":"IF($C249=\"\",\"\",Simulação!D249)","v":8.1149917937725426},{"$f":"IF($C249=\"\",\"\",Simulação!E249)","v":"*"},{"$f":"IF($C249=\"\",\"\",Simulação!F249)","v":217.13345598748714},{"$f":"IF($C249=\"\",\"\",Simulação!G249)","v":"*"},{"$f":"IF($C249=\"\",\"\",Simulação!H249)","v":216.81818581269863},{"$f":"IF($C249=\"\",\"\",Simulação!I249)","v":"*"},{"$f":"IF($C249=\"\",\"\",Simulação!J249)","v":217.86781013326643},{"$f":"IF($C249=\"\",\"\",Simulação!K249)","v":"*"},{"$f":"IF($C249=\"\",\"\",Simulação!L249)","v":216.92450645723659},{"$f":"IF($C249=\"\",\"\",Simulação!M249)","v":"*"},{"$f":"IF($C249=\"\",\"\",Simulação!N249)","v":218.45343255520618},{"$f":"IF($C249=\"\",\"\",Simulação!O249)","v":216.77000000000012},{"$f":"IF($C249=\"\",\"\",Simulação!P249)","v":224.88499179377266},{"$f":"IF($C249=\"\",\"\",Simulação!Q249)","v":"-"},{"$f":"IF($C249=\"\",\"\",Simulação!R249)","v":219.61874728032186},{"$f":"IF($C249=\"\",\"\",Simulação!S249)","v":"-"},{"$f":"IF($C249=\"\",\"\",Simulação!T249)","v":214.79577264820429},{"$f":"IF($C249=\"\",\"\",Simulação!U249)","v":"-"},{"$f":"IF($C249=\"\",\"\",Simulação!V249)","v":216.5883250286189},{"$f":"IF($C249=\"\",\"\",Simulação!W249)","v":"-"},{"$f":"IF($C249=\"\",\"\",Simulação!X249)","v":205.45532561322904},{"$f":"IF($C249=\"\",\"\",Simulação!Y249)","v":"-"},{"$f":"IF($C249=\"\",\"\",Simulação!Z249)","v":216.41776036435695},{"$f":"IF($C249=\"\",\"\",Simulação!AA249)","v":"-"},{"$f":"IF($C249=\"\",\"\",Simulação!AB249)","v":136.83060944284537},{"$f":"IF($C249=\"\",\"\",Simulação!AC249)","v":"-"},{"$f":"IF($C249=\"\",\"\",Simulação!AD249)","v":140.66887446424042},{"$f":"IF($C249=\"\",\"\",Simulação!AE249)","v":"-"},{"$f":"IF($C249=\"\",\"\",Simulação!AF249)","v":34.388240562009656},{"$f":"IF($C249=\"\",\"\",Simulação!AG249)","v":"-"},{"$f":"IF($C249=\"\",\"\",Simulação!AH249)","v":29.236023829000793},{"$f":"IF($C249=\"\",\"\",Simulação!AI249)","v":"-"},{"$f":"IF($C249=\"\",\"\",Simulação!AJ249)","v":33.045125393740342},{"$f":"IF($C249=\"\",\"\",Simulação!AK249)","v":"-"},{"$f":"IF($C249=\"\",\"\",Simulação!AL249)","v":32.02721881559642},{"$f":"IF($C249=\"\",\"\",Simulação!AM249)","v":"-"},{"$f":"IF($C249=\"\",\"\",Simulação!AN249)","v":32.217563507182206},{"$f":"IF($C249=\"\",\"\",Simulação!AO249)","v":"-"},{"$f":"IF($C249=\"\",\"\",Simulação!AP249)","v":36.406016086434107},{"$f":"IF($C249=\"\",\"\",Simulação!AQ249)","v":"-"},{"$f":"IF($C249=\"\",\"\",Simulação!AR249)","v":0}]
[null,243,{"$f":"IF(Chegadas!J251<=$C$5,Chegadas!J251,\"\")","v":218.08000000000013},{"$f":"IF($C250=\"\",\"\",Simulação!D250)","v":3.7443626133009413},{"$f":"IF($C250=\"\",\"\",Simulação!E250)","v":218.08000000000013},{"$f":"IF($C250=\"\",\"\",Simulação!F250)","v":221.82436261330108},{"$f":"IF($C250=\"\",\"\",Simulação!G250)","v":"-"},{"$f":"IF($C250=\"\",\"\",Simulação!H250)","v":216.81818581269863},{"$f":"IF($C250=\"\",\"\",Simulação!I250)","v":"-"},{"$f":"IF($C250=\"\",\"\",Simulação!J250)","v":217.86781013326643},{"$f":"IF($C250=\"\",\"\",Simulação!K250)","v":"-"},{"$f":"IF($C250=\"\",\"\",Simulação!L250)","v":216.92450645723659},{"$f":"IF($C250=\"\",\"\",Simulação!M250)","v":"-"},{"$f":"IF($C250=\"\",\"\",Simulação!N250)","v":218.45343255520618},{"$f":"IF($C250=\"\",\"\",Simulação!O250)","v":"-"},{"$f":"IF($C250=\"\",\"\",Simulação!P250)","v":224.88499179377266},{"$f":"IF($C250=\"\",\"\",Simulação!Q250)","v":"-"},{"$f":"IF($C250=\"\",\"\",Simulação!R250)","v":219.61874728032186},{"$f":"IF($C250=\"\",\"\",Simulação!S250)","v":"-"},{"$f":"IF($C250=\"\",\"\",Simulação!T250)","v":214.79577264820429},{"$f":"IF($C250=\"\",\"\",Simulação!U250)","v":"-"},{"$f":"IF($C250=\"\",\"\",Simulação!V250)","v":216.5883250286189},{"$f":"IF($C250=\"\",\"\",Simulação!W250)","v":"-"},{"$f":"IF($C250=\"\",\"\",Simulação!X250)","v":205.45532561322904},{"$f":"IF($C250=\"\",\"\",Simulação!Y250)","v":"-"},{"$f":"IF($C250=\"\",\"\",Simulação!Z250)","v":216.41776036435695},{"$f":"IF($C250=\"\",\"\",Simulação!AA250)","v":"-"},{"$f":"IF($C250=\"\",\"\",Simulação!AB250)","v":136.83060944284537},{"$f":"IF($C250=\"\",\"\",Simulação!AC250)","v":"-"},{"$f":"IF($C250=\"\",\"\",Simulação!AD250)","v":140.66887446424042},{"$f":"IF($C250=\"\",\"\",Simulação!AE250)","v":"-"},{"$f":"IF($C250=\"\",\"\",Simulação!AF250)","v":34.388240562009656},{"$f":"IF($C250=\"\",\"\",Simulação!AG250)","v":"-"},{"$f":"IF($C250=\"\",\"\",Simulação!AH250)","v":29.236023829000793},{"$f":"IF($C250=\"\",\"\",Simulação!AI250)","v":"-"},{"$f":"IF($C250=\"\",\"\",Simulação!AJ250)","v":33.045125393740342},{"$f":"IF($C250=\"\",\"\",Simulação!AK250)","v":"-"},{"$f":"IF($C250=\"\",\"\",Simulação!AL250)","v":32.02721881559642},{"$f":"IF($C250=\"\",\"\",Simulação!AM250)","v":"-"},{"$f":"IF($C250=\"\",\"\",Simulação!AN250)","v":32.217563507182206},{"$f":"IF($C250=\"\",\"\",Simulação!AO250)","v":"-"},{"$f":"IF($C250=\"\",\"\",Simulação!AP250)","v":36.406016086434107},{"$f":"IF($C250=\"\",\"\",Simulação!AQ250)","v":"-"},{"$f":"IF($C250=\"\",\"\",Simulação!AR250)","v":0}]
[null,244,{"$f":"IF(Chegadas!J252<=$C$5,Chegadas!J252,\"\")","v":218.47},{"$f":"IF($C251=\"\",\"\",Simulação!D251)","v":1.0942551434697019},{"$f":"IF($C251=\"\",\"\",Simulação!E251)","v":"*"},{"$f":"IF($C251=\"\",\"\",Simulação!F251)","v":221.82436261330108},{"$f":"IF($C251=\"\",\"\",Simulação!G251)","v":218.47},{"$f":"IF($C251=\"\",\"\",Simulação!H251)","v":219.56425514346969},{"$f":"IF($C251=\"\",\"\",Simulação!I251)","v":"-"},{"$f":"IF($C251=\"\",\"\",Simulação!J251)","v":217.86781013326643},{"$f":"IF($C251=\"\",\"\",Simulação!K251)","v":"-"},{"$f":"IF($C251=\"\",\"\",Simulação!L251)","v":216.92450645723659},{"$f":"IF($C251=\"\",\"\",Simulação!M251)","v":"-"},{"$f":"IF($C251=\"\",\"\",Simulação!N251)","v":218.45343255520618},{"$f":"IF($C251=\"\",\"\",Simulação!O251)","v":"-"},{"$f":"IF($C251=\"\",\"\",Simulação!P251)","v":224.88499179377266},{"$f":"IF($C251=\"\",\"\",Simulação!Q251)","v":"-"},{"$f":"IF($C251=\"\",\"\",Simulação!R251)","v":219.61874728032186},{"$f":"IF($C251=\"\",\"\",Simulação!S251)","v":"-"},{"$f":"IF($C251=\"\",\"\",Simulação!T251)","v":214.79577264820429},{"$f":"IF($C251=\"\",\"\",Simulação!U251)","v":"-"},{"$f":"IF($C251=\"\",\"\",Simulação!V251)","v":216.5883250286189},{"$f":"IF($C251=\"\",\"\",Simulação!W251)","v":"-"},{"$f":"IF($C251=\"\",\"\",Simulação!X251)","v":205.45532561322904},{"$f":"IF($C251=\"\",\"\",Simulação!Y251)","v":"-"},{"$f":"IF($C251=\"\",\"\",Simulação!Z251)","v":216.41776036435695},{"$f":"IF($C251=\"\",\"\",Simulação!AA251)","v":"-"},{"$f":"IF($C251=\"\",\"\",Simulação!AB251)","v":136.83060944284537},{"$f":"IF($C251=\"\",\"\",Simulação!AC251)","v":"-"},{"$f":"IF($C251=\"\",\"\",Simulação!AD251)","v":140.66887446424042},{"$f":"IF($C251=\"\",\"\",Simulação!AE251)","v":"-"},{"$f":"IF($C251=\"\",\"\",Simulação!AF251)","v":34.388240562009656},{"$f":"IF($C251=\"\",\"\",Simulação!AG251)","v":"-"},{"$f":"IF($C251=\"\",\"\",Simulação!AH251)","v":29.236023829000793},{"$f":"IF($C251=\"\",\"\",Simulação!AI251)","v":"-"},{"$f":"IF($C251=\"\",\"\",Simulação!AJ251)","v":33.045125393740342},{"$f":"IF($C251=\"\",\"\",Simulação!AK251)","v":"-"},{"$f":"IF($C251=\"\",\"\",Simulação!AL251)","v":32.02721881559642},{"$f":"IF($C251=\"\",\"\",Simulação!AM251)","v":"-"},{"$f":"IF($C251=\"\",\"\",Simulação!AN251)","v":32.217563507182206},{"$f":"IF($C251=\"\",\"\",Simulação!AO251)","v":"-"},{"$f":"IF($C251=\"\",\"\",Simulação!AP251)","v":36.406016086434107},{"$f":"IF($C251=\"\",\"\",Simulação!AQ251)","v":"-"},{"$f":"IF($C251=\"\",\"\",Simulação!AR251)","v":0}]
[null,245,{"$f":"IF(Chegadas!J253<=$C$5,Chegadas!J253,\"\")","v":219.33000000000013},{"$f":"IF($C252=\"\",\"\",Simulação!D252)","v":3.8841115434510667},{"$f":"IF($C252=\"\",\"\",Simulação!E252)","v":"*"},{"$f":"IF($C252=\"\",\"\",Simulação!F252)","v":221.82436261330108},{"$f":"IF($C252=\"\",\"\",Simulação!G252)","v":"*"},{"$f":"IF($C252=\"\",\"\",Simulação!H252)","v":219.56425514346969},{"$f":"IF($C252=\"\",\"\",Simulação!I252)","v":219.33000000000013},{"$f":"IF($C252=\"\",\"\",Simulação!J252)","v":223.2141115434512},{"$f":"IF($C252=\"\",\"\",Simulação!K252)","v":"-"},{"$f":"IF($C252=\"\",\"\",Simulação!L252)","v":216.92450645723659},{"$f":"IF($C252=\"\",\"\",Simulação!M252)","v":"-"},{"$f":"IF($C252=\"\",\"\",Simulação!N252)","v":218.45343255520618},{"$f":"IF($C252=\"\",\"\",Simulação!O252)","v":"-"},{"$f":"IF($C252=\"\",\"\",Simulação!P252)","v":224.88499179377266},{"$f":"IF($C252=\"\",\"\",Simulação!Q252)","v":"-"},{"$f":"IF($C252=\"\",\"\",Simulação!R252)","v":219.61874728032186},{"$f":"IF($C252=\"\",\"\",Simulação!S252)","v":"-"},{"$f":"IF($C252=\"\",\"\",Simulação!T252)","v":214.79577264820429},{"$f":"IF($C252=\"\",\"\",Simulação!U252)","v":"-"},{"$f":"IF($C252=\"\",\"\",Simulação!V252)","v":216.5883250286189},{"$f":"IF($C252=\"\",\"\",Simulação!W252)","v":"-"},{"$f":"IF($C252=\"\",\"\",Simulação!X252)","v":205.45532561322904},{"$f":"IF($C252=\"\",\"\",Simulação!Y252)","v":"-"},{"$f":"IF($C252=\"\",\"\",Simulação!Z252)","v":216.41776036435695},{"$f":"IF($C252=\"\",\"\",Simulação!AA252)","v":"-"},{"$f":"IF($C252=\"\",\"\",Simulação!AB252)","v":136.83060944284537},{"$f":"IF($C252=\"\",\"\",Simulação!AC252)","v":"-"},{"$f":"IF($C252=\"\",\"\",Simulação!AD252)","v":140.66887446424042},{"$f":"IF($C252=\"\",\"\",Simulação!AE252)","v":"-"},{"$f":"IF($C252=\"\",\"\",Simulação!AF252)","v":34.388240562009656},{"$f":"IF($C252=\"\",\"\",Simulação!AG252)","v":"-"},{"$f":"IF($C252=\"\",\"\",Simulação!AH252)","v":29.236023829000793},{"$f":"IF($C252=\"\",\"\",Simulação!AI252)","v":"-"},{"$f":"IF($C252=\"\",\"\",Simulação!AJ252)","v":33.045125393740342},{"$f":"IF($C252=\"\",\"\",Simulação!AK252)","v":"-"},{"$f":"IF($C252=\"\",\"\",Simulação!AL252)","v":32.02721881559642},{"$f":"IF($C252=\"\",\"\",Simulação!AM252)","v":"-"},{"$f":"IF($C252=\"\",\"\",Simulação!AN252)","v":32.217563507182206},{"$f":"IF($C252=\"\",\"\",Simulação!AO252)","v":"-"},{"$f":"IF($C252=\"\",\"\",Simulação!AP252)","v":36.406016086434107},{"$f":"IF($C252=\"\",\"\",Simulação!AQ252)","v":"-"},{"$f":"IF($C252=\"\",\"\",Simulação!AR252)","v":0}]
[null,246,{"$f":"IF(Chegadas!J254<=$C$5,Chegadas!J254,\"\")","v":222.42000000000013},{"$f":"IF($C253=\"\",\"\",Simulação!D253)","v":11.53896083677143},{"$f":"IF($C253=\"\",\"\",Simulação!E253)","v":222.42000000000013},{"$f":"IF($C253=\"\",\"\",Simulação!F253)","v":233.95896083677155},{"$f":"IF($C253=\"\",\"\",Simulação!G253)","v":"-"},{"$f":"IF($C253=\"\",\"\",Simulação!H253)","v":219.56425514346969},{"$f":"IF($C253=\"\",\"\",Simulação!I253)","v":"-"},{"$f":"IF($C253=\"\",\"\",Simulação!J253)","v":223.2141115434512},{"$f":"IF($C253=\"\",\"\",Simulação!K253)","v":"-"},{"$f":"IF($C253=\"\",\"\",Simulação!L253)","v":216.92450645723659},{"$f":"IF($C253=\"\",\"\",Simulação!M253)","v":"-"},{"$f":"IF($C253=\"\",\"\",Simulação!N253)","v":218.45343255520618},{"$f":"IF($C253=\"\",\"\",Simulação!O253)","v":"-"},{"$f":"IF($C253=\"\",\"\",Simulação!P253)","v":224.88499179377266},{"$f":"IF($C253=\"\",\"\",Simulação!Q253)","v":"-"},{"$f":"IF($C253=\"\",\"\",Simulação!R253)","v":219.61874728032186},{"$f":"IF($C253=\"\",\"\",Simulação!S253)","v":"-"},{"$f":"IF($C253=\"\",\"\",Simulação!T253)","v":214.79577264820429},{"$f":"IF($C253=\"\",\"\",Simulação!U253)","v":"-"},{"$f":"IF($C253=\"\",\"\",Simulação!V253)","v":216.5883250286189},{"$f":"IF($C253=\"\",\"\",Simulação!W253)","v":"-"},{"$f":"IF($C253=\"\",\"\",Simulação!X253)","v":205.45532561322904},{"$f":"IF($C253=\"\",\"\",Simulação!Y253)","v":"-"},{"$f":"IF($C253=\"\",\"\",Simulação!Z253)","v":216.41776036435695},{"$f":"IF($C253=\"\",\"\",Simulação!AA253)","v":"-"},{"$f":"IF($C253=\"\",\"\",Simulação!AB253)","v":136.83060944284537},{"$f":"IF($C253=\"\",\"\",Simulação!AC253)","v":"-"},{"$f":"IF($C253=\"\",\"\",Simulação!AD253)","v":140.66887446424042},{"$f":"IF($C253=\"\",\"\",Simulação!AE253)","v":"-"},{"$f":"IF($C253=\"\",\"\",Simulação!AF253)","v":34.388240562009656},{"$f":"IF($C253=\"\",\"\",Simulação!AG253)","v":"-"},{"$f":"IF($C253=\"\",\"\",Simulação!AH253)","v":29.236023829000793},{"$f":"IF($C253=\"\",\"\",Simulação!AI253)","v":"-"},{"$f":"IF($C253=\"\",\"\",Simulação!AJ253)","v":33.045125393740342},{"$f":"IF($C253=\"\",\"\",Simulação!AK253)","v":"-"},{"$f":"IF($C253=\"\",\"\",Simulação!AL253)","v":32.02721881559642},{"$f":"IF($C253=\"\",\"\",Simulação!AM253)","v":"-"},{"$f":"IF($C253=\"\",\"\",Simulação!AN253)","v":32.217563507182206},{"$f":"IF($C253=\"\",\"\",Simulação!AO253)","v":"-"},{"$f":"IF($C253=\"\",\"\",Simulação!AP253)","v":36.406016086434107},{"$f":"IF($C253=\"\",\"\",Simulação!AQ253)","v":"-"},{"$f":"IF($C253=\"\",\"\",Simulação!AR253)","v":0}]
[null,247,{"$f":"IF(Chegadas!J255<=$C$5,Chegadas!J255,\"\")","v":222.71000000000012},{"$f":"IF($C254=\"\",\"\",Simulação!D254)","v":14.624043598393328},{"$f":"IF($C254=\"\",\"\",Simulação!E254)","v":"*"},{"$f":"IF($C254=\"\",\"\",Simulação!F254)","v":233.95896083677155},{"$f":"IF($C254=\"\",\"\",Simulação!G254)","v":222.71000000000012},{"$f":"IF($C254=\"\",\"\",Simulação!H254)","v":237.33404359839346},{"$f":"IF($C254=\"\",\"\",Simulação!I254)","v":"-"},{"$f":"IF($C254=\"\",\"\",Simulação!J254)","v":223.2141115434512},{"$f":"IF($C254=\"\",\"\",Simulação!K254)","v":"-"},{"$f":"IF($C254=\"\",\"\",Simulação!L254)","v":216.92450645723659},{"$f":"IF($C254=\"\",\"\",Simulação!M254)","v":"-"},{"$f":"IF($C254=\"\",\"\",Simulação!N254)","v":218.45343255520618},{"$f":"IF($C254=\"\",\"\",Simulação!O254)","v":"-"},{"$f":"IF($C254=\"\",\"\",Simulação!P254)","v":224.88499179377266},{"$f":"IF($C254=\"\",\"\",Simulação!Q254)","v":"-"},{"$f":"IF($C254=\"\",\"\",Simulação!R254)","v":219.61874728032186},{"$f":"IF($C254=\"\",\"\",Simulação!S254)","v":"-"},{"$f":"IF($C254=\"\",\"\",Simulação!T254)","v":214.79577264820429},{"$f":"IF($C254=\"\",\"\",Simulação!U254)","v":"-"},{"$f":"IF($C254=\"\",\"\",Simulação!V254)","v":216.5883250286189},{"$f":"IF($C254=\"\",\"\",Simulação!W254)","v":"-"},{"$f":"IF($C254=\"\",\"\",Simulação!X254)","v":205.45532561322904},{"$f":"IF($C254=\"\",\"\",Simulação!Y254)","v":"-"},{"$f":"IF($C254=\"\",\"\",Simulação!Z254)","v":216.41776036435695},{"$f":"IF($C254=\"\",\"\",Simulação!AA254)","v":"-"},{"$f":"IF($C254=\"\",\"\",Simulação!AB254)","v":136.83060944284537},{"$f":"IF($C254=\"\",\"\",Simulação!AC254)","v":"-"},{"$f":"IF($C254=\"\",\"\",Simulação!AD254)","v":140.66887446424042},{"$f":"IF($C254=\"\",\"\",Simulação!AE254)","v":"-"},{"$f":"IF($C254=\"\",\"\",Simulação!AF254)","v":34.388240562009656},{"$f":"IF($C254=\"\",\"\",Simulação!AG254)","v":"-"},{"$f":"IF($C254=\"\",\"\",Simulação!AH254)","v":29.236023829000793},{"$f":"IF($C254=\"\",\"\",Simulação!AI254)","v":"-"},{"$f":"IF($C254=\"\",\"\",Simulação!AJ254)","v":33.045125393740342},{"$f":"IF($C254=\"\",\"\",Simulação!AK254)","v":"-"},{"$f":"IF($C254=\"\",\"\",Simulação!AL254)","v":32.02721881559642},{"$f":"IF($C254=\"\",\"\",Simulação!AM254)","v":"-"},{"$f":"IF($C254=\"\",\"\",Simulação!AN254)","v":32.217563507182206},{"$f":"IF($C254=\"\",\"\",Simulação!AO254)","v":"-"},{"$f":"IF($C254=\"\",\"\",Simulação!AP254)","v":36.406016086434107},{"$f":"IF($C254=\"\",\"\",Simulação!AQ254)","v":"-"},{"$f":"IF($C254=\"\",\"\",Simulação!AR254)","v":0}]
[null,248,{"$f":"IF(Chegadas!J256<=$C$5,Chegadas!J256,\"\")","v":223.11000000000013},{"$f":"IF($C255=\"\",\"\",Simulação!D255)","v":7.3717386988966567},{"$f":"IF($C255=\"\",\"\",Simulação!E255)","v":"*"},{"$f":"IF($C255=\"\",\"\",Simulação!F255)","v":233.95896083677155},{"$f":"IF($C255=\"\",\"\",Simulação!G255)","v":"*"},{"$f":"IF($C255=\"\",\"\",Simulação!H255)","v":237.33404359839346},{"$f":"IF($C255=\"\",\"\",Simulação!I255)","v":"*"},{"$f":"IF($C255=\"\",\"\",Simulação!J255)","v":223.2141115434512},{"$f":"IF($C255=\"\",\"\",Simulação!K255)","v":223.11000000000013},{"$f":"IF($C255=\"\",\"\",Simulação!L255)","v":230.48173869889678},{"$f":"IF($C255=\"\",\"\",Simulação!M255)","v":"-"},{"$f":"IF($C255=\"\",\"\",Simulação!N255)","v":218.45343255520618},{"$f":"IF($C255=\"\",\"\",Simulação!O255)","v":"-"},{"$f":"IF($C255=\"\",\"\",Simulação!P255)","v":224.88499179377266},{"$f":"IF($C255=\"\",\"\",Simulação!Q255)","v":"-"},{"$f":"IF($C255=\"\",\"\",Simulação!R255)","v":219.61874728032186},{"$f":"IF($C255=\"\",\"\",Simulação!S255)","v":"-"},{"$f":"IF($C255=\"\",\"\",Simulação!T255)","v":214.79577264820429},{"$f":"IF($C255=\"\",\"\",Simulação!U255)","v":"-"},{"$f":"IF($C255=\"\",\"\",Simulação!V255)","v":216.5883250286189},{"$f":"IF($C255=\"\",\"\",Simulação!W255)","v":"-"},{"$f":"IF($C255=\"\",\"\",Simulação!X255)","v":205.45532561322904},{"$f":"IF($C255=\"\",\"\",Simulação!Y255)","v":"-"},{"$f":"IF($C255=\"\",\"\",Simulação!Z255)","v":216.41776036435695},{"$f":"IF($C255=\"\",\"\",Simulação!AA255)","v":"-"},{"$f":"IF($C255=\"\",\"\",Simulação!AB255)","v":136.83060944284537},{"$f":"IF($C255=\"\",\"\",Simulação!AC255)","v":"-"},{"$f":"IF($C255=\"\",\"\",Simulação!AD255)","v":140.66887446424042},{"$f":"IF($C255=\"\",\"\",Simulação!AE255)","v":"-"},{"$f":"IF($C255=\"\",\"\",Simulação!AF255)","v":34.388240562009656},{"$f":"IF($C255=\"\",\"\",Simulação!AG255)","v":"-"},{"$f":"IF($C255=\"\",\"\",Simulação!AH255)","v":29.236023829000793},{"$f":"IF($C255=\"\",\"\",Simulação!AI255)","v":"-"},{"$f":"IF($C255=\"\",\"\",Simulação!AJ255)","v":33.045125393740342},{"$f":"IF($C255=\"\",\"\",Simulação!AK255)","v":"-"},{"$f":"IF($C255=\"\",\"\",Simulação!AL255)","v":32.02721881559642},{"$f":"IF($C255=\"\",\"\",Simulação!AM255)","v":"-"},{"$f":"IF($C255=\"\",\"\",Simulação!AN255)","v":32.217563507182206},{"$f":"IF($C255=\"\",\"\",Simulação!AO255)","v":"-"},{"$f":"IF($C255=\"\",\"\",Simulação!AP255)","v":36.406016086434107},{"$f":"IF($C255=\"\",\"\",Simulação!AQ255)","v":"-"},{"$f":"IF($C255=\"\",\"\",Simulação!AR255)","v":0}]
[null,249,{"$f":"IF(Chegadas!J257<=$C$5,Chegadas!J257,\"\")","v":224.91000000000014},{"$f":"IF($C256=\"\",\"\",Simulação!D256)","v":10.038386548436328},{"$f":"IF($C256=\"\",\"\",Simulação!E256)","v":"*"},{"$f":"IF($C256=\"\",\"\",Simulação!F256)","v":233.95896083677155},{"$f":"IF($C256=\"\",\"\",Simulação!G256)","v":"*"},{"$f":"IF($C256=\"\",\"\",Simulação!H256)","v":237.33404359839346},{"$f":"IF($C256=\"\",\"\",Simulação!I256)","v":224.91000000000014},{"$f":"IF($C256=\"\",\"\",Simulação!J256)","v":234.94838654843647},{"$f":"IF($C256=\"\",\"\",Simulação!K256)","v":"-"},{"$f":"IF($C256=\"\",\"\",Simulação!L256)","v":230.48173869889678},{"$f":"IF($C256=\"\",\"\",Simulação!M256)","v":"-"},{"$f":"IF($C256=\"\",\"\",Simulação!N256)","v":218.45343255520618},{"$f":"IF($C256=\"\",\"\",Simulação!O256)","v":"-"},{"$f":"IF($C256=\"\",\"\",Simulação!P256)","v":224.88499179377266},{"$f":"IF($C256=\"\",\"\",Simulação!Q256)","v":"-"},{"$f":"IF($C256=\"\",\"\",Simulação!R256)","v":219.61874728032186},{"$f":"IF($C256=\"\",\"\",Simulação!S256)","v":"-"},{"$f":"IF($C256=\"\",\"\",Simulação!T256)","v":214.79577264820429},{"$f":"IF($C256=\"\",\"\",Simulação!U256)","v":"-"},{"$f":"IF($C256=\"\",\"\",Simulação!V256)","v":216.5883250286189},{"$f":"IF($C256=\"\",\"\",Simulação!W256)","v":"-"},{"$f":"IF($C256=\"\",\"\",Simulação!X256)","v":205.45532561322904},{"$f":"IF($C256=\"\",\"\",Simulação!Y256)","v":"-"},{"$f":"IF($C256=\"\",\"\",Simulação!Z256)","v":216.41776036435695},{"$f":"IF($C256=\"\",\"\",Simulação!AA256)","v":"-"},{"$f":"IF($C256=\"\",\"\",Simulação!AB256)","v":136.83060944284537},{"$f":"IF($C256=\"\",\"\",Simulação!AC256)","v":"-"},{"$f":"IF($C256=\"\",\"\",Simulação!AD256)","v":140.66887446424042},{"$f":"IF($C256=\"\",\"\",Simulação!AE256)","v":"-"},{"$f":"IF($C256=\"\",\"\",Simulação!AF256)","v":34.388240562009656},{"$f":"IF($C256=\"\",\"\",Simulação!AG256)","v":"-"},{"$f":"IF($C256=\"\",\"\",Simulação!AH256)","v":29.236023829000793},{"$f":"IF($C256=\"\",\"\",Simulação!AI256)","v":"-"},{"$f":"IF($C256=\"\",\"\",Simulação!AJ256)","v":33.045125393740342},{"$f":"IF($C256=\"\",\"\",Simulação!AK256)","v":"-"},{"$f":"IF($C256=\"\",\"\",Simulação!AL256)","v":32.02721881559642},{"$f":"IF($C256=\"\",\"\",Simulação!AM256)","v":"-"},{"$f":"IF($C256=\"\",\"\",Simulação!AN256)","v":32.217563507182206},{"$f":"IF($C256=\"\",\"\",Simulação!AO256)","v":"-"},{"$f":"IF($C256=\"\",\"\",Simulação!AP256)","v":36.406016086434107},{"$f":"IF($C256=\"\",\"\",Simulação!AQ256)","v":"-"},{"$f":"IF($C256=\"\",\"\",Simulação!AR256)","v":0}]
[null,250,{"$f":"IF(Chegadas!J258<=$C$5,Chegadas!J258,\"\")","v":225.56000000000014},{"$f":"IF($C257=\"\",\"\",Simulação!D257)","v":8.9892447779212805},{"$f":"IF($C257=\"\",\"\",Simulação!E257)","v":"*"},{"$f":"IF($C257=\"\",\"\",Simulação!F257)","v":233.95896083677155},{"$f":"IF($C257=\"\",\"\",Simulação!G257)","v":"*"},{"$f":"IF($C257=\"\",\"\",Simulação!H257)","v":237.33404359839346},{"$f":"IF($C257=\"\",\"\",Simulação!I257)","v":"*"},{"$f":"IF($C257=\"\",\"\",Simulação!J257)","v":234.94838654843647},{"$f":"IF($C257=\"\",\"\",Simulação!K257)","v":"*"},{"$f":"IF($C257=\"\",\"\",Simulação!L257)","v":230.48173869889678},{"$f":"IF($C257=\"\",\"\",Simulação!M257)","v":225.56000000000014},{"$f":"IF($C257=\"\",\"\",Simulação!N257)","v":234.54924477792142},{"$f":"IF($C257=\"\",\"\",Simulação!O257)","v":"-"},{"$f":"IF($C257=\"\",\"\",Simulação!P257)","v":224.88499179377266},{"$f":"IF($C257=\"\",\"\",Simulação!Q257)","v":"-"},{"$f":"IF($C257=\"\",\"\",Simulação!R257)","v":219.61874728032186},{"$f":"IF($C257=\"\",\"\",Simulação!S257)","v":"-"},{"$f":"IF($C257=\"\",\"\",Simulação!T257)","v":214.79577264820429},{"$f":"IF($C257=\"\",\"\",Simulação!U257)","v":"-"},{"$f":"IF($C257=\"\",\"\",Simulação!V257)","v":216.5883250286189},{"$f":"IF($C257=\"\",\"\",Simulação!W257)","v":"-"},{"$f":"IF($C257=\"\",\"\",Simulação!X257)","v":205.45532561322904},{"$f":"IF($C257=\"\",\"\",Simulação!Y257)","v":"-"},{"$f":"IF($C257=\"\",\"\",Simulação!Z257)","v":216.41776036435695},{"$f":"IF($C257=\"\",\"\",Simulação!AA257)","v":"-"},{"$f":"IF($C257=\"\",\"\",Simulação!AB257)","v":136.83060944284537},{"$f":"IF($C257=\"\",\"\",Simulação!AC257)","v":"-"},{"$f":"IF($C257=\"\",\"\",Simulação!AD257)","v":140.66887446424042},{"$f":"IF($C257=\"\",\"\",Simulação!AE257)","v":"-"},{"$f":"IF($C257=\"\",\"\",Simulação!AF257)","v":34.388240562009656},{"$f":"IF($C257=\"\",\"\",Simulação!AG257)","v":"-"},{"$f":"IF($C257=\"\",\"\",Simulação!AH257)","v":29.236023829000793},{"$f":"IF($C257=\"\",\"\",Simulação!AI257)","v":"-"},{"$f":"IF($C257=\"\",\"\",Simulação!AJ257)","v":33.045125393740342},{"$f":"IF($C257=\"\",\"\",Simulação!AK257)","v":"-"},{"$f":"IF($C257=\"\",\"\",Simulação!AL257)","v":32.02721881559642},{"$f":"IF($C257=\"\",\"\",Simulação!AM257)","v":"-"},{"$f":"IF($C257=\"\",\"\",Simulação!AN257)","v":32.217563507182206},{"$f":"IF($C257=\"\",\"\",Simulação!AO257)","v":"-"},{"$f":"IF($C257=\"\",\"\",Simulação!AP257)","v":36.406016086434107},{"$f":"IF($C257=\"\",\"\",Simulação!AQ257)","v":"-"},{"$f":"IF($C257=\"\",\"\",Simulação!AR257)","v":0}]
[null,251,{"$f":"IF(Chegadas!J259<=$C$5,Chegadas!J259,\"\")","v":225.74000000000015},{"$f":"IF($C258=\"\",\"\",Simulação!D258)","v":3.0355252820474399},{"$f":"IF($C258=\"\",\"\",Simulação!E258)","v":"*"},{"$f":"IF($C258=\"\",\"\",Simulação!F258)","v":233.95896083677155},{"$f":"IF($C258=\"\",\"\",Simulação!G258)","v":"*"},{"$f":"IF($C258=\"\",\"\",Simulação!H258)","v":237.33404359839346},{"$f":"IF($C258=\"\",\"\",Simulação!I258)","v":"*"},{"$f":"IF($C258=\"\",\"\",Simulação!J258)","v":234.94838654843647},{"$f":"IF($C258=\"\",\"\",Simulação!K258)","v":"*"},{"$f":"IF($C258=\"\",\"\",Simulação!L258)","v":230.48173869889678},{"$f":"IF($C258=\"\",\"\",Simulação!M258)","v":"*"},{"$f":"IF($C258=\"\",\"\",Simulação!N258)","v":234.54924477792142},{"$f":"IF($C258=\"\",\"\",Simulação!O258)","v":225.74000000000015},{"$f":"IF($C258=\"\",\"\",Simulação!P258)","v":228.7755252820476},{"$f":"IF($C258=\"\",\"\",Simulação!Q258)","v":"-"},{"$f":"IF($C258=\"\",\"\",Simulação!R258)","v":219.61874728032186},{"$f":"IF($C258=\"\",\"\",Simulação!S258)","v":"-"},{"$f":"IF($C258=\"\",\"\",Simulação!T258)","v":214.79577264820429},{"$f":"IF($C258=\"\",\"\",Simulação!U258)","v":"-"},{"$f":"IF($C258=\"\",\"\",Simulação!V258)","v":216.5883250286189},{"$f":"IF($C258=\"\",\"\",Simulação!W258)","v":"-"},{"$f":"IF($C258=\"\",\"\",Simulação!X258)","v":205.45532561322904},{"$f":"IF($C258=\"\",\"\",Simulação!Y258)","v":"-"},{"$f":"IF($C258=\"\",\"\",Simulação!Z258)","v":216.41776036435695},{"$f":"IF($C258=\"\",\"\",Simulação!AA258)","v":"-"},{"$f":"IF($C258=\"\",\"\",Simulação!AB258)","v":136.83060944284537},{"$f":"IF($C258=\"\",\"\",Simulação!AC258)","v":"-"},{"$f":"IF($C258=\"\",\"\",Simulação!AD258)","v":140.66887446424042},{"$f":"IF($C258=\"\",\"\",Simulação!AE258)","v":"-"},{"$f":"IF($C258=\"\",\"\",Simulação!AF258)","v":34.388240562009656},{"$f":"IF($C258=\"\",\"\",Simulação!AG258)","v":"-"},{"$f":"IF($C258=\"\",\"\",Simulação!AH258)","v":29.236023829000793},{"$f":"IF($C258=\"\",\"\",Simulação!AI258)","v":"-"},{"$f":"IF($C258=\"\",\"\",Simulação!AJ258)","v":33.045125393740342},{"$f":"IF($C258=\"\",\"\",Simulação!AK258)","v":"-"},{"$f":"IF($C258=\"\",\"\",Simulação!AL258)","v":32.02721881559642},{"$f":"IF($C258=\"\",\"\",Simulação!AM258)","v":"-"},{"$f":"IF($C258=\"\",\"\",Simulação!AN258)","v":32.217563507182206},{"$f":"IF($C258=\"\",\"\",Simulação!AO258)","v":"-"},{"$f":"IF($C258=\"\",\"\",Simulação!AP258)","v":36.406016086434107},{"$f":"IF($C258=\"\",\"\",Simulação!AQ258)","v":"-"},{"$f":"IF($C258=\"\",\"\",Simulação!AR258)","v":0}]
[null,252,{"$f":"IF(Chegadas!J260<=$C$5,Chegadas!J260,\"\")","v":226.66000000000014},{"$f":"IF($C259=\"\",\"\",Simulação!D259)","v":1.4487707884170375},{"$f":"IF($C259=\"\",\"\",Simulação!E259)","v":"*"},{"$f":"IF($C259=\"\",\"\",Simulação!F259)","v":233.95896083677155},{"$f":"IF($C259=\"\",\"\",Simulação!G259)","v":"*"},{"$f":"IF($C259=\"\",\"\",Simulação!H259)","v":237.33404359839346},{"$f":"IF($C259=\"\",\"\",Simulação!I259)","v":"*"},{"$f":"IF($C259=\"\",\"\",Simulação!J259)","v":234.94838654843647},{"$f":"IF($C259=\"\",\"\",Simulação!K259)","v":"*"},{"$f":"IF($C259=\"\",\"\",Simulação!L259)","v":230.48173869889678},{"$f":"IF($C259=\"\",\"\",Simulação!M259)","v":"*"},{"$f":"IF($C259=\"\",\"\",Simulação!N259)","v":234.54924477792142},{"$f":"IF($C259=\"\",\"\",Simulação!O259)","v":"*"},{"$f":"IF($C259=\"\",\"\",Simulação!P259)","v":228.7755252820476},{"$f":"IF($C259=\"\",\"\",Simulação!Q259)","v":226.66000000000014},{"$f":"IF($C259=\"\",\"\",Simulação!R259)","v":228.10877078841719},{"$f":"IF($C259=\"\",\"\",Simulação!S259)","v":"-"},{"$f":"IF($C259=\"\",\"\",Simulação!T259)","v":214.79577264820429},{"$f":"IF($C259=\"\",\"\",Simulação!U259)","v":"-"},{"$f":"IF($C259=\"\",\"\",Simulação!V259)","v":216.5883250286189},{"$f":"IF($C259=\"\",\"\",Simulação!W259)","v":"-"},{"$f":"IF($C259=\"\",\"\",Simulação!X259)","v":205.45532561322904},{"$f":"IF($C259=\"\",\"\",Simulação!Y259)","v":"-"},{"$f":"IF($C259=\"\",\"\",Simulação!Z259)","v":216.41776036435695},{"$f":"IF($C259=\"\",\"\",Simulação!AA259)","v":"-"},{"$f":"IF($C259=\"\",\"\",Simulação!AB259)","v":136.83060944284537},{"$f":"IF($C259=\"\",\"\",Simulação!AC259)","v":"-"},{"$f":"IF($C259=\"\",\"\",Simulação!AD259)","v":140.66887446424042},{"$f":"IF($C259=\"\",\"\",Simulação!AE259)","v":"-"},{"$f":"IF($C259=\"\",\"\",Simulação!AF259)","v":34.388240562009656},{"$f":"IF($C259=\"\",\"\",Simulação!AG259)","v":"-"},{"$f":"IF($C259=\"\",\"\",Simulação!AH259)","v":29.236023829000793},{"$f":"IF($C259=\"\",\"\",Simulação!AI259)","v":"-"},{"$f":"IF($C259=\"\",\"\",Simulação!AJ259)","v":33.045125393740342},{"$f":"IF($C259=\"\",\"\",Simulação!AK259)","v":"-"},{"$f":"IF($C259=\"\",\"\",Simulação!AL259)","v":32.02721881559642},{"$f":"IF($C259=\"\",\"\",Simulação!AM259)","v":"-"},{"$f":"IF($C259=\"\",\"\",Simulação!AN259)","v":32.217563507182206},{"$f":"IF($C259=\"\",\"\",Simulação!AO259)","v":"-"},{"$f":"IF($C259=\"\",\"\",Simulação!AP259)","v":36.406016086434107},{"$f":"IF($C259=\"\",\"\",Simulação!AQ259)","v":"-"},{"$f":"IF($C259=\"\",\"\",Simulação!AR259)","v":0}]
[null,253,{"$f":"IF(Chegadas!J261<=$C$5,Chegadas!J261,\"\")","v":226.98000000000013},{"$f":"IF($C260=\"\",\"\",Simulação!D260)","v":8.3650373455323663},{"$f":"IF($C260=\"\",\"\",Simulação!E260)","v":"*"},{"$f":"IF($C260=\"\",\"\",Simulação!F260)","v":233.95896083677155},{"$f":"IF($C260=\"\",\"\",Simulação!G260)","v":"*"},{"$f":"IF($C260=\"\",\"\",Simulação!H260)","v":237.33404359839346},{"$f":"IF($C260=\"\",\"\",Simulação!I260)","v":"*"},{"$f":"IF($C260=\"\",\"\",Simulação!J260)","v":234.94838654843647},{"$f":"IF($C260=\"\",\"\",Simulação!K260)","v":"*"},{"$f":"IF($C260=\"\",\"\",Simulação!L260)","v":230.48173869889678},{"$f":"IF($C260=\"\",\"\",Simulação!M260)","v":"*"},{"$f":"IF($C260=\"\",\"\",Simulação!N260)","v":234.54924477792142},{"$f":"IF($C260=\"\",\"\",Simulação!O260)","v":"*"},{"$f":"IF($C260=\"\",\"\",Simulação!P260)","v":228.7755252820476},{"$f":"IF($C260=\"\",\"\",Simulação!Q260)","v":"*"},{"$f":"IF($C260=\"\",\"\",Simulação!R260)","v":228.10877078841719},{"$f":"IF($C260=\"\",\"\",Simulação!S260)","v":226.98000000000013},{"$f":"IF($C260=\"\",\"\",Simulação!T260)","v":235.34503734553249},{"$f":"IF($C260=\"\",\"\",Simulação!U260)","v":"-"},{"$f":"IF($C260=\"\",\"\",Simulação!V260)","v":216.5883250286189},{"$f":"IF($C260=\"\",\"\",Simulação!W260)","v":"-"},{"$f":"IF($C260=\"\",\"\",Simulação!X260)","v":205.45532561322904},{"$f":"IF($C260=\"\",\"\",Simulação!Y260)","v":"-"},{"$f":"IF($C260=\"\",\"\",Simulação!Z260)","v":216.41776036435695},{"$f":"IF($C260=\"\",\"\",Simulação!AA260)","v":"-"},{"$f":"IF($C260=\"\",\"\",Simulação!AB260)","v":136.83060944284537},{"$f":"IF($C260=\"\",\"\",Simulação!AC260)","v":"-"},{"$f":"IF($C260=\"\",\"\",Simulação!AD260)","v":140.66887446424042},{"$f":"IF($C260=\"\",\"\",Simulação!AE260)","v":"-"},{"$f":"IF($C260=\"\",\"\",Simulação!AF260)","v":34.388240562009656},{"$f":"IF($C260=\"\",\"\",Simulação!AG260)","v":"-"},{"$f":"IF($C260=\"\",\"\",Simulação!AH260)","v":29.236023829000793},{"$f":"IF($C260=\"\",\"\",Simulação!AI260)","v":"-"},{"$f":"IF($C260=\"\",\"\",Simulação!AJ260)","v":33.045125393740342},{"$f":"IF($C260=\"\",\"\",Simulação!AK260)","v":"-"},{"$f":"IF($C260=\"\",\"\",Simulação!AL260)","v":32.02721881559642},{"$f":"IF($C260=\"\",\"\",Simulação!AM260)","v":"-"},{"$f":"IF($C260=\"\",\"\",Simulação!AN260)","v":32.217563507182206},{"$f":"IF($C260=\"\",\"\",Simulação!AO260)","v":"-"},{"$f":"IF($C260=\"\",\"\",Simulação!AP260)","v":36.406016086434107},{"$f":"IF($C260=\"\",\"\",Simulação!AQ260)","v":"-"},{"$f":"IF($C260=\"\",\"\",Simulação!AR260)","v":0}]
[null,254,{"$f":"IF(Chegadas!J262<=$C$5,Chegadas!J262,\"\")","v":228.45000000000013},{"$f":"IF($C261=\"\",\"\",Simulação!D261)","v":2.3066866298188247},{"$f":"IF($C261=\"\",\"\",Simulação!E261)","v":"*"},{"$f":"IF($C261=\"\",\"\",Simulação!F261)","v":233.95896083677155},{"$f":"IF($C261=\"\",\"\",Simulação!G261)","v":"*"},{"$f":"IF($C261=\"\",\"\",Simulação!H261)","v":237.33404359839346},{"$f":"IF($C261=\"\",\"\",Simulação!I261)","v":"*"},{"$f":"IF($C261=\"\",\"\",Simulação!J261)","v":234.94838654843647},{"$f":"IF($C261=\"\",\"\",Simulação!K261)","v":"*"},{"$f":"IF($C261=\"\",\"\",Simulação!L261)","v":230.48173869889678},{"$f":"IF($C261=\"\",\"\",Simulação!M261)","v":"*"},{"$f":"IF($C261=\"\",\"\",Simulação!N261)","v":234.54924477792142},{"$f":"IF($C261=\"\",\"\",Simulação!O261)","v":"*"},{"$f":"IF($C261=\"\",\"\",Simulação!P261)","v":228.7755252820476},{"$f":"IF($C261=\"\",\"\",Simulação!Q261)","v":228.45000000000013},{"$f":"IF($C261=\"\",\"\",Simulação!R261)","v":230.75668662981894},{"$f":"IF($C261=\"\",\"\",Simulação!S261)","v":"-"},{"$f":"IF($C261=\"\",\"\",Simulação!T261)","v":235.34503734553249},{"$f":"IF($C261=\"\",\"\",Simulação!U261)","v":"-"},{"$f":"IF($C261=\"\",\"\",Simulação!V261)","v":216.5883250286189},{"$f":"IF($C261=\"\",\"\",Simulação!W261)","v":"-"},{"$f":"IF($C261=\"\",\"\",Simulação!X261)","v":205.45532561322904},{"$f":"IF($C261=\"\",\"\",Simulação!Y261)","v":"-"},{"$f":"IF($C261=\"\",\"\",Simulação!Z261)","v":216.41776036435695},{"$f":"IF($C261=\"\",\"\",Simulação!AA261)","v":"-"},{"$f":"IF($C261=\"\",\"\",Simulação!AB261)","v":136.83060944284537},{"$f":"IF($C261=\"\",\"\",Simulação!AC261)","v":"-"},{"$f":"IF($C261=\"\",\"\",Simulação!AD261)","v":140.66887446424042},{"$f":"IF($C261=\"\",\"\",Simulação!AE261)","v":"-"},{"$f":"IF($C261=\"\",\"\",Simulação!AF261)","v":34.388240562009656},{"$f":"IF($C261=\"\",\"\",Simulação!AG261)","v":"-"},{"$f":"IF($C261=\"\",\"\",Simulação!AH261)","v":29.236023829000793},{"$f":"IF($C261=\"\",\"\",Simulação!AI261)","v":"-"},{"$f":"IF($C261=\"\",\"\",Simulação!AJ261)","v":33.045125393740342},{"$f":"IF($C261=\"\",\"\",Simulação!AK261)","v":"-"},{"$f":"IF($C261=\"\",\"\",Simulação!AL261)","v":32.02721881559642},{"$f":"IF($C261=\"\",\"\",Simulação!AM261)","v":"-"},{"$f":"IF($C261=\"\",\"\",Simulação!AN261)","v":32.217563507182206},{"$f":"IF($C261=\"\",\"\",Simulação!AO261)","v":"-"},{"$f":"IF($C261=\"\",\"\",Simulação!AP261)","v":36.406016086434107},{"$f":"IF($C261=\"\",\"\",Simulação!AQ261)","v":"-"},{"$f":"IF($C261=\"\",\"\",Simulação!AR261)","v":0}]
[null,255,{"$f":"IF(Chegadas!J263<=$C$5,Chegadas!J263,\"\")","v":229.81000000000014},{"$f":"IF($C262=\"\",\"\",Simulação!D262)","v":4.3077443509182221},{"$f":"IF($C262=\"\",\"\",Simulação!E262)","v":"*"},{"$f":"IF($C262=\"\",\"\",Simulação!F262)","v":233.95896083677155},{"$f":"IF($C262=\"\",\"\",Simulação!G262)","v":"*"},{"$f":"IF($C262=\"\",\"\",Simulação!H262)","v":237.33404359839346},{"$f":"IF($C262=\"\",\"\",Simulação!I262)","v":"*"},{"$f":"IF($C262=\"\",\"\",Simulação!J262)","v":234.94838654843647},{"$f":"IF($C262=\"\",\"\",Simulação!K262)","v":"*"},{"$f":"IF($C262=\"\",\"\",Simulação!L262)","v":230.48173869889678},{"$f":"IF($C262=\"\",\"\",Simulação!M262)","v":"*"},{"$f":"IF($C262=\"\",\"\",Simulação!N262)","v":234.54924477792142},{"$f":"IF($C262=\"\",\"\",Simulação!O262)","v":229.81000000000014},{"$f":"IF($C262=\"\",\"\",Simulação!P262)","v":234.11774435091837},{"$f":"IF($C262=\"\",\"\",Simulação!Q262)","v":"-"},{"$f":"IF($C262=\"\",\"\",Simulação!R262)","v":230.75668662981894},{"$f":"IF($C262=\"\",\"\",Simulação!S262)","v":"-"},{"$f":"IF($C262=\"\",\"\",Simulação!T262)","v":235.34503734553249},{"$f":"IF($C262=\"\",\"\",Simulação!U262)","v":"-"},{"$f":"IF($C262=\"\",\"\",Simulação!V262)","v":216.5883250286189},{"$f":"IF($C262=\"\",\"\",Simulação!W262)","v":"-"},{"$f":"IF($C262=\"\",\"\",Simulação!X262)","v":205.45532561322904},{"$f":"IF($C262=\"\",\"\",Simulação!Y262)","v":"-"},{"$f":"IF($C262=\"\",\"\",Simulação!Z262)","v":216.41776036435695},{"$f":"IF($C262=\"\",\"\",Simulação!AA262)","v":"-"},{"$f":"IF($C262=\"\",\"\",Simulação!AB262)","v":136.83060944284537},{"$f":"IF($C262=\"\",\"\",Simulação!AC262)","v":"-"},{"$f":"IF($C262=\"\",\"\",Simulação!AD262)","v":140.66887446424042},{"$f":"IF($C262=\"\",\"\",Simulação!AE262)","v":"-"},{"$f":"IF($C262=\"\",\"\",Simulação!AF262)","v":34.388240562009656},{"$f":"IF($C262=\"\",\"\",Simulação!AG262)","v":"-"},{"$f":"IF($C262=\"\",\"\",Simulação!AH262)","v":29.236023829000793},{"$f":"IF($C262=\"\",\"\",Simulação!AI262)","v":"-"},{"$f":"IF($C262=\"\",\"\",Simulação!AJ262)","v":33.045125393740342},{"$f":"IF($C262=\"\",\"\",Simulação!AK262)","v":"-"},{"$f":"IF($C262=\"\",\"\",Simulação!AL262)","v":32.02721881559642},{"$f":"IF($C262=\"\",\"\",Simulação!AM262)","v":"-"},{"$f":"IF($C262=\"\",\"\",Simulação!AN262)","v":32.217563507182206},{"$f":"IF($C262=\"\",\"\",Simulação!AO262)","v":"-"},{"$f":"IF($C262=\"\",\"\",Simulação!AP262)","v":36.406016086434107},{"$f":"IF($C262=\"\",\"\",Simulação!AQ262)","v":"-"},{"$f":"IF($C262=\"\",\"\",Simulação!AR262)","v":0}]
[null,256,{"$f":"IF(Chegadas!J264<=$C$5,Chegadas!J264,\"\")","v":229.99000000000015},{"$f":"IF($C263=\"\",\"\",Simulação!D263)","v":7.0293658870627684},{"$f":"IF($C263=\"\",\"\",Simulação!E263)","v":"*"},{"$f":"IF($C263=\"\",\"\",Simulação!F263)","v":233.95896083677155},{"$f":"IF($C263=\"\",\"\",Simulação!G263)","v":"*"},{"$f":"IF($C263=\"\",\"\",Simulação!H263)","v":237.33404359839346},{"$f":"IF($C263=\"\",\"\",Simulação!I263)","v":"*"},{"$f":"IF($C263=\"\",\"\",Simulação!J263)","v":234.94838654843647},{"$f":"IF($C263=\"\",\"\",Simulação!K263)","v":"*"},{"$f":"IF($C263=\"\",\"\",Simulação!L263)","v":230.48173869889678},{"$f":"IF($C263=\"\",\"\",Simulação!M263)","v":"*"},{"$f":"IF($C263=\"\",\"\",Simulação!N263)","v":234.54924477792142},{"$f":"IF($C263=\"\",\"\",Simulação!O263)","v":"*"},{"$f":"IF($C263=\"\",\"\",Simulação!P263)","v":234.11774435091837},{"$f":"IF($C263=\"\",\"\",Simulação!Q263)","v":"*"},{"$f":"IF($C263=\"\",\"\",Simulação!R263)","v":230.75668662981894},{"$f":"IF($C263=\"\",\"\",Simulação!S263)","v":"*"},{"$f":"IF($C263=\"\",\"\",Simulação!T263)","v":235.34503734553249},{"$f":"IF($C263=\"\",\"\",Simulação!U263)","v":229.99000000000015},{"$f":"IF($C263=\"\",\"\",Simulação!V263)","v":237.01936588706292},{"$f":"IF($C263=\"\",\"\",Simulação!W263)","v":"-"},{"$f":"IF($C263=\"\",\"\",Simulação!X263)","v":205.45532561322904},{"$f":"IF($C263=\"\",\"\",Simulação!Y263)","v":"-"},{"$f":"IF($C263=\"\",\"\",Simulação!Z263)","v":216.41776036435695},{"$f":"IF($C263=\"\",\"\",Simulação!AA263)","v":"-"},{"$f":"IF($C263=\"\",\"\",Simulação!AB263)","v":136.83060944284537},{"$f":"IF($C263=\"\",\"\",Simulação!AC263)","v":"-"},{"$f":"IF($C263=\"\",\"\",Simulação!AD263)","v":140.66887446424042},{"$f":"IF($C263=\"\",\"\",Simulação!AE263)","v":"-"},{"$f":"IF($C263=\"\",\"\",Simulação!AF263)","v":34.388240562009656},{"$f":"IF($C263=\"\",\"\",Simulação!AG263)","v":"-"},{"$f":"IF($C263=\"\",\"\",Simulação!AH263)","v":29.236023829000793},{"$f":"IF($C263=\"\",\"\",Simulação!AI263)","v":"-"},{"$f":"IF($C263=\"\",\"\",Simulação!AJ263)","v":33.045125393740342},{"$f":"IF($C263=\"\",\"\",Simulação!AK263)","v":"-"},{"$f":"IF($C263=\"\",\"\",Simulação!AL263)","v":32.02721881559642},{"$f":"IF($C263=\"\",\"\",Simulação!AM263)","v":"-"},{"$f":"IF($C263=\"\",\"\",Simulação!AN263)","v":32.217563507182206},{"$f":"IF($C263=\"\",\"\",Simulação!AO263)","v":"-"},{"$f":"IF($C263=\"\",\"\",Simulação!AP263)","v":36.406016086434107},{"$f":"IF($C263=\"\",\"\",Simulação!AQ263)","v":"-"},{"$f":"IF($C263=\"\",\"\",Simulação!AR263)","v":0}]
[null,257,{"$f":"IF(Chegadas!J265<=$C$5,Chegadas!J265,\"\")","v":231.54000000000016},{"$f":"IF($C264=\"\",\"\",Simulação!D264)","v":5.8260904169493948},{"$f":"IF($C264=\"\",\"\",Simulação!E264)","v":"*"},{"$f":"IF($C264=\"\",\"\",Simulação!F264)","v":233.95896083677155},{"$f":"IF($C264=\"\",\"\",Simulação!G264)","v":"*"},{"$f":"IF($C264=\"\",\"\",Simulação!H264)","v":237.33404359839346},{"$f":"IF($C264=\"\",\"\",Simulação!I264)","v":"*"},{"$f":"IF($C264=\"\",\"\",Simulação!J264)","v":234.94838654843647},{"$f":"IF($C264=\"\",\"\",Simulação!K264)","v":231.54000000000016},{"$f":"IF($C264=\"\",\"\",Simulação!L264)","v":237.36609041694956},{"$f":"IF($C264=\"\",\"\",Simulação!M264)","v":"-"},{"$f":"IF($C264=\"\",\"\",Simulação!N264)","v":234.54924477792142},{"$f":"IF($C264=\"\",\"\",Simulação!O264)","v":"-"},{"$f":"IF($C264=\"\",\"\",Simulação!P264)","v":234.11774435091837},{"$f":"IF($C264=\"\",\"\",Simulação!Q264)","v":"-"},{"$f":"IF($C264=\"\",\"\",Simulação!R264)","v":230.75668662981894},{"$f":"IF($C264=\"\",\"\",Simulação!S264)","v":"-"},{"$f":"IF($C264=\"\",\"\",Simulação!T264)","v":235.34503734553249},{"$f":"IF($C264=\"\",\"\",Simulação!U264)","v":"-"},{"$f":"IF($C264=\"\",\"\",Simulação!V264)","v":237.01936588706292},{"$f":"IF($C264=\"\",\"\",Simulação!W264)","v":"-"},{"$f":"IF($C264=\"\",\"\",Simulação!X264)","v":205.45532561322904},{"$f":"IF($C264=\"\",\"\",Simulação!Y264)","v":"-"},{"$f":"IF($C264=\"\",\"\",Simulação!Z264)","v":216.41776036435695},{"$f":"IF($C264=\"\",\"\",Simulação!AA264)","v":"-"},{"$f":"IF($C264=\"\",\"\",Simulação!AB264)","v":136.83060944284537},{"$f":"IF($C264=\"\",\"\",Simulação!AC264)","v":"-"},{"$f":"IF($C264=\"\",\"\",Simulação!AD264)","v":140.66887446424042},{"$f":"IF($C264=\"\",\"\",Simulação!AE264)","v":"-"},{"$f":"IF($C264=\"\",\"\",Simulação!AF264)","v":34.388240562009656},{"$f":"IF($C264=\"\",\"\",Simulação!AG264)","v":"-"},{"$f":"IF($C264=\"\",\"\",Simulação!AH264)","v":29.236023829000793},{"$f":"IF($C264=\"\",\"\",Simulação!AI264)","v":"-"},{"$f":"IF($C264=\"\",\"\",Simulação!AJ264)","v":33.045125393740342},{"$f":"IF($C264=\"\",\"\",Simulação!AK264)","v":"-"},{"$f":"IF($C264=\"\",\"\",Simulação!AL264)","v":32.02721881559642},{"$f":"IF($C264=\"\",\"\",Simulação!AM264)","v":"-"},{"$f":"IF($C264=\"\",\"\",Simulação!AN264)","v":32.217563507182206},{"$f":"IF($C264=\"\",\"\",Simulação!AO264)","v":"-"},{"$f":"IF($C264=\"\",\"\",Simulação!AP264)","v":36.406016086434107},{"$f":"IF($C264=\"\",\"\",Simulação!AQ264)","v":"-"},{"$f":"IF($C264=\"\",\"\",Simulação!AR264)","v":0}]
[null,258,{"$f":"IF(Chegadas!J266<=$C$5,Chegadas!J266,\"\")","v":232.71000000000015},{"$f":"IF($C265=\"\",\"\",Simulação!D265)","v":7.2947527183305585},{"$f":"IF($C265=\"\",\"\",Simulação!E265)","v":"*"},{"$f":"IF($C265=\"\",\"\",Simulação!F265)","v":233.95896083677155},{"$f":"IF($C265=\"\",\"\",Simulação!G265)","v":"*"},{"$f":"IF($C265=\"\",\"\",Simulação!H265)","v":237.33404359839346},{"$f":"IF($C265=\"\",\"\",Simulação!I265)","v":"*"},{"$f":"IF($C265=\"\",\"\",Simulação!J265)","v":234.94838654843647},{"$f":"IF($C265=\"\",\"\",Simulação!K265)","v":"*"},{"$f":"IF($C265=\"\",\"\",Simulação!L265)","v":237.36609041694956},{"$f":"IF($C265=\"\",\"\",Simulação!M265)","v":"*"},{"$f":"IF($C265=\"\",\"\",Simulação!N265)","v":234.54924477792142},{"$f":"IF($C265=\"\",\"\",Simulação!O265)","v":"*"},{"$f":"IF($C265=\"\",\"\",Simulação!P265)","v":234.11774435091837},{"$f":"IF($C265=\"\",\"\",Simulação!Q265)","v":232.71000000000015},{"$f":"IF($C265=\"\",\"\",Simulação!R265)","v":240.00475271833071},{"$f":"IF($C265=\"\",\"\",Simulação!S265)","v":"-"},{"$f":"IF($C265=\"\",\"\",Simulação!T265)","v":235.34503734553249},{"$f":"IF($C265=\"\",\"\",Simulação!U265)","v":"-"},{"$f":"IF($C265=\"\",\"\",Simulação!V265)","v":237.01936588706292},{"$f":"IF($C265=\"\",\"\",Simulação!W265)","v":"-"},{"$f":"IF($C265=\"\",\"\",Simulação!X265)","v":205.45532561322904},{"$f":"IF($C265=\"\",\"\",Simulação!Y265)","v":"-"},{"$f":"IF($C265=\"\",\"\",Simulação!Z265)","v":216.41776036435695},{"$f":"IF($C265=\"\",\"\",Simulação!AA265)","v":"-"},{"$f":"IF($C265=\"\",\"\",Simulação!AB265)","v":136.83060944284537},{"$f":"IF($C265=\"\",\"\",Simulação!AC265)","v":"-"},{"$f":"IF($C265=\"\",\"\",Simulação!AD265)","v":140.66887446424042},{"$f":"IF($C265=\"\",\"\",Simulação!AE265)","v":"-"},{"$f":"IF($C265=\"\",\"\",Simulação!AF265)","v":34.388240562009656},{"$f":"IF($C265=\"\",\"\",Simulação!AG265)","v":"-"},{"$f":"IF($C265=\"\",\"\",Simulação!AH265)","v":29.236023829000793},{"$f":"IF($C265=\"\",\"\",Simulação!AI265)","v":"-"},{"$f":"IF($C265=\"\",\"\",Simulação!AJ265)","v":33.045125393740342},{"$f":"IF($C265=\"\",\"\",Simulação!AK265)","v":"-"},{"$f":"IF($C265=\"\",\"\",Simulação!AL265)","v":32.02721881559642},{"$f":"IF($C265=\"\",\"\",Simulação!AM265)","v":"-"},{"$f":"IF($C265=\"\",\"\",Simulação!AN265)","v":32.217563507182206},{"$f":"IF($C265=\"\",\"\",Simulação!AO265)","v":"-"},{"$f":"IF($C265=\"\",\"\",Simulação!AP265)","v":36.406016086434107},{"$f":"IF($C265=\"\",\"\",Simulação!AQ265)","v":"-"},{"$f":"IF($C265=\"\",\"\",Simulação!AR265)","v":0}]
[null,259,{"$f":"IF(Chegadas!J267<=$C$5,Chegadas!J267,\"\")","v":236.66000000000014},{"$f":"IF($C266=\"\",\"\",Simulação!D266)","v":4.7219144115925999},{"$f":"IF($C266=\"\",\"\",Simulação!E266)","v":236.66000000000014},{"$f":"IF($C266=\"\",\"\",Simulação!F266)","v":241.38191441159273},{"$f":"IF($C266=\"\",\"\",Simulação!G266)","v":"-"},{"$f":"IF($C266=\"\",\"\",Simulação!H266)","v":237.33404359839346},{"$f":"IF($C266=\"\",\"\",Simulação!I266)","v":"-"},{"$f":"IF($C266=\"\",\"\",Simulação!J266)","v":234.94838654843647},{"$f":"IF($C266=\"\",\"\",Simulação!K266)","v":"-"},{"$f":"IF($C266=\"\",\"\",Simulação!L266)","v":237.36609041694956},{"$f":"IF($C266=\"\",\"\",Simulação!M266)","v":"-"},{"$f":"IF($C266=\"\",\"\",Simulação!N266)","v":234.54924477792142},{"$f":"IF($C266=\"\",\"\",Simulação!O266)","v":"-"},{"$f":"IF($C266=\"\",\"\",Simulação!P266)","v":234.11774435091837},{"$f":"IF($C266=\"\",\"\",Simulação!Q266)","v":"-"},{"$f":"IF($C266=\"\",\"\",Simulação!R266)","v":240.00475271833071},{"$f":"IF($C266=\"\",\"\",Simulação!S266)","v":"-"},{"$f":"IF($C266=\"\",\"\",Simulação!T266)","v":235.34503734553249},{"$f":"IF($C266=\"\",\"\",Simulação!U266)","v":"-"},{"$f":"IF($C266=\"\",\"\",Simulação!V266)","v":237.01936588706292},{"$f":"IF($C266=\"\",\"\",Simulação!W266)","v":"-"},{"$f":"IF($C266=\"\",\"\",Simulação!X266)","v":205.45532561322904},{"$f":"IF($C266=\"\",\"\",Simulação!Y266)","v":"-"},{"$f":"IF($C266=\"\",\"\",Simulação!Z266)","v":216.41776036435695},{"$f":"IF($C266=\"\",\"\",Simulação!AA266)","v":"-"},{"$f":"IF($C266=\"\",\"\",Simulação!AB266)","v":136.83060944284537},{"$f":"IF($C266=\"\",\"\",Simulação!AC266)","v":"-"},{"$f":"IF($C266=\"\",\"\",Simulação!AD266)","v":140.66887446424042},{"$f":"IF($C266=\"\",\"\",Simulação!AE266)","v":"-"},{"$f":"IF($C266=\"\",\"\",Simulação!AF266)","v":34.388240562009656},{"$f":"IF($C266=\"\",\"\",Simulação!AG266)","v":"-"},{"$f":"IF($C266=\"\",\"\",Simulação!AH266)","v":29.236023829000793},{"$f":"IF($C266=\"\",\"\",Simulação!AI266)","v":"-"},{"$f":"IF($C266=\"\",\"\",Simulação!AJ266)","v":33.045125393740342},{"$f":"IF($C266=\"\",\"\",Simulação!AK266)","v":"-"},{"$f":"IF($C266=\"\",\"\",Simulação!AL266)","v":32.02721881559642},{"$f":"IF($C266=\"\",\"\",Simulação!AM266)","v":"-"},{"$f":"IF($C266=\"\",\"\",Simulação!AN266)","v":32.217563507182206},{"$f":"IF($C266=\"\",\"\",Simulação!AO266)","v":"-"},{"$f":"IF($C266=\"\",\"\",Simulação!AP266)","v":36.406016086434107},{"$f":"IF($C266=\"\",\"\",Simulação!AQ266)","v":"-"},{"$f":"IF($C266=\"\",\"\",Simulação!AR266)","v":0}]
[null,260,{"$f":"IF(Chegadas!J268<=$C$5,Chegadas!J268,\"\")","v":236.93000000000015},{"$f":"IF($C267=\"\",\"\",Simulação!D267)","v":11.181766288475131},{"$f":"IF($C267=\"\",\"\",Simulação!E267)","v":"*"},{"$f":"IF($C267=\"\",\"\",Simulação!F267)","v":241.38191441159273},{"$f":"IF($C267=\"\",\"\",Simulação!G267)","v":"*"},{"$f":"IF($C267=\"\",\"\",Simulação!H267)","v":237.33404359839346},{"$f":"IF($C267=\"\",\"\",Simulação!I267)","v":236.93000000000015},{"$f":"IF($C267=\"\",\"\",Simulação!J267)","v":248.11176628847528},{"$f":"IF($C267=\"\",\"\",Simulação!K267)","v":"-"},{"$f":"IF($C267=\"\",\"\",Simulação!L267)","v":237.36609041694956},{"$f":"IF($C267=\"\",\"\",Simulação!M267)","v":"-"},{"$f":"IF($C267=\"\",\"\",Simulação!N267)","v":234.54924477792142},{"$f":"IF($C267=\"\",\"\",Simulação!O267)","v":"-"},{"$f":"IF($C267=\"\",\"\",Simulação!P267)","v":234.11774435091837},{"$f":"IF($C267=\"\",\"\",Simulação!Q267)","v":"-"},{"$f":"IF($C267=\"\",\"\",Simulação!R267)","v":240.00475271833071},{"$f":"IF($C267=\"\",\"\",Simulação!S267)","v":"-"},{"$f":"IF($C267=\"\",\"\",Simulação!T267)","v":235.34503734553249},{"$f":"IF($C267=\"\",\"\",Simulação!U267)","v":"-"},{"$f":"IF($C267=\"\",\"\",Simulação!V267)","v":237.01936588706292},{"$f":"IF($C267=\"\",\"\",Simulação!W267)","v":"-"},{"$f":"IF($C267=\"\",\"\",Simulação!X267)","v":205.45532561322904},{"$f":"IF($C267=\"\",\"\",Simulação!Y267)","v":"-"},{"$f":"IF($C267=\"\",\"\",Simulação!Z267)","v":216.41776036435695},{"$f":"IF($C267=\"\",\"\",Simulação!AA267)","v":"-"},{"$f":"IF($C267=\"\",\"\",Simulação!AB267)","v":136.83060944284537},{"$f":"IF($C267=\"\",\"\",Simulação!AC267)","v":"-"},{"$f":"IF($C267=\"\",\"\",Simulação!AD267)","v":140.66887446424042},{"$f":"IF($C267=\"\",\"\",Simulação!AE267)","v":"-"},{"$f":"IF($C267=\"\",\"\",Simulação!AF267)","v":34.388240562009656},{"$f":"IF($C267=\"\",\"\",Simulação!AG267)","v":"-"},{"$f":"IF($C267=\"\",\"\",Simulação!AH267)","v":29.236023829000793},{"$f":"IF($C267=\"\",\"\",Simulação!AI267)","v":"-"},{"$f":"IF($C267=\"\",\"\",Simulação!AJ267)","v":33.045125393740342},{"$f":"IF($C267=\"\",\"\",Simulação!AK267)","v":"-"},{"$f":"IF($C267=\"\",\"\",Simulação!AL267)","v":32.02721881559642},{"$f":"IF($C267=\"\",\"\",Simulação!AM267)","v":"-"},{"$f":"IF($C267=\"\",\"\",Simulação!AN267)","v":32.217563507182206},{"$f":"IF($C267=\"\",\"\",Simulação!AO267)","v":"-"},{"$f":"IF($C267=\"\",\"\",Simulação!AP267)","v":36.406016086434107},{"$f":"IF($C267=\"\",\"\",Simulação!AQ267)","v":"-"},{"$f":"IF($C267=\"\",\"\",Simulação!AR267)","v":0}]
[null,261,{"$f":"IF(Chegadas!J269<=$C$5,Chegadas!J269,\"\")","v":237.19000000000014},{"$f":"IF($C268=\"\",\"\",Simulação!D268)","v":12.468044423435657},{"$f":"IF($C268=\"\",\"\",Simulação!E268)","v":"*"},{"$f":"IF($C268=\"\",\"\",Simulação!F268)","v":241.38191441159273},{"$f":"IF($C268=\"\",\"\",Simulação!G268)","v":"*"},{"$f":"IF($C268=\"\",\"\",Simulação!H268)","v":237.33404359839346},{"$f":"IF($C268=\"\",\"\",Simulação!I268)","v":"*"},{"$f":"IF($C268=\"\",\"\",Simulação!J268)","v":248.11176628847528},{"$f":"IF($C268=\"\",\"\",Simulação!K268)","v":"*"},{"$f":"IF($C268=\"\",\"\",Simulação!L268)","v":237.36609041694956},{"$f":"IF($C268=\"\",\"\",Simulação!M268)","v":237.19000000000014},{"$f":"IF($C268=\"\",\"\",Simulação!N268)","v":249.6580444234358},{"$f":"IF($C268=\"\",\"\",Simulação!O268)","v":"-"},{"$f":"IF($C268=\"\",\"\",Simulação!P268)","v":234.11774435091837},{"$f":"IF($C268=\"\",\"\",Simulação!Q268)","v":"-"},{"$f":"IF($C268=\"\",\"\",Simulação!R268)","v":240.00475271833071},{"$f":"IF($C268=\"\",\"\",Simulação!S268)","v":"-"},{"$f":"IF($C268=\"\",\"\",Simulação!T268)","v":235.34503734553249},{"$f":"IF($C268=\"\",\"\",Simulação!U268)","v":"-"},{"$f":"IF($C268=\"\",\"\",Simulação!V268)","v":237.01936588706292},{"$f":"IF($C268=\"\",\"\",Simulação!W268)","v":"-"},{"$f":"IF($C268=\"\",\"\",Simulação!X268)","v":205.45532561322904},{"$f":"IF($C268=\"\",\"\",Simulação!Y268)","v":"-"},{"$f":"IF($C268=\"\",\"\",Simulação!Z268)","v":216.41776036435695},{"$f":"IF($C268=\"\",\"\",Simulação!AA268)","v":"-"},{"$f":"IF($C268=\"\",\"\",Simulação!AB268)","v":136.83060944284537},{"$f":"IF($C268=\"\",\"\",Simulação!AC268)","v":"-"},{"$f":"IF($C268=\"\",\"\",Simulação!AD268)","v":140.66887446424042},{"$f":"IF($C268=\"\",\"\",Simulação!AE268)","v":"-"},{"$f":"IF($C268=\"\",\"\",Simulação!AF268)","v":34.388240562009656},{"$f":"IF($C268=\"\",\"\",Simulação!AG268)","v":"-"},{"$f":"IF($C268=\"\",\"\",Simulação!AH268)","v":29.236023829000793},{"$f":"IF($C268=\"\",\"\",Simulação!AI268)","v":"-"},{"$f":"IF($C268=\"\",\"\",Simulação!AJ268)","v":33.045125393740342},{"$f":"IF($C268=\"\",\"\",Simulação!AK268)","v":"-"},{"$f":"IF($C268=\"\",\"\",Simulação!AL268)","v":32.02721881559642},{"$f":"IF($C268=\"\",\"\",Simulação!AM268)","v":"-"},{"$f":"IF($C268=\"\",\"\",Simulação!AN268)","v":32.217563507182206},{"$f":"IF($C268=\"\",\"\",Simulação!AO268)","v":"-"},{"$f":"IF($C268=\"\",\"\",Simulação!AP268)","v":36.406016086434107},{"$f":"IF($C268=\"\",\"\",Simulação!AQ268)","v":"-"},{"$f":"IF($C268=\"\",\"\",Simulação!AR268)","v":0}]
[null,262,{"$f":"IF(Chegadas!J270<=$C$5,Chegadas!J270,\"\")","v":237.77000000000015},{"$f":"IF($C269=\"\",\"\",Simulação!D269)","v":7.6511683244154396},{"$f":"IF($C269=\"\",\"\",Simulação!E269)","v":"*"},{"$f":"IF($C269=\"\",\"\",Simulação!F269)","v":241.38191441159273},{"$f":"IF($C269=\"\",\"\",Simulação!G269)","v":237.77000000000015},{"$f":"IF($C269=\"\",\"\",Simulação!H269)","v":245.42116832441559},{"$f":"IF($C269=\"\",\"\",Simulação!I269)","v":"-"},{"$f":"IF($C269=\"\",\"\",Simulação!J269)","v":248.11176628847528},{"$f":"IF($C269=\"\",\"\",Simulação!K269)","v":"-"},{"$f":"IF($C269=\"\",\"\",Simulação!L269)","v":237.36609041694956},{"$f":"IF($C269=\"\",\"\",Simulação!M269)","v":"-"},{"$f":"IF($C269=\"\",\"\",Simulação!N269)","v":249.6580444234358},{"$f":"IF($C269=\"\",\"\",Simulação!O269)","v":"-"},{"$f":"IF($C269=\"\",\"\",Simulação!P269)","v":234.11774435091837},{"$f":"IF($C269=\"\",\"\",Simulação!Q269)","v":"-"},{"$f":"IF($C269=\"\",\"\",Simulação!R269)","v":240.00475271833071},{"$f":"IF($C269=\"\",\"\",Simulação!S269)","v":"-"},{"$f":"IF($C269=\"\",\"\",Simulação!T269)","v":235.34503734553249},{"$f":"IF($C269=\"\",\"\",Simulação!U269)","v":"-"},{"$f":"IF($C269=\"\",\"\",Simulação!V269)","v":237.01936588706292},{"$f":"IF($C269=\"\",\"\",Simulação!W269)","v":"-"},{"$f":"IF($C269=\"\",\"\",Simulação!X269)","v":205.45532561322904},{"$f":"IF($C269=\"\",\"\",Simulação!Y269)","v":"-"},{"$f":"IF($C269=\"\",\"\",Simulação!Z269)","v":216.41776036435695},{"$f":"IF($C269=\"\",\"\",Simulação!AA269)","v":"-"},{"$f":"IF($C269=\"\",\"\",Simulação!AB269)","v":136.83060944284537},{"$f":"IF($C269=\"\",\"\",Simulação!AC269)","v":"-"},{"$f":"IF($C269=\"\",\"\",Simulação!AD269)","v":140.66887446424042},{"$f":"IF($C269=\"\",\"\",Simulação!AE269)","v":"-"},{"$f":"IF($C269=\"\",\"\",Simulação!AF269)","v":34.388240562009656},{"$f":"IF($C269=\"\",\"\",Simulação!AG269)","v":"-"},{"$f":"IF($C269=\"\",\"\",Simulação!AH269)","v":29.236023829000793},{"$f":"IF($C269=\"\",\"\",Simulação!AI269)","v":"-"},{"$f":"IF($C269=\"\",\"\",Simulação!AJ269)","v":33.045125393740342},{"$f":"IF($C269=\"\",\"\",Simulação!AK269)","v":"-"},{"$f":"IF($C269=\"\",\"\",Simulação!AL269)","v":32.02721881559642},{"$f":"IF($C269=\"\",\"\",Simulação!AM269)","v":"-"},{"$f":"IF($C269=\"\",\"\",Simulação!AN269)","v":32.217563507182206},{"$f":"IF($C269=\"\",\"\",Simulação!AO269)","v":"-"},{"$f":"IF($C269=\"\",\"\",Simulação!AP269)","v":36.406016086434107},{"$f":"IF($C269=\"\",\"\",Simulação!AQ269)","v":"-"},{"$f":"IF($C269=\"\",\"\",Simulação!AR269)","v":0}]
[null,263,{"$f":"IF(Chegadas!J271<=$C$5,Chegadas!J271,\"\")","v":239.38000000000017},{"$f":"IF($C270=\"\",\"\",Simulação!D270)","v":5.0077863597757908},{"$f":"IF($C270=\"\",\"\",Simulação!E270)","v":"*"},{"$f":"IF($C270=\"\",\"\",Simulação!F270)","v":241.38191441159273},{"$f":"IF($C270=\"\",\"\",Simulação!G270)","v":"*"},{"$f":"IF($C270=\"\",\"\",Simulação!H270)","v":245.42116832441559},{"$f":"IF($C270=\"\",\"\",Simulação!I270)","v":"*"},{"$f":"IF($C270=\"\",\"\",Simulação!J270)","v":248.11176628847528},{"$f":"IF($C270=\"\",\"\",Simulação!K270)","v":239.38000000000017},{"$f":"IF($C270=\"\",\"\",Simulação!L270)","v":244.38778635977596},{"$f":"IF($C270=\"\",\"\",Simulação!M270)","v":"-"},{"$f":"IF($C270=\"\",\"\",Simulação!N270)","v":249.6580444234358},{"$f":"IF($C270=\"\",\"\",Simulação!O270)","v":"-"},{"$f":"IF($C270=\"\",\"\",Simulação!P270)","v":234.11774435091837},{"$f":"IF($C270=\"\",\"\",Simulação!Q270)","v":"-"},{"$f":"IF($C270=\"\",\"\",Simulação!R270)","v":240.00475271833071},{"$f":"IF($C270=\"\",\"\",Simulação!S270)","v":"-"},{"$f":"IF($C270=\"\",\"\",Simulação!T270)","v":235.34503734553249},{"$f":"IF($C270=\"\",\"\",Simulação!U270)","v":"-"},{"$f":"IF($C270=\"\",\"\",Simulação!V270)","v":237.01936588706292},{"$f":"IF($C270=\"\",\"\",Simulação!W270)","v":"-"},{"$f":"IF($C270=\"\",\"\",Simulação!X270)","v":205.45532561322904},{"$f":"IF($C270=\"\",\"\",Simulação!Y270)","v":"-"},{"$f":"IF($C270=\"\",\"\",Simulação!Z270)","v":216.41776036435695},{"$f":"IF($C270=\"\",\"\",Simulação!AA270)","v":"-"},{"$f":"IF($C270=\"\",\"\",Simulação!AB270)","v":136.83060944284537},{"$f":"IF($C270=\"\",\"\",Simulação!AC270)","v":"-"},{"$f":"IF($C270=\"\",\"\",Simulação!AD270)","v":140.66887446424042},{"$f":"IF($C270=\"\",\"\",Simulação!AE270)","v":"-"},{"$f":"IF($C270=\"\",\"\",Simulação!AF270)","v":34.388240562009656},{"$f":"IF($C270=\"\",\"\",Simulação!AG270)","v":"-"},{"$f":"IF($C270=\"\",\"\",Simulação!AH270)","v":29.236023829000793},{"$f":"IF($C270=\"\",\"\",Simulação!AI270)","v":"-"},{"$f":"IF($C270=\"\",\"\",Simulação!AJ270)","v":33.045125393740342},{"$f":"IF($C270=\"\",\"\",Simulação!AK270)","v":"-"},{"$f":"IF($C270=\"\",\"\",Simulação!AL270)","v":32.02721881559642},{"$f":"IF($C270=\"\",\"\",Simulação!AM270)","v":"-"},{"$f":"IF($C270=\"\",\"\",Simulação!AN270)","v":32.217563507182206},{"$f":"IF($C270=\"\",\"\",Simulação!AO270)","v":"-"},{"$f":"IF($C270=\"\",\"\",Simulação!AP270)","v":36.406016086434107},{"$f":"IF($C270=\"\",\"\",Simulação!AQ270)","v":"-"},{"$f":"IF($C270=\"\",\"\",Simulação!AR270)","v":0}]
[null,264,{"$f":"IF(Chegadas!J272<=$C$5,Chegadas!J272,\"\")","v":239.39000000000016},{"$f":"IF($C271=\"\",\"\",Simulação!D271)","v":4.0926471757072749},{"$f":"IF($C271=\"\",\"\",Simulação!E271)","v":"*"},{"$f":"IF($C271=\"\",\"\",Simulação!F271)","v":241.38191441159273},{"$f":"IF($C271=\"\",\"\",Simulação!G271)","v":"*"},{"$f":"IF($C271=\"\",\"\",Simulação!H271)","v":245.42116832441559},{"$f":"IF($C271=\"\",\"\",Simulação!I271)","v":"*"},{"$f":"IF($C271=\"\",\"\",Simulação!J271)","v":248.11176628847528},{"$f":"IF($C271=\"\",\"\",Simulação!K271)","v":"*"},{"$f":"IF($C271=\"\",\"\",Simulação!L271)","v":244.38778635977596},{"$f":"IF($C271=\"\",\"\",Simulação!M271)","v":"*"},{"$f":"IF($C271=\"\",\"\",Simulação!N271)","v":249.6580444234358},{"$f":"IF($C271=\"\",\"\",Simulação!O271)","v":239.39000000000016},{"$f":"IF($C271=\"\",\"\",Simulação!P271)","v":243.48264717570743},{"$f":"IF($C271=\"\",\"\",Simulação!Q271)","v":"-"},{"$f":"IF($C271=\"\",\"\",Simulação!R271)","v":240.00475271833071},{"$f":"IF($C271=\"\",\"\",Simulação!S271)","v":"-"},{"$f":"IF($C271=\"\",\"\",Simulação!T271)","v":235.34503734553249},{"$f":"IF($C271=\"\",\"\",Simulação!U271)","v":"-"},{"$f":"IF($C271=\"\",\"\",Simulação!V271)","v":237.01936588706292},{"$f":"IF($C271=\"\",\"\",Simulação!W271)","v":"-"},{"$f":"IF($C271=\"\",\"\",Simulação!X271)","v":205.45532561322904},{"$f":"IF($C271=\"\",\"\",Simulação!Y271)","v":"-"},{"$f":"IF($C271=\"\",\"\",Simulação!Z271)","v":216.41776036435695},{"$f":"IF($C271=\"\",\"\",Simulação!AA271)","v":"-"},{"$f":"IF($C271=\"\",\"\",Simulação!AB271)","v":136.83060944284537},{"$f":"IF($C271=\"\",\"\",Simulação!AC271)","v":"-"},{"$f":"IF($C271=\"\",\"\",Simulação!AD271)","v":140.66887446424042},{"$f":"IF($C271=\"\",\"\",Simulação!AE271)","v":"-"},{"$f":"IF($C271=\"\",\"\",Simulação!AF271)","v":34.388240562009656},{"$f":"IF($C271=\"\",\"\",Simulação!AG271)","v":"-"},{"$f":"IF($C271=\"\",\"\",Simulação!AH271)","v":29.236023829000793},{"$f":"IF($C271=\"\",\"\",Simulação!AI271)","v":"-"},{"$f":"IF($C271=\"\",\"\",Simulação!AJ271)","v":33.045125393740342},{"$f":"IF($C271=\"\",\"\",Simulação!AK271)","v":"-"},{"$f":"IF($C271=\"\",\"\",Simulação!AL271)","v":32.02721881559642},{"$f":"IF($C271=\"\",\"\",Simulação!AM271)","v":"-"},{"$f":"IF($C271=\"\",\"\",Simulação!AN271)","v":32.217563507182206},{"$f":"IF($C271=\"\",\"\",Simulação!AO271)","v":"-"},{"$f":"IF($C271=\"\",\"\",Simulação!AP271)","v":36.406016086434107},{"$f":"IF($C271=\"\",\"\",Simulação!AQ271)","v":"-"},{"$f":"IF($C271=\"\",\"\",Simulação!AR271)","v":0}]
[null,265,{"$f":"IF(Chegadas!J273<=$C$5,Chegadas!J273,\"\")","v":240.33000000000015},{"$f":"IF($C272=\"\",\"\",Simulação!D272)","v":9.2023244422265051},{"$f":"IF($C272=\"\",\"\",Simulação!E272)","v":"*"},{"$f":"IF($C272=\"\",\"\",Simulação!F272)","v":241.38191441159273},{"$f":"IF($C272=\"\",\"\",Simulação!G272)","v":"*"},{"$f":"IF($C272=\"\",\"\",Simulação!H272)","v":245.42116832441559},{"$f":"IF($C272=\"\",\"\",Simulação!I272)","v":"*"},{"$f":"IF($C272=\"\",\"\",Simulação!J272)","v":248.11176628847528},{"$f":"IF($C272=\"\",\"\",Simulação!K272)","v":"*"},{"$f":"IF($C272=\"\",\"\",Simulação!L272)","v":244.38778635977596},{"$f":"IF($C272=\"\",\"\",Simulação!M272)","v":"*"},{"$f":"IF($C272=\"\",\"\",Simulação!N272)","v":249.6580444234358},{"$f":"IF($C272=\"\",\"\",Simulação!O272)","v":"*"},{"$f":"IF($C272=\"\",\"\",Simulação!P272)","v":243.48264717570743},{"$f":"IF($C272=\"\",\"\",Simulação!Q272)","v":240.33000000000015},{"$f":"IF($C272=\"\",\"\",Simulação!R272)","v":249.53232444222667},{"$f":"IF($C272=\"\",\"\",Simulação!S272)","v":"-"},{"$f":"IF($C272=\"\",\"\",Simulação!T272)","v":235.34503734553249},{"$f":"IF($C272=\"\",\"\",Simulação!U272)","v":"-"},{"$f":"IF($C272=\"\",\"\",Simulação!V272)","v":237.01936588706292},{"$f":"IF($C272=\"\",\"\",Simulação!W272)","v":"-"},{"$f":"IF($C272=\"\",\"\",Simulação!X272)","v":205.45532561322904},{"$f":"IF($C272=\"\",\"\",Simulação!Y272)","v":"-"},{"$f":"IF($C272=\"\",\"\",Simulação!Z272)","v":216.41776036435695},{"$f":"IF($C272=\"\",\"\",Simulação!AA272)","v":"-"},{"$f":"IF($C272=\"\",\"\",Simulação!AB272)","v":136.83060944284537},{"$f":"IF($C272=\"\",\"\",Simulação!AC272)","v":"-"},{"$f":"IF($C272=\"\",\"\",Simulação!AD272)","v":140.66887446424042},{"$f":"IF($C272=\"\",\"\",Simulação!AE272)","v":"-"},{"$f":"IF($C272=\"\",\"\",Simulação!AF272)","v":34.388240562009656},{"$f":"IF($C272=\"\",\"\",Simulação!AG272)","v":"-"},{"$f":"IF($C272=\"\",\"\",Simulação!AH272)","v":29.236023829000793},{"$f":"IF($C272=\"\",\"\",Simulação!AI272)","v":"-"},{"$f":"IF($C272=\"\",\"\",Simulação!AJ272)","v":33.045125393740342},{"$f":"IF($C272=\"\",\"\",Simulação!AK272)","v":"-"},{"$f":"IF($C272=\"\",\"\",Simulação!AL272)","v":32.02721881559642},{"$f":"IF($C272=\"\",\"\",Simulação!AM272)","v":"-"},{"$f":"IF($C272=\"\",\"\",Simulação!AN272)","v":32.217563507182206},{"$f":"IF($C272=\"\",\"\",Simulação!AO272)","v":"-"},{"$f":"IF($C272=\"\",\"\",Simulação!AP272)","v":36.406016086434107},{"$f":"IF($C272=\"\",\"\",Simulação!AQ272)","v":"-"},{"$f":"IF($C272=\"\",\"\",Simulação!AR272)","v":0}]
[null,266,{"$f":"IF(Chegadas!J274<=$C$5,Chegadas!J274,\"\")","v":240.54000000000016},{"$f":"IF($C273=\"\",\"\",Simulação!D273)","v":2.7889610181711331},{"$f":"IF($C273=\"\",\"\",Simulação!E273)","v":"*"},{"$f":"IF($C273=\"\",\"\",Simulação!F273)","v":241.38191441159273},{"$f":"IF($C273=\"\",\"\",Simulação!G273)","v":"*"},{"$f":"IF($C273=\"\",\"\",Simulação!H273)","v":245.42116832441559},{"$f":"IF($C273=\"\",\"\",Simulação!I273)","v":"*"},{"$f":"IF($C273=\"\",\"\",Simulação!J273)","v":248.11176628847528},{"$f":"IF($C273=\"\",\"\",Simulação!K273)","v":"*"},{"$f":"IF($C273=\"\",\"\",Simulação!L273)","v":244.38778635977596},{"$f":"IF($C273=\"\",\"\",Simulação!M273)","v":"*"},{"$f":"IF($C273=\"\",\"\",Simulação!N273)","v":249.6580444234358},{"$f":"IF($C273=\"\",\"\",Simulação!O273)","v":"*"},{"$f":"IF($C273=\"\",\"\",Simulação!P273)","v":243.48264717570743},{"$f":"IF($C273=\"\",\"\",Simulação!Q273)","v":"*"},{"$f":"IF($C273=\"\",\"\",Simulação!R273)","v":249.53232444222667},{"$f":"IF($C273=\"\",\"\",Simulação!S273)","v":240.54000000000016},{"$f":"IF($C273=\"\",\"\",Simulação!T273)","v":243.3289610181713},{"$f":"IF($C273=\"\",\"\",Simulação!U273)","v":"-"},{"$f":"IF($C273=\"\",\"\",Simulação!V273)","v":237.01936588706292},{"$f":"IF($C273=\"\",\"\",Simulação!W273)","v":"-"},{"$f":"IF($C273=\"\",\"\",Simulação!X273)","v":205.45532561322904},{"$f":"IF($C273=\"\",\"\",Simulação!Y273)","v":"-"},{"$f":"IF($C273=\"\",\"\",Simulação!Z273)","v":216.41776036435695},{"$f":"IF($C273=\"\",\"\",Simulação!AA273)","v":"-"},{"$f":"IF($C273=\"\",\"\",Simulação!AB273)","v":136.83060944284537},{"$f":"IF($C273=\"\",\"\",Simulação!AC273)","v":"-"},{"$f":"IF($C273=\"\",\"\",Simulação!AD273)","v":140.66887446424042},{"$f":"IF($C273=\"\",\"\",Simulação!AE273)","v":"-"},{"$f":"IF($C273=\"\",\"\",Simulação!AF273)","v":34.388240562009656},{"$f":"IF($C273=\"\",\"\",Simulação!AG273)","v":"-"},{"$f":"IF($C273=\"\",\"\",Simulação!AH273)","v":29.236023829000793},{"$f":"IF($C273=\"\",\"\",Simulação!AI273)","v":"-"},{"$f":"IF($C273=\"\",\"\",Simulação!AJ273)","v":33.045125393740342},{"$f":"IF($C273=\"\",\"\",Simulação!AK273)","v":"-"},{"$f":"IF($C273=\"\",\"\",Simulação!AL273)","v":32.02721881559642},{"$f":"IF($C273=\"\",\"\",Simulação!AM273)","v":"-"},{"$f":"IF($C273=\"\",\"\",Simulação!AN273)","v":32.217563507182206},{"$f":"IF($C273=\"\",\"\",Simulação!AO273)","v":"-"},{"$f":"IF($C273=\"\",\"\",Simulação!AP273)","v":36.406016086434107},{"$f":"IF($C273=\"\",\"\",Simulação!AQ273)","v":"-"},{"$f":"IF($C273=\"\",\"\",Simulação!AR273)","v":0}]
[null,267,{"$f":"IF(Chegadas!J275<=$C$5,Chegadas!J275,\"\")","v":241.48000000000016},{"$f":"IF($C274=\"\",\"\",Simulação!D274)","v":10.599468409527329},{"$f":"IF($C274=\"\",\"\",Simulação!E274)","v":241.48000000000016},{"$f":"IF($C274=\"\",\"\",Simulação!F274)","v":252.07946840952749},{"$f":"IF($C274=\"\",\"\",Simulação!G274)","v":"-"},{"$f":"IF($C274=\"\",\"\",Simulação!H274)","v":245.42116832441559},{"$f":"IF($C274=\"\",\"\",Simulação!I274)","v":"-"},{"$f":"IF($C274=\"\",\"\",Simulação!J274)","v":248.11176628847528},{"$f":"IF($C274=\"\",\"\",Simulação!K274)","v":"-"},{"$f":"IF($C274=\"\",\"\",Simulação!L274)","v":244.38778635977596},{"$f":"IF($C274=\"\",\"\",Simulação!M274)","v":"-"},{"$f":"IF($C274=\"\",\"\",Simulação!N274)","v":249.6580444234358},{"$f":"IF($C274=\"\",\"\",Simulação!O274)","v":"-"},{"$f":"IF($C274=\"\",\"\",Simulação!P274)","v":243.48264717570743},{"$f":"IF($C274=\"\",\"\",Simulação!Q274)","v":"-"},{"$f":"IF($C274=\"\",\"\",Simulação!R274)","v":249.53232444222667},{"$f":"IF($C274=\"\",\"\",Simulação!S274)","v":"-"},{"$f":"IF($C274=\"\",\"\",Simulação!T274)","v":243.3289610181713},{"$f":"IF($C274=\"\",\"\",Simulação!U274)","v":"-"},{"$f":"IF($C274=\"\",\"\",Simulação!V274)","v":237.01936588706292},{"$f":"IF($C274=\"\",\"\",Simulação!W274)","v":"-"},{"$f":"IF($C274=\"\",\"\",Simulação!X274)","v":205.45532561322904},{"$f":"IF($C274=\"\",\"\",Simulação!Y274)","v":"-"},{"$f":"IF($C274=\"\",\"\",Simulação!Z274)","v":216.41776036435695},{"$f":"IF($C274=\"\",\"\",Simulação!AA274)","v":"-"},{"$f":"IF($C274=\"\",\"\",Simulação!AB274)","v":136.83060944284537},{"$f":"IF($C274=\"\",\"\",Simulação!AC274)","v":"-"},{"$f":"IF($C274=\"\",\"\",Simulação!AD274)","v":140.66887446424042},{"$f":"IF($C274=\"\",\"\",Simulação!AE274)","v":"-"},{"$f":"IF($C274=\"\",\"\",Simulação!AF274)","v":34.388240562009656},{"$f":"IF($C274=\"\",\"\",Simulação!AG274)","v":"-"},{"$f":"IF($C274=\"\",\"\",Simulação!AH274)","v":29.236023829000793},{"$f":"IF($C274=\"\",\"\",Simulação!AI274)","v":"-"},{"$f":"IF($C274=\"\",\"\",Simulação!AJ274)","v":33.045125393740342},{"$f":"IF($C274=\"\",\"\",Simulação!AK274)","v":"-"},{"$f":"IF($C274=\"\",\"\",Simulação!AL274)","v":32.02721881559642},{"$f":"IF($C274=\"\",\"\",Simulação!AM274)","v":"-"},{"$f":"IF($C274=\"\",\"\",Simulação!AN274)","v":32.217563507182206},{"$f":"IF($C274=\"\",\"\",Simulação!AO274)","v":"-"},{"$f":"IF($C274=\"\",\"\",Simulação!AP274)","v":36.406016086434107},{"$f":"IF($C274=\"\",\"\",Simulação!AQ274)","v":"-"},{"$f":"IF($C274=\"\",\"\",Simulação!AR274)","v":0}]
[null,268,{"$f":"IF(Chegadas!J276<=$C$5,Chegadas!J276,\"\")","v":243.36000000000016},{"$f":"IF($C275=\"\",\"\",Simulação!D275)","v":8.9329386674863684},{"$f":"IF($C275=\"\",\"\",Simulação!E275)","v":"*"},{"$f":"IF($C275=\"\",\"\",Simulação!F275)","v":252.07946840952749},{"$f":"IF($C275=\"\",\"\",Simulação!G275)","v":"*"},{"$f":"IF($C275=\"\",\"\",Simulação!H275)","v":245.42116832441559},{"$f":"IF($C275=\"\",\"\",Simulação!I275)","v":"*"},{"$f":"IF($C275=\"\",\"\",Simulação!J275)","v":248.11176628847528},{"$f":"IF($C275=\"\",\"\",Simulação!K275)","v":"*"},{"$f":"IF($C275=\"\",\"\",Simulação!L275)","v":244.38778635977596},{"$f":"IF($C275=\"\",\"\",Simulação!M275)","v":"*"},{"$f":"IF($C275=\"\",\"\",Simulação!N275)","v":249.6580444234358},{"$f":"IF($C275=\"\",\"\",Simulação!O275)","v":"*"},{"$f":"IF($C275=\"\",\"\",Simulação!P275)","v":243.48264717570743},{"$f":"IF($C275=\"\",\"\",Simulação!Q275)","v":"*"},{"$f":"IF($C275=\"\",\"\",Simulação!R275)","v":249.53232444222667},{"$f":"IF($C275=\"\",\"\",Simulação!S275)","v":243.36000000000016},{"$f":"IF($C275=\"\",\"\",Simulação!T275)","v":252.29293866748651},{"$f":"IF($C275=\"\",\"\",Simulação!U275)","v":"-"},{"$f":"IF($C275=\"\",\"\",Simulação!V275)","v":237.01936588706292},{"$f":"IF($C275=\"\",\"\",Simulação!W275)","v":"-"},{"$f":"IF($C275=\"\",\"\",Simulação!X275)","v":205.45532561322904},{"$f":"IF($C275=\"\",\"\",Simulação!Y275)","v":"-"},{"$f":"IF($C275=\"\",\"\",Simulação!Z275)","v":216.41776036435695},{"$f":"IF($C275=\"\",\"\",Simulação!AA275)","v":"-"},{"$f":"IF($C275=\"\",\"\",Simulação!AB275)","v":136.83060944284537},{"$f":"IF($C275=\"\",\"\",Simulação!AC275)","v":"-"},{"$f":"IF($C275=\"\",\"\",Simulação!AD275)","v":140.66887446424042},{"$f":"IF($C275=\"\",\"\",Simulação!AE275)","v":"-"},{"$f":"IF($C275=\"\",\"\",Simulação!AF275)","v":34.388240562009656},{"$f":"IF($C275=\"\",\"\",Simulação!AG275)","v":"-"},{"$f":"IF($C275=\"\",\"\",Simulação!AH275)","v":29.236023829000793},{"$f":"IF($C275=\"\",\"\",Simulação!AI275)","v":"-"},{"$f":"IF($C275=\"\",\"\",Simulação!AJ275)","v":33.045125393740342},{"$f":"IF($C275=\"\",\"\",Simulação!AK275)","v":"-"},{"$f":"IF($C275=\"\",\"\",Simulação!AL275)","v":32.02721881559642},{"$f":"IF($C275=\"\",\"\",Simulação!AM275)","v":"-"},{"$f":"IF($C275=\"\",\"\",Simulação!AN275)","v":32.217563507182206},{"$f":"IF($C275=\"\",\"\",Simulação!AO275)","v":"-"},{"$f":"IF($C275=\"\",\"\",Simulação!AP275)","v":36.406016086434107},{"$f":"IF($C275=\"\",\"\",Simulação!AQ275)","v":"-"},{"$f":"IF($C275=\"\",\"\",Simulação!AR275)","v":0}]
[null,269,{"$f":"IF(Chegadas!J277<=$C$5,Chegadas!J277,\"\")","v":243.73000000000016},{"$f":"IF($C276=\"\",\"\",Simulação!D276)","v":13.549703314946568},{"$f":"IF($C276=\"\",\"\",Simulação!E276)","v":"*"},{"$f":"IF($C276=\"\",\"\",Simulação!F276)","v":252.07946840952749},{"$f":"IF($C276=\"\",\"\",Simulação!G276)","v":"*"},{"$f":"IF($C276=\"\",\"\",Simulação!H276)","v":245.42116832441559},{"$f":"IF($C276=\"\",\"\",Simulação!I276)","v":"*"},{"$f":"IF($C276=\"\",\"\",Simulação!J276)","v":248.11176628847528},{"$f":"IF($C276=\"\",\"\",Simulação!K276)","v":"*"},{"$f":"IF($C276=\"\",\"\",Simulação!L276)","v":244.38778635977596},{"$f":"IF($C276=\"\",\"\",Simulação!M276)","v":"*"},{"$f":"IF($C276=\"\",\"\",Simulação!N276)","v":249.6580444234358},{"$f":"IF($C276=\"\",\"\",Simulação!O276)","v":243.73000000000016},{"$f":"IF($C276=\"\",\"\",Simulação!P276)","v":257.27970331494674},{"$f":"IF($C276=\"\",\"\",Simulação!Q276)","v":"-"},{"$f":"IF($C276=\"\",\"\",Simulação!R276)","v":249.53232444222667},{"$f":"IF($C276=\"\",\"\",Simulação!S276)","v":"-"},{"$f":"IF($C276=\"\",\"\",Simulação!T276)","v":252.29293866748651},{"$f":"IF($C276=\"\",\"\",Simulação!U276)","v":"-"},{"$f":"IF($C276=\"\",\"\",Simulação!V276)","v":237.01936588706292},{"$f":"IF($C276=\"\",\"\",Simulação!W276)","v":"-"},{"$f":"IF($C276=\"\",\"\",Simulação!X276)","v":205.45532561322904},{"$f":"IF($C276=\"\",\"\",Simulação!Y276)","v":"-"},{"$f":"IF($C276=\"\",\"\",Simulação!Z276)","v":216.41776036435695},{"$f":"IF($C276=\"\",\"\",Simulação!AA276)","v":"-"},{"$f":"IF($C276=\"\",\"\",Simulação!AB276)","v":136.83060944284537},{"$f":"IF($C276=\"\",\"\",Simulação!AC276)","v":"-"},{"$f":"IF($C276=\"\",\"\",Simulação!AD276)","v":140.66887446424042},{"$f":"IF($C276=\"\",\"\",Simulação!AE276)","v":"-"},{"$f":"IF($C276=\"\",\"\",Simulação!AF276)","v":34.388240562009656},{"$f":"IF($C276=\"\",\"\",Simulação!AG276)","v":"-"},{"$f":"IF($C276=\"\",\"\",Simulação!AH276)","v":29.236023829000793},{"$f":"IF($C276=\"\",\"\",Simulação!AI276)","v":"-"},{"$f":"IF($C276=\"\",\"\",Simulação!AJ276)","v":33.045125393740342},{"$f":"IF($C276=\"\",\"\",Simulação!AK276)","v":"-"},{"$f":"IF($C276=\"\",\"\",Simulação!AL276)","v":32.02721881559642},{"$f":"IF($C276=\"\",\"\",Simulação!AM276)","v":"-"},{"$f":"IF($C276=\"\",\"\",Simulação!AN276)","v":32.217563507182206},{"$f":"IF($C276=\"\",\"\",Simulação!AO276)","v":"-"},{"$f":"IF($C276=\"\",\"\",Simulação!AP276)","v":36.406016086434107},{"$f":"IF($C276=\"\",\"\",Simulação!AQ276)","v":"-"},{"$f":"IF($C276=\"\",\"\",Simulação!AR276)","v":0}]
[null,270,{"$f":"IF(Chegadas!J278<=$C$5,Chegadas!J278,\"\")","v":244.26000000000016},{"$f":"IF($C277=\"\",\"\",Simulação!D277)","v":9.932498684543253},{"$f":"IF($C277=\"\",\"\",Simulação!E277)","v":"*"},{"$f":"IF($C277=\"\",\"\",Simulação!F277)","v":252.07946840952749},{"$f":"IF($C277=\"\",\"\",Simulação!G277)","v":"*"},{"$f":"IF($C277=\"\",\"\",Simulação!H277)","v":245.42116832441559},{"$f":"IF($C277=\"\",\"\",Simulação!I277)","v":"*"},{"$f":"IF($C277=\"\",\"\",Simulação!J277)","v":248.11176628847528},{"$f":"IF($C277=\"\",\"\",Simulação!K277)","v":"*"},{"$f":"IF($C277=\"\",\"\",Simulação!L277)","v":244.38778635977596},{"$f":"IF($C277=\"\",\"\",Simulação!M277)","v":"*"},{"$f":"IF($C277=\"\",\"\",Simulação!N277)","v":249.6580444234358},{"$f":"IF($C277=\"\",\"\",Simulação!O277)","v":"*"},{"$f":"IF($C277=\"\",\"\",Simulação!P277)","v":257.27970331494674},{"$f":"IF($C277=\"\",\"\",Simulação!Q277)","v":"*"},{"$f":"IF($C277=\"\",\"\",Simulação!R277)","v":249.53232444222667},{"$f":"IF($C277=\"\",\"\",Simulação!S277)","v":"*"},{"$f":"IF($C277=\"\",\"\",Simulação!T277)","v":252.29293866748651},{"$f":"IF($C277=\"\",\"\",Simulação!U277)","v":244.26000000000016},{"$f":"IF($C277=\"\",\"\",Simulação!V277)","v":254.19249868454341},{"$f":"IF($C277=\"\",\"\",Simulação!W277)","v":"-"},{"$f":"IF($C277=\"\",\"\",Simulação!X277)","v":205.45532561322904},{"$f":"IF($C277=\"\",\"\",Simulação!Y277)","v":"-"},{"$f":"IF($C277=\"\",\"\",Simulação!Z277)","v":216.41776036435695},{"$f":"IF($C277=\"\",\"\",Simulação!AA277)","v":"-"},{"$f":"IF($C277=\"\",\"\",Simulação!AB277)","v":136.83060944284537},{"$f":"IF($C277=\"\",\"\",Simulação!AC277)","v":"-"},{"$f":"IF($C277=\"\",\"\",Simulação!AD277)","v":140.66887446424042},{"$f":"IF($C277=\"\",\"\",Simulação!AE277)","v":"-"},{"$f":"IF($C277=\"\",\"\",Simulação!AF277)","v":34.388240562009656},{"$f":"IF($C277=\"\",\"\",Simulação!AG277)","v":"-"},{"$f":"IF($C277=\"\",\"\",Simulação!AH277)","v":29.236023829000793},{"$f":"IF($C277=\"\",\"\",Simulação!AI277)","v":"-"},{"$f":"IF($C277=\"\",\"\",Simulação!AJ277)","v":33.045125393740342},{"$f":"IF($C277=\"\",\"\",Simulação!AK277)","v":"-"},{"$f":"IF($C277=\"\",\"\",Simulação!AL277)","v":32.02721881559642},{"$f":"IF($C277=\"\",\"\",Simulação!AM277)","v":"-"},{"$f":"IF($C277=\"\",\"\",Simulação!AN277)","v":32.217563507182206},{"$f":"IF($C277=\"\",\"\",Simulação!AO277)","v":"-"},{"$f":"IF($C277=\"\",\"\",Simulação!AP277)","v":36.406016086434107},{"$f":"IF($C277=\"\",\"\",Simulação!AQ277)","v":"-"},{"$f":"IF($C277=\"\",\"\",Simulação!AR277)","v":0}]
[null,271,{"$f":"IF(Chegadas!J279<=$C$5,Chegadas!J279,\"\")","v":244.78000000000017},{"$f":"IF($C278=\"\",\"\",Simulação!D278)","v":5.8859793978750456},{"$f":"IF($C278=\"\",\"\",Simulação!E278)","v":"*"},{"$f":"IF($C278=\"\",\"\",Simulação!F278)","v":252.07946840952749},{"$f":"IF($C278=\"\",\"\",Simulação!G278)","v":"*"},{"$f":"IF($C278=\"\",\"\",Simulação!H278)","v":245.42116832441559},{"$f":"IF($C278=\"\",\"\",Simulação!I278)","v":"*"},{"$f":"IF($C278=\"\",\"\",Simulação!J278)","v":248.11176628847528},{"$f":"IF($C278=\"\",\"\",Simulação!K278)","v":244.78000000000017},{"$f":"IF($C278=\"\",\"\",Simulação!L278)","v":250.66597939787522},{"$f":"IF($C278=\"\",\"\",Simulação!M278)","v":"-"},{"$f":"IF($C278=\"\",\"\",Simulação!N278)","v":249.6580444234358},{"$f":"IF($C278=\"\",\"\",Simulação!O278)","v":"-"},{"$f":"IF($C278=\"\",\"\",Simulação!P278)","v":257.27970331494674},{"$f":"IF($C278=\"\",\"\",Simulação!Q278)","v":"-"},{"$f":"IF($C278=\"\",\"\",Simulação!R278)","v":249.53232444222667},{"$f":"IF($C278=\"\",\"\",Simulação!S278)","v":"-"},{"$f":"IF($C278=\"\",\"\",Simulação!T278)","v":252.29293866748651},{"$f":"IF($C278=\"\",\"\",Simulação!U278)","v":"-"},{"$f":"IF($C278=\"\",\"\",Simulação!V278)","v":254.19249868454341},{"$f":"IF($C278=\"\",\"\",Simulação!W278)","v":"-"},{"$f":"IF($C278=\"\",\"\",Simulação!X278)","v":205.45532561322904},{"$f":"IF($C278=\"\",\"\",Simulação!Y278)","v":"-"},{"$f":"IF($C278=\"\",\"\",Simulação!Z278)","v":216.41776036435695},{"$f":"IF($C278=\"\",\"\",Simulação!AA278)","v":"-"},{"$f":"IF($C278=\"\",\"\",Simulação!AB278)","v":136.83060944284537},{"$f":"IF($C278=\"\",\"\",Simulação!AC278)","v":"-"},{"$f":"IF($C278=\"\",\"\",Simulação!AD278)","v":140.66887446424042},{"$f":"IF($C278=\"\",\"\",Simulação!AE278)","v":"-"},{"$f":"IF($C278=\"\",\"\",Simulação!AF278)","v":34.388240562009656},{"$f":"IF($C278=\"\",\"\",Simulação!AG278)","v":"-"},{"$f":"IF($C278=\"\",\"\",Simulação!AH278)","v":29.236023829000793},{"$f":"IF($C278=\"\",\"\",Simulação!AI278)","v":"-"},{"$f":"IF($C278=\"\",\"\",Simulação!AJ278)","v":33.045125393740342},{"$f":"IF($C278=\"\",\"\",Simulação!AK278)","v":"-"},{"$f":"IF($C278=\"\",\"\",Simulação!AL278)","v":32.02721881559642},{"$f":"IF($C278=\"\",\"\",Simulação!AM278)","v":"-"},{"$f":"IF($C278=\"\",\"\",Simulação!AN278)","v":32.217563507182206},{"$f":"IF($C278=\"\",\"\",Simulação!AO278)","v":"-"},{"$f":"IF($C278=\"\",\"\",Simulação!AP278)","v":36.406016086434107},{"$f":"IF($C278=\"\",\"\",Simulação!AQ278)","v":"-"},{"$f":"IF($C278=\"\",\"\",Simulação!AR278)","v":0}]
[null,272,{"$f":"IF(Chegadas!J280<=$C$5,Chegadas!J280,\"\")","v":245.11000000000018},{"$f":"IF($C279=\"\",\"\",Simulação!D279)","v":14.229119509644088},{"$f":"IF($C279=\"\",\"\",Simulação!E279)","v":"*"},{"$f":"IF($C279=\"\",\"\",Simulação!F279)","v":252.07946840952749},{"$f":"IF($C279=\"\",\"\",Simulação!G279)","v":"*"},{"$f":"IF($C279=\"\",\"\",Simulação!H279)","v":245.42116832441559},{"$f":"IF($C279=\"\",\"\",Simulação!I279)","v":"*"},{"$f":"IF($C279=\"\",\"\",Simulação!J279)","v":248.11176628847528},{"$f":"IF($C279=\"\",\"\",Simulação!K279)","v":"*"},{"$f":"IF($C279=\"\",\"\",Simulação!L279)","v":250.66597939787522},{"$f":"IF($C279=\"\",\"\",Simulação!M279)","v":"*"},{"$f":"IF($C279=\"\",\"\",Simulação!N279)","v":249.6580444234358},{"$f":"IF($C279=\"\",\"\",Simulação!O279)","v":"*"},{"$f":"IF($C279=\"\",\"\",Simulação!P279)","v":257.27970331494674},{"$f":"IF($C279=\"\",\"\",Simulação!Q279)","v":"*"},{"$f":"IF($C279=\"\",\"\",Simulação!R279)","v":249.53232444222667},{"$f":"IF($C279=\"\",\"\",Simulação!S279)","v":"*"},{"$f":"IF($C279=\"\",\"\",Simulação!T279)","v":252.29293866748651},{"$f":"IF($C279=\"\",\"\",Simulação!U279)","v":"*"},{"$f":"IF($C279=\"\",\"\",Simulação!V279)","v":254.19249868454341},{"$f":"IF($C279=\"\",\"\",Simulação!W279)","v":245.11000000000018},{"$f":"IF($C279=\"\",\"\",Simulação!X279)","v":259.33911950964426},{"$f":"IF($C279=\"\",\"\",Simulação!Y279)","v":"-"},{"$f":"IF($C279=\"\",\"\",Simulação!Z279)","v":216.41776036435695},{"$f":"IF($C279=\"\",\"\",Simulação!AA279)","v":"-"},{"$f":"IF($C279=\"\",\"\",Simulação!AB279)","v":136.83060944284537},{"$f":"IF($C279=\"\",\"\",Simulação!AC279)","v":"-"},{"$f":"IF($C279=\"\",\"\",Simulação!AD279)","v":140.66887446424042},{"$f":"IF($C279=\"\",\"\",Simulação!AE279)","v":"-"},{"$f":"IF($C279=\"\",\"\",Simulação!AF279)","v":34.388240562009656},{"$f":"IF($C279=\"\",\"\",Simulação!AG279)","v":"-"},{"$f":"IF($C279=\"\",\"\",Simulação!AH279)","v":29.236023829000793},{"$f":"IF($C279=\"\",\"\",Simulação!AI279)","v":"-"},{"$f":"IF($C279=\"\",\"\",Simulação!AJ279)","v":33.045125393740342},{"$f":"IF($C279=\"\",\"\",Simulação!AK279)","v":"-"},{"$f":"IF($C279=\"\",\"\",Simulação!AL279)","v":32.02721881559642},{"$f":"IF($C279=\"\",\"\",Simulação!AM279)","v":"-"},{"$f":"IF($C279=\"\",\"\",Simulação!AN279)","v":32.217563507182206},{"$f":"IF($C279=\"\",\"\",Simulação!AO279)","v":"-"},{"$f":"IF($C279=\"\",\"\",Simulação!AP279)","v":36.406016086434107},{"$f":"IF($C279=\"\",\"\",Simulação!AQ279)","v":"-"},{"$f":"IF($C279=\"\",\"\",Simulação!AR279)","v":0}]
[null,273,{"$f":"IF(Chegadas!J281<=$C$5,Chegadas!J281,\"\")","v":248.63000000000019},{"$f":"IF($C280=\"\",\"\",Simulação!D280)","v":9.0171570790628799},{"$f":"IF($C280=\"\",\"\",Simulação!E280)","v":"*"},{"$f":"IF($C280=\"\",\"\",Simulação!F280)","v":252.07946840952749},{"$f":"IF($C280=\"\",\"\",Simulação!G280)","v":248.63000000000019},{"$f":"IF($C280=\"\",\"\",Simulação!H280)","v":257.64715707906305},{"$f":"IF($C280=\"\",\"\",Simulação!I280)","v":"-"},{"$f":"IF($C280=\"\",\"\",Simulação!J280)","v":248.11176628847528},{"$f":"IF($C280=\"\",\"\",Simulação!K280)","v":"-"},{"$f":"IF($C280=\"\",\"\",Simulação!L280)","v":250.66597939787522},{"$f":"IF($C280=\"\",\"\",Simulação!M280)","v":"-"},{"$f":"IF($C280=\"\",\"\",Simulação!N280)","v":249.6580444234358},{"$f":"IF($C280=\"\",\"\",Simulação!O280)","v":"-"},{"$f":"IF($C280=\"\",\"\",Simulação!P280)","v":257.27970331494674},{"$f":"IF($C280=\"\",\"\",Simulação!Q280)","v":"-"},{"$f":"IF($C280=\"\",\"\",Simulação!R280)","v":249.53232444222667},{"$f":"IF($C280=\"\",\"\",Simulação!S280)","v":"-"},{"$f":"IF($C280=\"\",\"\",Simulação!T280)","v":252.29293866748651},{"$f":"IF($C280=\"\",\"\",Simulação!U280)","v":"-"},{"$f":"IF($C280=\"\",\"\",Simulação!V280)","v":254.19249868454341},{"$f":"IF($C280=\"\",\"\",Simulação!W280)","v":"-"},{"$f":"IF($C280=\"\",\"\",Simulação!X280)","v":259.33911950964426},{"$f":"IF($C280=\"\",\"\",Simulação!Y280)","v":"-"},{"$f":"IF($C280=\"\",\"\",Simulação!Z280)","v":216.41776036435695},{"$f":"IF($C280=\"\",\"\",Simulação!AA280)","v":"-"},{"$f":"IF($C280=\"\",\"\",Simulação!AB280)","v":136.83060944284537},{"$f":"IF($C280=\"\",\"\",Simulação!AC280)","v":"-"},{"$f":"IF($C280=\"\",\"\",Simulação!AD280)","v":140.66887446424042},{"$f":"IF($C280=\"\",\"\",Simulação!AE280)","v":"-"},{"$f":"IF($C280=\"\",\"\",Simulação!AF280)","v":34.388240562009656},{"$f":"IF($C280=\"\",\"\",Simulação!AG280)","v":"-"},{"$f":"IF($C280=\"\",\"\",Simulação!AH280)","v":29.236023829000793},{"$f":"IF($C280=\"\",\"\",Simulação!AI280)","v":"-"},{"$f":"IF($C280=\"\",\"\",Simulação!AJ280)","v":33.045125393740342},{"$f":"IF($C280=\"\",\"\",Simulação!AK280)","v":"-"},{"$f":"IF($C280=\"\",\"\",Simulação!AL280)","v":32.02721881559642},{"$f":"IF($C280=\"\",\"\",Simulação!AM280)","v":"-"},{"$f":"IF($C280=\"\",\"\",Simulação!AN280)","v":32.217563507182206},{"$f":"IF($C280=\"\",\"\",Simulação!AO280)","v":"-"},{"$f":"IF($C280=\"\",\"\",Simulação!AP280)","v":36.406016086434107},{"$f":"IF($C280=\"\",\"\",Simulação!AQ280)","v":"-"},{"$f":"IF($C280=\"\",\"\",Simulação!AR280)","v":0}]
[null,274,{"$f":"IF(Chegadas!J282<=$C$5,Chegadas!J282,\"\")","v":249.24000000000021},{"$f":"IF($C281=\"\",\"\",Simulação!D281)","v":9.2124421092394311},{"$f":"IF($C281=\"\",\"\",Simulação!E281)","v":"*"},{"$f":"IF($C281=\"\",\"\",Simulação!F281)","v":252.07946840952749},{"$f":"IF($C281=\"\",\"\",Simulação!G281)","v":"*"},{"$f":"IF($C281=\"\",\"\",Simulação!H281)","v":257.64715707906305},{"$f":"IF($C281=\"\",\"\",Simulação!I281)","v":249.24000000000021},{"$f":"IF($C281=\"\",\"\",Simulação!J281)","v":258.45244210923966},{"$f":"IF($C281=\"\",\"\",Simulação!K281)","v":"-"},{"$f":"IF($C281=\"\",\"\",Simulação!L281)","v":250.66597939787522},{"$f":"IF($C281=\"\",\"\",Simulação!M281)","v":"-"},{"$f":"IF($C281=\"\",\"\",Simulação!N281)","v":249.6580444234358},{"$f":"IF($C281=\"\",\"\",Simulação!O281)","v":"-"},{"$f":"IF($C281=\"\",\"\",Simulação!P281)","v":257.27970331494674},{"$f":"IF($C281=\"\",\"\",Simulação!Q281)","v":"-"},{"$f":"IF($C281=\"\",\"\",Simulação!R281)","v":249.53232444222667},{"$f":"IF($C281=\"\",\"\",Simulação!S281)","v":"-"},{"$f":"IF($C281=\"\",\"\",Simulação!T281)","v":252.29293866748651},{"$f":"IF($C281=\"\",\"\",Simulação!U281)","v":"-"},{"$f":"IF($C281=\"\",\"\",Simulação!V281)","v":254.19249868454341},{"$f":"IF($C281=\"\",\"\",Simulação!W281)","v":"-"},{"$f":"IF($C281=\"\",\"\",Simulação!X281)","v":259.33911950964426},{"$f":"IF($C281=\"\",\"\",Simulação!Y281)","v":"-"},{"$f":"IF($C281=\"\",\"\",Simulação!Z281)","v":216.41776036435695},{"$f":"IF($C281=\"\",\"\",Simulação!AA281)","v":"-"},{"$f":"IF($C281=\"\",\"\",Simulação!AB281)","v":136.83060944284537},{"$f":"IF($C281=\"\",\"\",Simulação!AC281)","v":"-"},{"$f":"IF($C281=\"\",\"\",Simulação!AD281)","v":140.66887446424042},{"$f":"IF($C281=\"\",\"\",Simulação!AE281)","v":"-"},{"$f":"IF($C281=\"\",\"\",Simulação!AF281)","v":34.388240562009656},{"$f":"IF($C281=\"\",\"\",Simulação!AG281)","v":"-"},{"$f":"IF($C281=\"\",\"\",Simulação!AH281)","v":29.236023829000793},{"$f":"IF($C281=\"\",\"\",Simulação!AI281)","v":"-"},{"$f":"IF($C281=\"\",\"\",Simulação!AJ281)","v":33.045125393740342},{"$f":"IF($C281=\"\",\"\",Simulação!AK281)","v":"-"},{"$f":"IF($C281=\"\",\"\",Simulação!AL281)","v":32.02721881559642},{"$f":"IF($C281=\"\",\"\",Simulação!AM281)","v":"-"},{"$f":"IF($C281=\"\",\"\",Simulação!AN281)","v":32.217563507182206},{"$f":"IF($C281=\"\",\"\",Simulação!AO281)","v":"-"},{"$f":"IF($C281=\"\",\"\",Simulação!AP281)","v":36.406016086434107},{"$f":"IF($C281=\"\",\"\",Simulação!AQ281)","v":"-"},{"$f":"IF($C281=\"\",\"\",Simulação!AR281)","v":0}]
[null,275,{"$f":"IF(Chegadas!J283<=$C$5,Chegadas!J283,\"\")","v":249.80000000000021},{"$f":"IF($C282=\"\",\"\",Simulação!D282)","v":3.1290384102587416},{"$f":"IF($C282=\"\",\"\",Simulação!E282)","v":"*"},{"$f":"IF($C282=\"\",\"\",Simulação!F282)","v":252.07946840952749},{"$f":"IF($C282=\"\",\"\",Simulação!G282)","v":"*"},{"$f":"IF($C282=\"\",\"\",Simulação!H282)","v":257.64715707906305},{"$f":"IF($C282=\"\",\"\",Simulação!I282)","v":"*"},{"$f":"IF($C282=\"\",\"\",Simulação!J282)","v":258.45244210923966},{"$f":"IF($C282=\"\",\"\",Simulação!K282)","v":"*"},{"$f":"IF($C282=\"\",\"\",Simulação!L282)","v":250.66597939787522},{"$f":"IF($C282=\"\",\"\",Simulação!M282)","v":249.80000000000021},{"$f":"IF($C282=\"\",\"\",Simulação!N282)","v":252.92903841025895},{"$f":"IF($C282=\"\",\"\",Simulação!O282)","v":"-"},{"$f":"IF($C282=\"\",\"\",Simulação!P282)","v":257.27970331494674},{"$f":"IF($C282=\"\",\"\",Simulação!Q282)","v":"-"},{"$f":"IF($C282=\"\",\"\",Simulação!R282)","v":249.53232444222667},{"$f":"IF($C282=\"\",\"\",Simulação!S282)","v":"-"},{"$f":"IF($C282=\"\",\"\",Simulação!T282)","v":252.29293866748651},{"$f":"IF($C282=\"\",\"\",Simulação!U282)","v":"-"},{"$f":"IF($C282=\"\",\"\",Simulação!V282)","v":254.19249868454341},{"$f":"IF($C282=\"\",\"\",Simulação!W282)","v":"-"},{"$f":"IF($C282=\"\",\"\",Simulação!X282)","v":259.33911950964426},{"$f":"IF($C282=\"\",\"\",Simulação!Y282)","v":"-"},{"$f":"IF($C282=\"\",\"\",Simulação!Z282)","v":216.41776036435695},{"$f":"IF($C282=\"\",\"\",Simulação!AA282)","v":"-"},{"$f":"IF($C282=\"\",\"\",Simulação!AB282)","v":136.83060944284537},{"$f":"IF($C282=\"\",\"\",Simulação!AC282)","v":"-"},{"$f":"IF($C282=\"\",\"\",Simulação!AD282)","v":140.66887446424042},{"$f":"IF($C282=\"\",\"\",Simulação!AE282)","v":"-"},{"$f":"IF($C282=\"\",\"\",Simulação!AF282)","v":34.388240562009656},{"$f":"IF($C282=\"\",\"\",Simulação!AG282)","v":"-"},{"$f":"IF($C282=\"\",\"\",Simulação!AH282)","v":29.236023829000793},{"$f":"IF($C282=\"\",\"\",Simulação!AI282)","v":"-"},{"$f":"IF($C282=\"\",\"\",Simulação!AJ282)","v":33.045125393740342},{"$f":"IF($C282=\"\",\"\",Simulação!AK282)","v":"-"},{"$f":"IF($C282=\"\",\"\",Simulação!AL282)","v":32.02721881559642},{"$f":"IF($C282=\"\",\"\",Simulação!AM282)","v":"-"},{"$f":"IF($C282=\"\",\"\",Simulação!AN282)","v":32.217563507182206},{"$f":"IF($C282=\"\",\"\",Simulação!AO282)","v":"-"},{"$f":"IF($C282=\"\",\"\",Simulação!AP282)","v":36.406016086434107},{"$f":"IF($C282=\"\",\"\",Simulação!AQ282)","v":"-"},{"$f":"IF($C282=\"\",\"\",Simulação!AR282)","v":0}]
[null,276,{"$f":"IF(Chegadas!J284<=$C$5,Chegadas!J284,\"\")","v":250.79000000000022},{"$f":"IF($C283=\"\",\"\",Simulação!D283)","v":1.9590825673611667},{"$f":"IF($C283=\"\",\"\",Simulação!E283)","v":"*"},{"$f":"IF($C283=\"\",\"\",Simulação!F283)","v":252.07946840952749},{"$f":"IF($C283=\"\",\"\",Simulação!G283)","v":"*"},{"$f":"IF($C283=\"\",\"\",Simulação!H283)","v":257.64715707906305},{"$f":"IF($C283=\"\",\"\",Simulação!I283)","v":"*"},{"$f":"IF($C283=\"\",\"\",Simulação!J283)","v":258.45244210923966},{"$f":"IF($C283=\"\",\"\",Simulação!K283)","v":250.79000000000022},{"$f":"IF($C283=\"\",\"\",Simulação!L283)","v":252.7490825673614},{"$f":"IF($C283=\"\",\"\",Simulação!M283)","v":"-"},{"$f":"IF($C283=\"\",\"\",Simulação!N283)","v":252.92903841025895},{"$f":"IF($C283=\"\",\"\",Simulação!O283)","v":"-"},{"$f":"IF($C283=\"\",\"\",Simulação!P283)","v":257.27970331494674},{"$f":"IF($C283=\"\",\"\",Simulação!Q283)","v":"-"},{"$f":"IF($C283=\"\",\"\",Simulação!R283)","v":249.53232444222667},{"$f":"IF($C283=\"\",\"\",Simulação!S283)","v":"-"},{"$f":"IF($C283=\"\",\"\",Simulação!T283)","v":252.29293866748651},{"$f":"IF($C283=\"\",\"\",Simulação!U283)","v":"-"},{"$f":"IF($C283=\"\",\"\",Simulação!V283)","v":254.19249868454341},{"$f":"IF($C283=\"\",\"\",Simulação!W283)","v":"-"},{"$f":"IF($C283=\"\",\"\",Simulação!X283)","v":259.33911950964426},{"$f":"IF($C283=\"\",\"\",Simulação!Y283)","v":"-"},{"$f":"IF($C283=\"\",\"\",Simulação!Z283)","v":216.41776036435695},{"$f":"IF($C283=\"\",\"\",Simulação!AA283)","v":"-"},{"$f":"IF($C283=\"\",\"\",Simulação!AB283)","v":136.83060944284537},{"$f":"IF($C283=\"\",\"\",Simulação!AC283)","v":"-"},{"$f":"IF($C283=\"\",\"\",Simulação!AD283)","v":140.66887446424042},{"$f":"IF($C283=\"\",\"\",Simulação!AE283)","v":"-"},{"$f":"IF($C283=\"\",\"\",Simulação!AF283)","v":34.388240562009656},{"$f":"IF($C283=\"\",\"\",Simulação!AG283)","v":"-"},{"$f":"IF($C283=\"\",\"\",Simulação!AH283)","v":29.236023829000793},{"$f":"IF($C283=\"\",\"\",Simulação!AI283)","v":"-"},{"$f":"IF($C283=\"\",\"\",Simulação!AJ283)","v":33.045125393740342},{"$f":"IF($C283=\"\",\"\",Simulação!AK283)","v":"-"},{"$f":"IF($C283=\"\",\"\",Simulação!AL283)","v":32.02721881559642},{"$f":"IF($C283=\"\",\"\",Simulação!AM283)","v":"-"},{"$f":"IF($C283=\"\",\"\",Simulação!AN283)","v":32.217563507182206},{"$f":"IF($C283=\"\",\"\",Simulação!AO283)","v":"-"},{"$f":"IF($C283=\"\",\"\",Simulação!AP283)","v":36.406016086434107},{"$f":"IF($C283=\"\",\"\",Simulação!AQ283)","v":"-"},{"$f":"IF($C283=\"\",\"\",Simulação!AR283)","v":0}]
[null,277,{"$f":"IF(Chegadas!J285<=$C$5,Chegadas!J285,\"\")","v":251.69000000000023},{"$f":"IF($C284=\"\",\"\",Simulação!D284)","v":10.945738926152014},{"$f":"IF($C284=\"\",\"\",Simulação!E284)","v":"*"},{"$f":"IF($C284=\"\",\"\",Simulação!F284)","v":252.07946840952749},{"$f":"IF($C284=\"\",\"\",Simulação!G284)","v":"*"},{"$f":"IF($C284=\"\",\"\",Simulação!H284)","v":257.64715707906305},{"$f":"IF($C284=\"\",\"\",Simulação!I284)","v":"*"},{"$f":"IF($C284=\"\",\"\",Simulação!J284)","v":258.45244210923966},{"$f":"IF($C284=\"\",\"\",Simulação!K284)","v":"*"},{"$f":"IF($C284=\"\",\"\",Simulação!L284)","v":252.7490825673614},{"$f":"IF($C284=\"\",\"\",Simulação!M284)","v":"*"},{"$f":"IF($C284=\"\",\"\",Simulação!N284)","v":252.92903841025895},{"$f":"IF($C284=\"\",\"\",Simulação!O284)","v":"*"},{"$f":"IF($C284=\"\",\"\",Simulação!P284)","v":257.27970331494674},{"$f":"IF($C284=\"\",\"\",Simulação!Q284)","v":251.69000000000023},{"$f":"IF($C284=\"\",\"\",Simulação!R284)","v":262.63573892615221},{"$f":"IF($C284=\"\",\"\",Simulação!S284)","v":"-"},{"$f":"IF($C284=\"\",\"\",Simulação!T284)","v":252.29293866748651},{"$f":"IF($C284=\"\",\"\",Simulação!U284)","v":"-"},{"$f":"IF($C284=\"\",\"\",Simulação!V284)","v":254.19249868454341},{"$f":"IF($C284=\"\",\"\",Simulação!W284)","v":"-"},{"$f":"IF($C284=\"\",\"\",Simulação!X284)","v":259.33911950964426},{"$f":"IF($C284=\"\",\"\",Simulação!Y284)","v":"-"},{"$f":"IF($C284=\"\",\"\",Simulação!Z284)","v":216.41776036435695},{"$f":"IF($C284=\"\",\"\",Simulação!AA284)","v":"-"},{"$f":"IF($C284=\"\",\"\",Simulação!AB284)","v":136.83060944284537},{"$f":"IF($C284=\"\",\"\",Simulação!AC284)","v":"-"},{"$f":"IF($C284=\"\",\"\",Simulação!AD284)","v":140.66887446424042},{"$f":"IF($C284=\"\",\"\",Simulação!AE284)","v":"-"},{"$f":"IF($C284=\"\",\"\",Simulação!AF284)","v":34.388240562009656},{"$f":"IF($C284=\"\",\"\",Simulação!AG284)","v":"-"},{"$f":"IF($C284=\"\",\"\",Simulação!AH284)","v":29.236023829000793},{"$f":"IF($C284=\"\",\"\",Simulação!AI284)","v":"-"},{"$f":"IF($C284=\"\",\"\",Simulação!AJ284)","v":33.045125393740342},{"$f":"IF($C284=\"\",\"\",Simulação!AK284)","v":"-"},{"$f":"IF($C284=\"\",\"\",Simulação!AL284)","v":32.02721881559642},{"$f":"IF($C284=\"\",\"\",Simulação!AM284)","v":"-"},{"$f":"IF($C284=\"\",\"\",Simulação!AN284)","v":32.217563507182206},{"$f":"IF($C284=\"\",\"\",Simulação!AO284)","v":"-"},{"$f":"IF($C284=\"\",\"\",Simulação!AP284)","v":36.406016086434107},{"$f":"IF($C284=\"\",\"\",Simulação!AQ284)","v":"-"},{"$f":"IF($C284=\"\",\"\",Simulação!AR284)","v":0}]
[null,278,{"$f":"IF(Chegadas!J286<=$C$5,Chegadas!J286,\"\")","v":252.20000000000022},{"$f":"IF($C285=\"\",\"\",Simulação!D285)","v":9.081996461482392},{"$f":"IF($C285=\"\",\"\",Simulação!E285)","v":252.20000000000022},{"$f":"IF($C285=\"\",\"\",Simulação!F285)","v":261.28199646148261},{"$f":"IF($C285=\"\",\"\",Simulação!G285)","v":"-"},{"$f":"IF($C285=\"\",\"\",Simulação!H285)","v":257.64715707906305},{"$f":"IF($C285=\"\",\"\",Simulação!I285)","v":"-"},{"$f":"IF($C285=\"\",\"\",Simulação!J285)","v":258.45244210923966},{"$f":"IF($C285=\"\",\"\",Simulação!K285)","v":"-"},{"$f":"IF($C285=\"\",\"\",Simulação!L285)","v":252.7490825673614},{"$f":"IF($C285=\"\",\"\",Simulação!M285)","v":"-"},{"$f":"IF($C285=\"\",\"\",Simulação!N285)","v":252.92903841025895},{"$f":"IF($C285=\"\",\"\",Simulação!O285)","v":"-"},{"$f":"IF($C285=\"\",\"\",Simulação!P285)","v":257.27970331494674},{"$f":"IF($C285=\"\",\"\",Simulação!Q285)","v":"-"},{"$f":"IF($C285=\"\",\"\",Simulação!R285)","v":262.63573892615221},{"$f":"IF($C285=\"\",\"\",Simulação!S285)","v":"-"},{"$f":"IF($C285=\"\",\"\",Simulação!T285)","v":252.29293866748651},{"$f":"IF($C285=\"\",\"\",Simulação!U285)","v":"-"},{"$f":"IF($C285=\"\",\"\",Simulação!V285)","v":254.19249868454341},{"$f":"IF($C285=\"\",\"\",Simulação!W285)","v":"-"},{"$f":"IF($C285=\"\",\"\",Simulação!X285)","v":259.33911950964426},{"$f":"IF($C285=\"\",\"\",Simulação!Y285)","v":"-"},{"$f":"IF($C285=\"\",\"\",Simulação!Z285)","v":216.41776036435695},{"$f":"IF($C285=\"\",\"\",Simulação!AA285)","v":"-"},{"$f":"IF($C285=\"\",\"\",Simulação!AB285)","v":136.83060944284537},{"$f":"IF($C285=\"\",\"\",Simulação!AC285)","v":"-"},{"$f":"IF($C285=\"\",\"\",Simulação!AD285)","v":140.66887446424042},{"$f":"IF($C285=\"\",\"\",Simulação!AE285)","v":"-"},{"$f":"IF($C285=\"\",\"\",Simulação!AF285)","v":34.388240562009656},{"$f":"IF($C285=\"\",\"\",Simulação!AG285)","v":"-"},{"$f":"IF($C285=\"\",\"\",Simulação!AH285)","v":29.236023829000793},{"$f":"IF($C285=\"\",\"\",Simulação!AI285)","v":"-"},{"$f":"IF($C285=\"\",\"\",Simulação!AJ285)","v":33.045125393740342},{"$f":"IF($C285=\"\",\"\",Simulação!AK285)","v":"-"},{"$f":"IF($C285=\"\",\"\",Simulação!AL285)","v":32.02721881559642},{"$f":"IF($C285=\"\",\"\",Simulação!AM285)","v":"-"},{"$f":"IF($C285=\"\",\"\",Simulação!AN285)","v":32.217563507182206},{"$f":"IF($C285=\"\",\"\",Simulação!AO285)","v":"-"},{"$f":"IF($C285=\"\",\"\",Simulação!AP285)","v":36.406016086434107},{"$f":"IF($C285=\"\",\"\",Simulação!AQ285)","v":"-"},{"$f":"IF($C285=\"\",\"\",Simulação!AR285)","v":0}]
[null,279,{"$f":"IF(Chegadas!J287<=$C$5,Chegadas!J287,\"\")","v":252.22000000000023},{"$f":"IF($C286=\"\",\"\",Simulação!D286)","v":4.9906658023032477},{"$f":"IF($C286=\"\",\"\",Simulação!E286)","v":"*"},{"$f":"IF($C286=\"\",\"\",Simulação!F286)","v":261.28199646148261},{"$f":"IF($C286=\"\",\"\",Simulação!G286)","v":"*"},{"$f":"IF($C286=\"\",\"\",Simulação!H286)","v":257.64715707906305},{"$f":"IF($C286=\"\",\"\",Simulação!I286)","v":"*"},{"$f":"IF($C286=\"\",\"\",Simulação!J286)","v":258.45244210923966},{"$f":"IF($C286=\"\",\"\",Simulação!K286)","v":"*"},{"$f":"IF($C286=\"\",\"\",Simulação!L286)","v":252.7490825673614},{"$f":"IF($C286=\"\",\"\",Simulação!M286)","v":"*"},{"$f":"IF($C286=\"\",\"\",Simulação!N286)","v":252.92903841025895},{"$f":"IF($C286=\"\",\"\",Simulação!O286)","v":"*"},{"$f":"IF($C286=\"\",\"\",Simulação!P286)","v":257.27970331494674},{"$f":"IF($C286=\"\",\"\",Simulação!Q286)","v":"*"},{"$f":"IF($C286=\"\",\"\",Simulação!R286)","v":262.63573892615221},{"$f":"IF($C286=\"\",\"\",Simulação!S286)","v":"*"},{"$f":"IF($C286=\"\",\"\",Simulação!T286)","v":252.29293866748651},{"$f":"IF($C286=\"\",\"\",Simulação!U286)","v":"*"},{"$f":"IF($C286=\"\",\"\",Simulação!V286)","v":254.19249868454341},{"$f":"IF($C286=\"\",\"\",Simulação!W286)","v":"*"},{"$f":"IF($C286=\"\",\"\",Simulação!X286)","v":259.33911950964426},{"$f":"IF($C286=\"\",\"\",Simulação!Y286)","v":252.22000000000023},{"$f":"IF($C286=\"\",\"\",Simulação!Z286)","v":257.21066580230348},{"$f":"IF($C286=\"\",\"\",Simulação!AA286)","v":"-"},{"$f":"IF($C286=\"\",\"\",Simulação!AB286)","v":136.83060944284537},{"$f":"IF($C286=\"\",\"\",Simulação!AC286)","v":"-"},{"$f":"IF($C286=\"\",\"\",Simulação!AD286)","v":140.66887446424042},{"$f":"IF($C286=\"\",\"\",Simulação!AE286)","v":"-"},{"$f":"IF($C286=\"\",\"\",Simulação!AF286)","v":34.388240562009656},{"$f":"IF($C286=\"\",\"\",Simulação!AG286)","v":"-"},{"$f":"IF($C286=\"\",\"\",Simulação!AH286)","v":29.236023829000793},{"$f":"IF($C286=\"\",\"\",Simulação!AI286)","v":"-"},{"$f":"IF($C286=\"\",\"\",Simulação!AJ286)","v":33.045125393740342},{"$f":"IF($C286=\"\",\"\",Simulação!AK286)","v":"-"},{"$f":"IF($C286=\"\",\"\",Simulação!AL286)","v":32.02721881559642},{"$f":"IF($C286=\"\",\"\",Simulação!AM286)","v":"-"},{"$f":"IF($C286=\"\",\"\",Simulação!AN286)","v":32.217563507182206},{"$f":"IF($C286=\"\",\"\",Simulação!AO286)","v":"-"},{"$f":"IF($C286=\"\",\"\",Simulação!AP286)","v":36.406016086434107},{"$f":"IF($C286=\"\",\"\",Simulação!AQ286)","v":"-"},{"$f":"IF($C286=\"\",\"\",Simulação!AR286)","v":0}]
[null,280,{"$f":"IF(Chegadas!J288<=$C$5,Chegadas!J288,\"\")","v":252.81000000000023},{"$f":"IF($C287=\"\",\"\",Simulação!D287)","v":3.5648254436692888},{"$f":"IF($C287=\"\",\"\",Simulação!E287)","v":"*"},{"$f":"IF($C287=\"\",\"\",Simulação!F287)","v":261.28199646148261},{"$f":"IF($C287=\"\",\"\",Simulação!G287)","v":"*"},{"$f":"IF($C287=\"\",\"\",Simulação!H287)","v":257.64715707906305},{"$f":"IF($C287=\"\",\"\",Simulação!I287)","v":"*"},{"$f":"IF($C287=\"\",\"\",Simulação!J287)","v":258.45244210923966},{"$f":"IF($C287=\"\",\"\",Simulação!K287)","v":252.81000000000023},{"$f":"IF($C287=\"\",\"\",Simulação!L287)","v":256.37482544366952},{"$f":"IF($C287=\"\",\"\",Simulação!M287)","v":"-"},{"$f":"IF($C287=\"\",\"\",Simulação!N287)","v":252.92903841025895},{"$f":"IF($C287=\"\",\"\",Simulação!O287)","v":"-"},{"$f":"IF($C287=\"\",\"\",Simulação!P287)","v":257.27970331494674},{"$f":"IF($C287=\"\",\"\",Simulação!Q287)","v":"-"},{"$f":"IF($C287=\"\",\"\",Simulação!R287)","v":262.63573892615221},{"$f":"IF($C287=\"\",\"\",Simulação!S287)","v":"-"},{"$f":"IF($C287=\"\",\"\",Simulação!T287)","v":252.29293866748651},{"$f":"IF($C287=\"\",\"\",Simulação!U287)","v":"-"},{"$f":"IF($C287=\"\",\"\",Simulação!V287)","v":254.19249868454341},{"$f":"IF($C287=\"\",\"\",Simulação!W287)","v":"-"},{"$f":"IF($C287=\"\",\"\",Simulação!X287)","v":259.33911950964426},{"$f":"IF($C287=\"\",\"\",Simulação!Y287)","v":"-"},{"$f":"IF($C287=\"\",\"\",Simulação!Z287)","v":257.21066580230348},{"$f":"IF($C287=\"\",\"\",Simulação!AA287)","v":"-"},{"$f":"IF($C287=\"\",\"\",Simulação!AB287)","v":136.83060944284537},{"$f":"IF($C287=\"\",\"\",Simulação!AC287)","v":"-"},{"$f":"IF($C287=\"\",\"\",Simulação!AD287)","v":140.66887446424042},{"$f":"IF($C287=\"\",\"\",Simulação!AE287)","v":"-"},{"$f":"IF($C287=\"\",\"\",Simulação!AF287)","v":34.388240562009656},{"$f":"IF($C287=\"\",\"\",Simulação!AG287)","v":"-"},{"$f":"IF($C287=\"\",\"\",Simulação!AH287)","v":29.236023829000793},{"$f":"IF($C287=\"\",\"\",Simulação!AI287)","v":"-"},{"$f":"IF($C287=\"\",\"\",Simulação!AJ287)","v":33.045125393740342},{"$f":"IF($C287=\"\",\"\",Simulação!AK287)","v":"-"},{"$f":"IF($C287=\"\",\"\",Simulação!AL287)","v":32.02721881559642},{"$f":"IF($C287=\"\",\"\",Simulação!AM287)","v":"-"},{"$f":"IF($C287=\"\",\"\",Simulação!AN287)","v":32.217563507182206},{"$f":"IF($C287=\"\",\"\",Simulação!AO287)","v":"-"},{"$f":"IF($C287=\"\",\"\",Simulação!AP287)","v":36.406016086434107},{"$f":"IF($C287=\"\",\"\",Simulação!AQ287)","v":"-"},{"$f":"IF($C287=\"\",\"\",Simulação!AR287)","v":0}]
[null,281,{"$f":"IF(Chegadas!J289<=$C$5,Chegadas!J289,\"\")","v":254.94000000000023},{"$f":"IF($C288=\"\",\"\",Simulação!D288)","v":3.3990589596254646},{"$f":"IF($C288=\"\",\"\",Simulação!E288)","v":"*"},{"$f":"IF($C288=\"\",\"\",Simulação!F288)","v":261.28199646148261},{"$f":"IF($C288=\"\",\"\",Simulação!G288)","v":"*"},{"$f":"IF($C288=\"\",\"\",Simulação!H288)","v":257.64715707906305},{"$f":"IF($C288=\"\",\"\",Simulação!I288)","v":"*"},{"$f":"IF($C288=\"\",\"\",Simulação!J288)","v":258.45244210923966},{"$f":"IF($C288=\"\",\"\",Simulação!K288)","v":"*"},{"$f":"IF($C288=\"\",\"\",Simulação!L288)","v":256.37482544366952},{"$f":"IF($C288=\"\",\"\",Simulação!M288)","v":254.94000000000023},{"$f":"IF($C288=\"\",\"\",Simulação!N288)","v":258.33905895962567},{"$f":"IF($C288=\"\",\"\",Simulação!O288)","v":"-"},{"$f":"IF($C288=\"\",\"\",Simulação!P288)","v":257.27970331494674},{"$f":"IF($C288=\"\",\"\",Simulação!Q288)","v":"-"},{"$f":"IF($C288=\"\",\"\",Simulação!R288)","v":262.63573892615221},{"$f":"IF($C288=\"\",\"\",Simulação!S288)","v":"-"},{"$f":"IF($C288=\"\",\"\",Simulação!T288)","v":252.29293866748651},{"$f":"IF($C288=\"\",\"\",Simulação!U288)","v":"-"},{"$f":"IF($C288=\"\",\"\",Simulação!V288)","v":254.19249868454341},{"$f":"IF($C288=\"\",\"\",Simulação!W288)","v":"-"},{"$f":"IF($C288=\"\",\"\",Simulação!X288)","v":259.33911950964426},{"$f":"IF($C288=\"\",\"\",Simulação!Y288)","v":"-"},{"$f":"IF($C288=\"\",\"\",Simulação!Z288)","v":257.21066580230348},{"$f":"IF($C288=\"\",\"\",Simulação!AA288)","v":"-"},{"$f":"IF($C288=\"\",\"\",Simulação!AB288)","v":136.83060944284537},{"$f":"IF($C288=\"\",\"\",Simulação!AC288)","v":"-"},{"$f":"IF($C288=\"\",\"\",Simulação!AD288)","v":140.66887446424042},{"$f":"IF($C288=\"\",\"\",Simulação!AE288)","v":"-"},{"$f":"IF($C288=\"\",\"\",Simulação!AF288)","v":34.388240562009656},{"$f":"IF($C288=\"\",\"\",Simulação!AG288)","v":"-"},{"$f":"IF($C288=\"\",\"\",Simulação!AH288)","v":29.236023829000793},{"$f":"IF($C288=\"\",\"\",Simulação!AI288)","v":"-"},{"$f":"IF($C288=\"\",\"\",Simulação!AJ288)","v":33.045125393740342},{"$f":"IF($C288=\"\",\"\",Simulação!AK288)","v":"-"},{"$f":"IF($C288=\"\",\"\",Simulação!AL288)","v":32.02721881559642},{"$f":"IF($C288=\"\",\"\",Simulação!AM288)","v":"-"},{"$f":"IF($C288=\"\",\"\",Simulação!AN288)","v":32.217563507182206},{"$f":"IF($C288=\"\",\"\",Simulação!AO288)","v":"-"},{"$f":"IF($C288=\"\",\"\",Simulação!AP288)","v":36.406016086434107},{"$f":"IF($C288=\"\",\"\",Simulação!AQ288)","v":"-"},{"$f":"IF($C288=\"\",\"\",Simulação!AR288)","v":0}]
[null,282,{"$f":"IF(Chegadas!J290<=$C$5,Chegadas!J290,\"\")","v":256.44000000000023},{"$f":"IF($C289=\"\",\"\",Simulação!D289)","v":11.120491191014525},{"$f":"IF($C289=\"\",\"\",Simulação!E289)","v":"*"},{"$f":"IF($C289=\"\",\"\",Simulação!F289)","v":261.28199646148261},{"$f":"IF($C289=\"\",\"\",Simulação!G289)","v":"*"},{"$f":"IF($C289=\"\",\"\",Simulação!H289)","v":257.64715707906305},{"$f":"IF($C289=\"\",\"\",Simulação!I289)","v":"*"},{"$f":"IF($C289=\"\",\"\",Simulação!J289)","v":258.45244210923966},{"$f":"IF($C289=\"\",\"\",Simulação!K289)","v":256.44000000000023},{"$f":"IF($C289=\"\",\"\",Simulação!L289)","v":267.56049119101476},{"$f":"IF($C289=\"\",\"\",Simulação!M289)","v":"-"},{"$f":"IF($C289=\"\",\"\",Simulação!N289)","v":258.33905895962567},{"$f":"IF($C289=\"\",\"\",Simulação!O289)","v":"-"},{"$f":"IF($C289=\"\",\"\",Simulação!P289)","v":257.27970331494674},{"$f":"IF($C289=\"\",\"\",Simulação!Q289)","v":"-"},{"$f":"IF($C289=\"\",\"\",Simulação!R289)","v":262.63573892615221},{"$f":"IF($C289=\"\",\"\",Simulação!S289)","v":"-"},{"$f":"IF($C289=\"\",\"\",Simulação!T289)","v":252.29293866748651},{"$f":"IF($C289=\"\",\"\",Simulação!U289)","v":"-"},{"$f":"IF($C289=\"\",\"\",Simulação!V289)","v":254.19249868454341},{"$f":"IF($C289=\"\",\"\",Simulação!W289)","v":"-"},{"$f":"IF($C289=\"\",\"\",Simulação!X289)","v":259.33911950964426},{"$f":"IF($C289=\"\",\"\",Simulação!Y289)","v":"-"},{"$f":"IF($C289=\"\",\"\",Simulação!Z289)","v":257.21066580230348},{"$f":"IF($C289=\"\",\"\",Simulação!AA289)","v":"-"},{"$f":"IF($C289=\"\",\"\",Simulação!AB289)","v":136.83060944284537},{"$f":"IF($C289=\"\",\"\",Simulação!AC289)","v":"-"},{"$f":"IF($C289=\"\",\"\",Simulação!AD289)","v":140.66887446424042},{"$f":"IF($C289=\"\",\"\",Simulação!AE289)","v":"-"},{"$f":"IF($C289=\"\",\"\",Simulação!AF289)","v":34.388240562009656},{"$f":"IF($C289=\"\",\"\",Simulação!AG289)","v":"-"},{"$f":"IF($C289=\"\",\"\",Simulação!AH289)","v":29.236023829000793},{"$f":"IF($C289=\"\",\"\",Simulação!AI289)","v":"-"},{"$f":"IF($C289=\"\",\"\",Simulação!AJ289)","v":33.045125393740342},{"$f":"IF($C289=\"\",\"\",Simulação!AK289)","v":"-"},{"$f":"IF($C289=\"\",\"\",Simulação!AL289)","v":32.02721881559642},{"$f":"IF($C289=\"\",\"\",Simulação!AM289)","v":"-"},{"$f":"IF($C289=\"\",\"\",Simulação!AN289)","v":32.217563507182206},{"$f":"IF($C289=\"\",\"\",Simulação!AO289)","v":"-"},{"$f":"IF($C289=\"\",\"\",Simulação!AP289)","v":36.406016086434107},{"$f":"IF($C289=\"\",\"\",Simulação!AQ289)","v":"-"},{"$f":"IF($C289=\"\",\"\",Simulação!AR289)","v":0}]
[null,283,{"$f":"IF(Chegadas!J291<=$C$5,Chegadas!J291,\"\")","v":257.73000000000025},{"$f":"IF($C290=\"\",\"\",Simulação!D290)","v":2.9326155161112779},{"$f":"IF($C290=\"\",\"\",Simulação!E290)","v":"*"},{"$f":"IF($C290=\"\",\"\",Simulação!F290)","v":261.28199646148261},{"$f":"IF($C290=\"\",\"\",Simulação!G290)","v":257.73000000000025},{"$f":"IF($C290=\"\",\"\",Simulação!H290)","v":260.66261551611154},{"$f":"IF($C290=\"\",\"\",Simulação!I290)","v":"-"},{"$f":"IF($C290=\"\",\"\",Simulação!J290)","v":258.45244210923966},{"$f":"IF($C290=\"\",\"\",Simulação!K290)","v":"-"},{"$f":"IF($C290=\"\",\"\",Simulação!L290)","v":267.56049119101476},{"$f":"IF($C290=\"\",\"\",Simulação!M290)","v":"-"},{"$f":"IF($C290=\"\",\"\",Simulação!N290)","v":258.33905895962567},{"$f":"IF($C290=\"\",\"\",Simulação!O290)","v":"-"},{"$f":"IF($C290=\"\",\"\",Simulação!P290)","v":257.27970331494674},{"$f":"IF($C290=\"\",\"\",Simulação!Q290)","v":"-"},{"$f":"IF($C290=\"\",\"\",Simulação!R290)","v":262.63573892615221},{"$f":"IF($C290=\"\",\"\",Simulação!S290)","v":"-"},{"$f":"IF($C290=\"\",\"\",Simulação!T290)","v":252.29293866748651},{"$f":"IF($C290=\"\",\"\",Simulação!U290)","v":"-"},{"$f":"IF($C290=\"\",\"\",Simulação!V290)","v":254.19249868454341},{"$f":"IF($C290=\"\",\"\",Simulação!W290)","v":"-"},{"$f":"IF($C290=\"\",\"\",Simulação!X290)","v":259.33911950964426},{"$f":"IF($C290=\"\",\"\",Simulação!Y290)","v":"-"},{"$f":"IF($C290=\"\",\"\",Simulação!Z290)","v":257.21066580230348},{"$f":"IF($C290=\"\",\"\",Simulação!AA290)","v":"-"},{"$f":"IF($C290=\"\",\"\",Simulação!AB290)","v":136.83060944284537},{"$f":"IF($C290=\"\",\"\",Simulação!AC290)","v":"-"},{"$f":"IF($C290=\"\",\"\",Simulação!AD290)","v":140.66887446424042},{"$f":"IF($C290=\"\",\"\",Simulação!AE290)","v":"-"},{"$f":"IF($C290=\"\",\"\",Simulação!AF290)","v":34.388240562009656},{"$f":"IF($C290=\"\",\"\",Simulação!AG290)","v":"-"},{"$f":"IF($C290=\"\",\"\",Simulação!AH290)","v":29.236023829000793},{"$f":"IF($C290=\"\",\"\",Simulação!AI290)","v":"-"},{"$f":"IF($C290=\"\",\"\",Simulação!AJ290)","v":33.045125393740342},{"$f":"IF($C290=\"\",\"\",Simulação!AK290)","v":"-"},{"$f":"IF($C290=\"\",\"\",Simulação!AL290)","v":32.02721881559642},{"$f":"IF($C290=\"\",\"\",Simulação!AM290)","v":"-"},{"$f":"IF($C290=\"\",\"\",Simulação!AN290)","v":32.217563507182206},{"$f":"IF($C290=\"\",\"\",Simulação!AO290)","v":"-"},{"$f":"IF($C290=\"\",\"\",Simulação!AP290)","v":36.406016086434107},{"$f":"IF($C290=\"\",\"\",Simulação!AQ290)","v":"-"},{"$f":"IF($C290=\"\",\"\",Simulação!AR290)","v":0}]
[null,284,{"$f":"IF(Chegadas!J292<=$C$5,Chegadas!J292,\"\")","v":259.06000000000023},{"$f":"IF($C291=\"\",\"\",Simulação!D291)","v":8.5447922963841112},{"$f":"IF($C291=\"\",\"\",Simulação!E291)","v":"*"},{"$f":"IF($C291=\"\",\"\",Simulação!F291)","v":261.28199646148261},{"$f":"IF($C291=\"\",\"\",Simulação!G291)","v":"*"},{"$f":"IF($C291=\"\",\"\",Simulação!H291)","v":260.66261551611154},{"$f":"IF($C291=\"\",\"\",Simulação!I291)","v":259.06000000000023},{"$f":"IF($C291=\"\",\"\",Simulação!J291)","v":267.60479229638435},{"$f":"IF($C291=\"\",\"\",Simulação!K291)","v":"-"},{"$f":"IF($C291=\"\",\"\",Simulação!L291)","v":267.56049119101476},{"$f":"IF($C291=\"\",\"\",Simulação!M291)","v":"-"},{"$f":"IF($C291=\"\",\"\",Simulação!N291)","v":258.33905895962567},{"$f":"IF($C291=\"\",\"\",Simulação!O291)","v":"-"},{"$f":"IF($C291=\"\",\"\",Simulação!P291)","v":257.27970331494674},{"$f":"IF($C291=\"\",\"\",Simulação!Q291)","v":"-"},{"$f":"IF($C291=\"\",\"\",Simulação!R291)","v":262.63573892615221},{"$f":"IF($C291=\"\",\"\",Simulação!S291)","v":"-"},{"$f":"IF($C291=\"\",\"\",Simulação!T291)","v":252.29293866748651},{"$f":"IF($C291=\"\",\"\",Simulação!U291)","v":"-"},{"$f":"IF($C291=\"\",\"\",Simulação!V291)","v":254.19249868454341},{"$f":"IF($C291=\"\",\"\",Simulação!W291)","v":"-"},{"$f":"IF($C291=\"\",\"\",Simulação!X291)","v":259.33911950964426},{"$f":"IF($C291=\"\",\"\",Simulação!Y291)","v":"-"},{"$f":"IF($C291=\"\",\"\",Simulação!Z291)","v":257.21066580230348},{"$f":"IF($C291=\"\",\"\",Simulação!AA291)","v":"-"},{"$f":"IF($C291=\"\",\"\",Simulação!AB291)","v":136.83060944284537},{"$f":"IF($C291=\"\",\"\",Simulação!AC291)","v":"-"},{"$f":"IF($C291=\"\",\"\",Simulação!AD291)","v":140.66887446424042},{"$f":"IF($C291=\"\",\"\",Simulação!AE291)","v":"-"},{"$f":"IF($C291=\"\",\"\",Simulação!AF291)","v":34.388240562009656},{"$f":"IF($C291=\"\",\"\",Simulação!AG291)","v":"-"},{"$f":"IF($C291=\"\",\"\",Simulação!AH291)","v":29.236023829000793},{"$f":"IF($C291=\"\",\"\",Simulação!AI291)","v":"-"},{"$f":"IF($C291=\"\",\"\",Simulação!AJ291)","v":33.045125393740342},{"$f":"IF($C291=\"\",\"\",Simulação!AK291)","v":"-"},{"$f":"IF($C291=\"\",\"\",Simulação!AL291)","v":32.02721881559642},{"$f":"IF($C291=\"\",\"\",Simulação!AM291)","v":"-"},{"$f":"IF($C291=\"\",\"\",Simulação!AN291)","v":32.217563507182206},{"$f":"IF($C291=\"\",\"\",Simulação!AO291)","v":"-"},{"$f":"IF($C291=\"\",\"\",Simulação!AP291)","v":36.406016086434107},{"$f":"IF($C291=\"\",\"\",Simulação!AQ291)","v":"-"},{"$f":"IF($C291=\"\",\"\",Simulação!AR291)","v":0}]
[null,285,{"$f":"IF(Chegadas!J293<=$C$5,Chegadas!J293,\"\")","v":261.49000000000024},{"$f":"IF($C292=\"\",\"\",Simulação!D292)","v":12.145231963211369},{"$f":"IF($C292=\"\",\"\",Simulação!E292)","v":261.49000000000024},{"$f":"IF($C292=\"\",\"\",Simulação!F292)","v":273.6352319632116},{"$f":"IF($C292=\"\",\"\",Simulação!G292)","v":"-"},{"$f":"IF($C292=\"\",\"\",Simulação!H292)","v":260.66261551611154},{"$f":"IF($C292=\"\",\"\",Simulação!I292)","v":"-"},{"$f":"IF($C292=\"\",\"\",Simulação!J292)","v":267.60479229638435},{"$f":"IF($C292=\"\",\"\",Simulação!K292)","v":"-"},{"$f":"IF($C292=\"\",\"\",Simulação!L292)","v":267.56049119101476},{"$f":"IF($C292=\"\",\"\",Simulação!M292)","v":"-"},{"$f":"IF($C292=\"\",\"\",Simulação!N292)","v":258.33905895962567},{"$f":"IF($C292=\"\",\"\",Simulação!O292)","v":"-"},{"$f":"IF($C292=\"\",\"\",Simulação!P292)","v":257.27970331494674},{"$f":"IF($C292=\"\",\"\",Simulação!Q292)","v":"-"},{"$f":"IF($C292=\"\",\"\",Simulação!R292)","v":262.63573892615221},{"$f":"IF($C292=\"\",\"\",Simulação!S292)","v":"-"},{"$f":"IF($C292=\"\",\"\",Simulação!T292)","v":252.29293866748651},{"$f":"IF($C292=\"\",\"\",Simulação!U292)","v":"-"},{"$f":"IF($C292=\"\",\"\",Simulação!V292)","v":254.19249868454341},{"$f":"IF($C292=\"\",\"\",Simulação!W292)","v":"-"},{"$f":"IF($C292=\"\",\"\",Simulação!X292)","v":259.33911950964426},{"$f":"IF($C292=\"\",\"\",Simulação!Y292)","v":"-"},{"$f":"IF($C292=\"\",\"\",Simulação!Z292)","v":257.21066580230348},{"$f":"IF($C292=\"\",\"\",Simulação!AA292)","v":"-"},{"$f":"IF($C292=\"\",\"\",Simulação!AB292)","v":136.83060944284537},{"$f":"IF($C292=\"\",\"\",Simulação!AC292)","v":"-"},{"$f":"IF($C292=\"\",\"\",Simulação!AD292)","v":140.66887446424042},{"$f":"IF($C292=\"\",\"\",Simulação!AE292)","v":"-"},{"$f":"IF($C292=\"\",\"\",Simulação!AF292)","v":34.388240562009656},{"$f":"IF($C292=\"\",\"\",Simulação!AG292)","v":"-"},{"$f":"IF($C292=\"\",\"\",Simulação!AH292)","v":29.236023829000793},{"$f":"IF($C292=\"\",\"\",Simulação!AI292)","v":"-"},{"$f":"IF($C292=\"\",\"\",Simulação!AJ292)","v":33.045125393740342},{"$f":"IF($C292=\"\",\"\",Simulação!AK292)","v":"-"},{"$f":"IF($C292=\"\",\"\",Simulação!AL292)","v":32.02721881559642},{"$f":"IF($C292=\"\",\"\",Simulação!AM292)","v":"-"},{"$f":"IF($C292=\"\",\"\",Simulação!AN292)","v":32.217563507182206},{"$f":"IF($C292=\"\",\"\",Simulação!AO292)","v":"-"},{"$f":"IF($C292=\"\",\"\",Simulação!AP292)","v":36.406016086434107},{"$f":"IF($C292=\"\",\"\",Simulação!AQ292)","v":"-"},{"$f":"IF($C292=\"\",\"\",Simulação!AR292)","v":0}]
[null,286,{"$f":"IF(Chegadas!J294<=$C$5,Chegadas!J294,\"\")","v":262.64000000000021},{"$f":"IF($C293=\"\",\"\",Simulação!D293)","v":6.0488247174036305},{"$f":"IF($C293=\"\",\"\",Simulação!E293)","v":"*"},{"$f":"IF($C293=\"\",\"\",Simulação!F293)","v":273.6352319632116},{"$f":"IF($C293=\"\",\"\",Simulação!G293)","v":262.64000000000021},{"$f":"IF($C293=\"\",\"\",Simulação!H293)","v":268.68882471740386},{"$f":"IF($C293=\"\",\"\",Simulação!I293)","v":"-"},{"$f":"IF($C293=\"\",\"\",Simulação!J293)","v":267.60479229638435},{"$f":"IF($C293=\"\",\"\",Simulação!K293)","v":"-"},{"$f":"IF($C293=\"\",\"\",Simulação!L293)","v":267.56049119101476},{"$f":"IF($C293=\"\",\"\",Simulação!M293)","v":"-"},{"$f":"IF($C293=\"\",\"\",Simulação!N293)","v":258.33905895962567},{"$f":"IF($C293=\"\",\"\",Simulação!O293)","v":"-"},{"$f":"IF($C293=\"\",\"\",Simulação!P293)","v":257.27970331494674},{"$f":"IF($C293=\"\",\"\",Simulação!Q293)","v":"-"},{"$f":"IF($C293=\"\",\"\",Simulação!R293)","v":262.63573892615221},{"$f":"IF($C293=\"\",\"\",Simulação!S293)","v":"-"},{"$f":"IF($C293=\"\",\"\",Simulação!T293)","v":252.29293866748651},{"$f":"IF($C293=\"\",\"\",Simulação!U293)","v":"-"},{"$f":"IF($C293=\"\",\"\",Simulação!V293)","v":254.19249868454341},{"$f":"IF($C293=\"\",\"\",Simulação!W293)","v":"-"},{"$f":"IF($C293=\"\",\"\",Simulação!X293)","v":259.33911950964426},{"$f":"IF($C293=\"\",\"\",Simulação!Y293)","v":"-"},{"$f":"IF($C293=\"\",\"\",Simulação!Z293)","v":257.21066580230348},{"$f":"IF($C293=\"\",\"\",Simulação!AA293)","v":"-"},{"$f":"IF($C293=\"\",\"\",Simulação!AB293)","v":136.83060944284537},{"$f":"IF($C293=\"\",\"\",Simulação!AC293)","v":"-"},{"$f":"IF($C293=\"\",\"\",Simulação!AD293)","v":140.66887446424042},{"$f":"IF($C293=\"\",\"\",Simulação!AE293)","v":"-"},{"$f":"IF($C293=\"\",\"\",Simulação!AF293)","v":34.388240562009656},{"$f":"IF($C293=\"\",\"\",Simulação!AG293)","v":"-"},{"$f":"IF($C293=\"\",\"\",Simulação!AH293)","v":29.236023829000793},{"$f":"IF($C293=\"\",\"\",Simulação!AI293)","v":"-"},{"$f":"IF($C293=\"\",\"\",Simulação!AJ293)","v":33.045125393740342},{"$f":"IF($C293=\"\",\"\",Simulação!AK293)","v":"-"},{"$f":"IF($C293=\"\",\"\",Simulação!AL293)","v":32.02721881559642},{"$f":"IF($C293=\"\",\"\",Simulação!AM293)","v":"-"},{"$f":"IF($C293=\"\",\"\",Simulação!AN293)","v":32.217563507182206},{"$f":"IF($C293=\"\",\"\",Simulação!AO293)","v":"-"},{"$f":"IF($C293=\"\",\"\",Simulação!AP293)","v":36.406016086434107},{"$f":"IF($C293=\"\",\"\",Simulação!AQ293)","v":"-"},{"$f":"IF($C293=\"\",\"\",Simulação!AR293)","v":0}]
[null,287,{"$f":"IF(Chegadas!J295<=$C$5,Chegadas!J295,\"\")","v":262.85000000000019},{"$f":"IF($C294=\"\",\"\",Simulação!D294)","v":5.445112652984422},{"$f":"IF($C294=\"\",\"\",Simulação!E294)","v":"*"},{"$f":"IF($C294=\"\",\"\",Simulação!F294)","v":273.6352319632116},{"$f":"IF($C294=\"\",\"\",Simulação!G294)","v":"*"},{"$f":"IF($C294=\"\",\"\",Simulação!H294)","v":268.68882471740386},{"$f":"IF($C294=\"\",\"\",Simulação!I294)","v":"*"},{"$f":"IF($C294=\"\",\"\",Simulação!J294)","v":267.60479229638435},{"$f":"IF($C294=\"\",\"\",Simulação!K294)","v":"*"},{"$f":"IF($C294=\"\",\"\",Simulação!L294)","v":267.56049119101476},{"$f":"IF($C294=\"\",\"\",Simulação!M294)","v":262.85000000000019},{"$f":"IF($C294=\"\",\"\",Simulação!N294)","v":268.29511265298464},{"$f":"IF($C294=\"\",\"\",Simulação!O294)","v":"-"},{"$f":"IF($C294=\"\",\"\",Simulação!P294)","v":257.27970331494674},{"$f":"IF($C294=\"\",\"\",Simulação!Q294)","v":"-"},{"$f":"IF($C294=\"\",\"\",Simulação!R294)","v":262.63573892615221},{"$f":"IF($C294=\"\",\"\",Simulação!S294)","v":"-"},{"$f":"IF($C294=\"\",\"\",Simulação!T294)","v":252.29293866748651},{"$f":"IF($C294=\"\",\"\",Simulação!U294)","v":"-"},{"$f":"IF($C294=\"\",\"\",Simulação!V294)","v":254.19249868454341},{"$f":"IF($C294=\"\",\"\",Simulação!W294)","v":"-"},{"$f":"IF($C294=\"\",\"\",Simulação!X294)","v":259.33911950964426},{"$f":"IF($C294=\"\",\"\",Simulação!Y294)","v":"-"},{"$f":"IF($C294=\"\",\"\",Simulação!Z294)","v":257.21066580230348},{"$f":"IF($C294=\"\",\"\",Simulação!AA294)","v":"-"},{"$f":"IF($C294=\"\",\"\",Simulação!AB294)","v":136.83060944284537},{"$f":"IF($C294=\"\",\"\",Simulação!AC294)","v":"-"},{"$f":"IF($C294=\"\",\"\",Simulação!AD294)","v":140.66887446424042},{"$f":"IF($C294=\"\",\"\",Simulação!AE294)","v":"-"},{"$f":"IF($C294=\"\",\"\",Simulação!AF294)","v":34.388240562009656},{"$f":"IF($C294=\"\",\"\",Simulação!AG294)","v":"-"},{"$f":"IF($C294=\"\",\"\",Simulação!AH294)","v":29.236023829000793},{"$f":"IF($C294=\"\",\"\",Simulação!AI294)","v":"-"},{"$f":"IF($C294=\"\",\"\",Simulação!AJ294)","v":33.045125393740342},{"$f":"IF($C294=\"\",\"\",Simulação!AK294)","v":"-"},{"$f":"IF($C294=\"\",\"\",Simulação!AL294)","v":32.02721881559642},{"$f":"IF($C294=\"\",\"\",Simulação!AM294)","v":"-"},{"$f":"IF($C294=\"\",\"\",Simulação!AN294)","v":32.217563507182206},{"$f":"IF($C294=\"\",\"\",Simulação!AO294)","v":"-"},{"$f":"IF($C294=\"\",\"\",Simulação!AP294)","v":36.406016086434107},{"$f":"IF($C294=\"\",\"\",Simulação!AQ294)","v":"-"},{"$f":"IF($C294=\"\",\"\",Simulação!AR294)","v":0}]
[null,288,{"$f":"IF(Chegadas!J296<=$C$5,Chegadas!J296,\"\")","v":263.20000000000022},{"$f":"IF($C295=\"\",\"\",Simulação!D295)","v":6.1350801265036718},{"$f":"IF($C295=\"\",\"\",Simulação!E295)","v":"*"},{"$f":"IF($C295=\"\",\"\",Simulação!F295)","v":273.6352319632116},{"$f":"IF($C295=\"\",\"\",Simulação!G295)","v":"*"},{"$f":"IF($C295=\"\",\"\",Simulação!H295)","v":268.68882471740386},{"$f":"IF($C295=\"\",\"\",Simulação!I295)","v":"*"},{"$f":"IF($C295=\"\",\"\",Simulação!J295)","v":267.60479229638435},{"$f":"IF($C295=\"\",\"\",Simulação!K295)","v":"*"},{"$f":"IF($C295=\"\",\"\",Simulação!L295)","v":267.56049119101476},{"$f":"IF($C295=\"\",\"\",Simulação!M295)","v":"*"},{"$f":"IF($C295=\"\",\"\",Simulação!N295)","v":268.29511265298464},{"$f":"IF($C295=\"\",\"\",Simulação!O295)","v":263.20000000000022},{"$f":"IF($C295=\"\",\"\",Simulação!P295)","v":269.3350801265039},{"$f":"IF($C295=\"\",\"\",Simulação!Q295)","v":"-"},{"$f":"IF($C295=\"\",\"\",Simulação!R295)","v":262.63573892615221},{"$f":"IF($C295=\"\",\"\",Simulação!S295)","v":"-"},{"$f":"IF($C295=\"\",\"\",Simulação!T295)","v":252.29293866748651},{"$f":"IF($C295=\"\",\"\",Simulação!U295)","v":"-"},{"$f":"IF($C295=\"\",\"\",Simulação!V295)","v":254.19249868454341},{"$f":"IF($C295=\"\",\"\",Simulação!W295)","v":"-"},{"$f":"IF($C295=\"\",\"\",Simulação!X295)","v":259.33911950964426},{"$f":"IF($C295=\"\",\"\",Simulação!Y295)","v":"-"},{"$f":"IF($C295=\"\",\"\",Simulação!Z295)","v":257.21066580230348},{"$f":"IF($C295=\"\",\"\",Simulação!AA295)","v":"-"},{"$f":"IF($C295=\"\",\"\",Simulação!AB295)","v":136.83060944284537},{"$f":"IF($C295=\"\",\"\",Simulação!AC295)","v":"-"},{"$f":"IF($C295=\"\",\"\",Simulação!AD295)","v":140.66887446424042},{"$f":"IF($C295=\"\",\"\",Simulação!AE295)","v":"-"},{"$f":"IF($C295=\"\",\"\",Simulação!AF295)","v":34.388240562009656},{"$f":"IF($C295=\"\",\"\",Simulação!AG295)","v":"-"},{"$f":"IF($C295=\"\",\"\",Simulação!AH295)","v":29.236023829000793},{"$f":"IF($C295=\"\",\"\",Simulação!AI295)","v":"-"},{"$f":"IF($C295=\"\",\"\",Simulação!AJ295)","v":33.045125393740342},{"$f":"IF($C295=\"\",\"\",Simulação!AK295)","v":"-"},{"$f":"IF($C295=\"\",\"\",Simulação!AL295)","v":32.02721881559642},{"$f":"IF($C295=\"\",\"\",Simulação!AM295)","v":"-"},{"$f":"IF($C295=\"\",\"\",Simulação!AN295)","v":32.217563507182206},{"$f":"IF($C295=\"\",\"\",Simulação!AO295)","v":"-"},{"$f":"IF($C295=\"\",\"\",Simulação!AP295)","v":36.406016086434107},{"$f":"IF($C295=\"\",\"\",Simulação!AQ295)","v":"-"},{"$f":"IF($C295=\"\",\"\",Simulação!AR295)","v":0}]
[null,289,{"$f":"IF(Chegadas!J297<=$C$5,Chegadas!J297,\"\")","v":265.2200000000002},{"$f":"IF($C296=\"\",\"\",Simulação!D296)","v":13.066961137307315},{"$f":"IF($C296=\"\",\"\",Simulação!E296)","v":"*"},{"$f":"IF($C296=\"\",\"\",Simulação!F296)","v":273.6352319632116},{"$f":"IF($C296=\"\",\"\",Simulação!G296)","v":"*"},{"$f":"IF($C296=\"\",\"\",Simulação!H296)","v":268.68882471740386},{"$f":"IF($C296=\"\",\"\",Simulação!I296)","v":"*"},{"$f":"IF($C296=\"\",\"\",Simulação!J296)","v":267.60479229638435},{"$f":"IF($C296=\"\",\"\",Simulação!K296)","v":"*"},{"$f":"IF($C296=\"\",\"\",Simulação!L296)","v":267.56049119101476},{"$f":"IF($C296=\"\",\"\",Simulação!M296)","v":"*"},{"$f":"IF($C296=\"\",\"\",Simulação!N296)","v":268.29511265298464},{"$f":"IF($C296=\"\",\"\",Simulação!O296)","v":"*"},{"$f":"IF($C296=\"\",\"\",Simulação!P296)","v":269.3350801265039},{"$f":"IF($C296=\"\",\"\",Simulação!Q296)","v":265.2200000000002},{"$f":"IF($C296=\"\",\"\",Simulação!R296)","v":278.28696113730751},{"$f":"IF($C296=\"\",\"\",Simulação!S296)","v":"-"},{"$f":"IF($C296=\"\",\"\",Simulação!T296)","v":252.29293866748651},{"$f":"IF($C296=\"\",\"\",Simulação!U296)","v":"-"},{"$f":"IF($C296=\"\",\"\",Simulação!V296)","v":254.19249868454341},{"$f":"IF($C296=\"\",\"\",Simulação!W296)","v":"-"},{"$f":"IF($C296=\"\",\"\",Simulação!X296)","v":259.33911950964426},{"$f":"IF($C296=\"\",\"\",Simulação!Y296)","v":"-"},{"$f":"IF($C296=\"\",\"\",Simulação!Z296)","v":257.21066580230348},{"$f":"IF($C296=\"\",\"\",Simulação!AA296)","v":"-"},{"$f":"IF($C296=\"\",\"\",Simulação!AB296)","v":136.83060944284537},{"$f":"IF($C296=\"\",\"\",Simulação!AC296)","v":"-"},{"$f":"IF($C296=\"\",\"\",Simulação!AD296)","v":140.66887446424042},{"$f":"IF($C296=\"\",\"\",Simulação!AE296)","v":"-"},{"$f":"IF($C296=\"\",\"\",Simulação!AF296)","v":34.388240562009656},{"$f":"IF($C296=\"\",\"\",Simulação!AG296)","v":"-"},{"$f":"IF($C296=\"\",\"\",Simulação!AH296)","v":29.236023829000793},{"$f":"IF($C296=\"\",\"\",Simulação!AI296)","v":"-"},{"$f":"IF($C296=\"\",\"\",Simulação!AJ296)","v":33.045125393740342},{"$f":"IF($C296=\"\",\"\",Simulação!AK296)","v":"-"},{"$f":"IF($C296=\"\",\"\",Simulação!AL296)","v":32.02721881559642},{"$f":"IF($C296=\"\",\"\",Simulação!AM296)","v":"-"},{"$f":"IF($C296=\"\",\"\",Simulação!AN296)","v":32.217563507182206},{"$f":"IF($C296=\"\",\"\",Simulação!AO296)","v":"-"},{"$f":"IF($C296=\"\",\"\",Simulação!AP296)","v":36.406016086434107},{"$f":"IF($C296=\"\",\"\",Simulação!AQ296)","v":"-"},{"$f":"IF($C296=\"\",\"\",Simulação!AR296)","v":0}]
[null,290,{"$f":"IF(Chegadas!J298<=$C$5,Chegadas!J298,\"\")","v":269.25000000000017},{"$f":"IF($C297=\"\",\"\",Simulação!D297)","v":6.6340482907979101},{"$f":"IF($C297=\"\",\"\",Simulação!E297)","v":"*"},{"$f":"IF($C297=\"\",\"\",Simulação!F297)","v":273.6352319632116},{"$f":"IF($C297=\"\",\"\",Simulação!G297)","v":269.25000000000017},{"$f":"IF($C297=\"\",\"\",Simulação!H297)","v":275.88404829079809},{"$f":"IF($C297=\"\",\"\",Simulação!I297)","v":"-"},{"$f":"IF($C297=\"\",\"\",Simulação!J297)","v":267.60479229638435},{"$f":"IF($C297=\"\",\"\",Simulação!K297)","v":"-"},{"$f":"IF($C297=\"\",\"\",Simulação!L297)","v":267.56049119101476},{"$f":"IF($C297=\"\",\"\",Simulação!M297)","v":"-"},{"$f":"IF($C297=\"\",\"\",Simulação!N297)","v":268.29511265298464},{"$f":"IF($C297=\"\",\"\",Simulação!O297)","v":"-"},{"$f":"IF($C297=\"\",\"\",Simulação!P297)","v":269.3350801265039},{"$f":"IF($C297=\"\",\"\",Simulação!Q297)","v":"-"},{"$f":"IF($C297=\"\",\"\",Simulação!R297)","v":278.28696113730751},{"$f":"IF($C297=\"\",\"\",Simulação!S297)","v":"-"},{"$f":"IF($C297=\"\",\"\",Simulação!T297)","v":252.29293866748651},{"$f":"IF($C297=\"\",\"\",Simulação!U297)","v":"-"},{"$f":"IF($C297=\"\",\"\",Simulação!V297)","v":254.19249868454341},{"$f":"IF($C297=\"\",\"\",Simulação!W297)","v":"-"},{"$f":"IF($C297=\"\",\"\",Simulação!X297)","v":259.33911950964426},{"$f":"IF($C297=\"\",\"\",Simulação!Y297)","v":"-"},{"$f":"IF($C297=\"\",\"\",Simulação!Z297)","v":257.21066580230348},{"$f":"IF($C297=\"\",\"\",Simulação!AA297)","v":"-"},{"$f":"IF($C297=\"\",\"\",Simulação!AB297)","v":136.83060944284537},{"$f":"IF($C297=\"\",\"\",Simulação!AC297)","v":"-"},{"$f":"IF($C297=\"\",\"\",Simulação!AD297)","v":140.66887446424042},{"$f":"IF($C297=\"\",\"\",Simulação!AE297)","v":"-"},{"$f":"IF($C297=\"\",\"\",Simulação!AF297)","v":34.388240562009656},{"$f":"IF($C297=\"\",\"\",Simulação!AG297)","v":"-"},{"$f":"IF($C297=\"\",\"\",Simulação!AH297)","v":29.236023829000793},{"$f":"IF($C297=\"\",\"\",Simulação!AI297)","v":"-"},{"$f":"IF($C297=\"\",\"\",Simulação!AJ297)","v":33.045125393740342},{"$f":"IF($C297=\"\",\"\",Simulação!AK297)","v":"-"},{"$f":"IF($C297=\"\",\"\",Simulação!AL297)","v":32.02721881559642},{"$f":"IF($C297=\"\",\"\",Simulação!AM297)","v":"-"},{"$f":"IF($C297=\"\",\"\",Simulação!AN297)","v":32.217563507182206},{"$f":"IF($C297=\"\",\"\",Simulação!AO297)","v":"-"},{"$f":"IF($C297=\"\",\"\",Simulação!AP297)","v":36.406016086434107},{"$f":"IF($C297=\"\",\"\",Simulação!AQ297)","v":"-"},{"$f":"IF($C297=\"\",\"\",Simulação!AR297)","v":0}]
[null,291,{"$f":"IF(Chegadas!J299<=$C$5,Chegadas!J299,\"\")","v":270.57},{"$f":"IF($C298=\"\",\"\",Simulação!D298)","v":1.7465860348024742},{"$f":"IF($C298=\"\",\"\",Simulação!E298)","v":"*"},{"$f":"IF($C298=\"\",\"\",Simulação!F298)","v":273.6352319632116},{"$f":"IF($C298=\"\",\"\",Simulação!G298)","v":"*"},{"$f":"IF($C298=\"\",\"\",Simulação!H298)","v":275.88404829079809},{"$f":"IF($C298=\"\",\"\",Simulação!I298)","v":270.57},{"$f":"IF($C298=\"\",\"\",Simulação!J298)","v":272.31658603480247},{"$f":"IF($C298=\"\",\"\",Simulação!K298)","v":"-"},{"$f":"IF($C298=\"\",\"\",Simulação!L298)","v":267.56049119101476},{"$f":"IF($C298=\"\",\"\",Simulação!M298)","v":"-"},{"$f":"IF($C298=\"\",\"\",Simulação!N298)","v":268.29511265298464},{"$f":"IF($C298=\"\",\"\",Simulação!O298)","v":"-"},{"$f":"IF($C298=\"\",\"\",Simulação!P298)","v":269.3350801265039},{"$f":"IF($C298=\"\",\"\",Simulação!Q298)","v":"-"},{"$f":"IF($C298=\"\",\"\",Simulação!R298)","v":278.28696113730751},{"$f":"IF($C298=\"\",\"\",Simulação!S298)","v":"-"},{"$f":"IF($C298=\"\",\"\",Simulação!T298)","v":252.29293866748651},{"$f":"IF($C298=\"\",\"\",Simulação!U298)","v":"-"},{"$f":"IF($C298=\"\",\"\",Simulação!V298)","v":254.19249868454341},{"$f":"IF($C298=\"\",\"\",Simulação!W298)","v":"-"},{"$f":"IF($C298=\"\",\"\",Simulação!X298)","v":259.33911950964426},{"$f":"IF($C298=\"\",\"\",Simulação!Y298)","v":"-"},{"$f":"IF($C298=\"\",\"\",Simulação!Z298)","v":257.21066580230348},{"$f":"IF($C298=\"\",\"\",Simulação!AA298)","v":"-"},{"$f":"IF($C298=\"\",\"\",Simulação!AB298)","v":136.83060944284537},{"$f":"IF($C298=\"\",\"\",Simulação!AC298)","v":"-"},{"$f":"IF($C298=\"\",\"\",Simulação!AD298)","v":140.66887446424042},{"$f":"IF($C298=\"\",\"\",Simulação!AE298)","v":"-"},{"$f":"IF($C298=\"\",\"\",Simulação!AF298)","v":34.388240562009656},{"$f":"IF($C298=\"\",\"\",Simulação!AG298)","v":"-"},{"$f":"IF($C298=\"\",\"\",Simulação!AH298)","v":29.236023829000793},{"$f":"IF($C298=\"\",\"\",Simulação!AI298)","v":"-"},{"$f":"IF($C298=\"\",\"\",Simulação!AJ298)","v":33.045125393740342},{"$f":"IF($C298=\"\",\"\",Simulação!AK298)","v":"-"},{"$f":"IF($C298=\"\",\"\",Simulação!AL298)","v":32.02721881559642},{"$f":"IF($C298=\"\",\"\",Simulação!AM298)","v":"-"},{"$f":"IF($C298=\"\",\"\",Simulação!AN298)","v":32.217563507182206},{"$f":"IF($C298=\"\",\"\",Simulação!AO298)","v":"-"},{"$f":"IF($C298=\"\",\"\",Simulação!AP298)","v":36.406016086434107},{"$f":"IF($C298=\"\",\"\",Simulação!AQ298)","v":"-"},{"$f":"IF($C298=\"\",\"\",Simulação!AR298)","v":0}]
[null,292,{"$f":"IF(Chegadas!J300<=$C$5,Chegadas!J300,\"\")","v":271.40000000000015},{"$f":"IF($C299=\"\",\"\",Simulação!D299)","v":2.9037836685552301},{"$f":"IF($C299=\"\",\"\",Simulação!E299)","v":"*"},{"$f":"IF($C299=\"\",\"\",Simulação!F299)","v":273.6352319632116},{"$f":"IF($C299=\"\",\"\",Simulação!G299)","v":"*"},{"$f":"IF($C299=\"\",\"\",Simulação!H299)","v":275.88404829079809},{"$f":"IF($C299=\"\",\"\",Simulação!I299)","v":"*"},{"$f":"IF($C299=\"\",\"\",Simulação!J299)","v":272.31658603480247},{"$f":"IF($C299=\"\",\"\",Simulação!K299)","v":271.40000000000015},{"$f":"IF($C299=\"\",\"\",Simulação!L299)","v":274.30378366855535},{"$f":"IF($C299=\"\",\"\",Simulação!M299)","v":"-"},{"$f":"IF($C299=\"\",\"\",Simulação!N299)","v":268.29511265298464},{"$f":"IF($C299=\"\",\"\",Simulação!O299)","v":"-"},{"$f":"IF($C299=\"\",\"\",Simulação!P299)","v":269.3350801265039},{"$f":"IF($C299=\"\",\"\",Simulação!Q299)","v":"-"},{"$f":"IF($C299=\"\",\"\",Simulação!R299)","v":278.28696113730751},{"$f":"IF($C299=\"\",\"\",Simulação!S299)","v":"-"},{"$f":"IF($C299=\"\",\"\",Simulação!T299)","v":252.29293866748651},{"$f":"IF($C299=\"\",\"\",Simulação!U299)","v":"-"},{"$f":"IF($C299=\"\",\"\",Simulação!V299)","v":254.19249868454341},{"$f":"IF($C299=\"\",\"\",Simulação!W299)","v":"-"},{"$f":"IF($C299=\"\",\"\",Simulação!X299)","v":259.33911950964426},{"$f":"IF($C299=\"\",\"\",Simulação!Y299)","v":"-"},{"$f":"IF($C299=\"\",\"\",Simulação!Z299)","v":257.21066580230348},{"$f":"IF($C299=\"\",\"\",Simulação!AA299)","v":"-"},{"$f":"IF($C299=\"\",\"\",Simulação!AB299)","v":136.83060944284537},{"$f":"IF($C299=\"\",\"\",Simulação!AC299)","v":"-"},{"$f":"IF($C299=\"\",\"\",Simulação!AD299)","v":140.66887446424042},{"$f":"IF($C299=\"\",\"\",Simulação!AE299)","v":"-"},{"$f":"IF($C299=\"\",\"\",Simulação!AF299)","v":34.388240562009656},{"$f":"IF($C299=\"\",\"\",Simulação!AG299)","v":"-"},{"$f":"IF($C299=\"\",\"\",Simulação!AH299)","v":29.236023829000793},{"$f":"IF($C299=\"\",\"\",Simulação!AI299)","v":"-"},{"$f":"IF($C299=\"\",\"\",Simulação!AJ299)","v":33.045125393740342},{"$f":"IF($C299=\"\",\"\",Simulação!AK299)","v":"-"},{"$f":"IF($C299=\"\",\"\",Simulação!AL299)","v":32.02721881559642},{"$f":"IF($C299=\"\",\"\",Simulação!AM299)","v":"-"},{"$f":"IF($C299=\"\",\"\",Simulação!AN299)","v":32.217563507182206},{"$f":"IF($C299=\"\",\"\",Simulação!AO299)","v":"-"},{"$f":"IF($C299=\"\",\"\",Simulação!AP299)","v":36.406016086434107},{"$f":"IF($C299=\"\",\"\",Simulação!AQ299)","v":"-"},{"$f":"IF($C299=\"\",\"\",Simulação!AR299)","v":0}]
[null,293,{"$f":"IF(Chegadas!J301<=$C$5,Chegadas!J301,\"\")","v":272.23000000000013},{"$f":"IF($C300=\"\",\"\",Simulação!D300)","v":4.2306331999905398},{"$f":"IF($C300=\"\",\"\",Simulação!E300)","v":"*"},{"$f":"IF($C300=\"\",\"\",Simulação!F300)","v":273.6352319632116},{"$f":"IF($C300=\"\",\"\",Simulação!G300)","v":"*"},{"$f":"IF($C300=\"\",\"\",Simulação!H300)","v":275.88404829079809},{"$f":"IF($C300=\"\",\"\",Simulação!I300)","v":"*"},{"$f":"IF($C300=\"\",\"\",Simulação!J300)","v":272.31658603480247},{"$f":"IF($C300=\"\",\"\",Simulação!K300)","v":"*"},{"$f":"IF($C300=\"\",\"\",Simulação!L300)","v":274.30378366855535},{"$f":"IF($C300=\"\",\"\",Simulação!M300)","v":272.23000000000013},{"$f":"IF($C300=\"\",\"\",Simulação!N300)","v":276.4606331999907},{"$f":"IF($C300=\"\",\"\",Simulação!O300)","v":"-"},{"$f":"IF($C300=\"\",\"\",Simulação!P300)","v":269.3350801265039},{"$f":"IF($C300=\"\",\"\",Simulação!Q300)","v":"-"},{"$f":"IF($C300=\"\",\"\",Simulação!R300)","v":278.28696113730751},{"$f":"IF($C300=\"\",\"\",Simulação!S300)","v":"-"},{"$f":"IF($C300=\"\",\"\",Simulação!T300)","v":252.29293866748651},{"$f":"IF($C300=\"\",\"\",Simulação!U300)","v":"-"},{"$f":"IF($C300=\"\",\"\",Simulação!V300)","v":254.19249868454341},{"$f":"IF($C300=\"\",\"\",Simulação!W300)","v":"-"},{"$f":"IF($C300=\"\",\"\",Simulação!X300)","v":259.33911950964426},{"$f":"IF($C300=\"\",\"\",Simulação!Y300)","v":"-"},{"$f":"IF($C300=\"\",\"\",Simulação!Z300)","v":257.21066580230348},{"$f":"IF($C300=\"\",\"\",Simulação!AA300)","v":"-"},{"$f":"IF($C300=\"\",\"\",Simulação!AB300)","v":136.83060944284537},{"$f":"IF($C300=\"\",\"\",Simulação!AC300)","v":"-"},{"$f":"IF($C300=\"\",\"\",Simulação!AD300)","v":140.66887446424042},{"$f":"IF($C300=\"\",\"\",Simulação!AE300)","v":"-"},{"$f":"IF($C300=\"\",\"\",Simulação!AF300)","v":34.388240562009656},{"$f":"IF($C300=\"\",\"\",Simulação!AG300)","v":"-"},{"$f":"IF($C300=\"\",\"\",Simulação!AH300)","v":29.236023829000793},{"$f":"IF($C300=\"\",\"\",Simulação!AI300)","v":"-"},{"$f":"IF($C300=\"\",\"\",Simulação!AJ300)","v":33.045125393740342},{"$f":"IF($C300=\"\",\"\",Simulação!AK300)","v":"-"},{"$f":"IF($C300=\"\",\"\",Simulação!AL300)","v":32.02721881559642},{"$f":"IF($C300=\"\",\"\",Simulação!AM300)","v":"-"},{"$f":"IF($C300=\"\",\"\",Simulação!AN300)","v":32.217563507182206},{"$f":"IF($C300=\"\",\"\",Simulação!AO300)","v":"-"},{"$f":"IF($C300=\"\",\"\",Simulação!AP300)","v":36.406016086434107},{"$f":"IF($C300=\"\",\"\",Simulação!AQ300)","v":"-"},{"$f":"IF($C300=\"\",\"\",Simulação!AR300)","v":0}]
[null,294,{"$f":"IF(Chegadas!J302<=$C$5,Chegadas!J302,\"\")","v":272.42000000000013},{"$f":"IF($C301=\"\",\"\",Simulação!D301)","v":7.1024908803226277},{"$f":"IF($C301=\"\",\"\",Simulação!E301)","v":"*"},{"$f":"IF($C301=\"\",\"\",Simulação!F301)","v":273.6352319632116},{"$f":"IF($C301=\"\",\"\",Simulação!G301)","v":"*"},{"$f":"IF($C301=\"\",\"\",Simulação!H301)","v":275.88404829079809},{"$f":"IF($C301=\"\",\"\",Simulação!I301)","v":272.42000000000013},{"$f":"IF($C301=\"\",\"\",Simulação!J301)","v":279.52249088032278},{"$f":"IF($C301=\"\",\"\",Simulação!K301)","v":"-"},{"$f":"IF($C301=\"\",\"\",Simulação!L301)","v":274.30378366855535},{"$f":"IF($C301=\"\",\"\",Simulação!M301)","v":"-"},{"$f":"IF($C301=\"\",\"\",Simulação!N301)","v":276.4606331999907},{"$f":"IF($C301=\"\",\"\",Simulação!O301)","v":"-"},{"$f":"IF($C301=\"\",\"\",Simulação!P301)","v":269.3350801265039},{"$f":"IF($C301=\"\",\"\",Simulação!Q301)","v":"-"},{"$f":"IF($C301=\"\",\"\",Simulação!R301)","v":278.28696113730751},{"$f":"IF($C301=\"\",\"\",Simulação!S301)","v":"-"},{"$f":"IF($C301=\"\",\"\",Simulação!T301)","v":252.29293866748651},{"$f":"IF($C301=\"\",\"\",Simulação!U301)","v":"-"},{"$f":"IF($C301=\"\",\"\",Simulação!V301)","v":254.19249868454341},{"$f":"IF($C301=\"\",\"\",Simulação!W301)","v":"-"},{"$f":"IF($C301=\"\",\"\",Simulação!X301)","v":259.33911950964426},{"$f":"IF($C301=\"\",\"\",Simulação!Y301)","v":"-"},{"$f":"IF($C301=\"\",\"\",Simulação!Z301)","v":257.21066580230348},{"$f":"IF($C301=\"\",\"\",Simulação!AA301)","v":"-"},{"$f":"IF($C301=\"\",\"\",Simulação!AB301)","v":136.83060944284537},{"$f":"IF($C301=\"\",\"\",Simulação!AC301)","v":"-"},{"$f":"IF($C301=\"\",\"\",Simulação!AD301)","v":140.66887446424042},{"$f":"IF($C301=\"\",\"\",Simulação!AE301)","v":"-"},{"$f":"IF($C301=\"\",\"\",Simulação!AF301)","v":34.388240562009656},{"$f":"IF($C301=\"\",\"\",Simulação!AG301)","v":"-"},{"$f":"IF($C301=\"\",\"\",Simulação!AH301)","v":29.236023829000793},{"$f":"IF($C301=\"\",\"\",Simulação!AI301)","v":"-"},{"$f":"IF($C301=\"\",\"\",Simulação!AJ301)","v":33.045125393740342},{"$f":"IF($C301=\"\",\"\",Simulação!AK301)","v":"-"},{"$f":"IF($C301=\"\",\"\",Simulação!AL301)","v":32.02721881559642},{"$f":"IF($C301=\"\",\"\",Simulação!AM301)","v":"-"},{"$f":"IF($C301=\"\",\"\",Simulação!AN301)","v":32.217563507182206},{"$f":"IF($C301=\"\",\"\",Simulação!AO301)","v":"-"},{"$f":"IF($C301=\"\",\"\",Simulação!AP301)","v":36.406016086434107},{"$f":"IF($C301=\"\",\"\",Simulação!AQ301)","v":"-"},{"$f":"IF($C301=\"\",\"\",Simulação!AR301)","v":0}]
[null,295,{"$f":"IF(Chegadas!J303<=$C$5,Chegadas!J303,\"\")","v":273.57000000000011},{"$f":"IF($C302=\"\",\"\",Simulação!D302)","v":3.1260012471055463},{"$f":"IF($C302=\"\",\"\",Simulação!E302)","v":"*"},{"$f":"IF($C302=\"\",\"\",Simulação!F302)","v":273.6352319632116},{"$f":"IF($C302=\"\",\"\",Simulação!G302)","v":"*"},{"$f":"IF($C302=\"\",\"\",Simulação!H302)","v":275.88404829079809},{"$f":"IF($C302=\"\",\"\",Simulação!I302)","v":"*"},{"$f":"IF($C302=\"\",\"\",Simulação!J302)","v":279.52249088032278},{"$f":"IF($C302=\"\",\"\",Simulação!K302)","v":"*"},{"$f":"IF($C302=\"\",\"\",Simulação!L302)","v":274.30378366855535},{"$f":"IF($C302=\"\",\"\",Simulação!M302)","v":"*"},{"$f":"IF($C302=\"\",\"\",Simulação!N302)","v":276.4606331999907},{"$f":"IF($C302=\"\",\"\",Simulação!O302)","v":273.57000000000011},{"$f":"IF($C302=\"\",\"\",Simulação!P302)","v":276.69600124710564},{"$f":"IF($C302=\"\",\"\",Simulação!Q302)","v":"-"},{"$f":"IF($C302=\"\",\"\",Simulação!R302)","v":278.28696113730751},{"$f":"IF($C302=\"\",\"\",Simulação!S302)","v":"-"},{"$f":"IF($C302=\"\",\"\",Simulação!T302)","v":252.29293866748651},{"$f":"IF($C302=\"\",\"\",Simulação!U302)","v":"-"},{"$f":"IF($C302=\"\",\"\",Simulação!V302)","v":254.19249868454341},{"$f":"IF($C302=\"\",\"\",Simulação!W302)","v":"-"},{"$f":"IF($C302=\"\",\"\",Simulação!X302)","v":259.33911950964426},{"$f":"IF($C302=\"\",\"\",Simulação!Y302)","v":"-"},{"$f":"IF($C302=\"\",\"\",Simulação!Z302)","v":257.21066580230348},{"$f":"IF($C302=\"\",\"\",Simulação!AA302)","v":"-"},{"$f":"IF($C302=\"\",\"\",Simulação!AB302)","v":136.83060944284537},{"$f":"IF($C302=\"\",\"\",Simulação!AC302)","v":"-"},{"$f":"IF($C302=\"\",\"\",Simulação!AD302)","v":140.66887446424042},{"$f":"IF($C302=\"\",\"\",Simulação!AE302)","v":"-"},{"$f":"IF($C302=\"\",\"\",Simulação!AF302)","v":34.388240562009656},{"$f":"IF($C302=\"\",\"\",Simulação!AG302)","v":"-"},{"$f":"IF($C302=\"\",\"\",Simulação!AH302)","v":29.236023829000793},{"$f":"IF($C302=\"\",\"\",Simulação!AI302)","v":"-"},{"$f":"IF($C302=\"\",\"\",Simulação!AJ302)","v":33.045125393740342},{"$f":"IF($C302=\"\",\"\",Simulação!AK302)","v":"-"},{"$f":"IF($C302=\"\",\"\",Simulação!AL302)","v":32.02721881559642},{"$f":"IF($C302=\"\",\"\",Simulação!AM302)","v":"-"},{"$f":"IF($C302=\"\",\"\",Simulação!AN302)","v":32.217563507182206},{"$f":"IF($C302=\"\",\"\",Simulação!AO302)","v":"-"},{"$f":"IF($C302=\"\",\"\",Simulação!AP302)","v":36.406016086434107},{"$f":"IF($C302=\"\",\"\",Simulação!AQ302)","v":"-"},{"$f":"IF($C302=\"\",\"\",Simulação!AR302)","v":0}]
[null,296,{"$f":"IF(Chegadas!J304<=$C$5,Chegadas!J304,\"\")","v":273.65000000000009},{"$f":"IF($C303=\"\",\"\",Simulação!D303)","v":8.5412037730465791},{"$f":"IF($C303=\"\",\"\",Simulação!E303)","v":273.65000000000009},{"$f":"IF($C303=\"\",\"\",Simulação!F303)","v":282.19120377304665},{"$f":"IF($C303=\"\",\"\",Simulação!G303)","v":"-"},{"$f":"IF($C303=\"\",\"\",Simulação!H303)","v":275.88404829079809},{"$f":"IF($C303=\"\",\"\",Simulação!I303)","v":"-"},{"$f":"IF($C303=\"\",\"\",Simulação!J303)","v":279.52249088032278},{"$f":"IF($C303=\"\",\"\",Simulação!K303)","v":"-"},{"$f":"IF($C303=\"\",\"\",Simulação!L303)","v":274.30378366855535},{"$f":"IF($C303=\"\",\"\",Simulação!M303)","v":"-"},{"$f":"IF($C303=\"\",\"\",Simulação!N303)","v":276.4606331999907},{"$f":"IF($C303=\"\",\"\",Simulação!O303)","v":"-"},{"$f":"IF($C303=\"\",\"\",Simulação!P303)","v":276.69600124710564},{"$f":"IF($C303=\"\",\"\",Simulação!Q303)","v":"-"},{"$f":"IF($C303=\"\",\"\",Simulação!R303)","v":278.28696113730751},{"$f":"IF($C303=\"\",\"\",Simulação!S303)","v":"-"},{"$f":"IF($C303=\"\",\"\",Simulação!T303)","v":252.29293866748651},{"$f":"IF($C303=\"\",\"\",Simulação!U303)","v":"-"},{"$f":"IF($C303=\"\",\"\",Simulação!V303)","v":254.19249868454341},{"$f":"IF($C303=\"\",\"\",Simulação!W303)","v":"-"},{"$f":"IF($C303=\"\",\"\",Simulação!X303)","v":259.33911950964426},{"$f":"IF($C303=\"\",\"\",Simulação!Y303)","v":"-"},{"$f":"IF($C303=\"\",\"\",Simulação!Z303)","v":257.21066580230348},{"$f":"IF($C303=\"\",\"\",Simulação!AA303)","v":"-"},{"$f":"IF($C303=\"\",\"\",Simulação!AB303)","v":136.83060944284537},{"$f":"IF($C303=\"\",\"\",Simulação!AC303)","v":"-"},{"$f":"IF($C303=\"\",\"\",Simulação!AD303)","v":140.66887446424042},{"$f":"IF($C303=\"\",\"\",Simulação!AE303)","v":"-"},{"$f":"IF($C303=\"\",\"\",Simulação!AF303)","v":34.388240562009656},{"$f":"IF($C303=\"\",\"\",Simulação!AG303)","v":"-"},{"$f":"IF($C303=\"\",\"\",Simulação!AH303)","v":29.236023829000793},{"$f":"IF($C303=\"\",\"\",Simulação!AI303)","v":"-"},{"$f":"IF($C303=\"\",\"\",Simulação!AJ303)","v":33.045125393740342},{"$f":"IF($C303=\"\",\"\",Simulação!AK303)","v":"-"},{"$f":"IF($C303=\"\",\"\",Simulação!AL303)","v":32.02721881559642},{"$f":"IF($C303=\"\",\"\",Simulação!AM303)","v":"-"},{"$f":"IF($C303=\"\",\"\",Simulação!AN303)","v":32.217563507182206},{"$f":"IF($C303=\"\",\"\",Simulação!AO303)","v":"-"},{"$f":"IF($C303=\"\",\"\",Simulação!AP303)","v":36.406016086434107},{"$f":"IF($C303=\"\",\"\",Simulação!AQ303)","v":"-"},{"$f":"IF($C303=\"\",\"\",Simulação!AR303)","v":0}]
[null,297,{"$f":"IF(Chegadas!J305<=$C$5,Chegadas!J305,\"\")","v":273.8300000000001},{"$f":"IF($C304=\"\",\"\",Simulação!D304)","v":6.6648773692425722},{"$f":"IF($C304=\"\",\"\",Simulação!E304)","v":"*"},{"$f":"IF($C304=\"\",\"\",Simulação!F304)","v":282.19120377304665},{"$f":"IF($C304=\"\",\"\",Simulação!G304)","v":"*"},{"$f":"IF($C304=\"\",\"\",Simulação!H304)","v":275.88404829079809},{"$f":"IF($C304=\"\",\"\",Simulação!I304)","v":"*"},{"$f":"IF($C304=\"\",\"\",Simulação!J304)","v":279.52249088032278},{"$f":"IF($C304=\"\",\"\",Simulação!K304)","v":"*"},{"$f":"IF($C304=\"\",\"\",Simulação!L304)","v":274.30378366855535},{"$f":"IF($C304=\"\",\"\",Simulação!M304)","v":"*"},{"$f":"IF($C304=\"\",\"\",Simulação!N304)","v":276.4606331999907},{"$f":"IF($C304=\"\",\"\",Simulação!O304)","v":"*"},{"$f":"IF($C304=\"\",\"\",Simulação!P304)","v":276.69600124710564},{"$f":"IF($C304=\"\",\"\",Simulação!Q304)","v":"*"},{"$f":"IF($C304=\"\",\"\",Simulação!R304)","v":278.28696113730751},{"$f":"IF($C304=\"\",\"\",Simulação!S304)","v":273.8300000000001},{"$f":"IF($C304=\"\",\"\",Simulação!T304)","v":280.49487736924266},{"$f":"IF($C304=\"\",\"\",Simulação!U304)","v":"-"},{"$f":"IF($C304=\"\",\"\",Simulação!V304)","v":254.19249868454341},{"$f":"IF($C304=\"\",\"\",Simulação!W304)","v":"-"},{"$f":"IF($C304=\"\",\"\",Simulação!X304)","v":259.33911950964426},{"$f":"IF($C304=\"\",\"\",Simulação!Y304)","v":"-"},{"$f":"IF($C304=\"\",\"\",Simulação!Z304)","v":257.21066580230348},{"$f":"IF($C304=\"\",\"\",Simulação!AA304)","v":"-"},{"$f":"IF($C304=\"\",\"\",Simulação!AB304)","v":136.83060944284537},{"$f":"IF($C304=\"\",\"\",Simulação!AC304)","v":"-"},{"$f":"IF($C304=\"\",\"\",Simulação!AD304)","v":140.66887446424042},{"$f":"IF($C304=\"\",\"\",Simulação!AE304)","v":"-"},{"$f":"IF($C304=\"\",\"\",Simulação!AF304)","v":34.388240562009656},{"$f":"IF($C304=\"\",\"\",Simulação!AG304)","v":"-"},{"$f":"IF($C304=\"\",\"\",Simulação!AH304)","v":29.236023829000793},{"$f":"IF($C304=\"\",\"\",Simulação!AI304)","v":"-"},{"$f":"IF($C304=\"\",\"\",Simulação!AJ304)","v":33.045125393740342},{"$f":"IF($C304=\"\",\"\",Simulação!AK304)","v":"-"},{"$f":"IF($C304=\"\",\"\",Simulação!AL304)","v":32.02721881559642},{"$f":"IF($C304=\"\",\"\",Simulação!AM304)","v":"-"},{"$f":"IF($C304=\"\",\"\",Simulação!AN304)","v":32.217563507182206},{"$f":"IF($C304=\"\",\"\",Simulação!AO304)","v":"-"},{"$f":"IF($C304=\"\",\"\",Simulação!AP304)","v":36.406016086434107},{"$f":"IF($C304=\"\",\"\",Simulação!AQ304)","v":"-"},{"$f":"IF($C304=\"\",\"\",Simulação!AR304)","v":0}]
[null,298,{"$f":"IF(Chegadas!J306<=$C$5,Chegadas!J306,\"\")","v":274.15000000000009},{"$f":"IF($C305=\"\",\"\",Simulação!D305)","v":8.4199677747370352},{"$f":"IF($C305=\"\",\"\",Simulação!E305)","v":"*"},{"$f":"IF($C305=\"\",\"\",Simulação!F305)","v":282.19120377304665},{"$f":"IF($C305=\"\",\"\",Simulação!G305)","v":"*"},{"$f":"IF($C305=\"\",\"\",Simulação!H305)","v":275.88404829079809},{"$f":"IF($C305=\"\",\"\",Simulação!I305)","v":"*"},{"$f":"IF($C305=\"\",\"\",Simulação!J305)","v":279.52249088032278},{"$f":"IF($C305=\"\",\"\",Simulação!K305)","v":"*"},{"$f":"IF($C305=\"\",\"\",Simulação!L305)","v":274.30378366855535},{"$f":"IF($C305=\"\",\"\",Simulação!M305)","v":"*"},{"$f":"IF($C305=\"\",\"\",Simulação!N305)","v":276.4606331999907},{"$f":"IF($C305=\"\",\"\",Simulação!O305)","v":"*"},{"$f":"IF($C305=\"\",\"\",Simulação!P305)","v":276.69600124710564},{"$f":"IF($C305=\"\",\"\",Simulação!Q305)","v":"*"},{"$f":"IF($C305=\"\",\"\",Simulação!R305)","v":278.28696113730751},{"$f":"IF($C305=\"\",\"\",Simulação!S305)","v":"*"},{"$f":"IF($C305=\"\",\"\",Simulação!T305)","v":280.49487736924266},{"$f":"IF($C305=\"\",\"\",Simulação!U305)","v":274.15000000000009},{"$f":"IF($C305=\"\",\"\",Simulação!V305)","v":282.56996777473711},{"$f":"IF($C305=\"\",\"\",Simulação!W305)","v":"-"},{"$f":"IF($C305=\"\",\"\",Simulação!X305)","v":259.33911950964426},{"$f":"IF($C305=\"\",\"\",Simulação!Y305)","v":"-"},{"$f":"IF($C305=\"\",\"\",Simulação!Z305)","v":257.21066580230348},{"$f":"IF($C305=\"\",\"\",Simulação!AA305)","v":"-"},{"$f":"IF($C305=\"\",\"\",Simulação!AB305)","v":136.83060944284537},{"$f":"IF($C305=\"\",\"\",Simulação!AC305)","v":"-"},{"$f":"IF($C305=\"\",\"\",Simulação!AD305)","v":140.66887446424042},{"$f":"IF($C305=\"\",\"\",Simulação!AE305)","v":"-"},{"$f":"IF($C305=\"\",\"\",Simulação!AF305)","v":34.388240562009656},{"$f":"IF($C305=\"\",\"\",Simulação!AG305)","v":"-"},{"$f":"IF($C305=\"\",\"\",Simulação!AH305)","v":29.236023829000793},{"$f":"IF($C305=\"\",\"\",Simulação!AI305)","v":"-"},{"$f":"IF($C305=\"\",\"\",Simulação!AJ305)","v":33.045125393740342},{"$f":"IF($C305=\"\",\"\",Simulação!AK305)","v":"-"},{"$f":"IF($C305=\"\",\"\",Simulação!AL305)","v":32.02721881559642},{"$f":"IF($C305=\"\",\"\",Simulação!AM305)","v":"-"},{"$f":"IF($C305=\"\",\"\",Simulação!AN305)","v":32.217563507182206},{"$f":"IF($C305=\"\",\"\",Simulação!AO305)","v":"-"},{"$f":"IF($C305=\"\",\"\",Simulação!AP305)","v":36.406016086434107},{"$f":"IF($C305=\"\",\"\",Simulação!AQ305)","v":"-"},{"$f":"IF($C305=\"\",\"\",Simulação!AR305)","v":0}]
[null,299,{"$f":"IF(Chegadas!J307<=$C$5,Chegadas!J307,\"\")","v":274.17000000000007},{"$f":"IF($C306=\"\",\"\",Simulação!D306)","v":2.6765439608182904},{"$f":"IF($C306=\"\",\"\",Simulação!E306)","v":"*"},{"$f":"IF($C306=\"\",\"\",Simulação!F306)","v":282.19120377304665},{"$f":"IF($C306=\"\",\"\",Simulação!G306)","v":"*"},{"$f":"IF($C306=\"\",\"\",Simulação!H306)","v":275.88404829079809},{"$f":"IF($C306=\"\",\"\",Simulação!I306)","v":"*"},{"$f":"IF($C306=\"\",\"\",Simulação!J306)","v":279.52249088032278},{"$f":"IF($C306=\"\",\"\",Simulação!K306)","v":"*"},{"$f":"IF($C306=\"\",\"\",Simulação!L306)","v":274.30378366855535},{"$f":"IF($C306=\"\",\"\",Simulação!M306)","v":"*"},{"$f":"IF($C306=\"\",\"\",Simulação!N306)","v":276.4606331999907},{"$f":"IF($C306=\"\",\"\",Simulação!O306)","v":"*"},{"$f":"IF($C306=\"\",\"\",Simulação!P306)","v":276.69600124710564},{"$f":"IF($C306=\"\",\"\",Simulação!Q306)","v":"*"},{"$f":"IF($C306=\"\",\"\",Simulação!R306)","v":278.28696113730751},{"$f":"IF($C306=\"\",\"\",Simulação!S306)","v":"*"},{"$f":"IF($C306=\"\",\"\",Simulação!T306)","v":280.49487736924266},{"$f":"IF($C306=\"\",\"\",Simulação!U306)","v":"*"},{"$f":"IF($C306=\"\",\"\",Simulação!V306)","v":282.56996777473711},{"$f":"IF($C306=\"\",\"\",Simulação!W306)","v":274.17000000000007},{"$f":"IF($C306=\"\",\"\",Simulação!X306)","v":276.84654396081834},{"$f":"IF($C306=\"\",\"\",Simulação!Y306)","v":"-"},{"$f":"IF($C306=\"\",\"\",Simulação!Z306)","v":257.21066580230348},{"$f":"IF($C306=\"\",\"\",Simulação!AA306)","v":"-"},{"$f":"IF($C306=\"\",\"\",Simulação!AB306)","v":136.83060944284537},{"$f":"IF($C306=\"\",\"\",Simulação!AC306)","v":"-"},{"$f":"IF($C306=\"\",\"\",Simulação!AD306)","v":140.66887446424042},{"$f":"IF($C306=\"\",\"\",Simulação!AE306)","v":"-"},{"$f":"IF($C306=\"\",\"\",Simulação!AF306)","v":34.388240562009656},{"$f":"IF($C306=\"\",\"\",Simulação!AG306)","v":"-"},{"$f":"IF($C306=\"\",\"\",Simulação!AH306)","v":29.236023829000793},{"$f":"IF($C306=\"\",\"\",Simulação!AI306)","v":"-"},{"$f":"IF($C306=\"\",\"\",Simulação!AJ306)","v":33.045125393740342},{"$f":"IF($C306=\"\",\"\",Simulação!AK306)","v":"-"},{"$f":"IF($C306=\"\",\"\",Simulação!AL306)","v":32.02721881559642},{"$f":"IF($C306=\"\",\"\",Simulação!AM306)","v":"-"},{"$f":"IF($C306=\"\",\"\",Simulação!AN306)","v":32.217563507182206},{"$f":"IF($C306=\"\",\"\",Simulação!AO306)","v":"-"},{"$f":"IF($C306=\"\",\"\",Simulação!AP306)","v":36.406016086434107},{"$f":"IF($C306=\"\",\"\",Simulação!AQ306)","v":"-"},{"$f":"IF($C306=\"\",\"\",Simulação!AR306)","v":0}]
[null,300,{"$f":"IF(Chegadas!J308<=$C$5,Chegadas!J308,\"\")","v":274.88},{"$f":"IF($C307=\"\",\"\",Simulação!D307)","v":1.3660156557988072},{"$f":"IF($C307=\"\",\"\",Simulação!E307)","v":"*"},{"$f":"IF($C307=\"\",\"\",Simulação!F307)","v":282.19120377304665},{"$f":"IF($C307=\"\",\"\",Simulação!G307)","v":"*"},{"$f":"IF($C307=\"\",\"\",Simulação!H307)","v":275.88404829079809},{"$f":"IF($C307=\"\",\"\",Simulação!I307)","v":"*"},{"$f":"IF($C307=\"\",\"\",Simulação!J307)","v":279.52249088032278},{"$f":"IF($C307=\"\",\"\",Simulação!K307)","v":274.88},{"$f":"IF($C307=\"\",\"\",Simulação!L307)","v":276.24601565579883},{"$f":"IF($C307=\"\",\"\",Simulação!M307)","v":"-"},{"$f":"IF($C307=\"\",\"\",Simulação!N307)","v":276.4606331999907},{"$f":"IF($C307=\"\",\"\",Simulação!O307)","v":"-"},{"$f":"IF($C307=\"\",\"\",Simulação!P307)","v":276.69600124710564},{"$f":"IF($C307=\"\",\"\",Simulação!Q307)","v":"-"},{"$f":"IF($C307=\"\",\"\",Simulação!R307)","v":278.28696113730751},{"$f":"IF($C307=\"\",\"\",Simulação!S307)","v":"-"},{"$f":"IF($C307=\"\",\"\",Simulação!T307)","v":280.49487736924266},{"$f":"IF($C307=\"\",\"\",Simulação!U307)","v":"-"},{"$f":"IF($C307=\"\",\"\",Simulação!V307)","v":282.56996777473711},{"$f":"IF($C307=\"\",\"\",Simulação!W307)","v":"-"},{"$f":"IF($C307=\"\",\"\",Simulação!X307)","v":276.84654396081834},{"$f":"IF($C307=\"\",\"\",Simulação!Y307)","v":"-"},{"$f":"IF($C307=\"\",\"\",Simulação!Z307)","v":257.21066580230348},{"$f":"IF($C307=\"\",\"\",Simulação!AA307)","v":"-"},{"$f":"IF($C307=\"\",\"\",Simulação!AB307)","v":136.83060944284537},{"$f":"IF($C307=\"\",\"\",Simulação!AC307)","v":"-"},{"$f":"IF($C307=\"\",\"\",Simulação!AD307)","v":140.66887446424042},{"$f":"IF($C307=\"\",\"\",Simulação!AE307)","v":"-"},{"$f":"IF($C307=\"\",\"\",Simulação!AF307)","v":34.388240562009656},{"$f":"IF($C307=\"\",\"\",Simulação!AG307)","v":"-"},{"$f":"IF($C307=\"\",\"\",Simulação!AH307)","v":29.236023829000793},{"$f":"IF($C307=\"\",\"\",Simulação!AI307)","v":"-"},{"$f":"IF($C307=\"\",\"\",Simulação!AJ307)","v":33.045125393740342},{"$f":"IF($C307=\"\",\"\",Simulação!AK307)","v":"-"},{"$f":"IF($C307=\"\",\"\",Simulação!AL307)","v":32.02721881559642},{"$f":"IF($C307=\"\",\"\",Simulação!AM307)","v":"-"},{"$f":"IF($C307=\"\",\"\",Simulação!AN307)","v":32.217563507182206},{"$f":"IF($C307=\"\",\"\",Simulação!AO307)","v":"-"},{"$f":"IF($C307=\"\",\"\",Simulação!AP307)","v":36.406016086434107},{"$f":"IF($C307=\"\",\"\",Simulação!AQ307)","v":"-"},{"$f":"IF($C307=\"\",\"\",Simulação!AR307)","v":0}]
[null,301,{"$f":"IF(Chegadas!J309<=$C$5,Chegadas!J309,\"\")","v":275.8},{"$f":"IF($C308=\"\",\"\",Simulação!D308)","v":1.4279152731478737},{"$f":"IF($C308=\"\",\"\",Simulação!E308)","v":"*"},{"$f":"IF($C308=\"\",\"\",Simulação!F308)","v":282.19120377304665},{"$f":"IF($C308=\"\",\"\",Simulação!G308)","v":"*"},{"$f":"IF($C308=\"\",\"\",Simulação!H308)","v":275.88404829079809},{"$f":"IF($C308=\"\",\"\",Simulação!I308)","v":"*"},{"$f":"IF($C308=\"\",\"\",Simulação!J308)","v":279.52249088032278},{"$f":"IF($C308=\"\",\"\",Simulação!K308)","v":"*"},{"$f":"IF($C308=\"\",\"\",Simulação!L308)","v":276.24601565579883},{"$f":"IF($C308=\"\",\"\",Simulação!M308)","v":"*"},{"$f":"IF($C308=\"\",\"\",Simulação!N308)","v":276.4606331999907},{"$f":"IF($C308=\"\",\"\",Simulação!O308)","v":"*"},{"$f":"IF($C308=\"\",\"\",Simulação!P308)","v":276.69600124710564},{"$f":"IF($C308=\"\",\"\",Simulação!Q308)","v":"*"},{"$f":"IF($C308=\"\",\"\",Simulação!R308)","v":278.28696113730751},{"$f":"IF($C308=\"\",\"\",Simulação!S308)","v":"*"},{"$f":"IF($C308=\"\",\"\",Simulação!T308)","v":280.49487736924266},{"$f":"IF($C308=\"\",\"\",Simulação!U308)","v":"*"},{"$f":"IF($C308=\"\",\"\",Simulação!V308)","v":282.56996777473711},{"$f":"IF($C308=\"\",\"\",Simulação!W308)","v":"*"},{"$f":"IF($C308=\"\",\"\",Simulação!X308)","v":276.84654396081834},{"$f":"IF($C308=\"\",\"\",Simulação!Y308)","v":275.8},{"$f":"IF($C308=\"\",\"\",Simulação!Z308)","v":277.22791527314786},{"$f":"IF($C308=\"\",\"\",Simulação!AA308)","v":"-"},{"$f":"IF($C308=\"\",\"\",Simulação!AB308)","v":136.83060944284537},{"$f":"IF($C308=\"\",\"\",Simulação!AC308)","v":"-"},{"$f":"IF($C308=\"\",\"\",Simulação!AD308)","v":140.66887446424042},{"$f":"IF($C308=\"\",\"\",Simulação!AE308)","v":"-"},{"$f":"IF($C308=\"\",\"\",Simulação!AF308)","v":34.388240562009656},{"$f":"IF($C308=\"\",\"\",Simulação!AG308)","v":"-"},{"$f":"IF($C308=\"\",\"\",Simulação!AH308)","v":29.236023829000793},{"$f":"IF($C308=\"\",\"\",Simulação!AI308)","v":"-"},{"$f":"IF($C308=\"\",\"\",Simulação!AJ308)","v":33.045125393740342},{"$f":"IF($C308=\"\",\"\",Simulação!AK308)","v":"-"},{"$f":"IF($C308=\"\",\"\",Simulação!AL308)","v":32.02721881559642},{"$f":"IF($C308=\"\",\"\",Simulação!AM308)","v":"-"},{"$f":"IF($C308=\"\",\"\",Simulação!AN308)","v":32.217563507182206},{"$f":"IF($C308=\"\",\"\",Simulação!AO308)","v":"-"},{"$f":"IF($C308=\"\",\"\",Simulação!AP308)","v":36.406016086434107},{"$f":"IF($C308=\"\",\"\",Simulação!AQ308)","v":"-"},{"$f":"IF($C308=\"\",\"\",Simulação!AR308)","v":0}]
[null,302,{"$f":"IF(Chegadas!J310<=$C$5,Chegadas!J310,\"\")","v":275.95000000000005},{"$f":"IF($C309=\"\",\"\",Simulação!D309)","v":16.022185477937459},{"$f":"IF($C309=\"\",\"\",Simulação!E309)","v":"*"},{"$f":"IF($C309=\"\",\"\",Simulação!F309)","v":282.19120377304665},{"$f":"IF($C309=\"\",\"\",Simulação!G309)","v":275.95000000000005},{"$f":"IF($C309=\"\",\"\",Simulação!H309)","v":291.9721854779375},{"$f":"IF($C309=\"\",\"\",Simulação!I309)","v":"-"},{"$f":"IF($C309=\"\",\"\",Simulação!J309)","v":279.52249088032278},{"$f":"IF($C309=\"\",\"\",Simulação!K309)","v":"-"},{"$f":"IF($C309=\"\",\"\",Simulação!L309)","v":276.24601565579883},{"$f":"IF($C309=\"\",\"\",Simulação!M309)","v":"-"},{"$f":"IF($C309=\"\",\"\",Simulação!N309)","v":276.4606331999907},{"$f":"IF($C309=\"\",\"\",Simulação!O309)","v":"-"},{"$f":"IF($C309=\"\",\"\",Simulação!P309)","v":276.69600124710564},{"$f":"IF($C309=\"\",\"\",Simulação!Q309)","v":"-"},{"$f":"IF($C309=\"\",\"\",Simulação!R309)","v":278.28696113730751},{"$f":"IF($C309=\"\",\"\",Simulação!S309)","v":"-"},{"$f":"IF($C309=\"\",\"\",Simulação!T309)","v":280.49487736924266},{"$f":"IF($C309=\"\",\"\",Simulação!U309)","v":"-"},{"$f":"IF($C309=\"\",\"\",Simulação!V309)","v":282.56996777473711},{"$f":"IF($C309=\"\",\"\",Simulação!W309)","v":"-"},{"$f":"IF($C309=\"\",\"\",Simulação!X309)","v":276.84654396081834},{"$f":"IF($C309=\"\",\"\",Simulação!Y309)","v":"-"},{"$f":"IF($C309=\"\",\"\",Simulação!Z309)","v":277.22791527314786},{"$f":"IF($C309=\"\",\"\",Simulação!AA309)","v":"-"},{"$f":"IF($C309=\"\",\"\",Simulação!AB309)","v":136.83060944284537},{"$f":"IF($C309=\"\",\"\",Simulação!AC309)","v":"-"},{"$f":"IF($C309=\"\",\"\",Simulação!AD309)","v":140.66887446424042},{"$f":"IF($C309=\"\",\"\",Simulação!AE309)","v":"-"},{"$f":"IF($C309=\"\",\"\",Simulação!AF309)","v":34.388240562009656},{"$f":"IF($C309=\"\",\"\",Simulação!AG309)","v":"-"},{"$f":"IF($C309=\"\",\"\",Simulação!AH309)","v":29.236023829000793},{"$f":"IF($C309=\"\",\"\",Simulação!AI309)","v":"-"},{"$f":"IF($C309=\"\",\"\",Simulação!AJ309)","v":33.045125393740342},{"$f":"IF($C309=\"\",\"\",Simulação!AK309)","v":"-"},{"$f":"IF($C309=\"\",\"\",Simulação!AL309)","v":32.02721881559642},{"$f":"IF($C309=\"\",\"\",Simulação!AM309)","v":"-"},{"$f":"IF($C309=\"\",\"\",Simulação!AN309)","v":32.217563507182206},{"$f":"IF($C309=\"\",\"\",Simulação!AO309)","v":"-"},{"$f":"IF($C309=\"\",\"\",Simulação!AP309)","v":36.406016086434107},{"$f":"IF($C309=\"\",\"\",Simulação!AQ309)","v":"-"},{"$f":"IF($C309=\"\",\"\",Simulação!AR309)","v":0}]
[null,303,{"$f":"IF(Chegadas!J311<=$C$5,Chegadas!J311,\"\")","v":275.98},{"$f":"IF($C310=\"\",\"\",Simulação!D310)","v":15.381792320419816},{"$f":"IF($C310=\"\",\"\",Simulação!E310)","v":"*"},{"$f":"IF($C310=\"\",\"\",Simulação!F310)","v":282.19120377304665},{"$f":"IF($C310=\"\",\"\",Simulação!G310)","v":"*"},{"$f":"IF($C310=\"\",\"\",Simulação!H310)","v":291.9721854779375},{"$f":"IF($C310=\"\",\"\",Simulação!I310)","v":"*"},{"$f":"IF($C310=\"\",\"\",Simulação!J310)","v":279.52249088032278},{"$f":"IF($C310=\"\",\"\",Simulação!K310)","v":"*"},{"$f":"IF($C310=\"\",\"\",Simulação!L310)","v":276.24601565579883},{"$f":"IF($C310=\"\",\"\",Simulação!M310)","v":"*"},{"$f":"IF($C310=\"\",\"\",Simulação!N310)","v":276.4606331999907},{"$f":"IF($C310=\"\",\"\",Simulação!O310)","v":"*"},{"$f":"IF($C310=\"\",\"\",Simulação!P310)","v":276.69600124710564},{"$f":"IF($C310=\"\",\"\",Simulação!Q310)","v":"*"},{"$f":"IF($C310=\"\",\"\",Simulação!R310)","v":278.28696113730751},{"$f":"IF($C310=\"\",\"\",Simulação!S310)","v":"*"},{"$f":"IF($C310=\"\",\"\",Simulação!T310)","v":280.49487736924266},{"$f":"IF($C310=\"\",\"\",Simulação!U310)","v":"*"},{"$f":"IF($C310=\"\",\"\",Simulação!V310)","v":282.56996777473711},{"$f":"IF($C310=\"\",\"\",Simulação!W310)","v":"*"},{"$f":"IF($C310=\"\",\"\",Simulação!X310)","v":276.84654396081834},{"$f":"IF($C310=\"\",\"\",Simulação!Y310)","v":"*"},{"$f":"IF($C310=\"\",\"\",Simulação!Z310)","v":277.22791527314786},{"$f":"IF($C310=\"\",\"\",Simulação!AA310)","v":275.98},{"$f":"IF($C310=\"\",\"\",Simulação!AB310)","v":291.36179232041985},{"$f":"IF($C310=\"\",\"\",Simulação!AC310)","v":"-"},{"$f":"IF($C310=\"\",\"\",Simulação!AD310)","v":140.66887446424042},{"$f":"IF($C310=\"\",\"\",Simulação!AE310)","v":"-"},{"$f":"IF($C310=\"\",\"\",Simulação!AF310)","v":34.388240562009656},{"$f":"IF($C310=\"\",\"\",Simulação!AG310)","v":"-"},{"$f":"IF($C310=\"\",\"\",Simulação!AH310)","v":29.236023829000793},{"$f":"IF($C310=\"\",\"\",Simulação!AI310)","v":"-"},{"$f":"IF($C310=\"\",\"\",Simulação!AJ310)","v":33.045125393740342},{"$f":"IF($C310=\"\",\"\",Simulação!AK310)","v":"-"},{"$f":"IF($C310=\"\",\"\",Simulação!AL310)","v":32.02721881559642},{"$f":"IF($C310=\"\",\"\",Simulação!AM310)","v":"-"},{"$f":"IF($C310=\"\",\"\",Simulação!AN310)","v":32.217563507182206},{"$f":"IF($C310=\"\",\"\",Simulação!AO310)","v":"-"},{"$f":"IF($C310=\"\",\"\",Simulação!AP310)","v":36.406016086434107},{"$f":"IF($C310=\"\",\"\",Simulação!AQ310)","v":"-"},{"$f":"IF($C310=\"\",\"\",Simulação!AR310)","v":0}]
[null,304,{"$f":"IF(Chegadas!J312<=$C$5,Chegadas!J312,\"\")","v":276.63},{"$f":"IF($C311=\"\",\"\",Simulação!D311)","v":7.2733512642502074},{"$f":"IF($C311=\"\",\"\",Simulação!E311)","v":"*"},{"$f":"IF($C311=\"\",\"\",Simulação!F311)","v":282.19120377304665},{"$f":"IF($C311=\"\",\"\",Simulação!G311)","v":"*"},{"$f":"IF($C311=\"\",\"\",Simulação!H311)","v":291.9721854779375},{"$f":"IF($C311=\"\",\"\",Simulação!I311)","v":"*"},{"$f":"IF($C311=\"\",\"\",Simulação!J311)","v":279.52249088032278},{"$f":"IF($C311=\"\",\"\",Simulação!K311)","v":276.63},{"$f":"IF($C311=\"\",\"\",Simulação!L311)","v":283.9033512642502},{"$f":"IF($C311=\"\",\"\",Simulação!M311)","v":"-"},{"$f":"IF($C311=\"\",\"\",Simulação!N311)","v":276.4606331999907},{"$f":"IF($C311=\"\",\"\",Simulação!O311)","v":"-"},{"$f":"IF($C311=\"\",\"\",Simulação!P311)","v":276.69600124710564},{"$f":"IF($C311=\"\",\"\",Simulação!Q311)","v":"-"},{"$f":"IF($C311=\"\",\"\",Simulação!R311)","v":278.28696113730751},{"$f":"IF($C311=\"\",\"\",Simulação!S311)","v":"-"},{"$f":"IF($C311=\"\",\"\",Simulação!T311)","v":280.49487736924266},{"$f":"IF($C311=\"\",\"\",Simulação!U311)","v":"-"},{"$f":"IF($C311=\"\",\"\",Simulação!V311)","v":282.56996777473711},{"$f":"IF($C311=\"\",\"\",Simulação!W311)","v":"-"},{"$f":"IF($C311=\"\",\"\",Simulação!X311)","v":276.84654396081834},{"$f":"IF($C311=\"\",\"\",Simulação!Y311)","v":"-"},{"$f":"IF($C311=\"\",\"\",Simulação!Z311)","v":277.22791527314786},{"$f":"IF($C311=\"\",\"\",Simulação!AA311)","v":"-"},{"$f":"IF($C311=\"\",\"\",Simulação!AB311)","v":291.36179232041985},{"$f":"IF($C311=\"\",\"\",Simulação!AC311)","v":"-"},{"$f":"IF($C311=\"\",\"\",Simulação!AD311)","v":140.66887446424042},{"$f":"IF($C311=\"\",\"\",Simulação!AE311)","v":"-"},{"$f":"IF($C311=\"\",\"\",Simulação!AF311)","v":34.388240562009656},{"$f":"IF($C311=\"\",\"\",Simulação!AG311)","v":"-"},{"$f":"IF($C311=\"\",\"\",Simulação!AH311)","v":29.236023829000793},{"$f":"IF($C311=\"\",\"\",Simulação!AI311)","v":"-"},{"$f":"IF($C311=\"\",\"\",Simulação!AJ311)","v":33.045125393740342},{"$f":"IF($C311=\"\",\"\",Simulação!AK311)","v":"-"},{"$f":"IF($C311=\"\",\"\",Simulação!AL311)","v":32.02721881559642},{"$f":"IF($C311=\"\",\"\",Simulação!AM311)","v":"-"},{"$f":"IF($C311=\"\",\"\",Simulação!AN311)","v":32.217563507182206},{"$f":"IF($C311=\"\",\"\",Simulação!AO311)","v":"-"},{"$f":"IF($C311=\"\",\"\",Simulação!AP311)","v":36.406016086434107},{"$f":"IF($C311=\"\",\"\",Simulação!AQ311)","v":"-"},{"$f":"IF($C311=\"\",\"\",Simulação!AR311)","v":0}]
[null,305,{"$f":"IF(Chegadas!J313<=$C$5,Chegadas!J313,\"\")","v":276.74},{"$f":"IF($C312=\"\",\"\",Simulação!D312)","v":7.0673444351718233},{"$f":"IF($C312=\"\",\"\",Simulação!E312)","v":"*"},{"$f":"IF($C312=\"\",\"\",Simulação!F312)","v":282.19120377304665},{"$f":"IF($C312=\"\",\"\",Simulação!G312)","v":"*"},{"$f":"IF($C312=\"\",\"\",Simulação!H312)","v":291.9721854779375},{"$f":"IF($C312=\"\",\"\",Simulação!I312)","v":"*"},{"$f":"IF($C312=\"\",\"\",Simulação!J312)","v":279.52249088032278},{"$f":"IF($C312=\"\",\"\",Simulação!K312)","v":"*"},{"$f":"IF($C312=\"\",\"\",Simulação!L312)","v":283.9033512642502},{"$f":"IF($C312=\"\",\"\",Simulação!M312)","v":276.74},{"$f":"IF($C312=\"\",\"\",Simulação!N312)","v":283.80734443517184},{"$f":"IF($C312=\"\",\"\",Simulação!O312)","v":"-"},{"$f":"IF($C312=\"\",\"\",Simulação!P312)","v":276.69600124710564},{"$f":"IF($C312=\"\",\"\",Simulação!Q312)","v":"-"},{"$f":"IF($C312=\"\",\"\",Simulação!R312)","v":278.28696113730751},{"$f":"IF($C312=\"\",\"\",Simulação!S312)","v":"-"},{"$f":"IF($C312=\"\",\"\",Simulação!T312)","v":280.49487736924266},{"$f":"IF($C312=\"\",\"\",Simulação!U312)","v":"-"},{"$f":"IF($C312=\"\",\"\",Simulação!V312)","v":282.56996777473711},{"$f":"IF($C312=\"\",\"\",Simulação!W312)","v":"-"},{"$f":"IF($C312=\"\",\"\",Simulação!X312)","v":276.84654396081834},{"$f":"IF($C312=\"\",\"\",Simulação!Y312)","v":"-"},{"$f":"IF($C312=\"\",\"\",Simulação!Z312)","v":277.22791527314786},{"$f":"IF($C312=\"\",\"\",Simulação!AA312)","v":"-"},{"$f":"IF($C312=\"\",\"\",Simulação!AB312)","v":291.36179232041985},{"$f":"IF($C312=\"\",\"\",Simulação!AC312)","v":"-"},{"$f":"IF($C312=\"\",\"\",Simulação!AD312)","v":140.66887446424042},{"$f":"IF($C312=\"\",\"\",Simulação!AE312)","v":"-"},{"$f":"IF($C312=\"\",\"\",Simulação!AF312)","v":34.388240562009656},{"$f":"IF($C312=\"\",\"\",Simulação!AG312)","v":"-"},{"$f":"IF($C312=\"\",\"\",Simulação!AH312)","v":29.236023829000793},{"$f":"IF($C312=\"\",\"\",Simulação!AI312)","v":"-"},{"$f":"IF($C312=\"\",\"\",Simulação!AJ312)","v":33.045125393740342},{"$f":"IF($C312=\"\",\"\",Simulação!AK312)","v":"-"},{"$f":"IF($C312=\"\",\"\",Simulação!AL312)","v":32.02721881559642},{"$f":"IF($C312=\"\",\"\",Simulação!AM312)","v":"-"},{"$f":"IF($C312=\"\",\"\",Simulação!AN312)","v":32.217563507182206},{"$f":"IF($C312=\"\",\"\",Simulação!AO312)","v":"-"},{"$f":"IF($C312=\"\",\"\",Simulação!AP312)","v":36.406016086434107},{"$f":"IF($C312=\"\",\"\",Simulação!AQ312)","v":"-"},{"$f":"IF($C312=\"\",\"\",Simulação!AR312)","v":0}]
[null,306,{"$f":"IF(Chegadas!J314<=$C$5,Chegadas!J314,\"\")","v":278.94},{"$f":"IF($C313=\"\",\"\",Simulação!D313)","v":8.6201227575789705},{"$f":"IF($C313=\"\",\"\",Simulação!E313)","v":"*"},{"$f":"IF($C313=\"\",\"\",Simulação!F313)","v":282.19120377304665},{"$f":"IF($C313=\"\",\"\",Simulação!G313)","v":"*"},{"$f":"IF($C313=\"\",\"\",Simulação!H313)","v":291.9721854779375},{"$f":"IF($C313=\"\",\"\",Simulação!I313)","v":"*"},{"$f":"IF($C313=\"\",\"\",Simulação!J313)","v":279.52249088032278},{"$f":"IF($C313=\"\",\"\",Simulação!K313)","v":"*"},{"$f":"IF($C313=\"\",\"\",Simulação!L313)","v":283.9033512642502},{"$f":"IF($C313=\"\",\"\",Simulação!M313)","v":"*"},{"$f":"IF($C313=\"\",\"\",Simulação!N313)","v":283.80734443517184},{"$f":"IF($C313=\"\",\"\",Simulação!O313)","v":278.94},{"$f":"IF($C313=\"\",\"\",Simulação!P313)","v":287.56012275757899},{"$f":"IF($C313=\"\",\"\",Simulação!Q313)","v":"-"},{"$f":"IF($C313=\"\",\"\",Simulação!R313)","v":278.28696113730751},{"$f":"IF($C313=\"\",\"\",Simulação!S313)","v":"-"},{"$f":"IF($C313=\"\",\"\",Simulação!T313)","v":280.49487736924266},{"$f":"IF($C313=\"\",\"\",Simulação!U313)","v":"-"},{"$f":"IF($C313=\"\",\"\",Simulação!V313)","v":282.56996777473711},{"$f":"IF($C313=\"\",\"\",Simulação!W313)","v":"-"},{"$f":"IF($C313=\"\",\"\",Simulação!X313)","v":276.84654396081834},{"$f":"IF($C313=\"\",\"\",Simulação!Y313)","v":"-"},{"$f":"IF($C313=\"\",\"\",Simulação!Z313)","v":277.22791527314786},{"$f":"IF($C313=\"\",\"\",Simulação!AA313)","v":"-"},{"$f":"IF($C313=\"\",\"\",Simulação!AB313)","v":291.36179232041985},{"$f":"IF($C313=\"\",\"\",Simulação!AC313)","v":"-"},{"$f":"IF($C313=\"\",\"\",Simulação!AD313)","v":140.66887446424042},{"$f":"IF($C313=\"\",\"\",Simulação!AE313)","v":"-"},{"$f":"IF($C313=\"\",\"\",Simulação!AF313)","v":34.388240562009656},{"$f":"IF($C313=\"\",\"\",Simulação!AG313)","v":"-"},{"$f":"IF($C313=\"\",\"\",Simulação!AH313)","v":29.236023829000793},{"$f":"IF($C313=\"\",\"\",Simulação!AI313)","v":"-"},{"$f":"IF($C313=\"\",\"\",Simulação!AJ313)","v":33.045125393740342},{"$f":"IF($C313=\"\",\"\",Simulação!AK313)","v":"-"},{"$f":"IF($C313=\"\",\"\",Simulação!AL313)","v":32.02721881559642},{"$f":"IF($C313=\"\",\"\",Simulação!AM313)","v":"-"},{"$f":"IF($C313=\"\",\"\",Simulação!AN313)","v":32.217563507182206},{"$f":"IF($C313=\"\",\"\",Simulação!AO313)","v":"-"},{"$f":"IF($C313=\"\",\"\",Simulação!AP313)","v":36.406016086434107},{"$f":"IF($C313=\"\",\"\",Simulação!AQ313)","v":"-"},{"$f":"IF($C313=\"\",\"\",Simulação!AR313)","v":0}]
[null,307,{"$f":"IF(Chegadas!J315<=$C$5,Chegadas!J315,\"\")","v":284.63},{"$f":"IF($C314=\"\",\"\",Simulação!D314)","v":9.6942955611439725},{"$f":"IF($C314=\"\",\"\",Simulação!E314)","v":284.63},{"$f":"IF($C314=\"\",\"\",Simulação!F314)","v":294.32429556114397},{"$f":"IF($C314=\"\",\"\",Simulação!G314)","v":"-"},{"$f":"IF($C314=\"\",\"\",Simulação!H314)","v":291.9721854779375},{"$f":"IF($C314=\"\",\"\",Simulação!I314)","v":"-"},{"$f":"IF($C314=\"\",\"\",Simulação!J314)","v":279.52249088032278},{"$f":"IF($C314=\"\",\"\",Simulação!K314)","v":"-"},{"$f":"IF($C314=\"\",\"\",Simulação!L314)","v":283.9033512642502},{"$f":"IF($C314=\"\",\"\",Simulação!M314)","v":"-"},{"$f":"IF($C314=\"\",\"\",Simulação!N314)","v":283.80734443517184},{"$f":"IF($C314=\"\",\"\",Simulação!O314)","v":"-"},{"$f":"IF($C314=\"\",\"\",Simulação!P314)","v":287.56012275757899},{"$f":"IF($C314=\"\",\"\",Simulação!Q314)","v":"-"},{"$f":"IF($C314=\"\",\"\",Simulação!R314)","v":278.28696113730751},{"$f":"IF($C314=\"\",\"\",Simulação!S314)","v":"-"},{"$f":"IF($C314=\"\",\"\",Simulação!T314)","v":280.49487736924266},{"$f":"IF($C314=\"\",\"\",Simulação!U314)","v":"-"},{"$f":"IF($C314=\"\",\"\",Simulação!V314)","v":282.56996777473711},{"$f":"IF($C314=\"\",\"\",Simulação!W314)","v":"-"},{"$f":"IF($C314=\"\",\"\",Simulação!X314)","v":276.84654396081834},{"$f":"IF($C314=\"\",\"\",Simulação!Y314)","v":"-"},{"$f":"IF($C314=\"\",\"\",Simulação!Z314)","v":277.22791527314786},{"$f":"IF($C314=\"\",\"\",Simulação!AA314)","v":"-"},{"$f":"IF($C314=\"\",\"\",Simulação!AB314)","v":291.36179232041985},{"$f":"IF($C314=\"\",\"\",Simulação!AC314)","v":"-"},{"$f":"IF($C314=\"\",\"\",Simulação!AD314)","v":140.66887446424042},{"$f":"IF($C314=\"\",\"\",Simulação!AE314)","v":"-"},{"$f":"IF($C314=\"\",\"\",Simulação!AF314)","v":34.388240562009656},{"$f":"IF($C314=\"\",\"\",Simulação!AG314)","v":"-"},{"$f":"IF($C314=\"\",\"\",Simulação!AH314)","v":29.236023829000793},{"$f":"IF($C314=\"\",\"\",Simulação!AI314)","v":"-"},{"$f":"IF($C314=\"\",\"\",Simulação!AJ314)","v":33.045125393740342},{"$f":"IF($C314=\"\",\"\",Simulação!AK314)","v":"-"},{"$f":"IF($C314=\"\",\"\",Simulação!AL314)","v":32.02721881559642},{"$f":"IF($C314=\"\",\"\",Simulação!AM314)","v":"-"},{"$f":"IF($C314=\"\",\"\",Simulação!AN314)","v":32.217563507182206},{"$f":"IF($C314=\"\",\"\",Simulação!AO314)","v":"-"},{"$f":"IF($C314=\"\",\"\",Simulação!AP314)","v":36.406016086434107},{"$f":"IF($C314=\"\",\"\",Simulação!AQ314)","v":"-"},{"$f":"IF($C314=\"\",\"\",Simulação!AR314)","v":0}]
[null,308,{"$f":"IF(Chegadas!J316<=$C$5,Chegadas!J316,\"\")","v":285.65999999999997},{"$f":"IF($C315=\"\",\"\",Simulação!D315)","v":8.0795607425763194},{"$f":"IF($C315=\"\",\"\",Simulação!E315)","v":"*"},{"$f":"IF($C315=\"\",\"\",Simulação!F315)","v":294.32429556114397},{"$f":"IF($C315=\"\",\"\",Simulação!G315)","v":"*"},{"$f":"IF($C315=\"\",\"\",Simulação!H315)","v":291.9721854779375},{"$f":"IF($C315=\"\",\"\",Simulação!I315)","v":285.65999999999997},{"$f":"IF($C315=\"\",\"\",Simulação!J315)","v":293.73956074257626},{"$f":"IF($C315=\"\",\"\",Simulação!K315)","v":"-"},{"$f":"IF($C315=\"\",\"\",Simulação!L315)","v":283.9033512642502},{"$f":"IF($C315=\"\",\"\",Simulação!M315)","v":"-"},{"$f":"IF($C315=\"\",\"\",Simulação!N315)","v":283.80734443517184},{"$f":"IF($C315=\"\",\"\",Simulação!O315)","v":"-"},{"$f":"IF($C315=\"\",\"\",Simulação!P315)","v":287.56012275757899},{"$f":"IF($C315=\"\",\"\",Simulação!Q315)","v":"-"},{"$f":"IF($C315=\"\",\"\",Simulação!R315)","v":278.28696113730751},{"$f":"IF($C315=\"\",\"\",Simulação!S315)","v":"-"},{"$f":"IF($C315=\"\",\"\",Simulação!T315)","v":280.49487736924266},{"$f":"IF($C315=\"\",\"\",Simulação!U315)","v":"-"},{"$f":"IF($C315=\"\",\"\",Simulação!V315)","v":282.56996777473711},{"$f":"IF($C315=\"\",\"\",Simulação!W315)","v":"-"},{"$f":"IF($C315=\"\",\"\",Simulação!X315)","v":276.84654396081834},{"$f":"IF($C315=\"\",\"\",Simulação!Y315)","v":"-"},{"$f":"IF($C315=\"\",\"\",Simulação!Z315)","v":277.22791527314786},{"$f":"IF($C315=\"\",\"\",Simulação!AA315)","v":"-"},{"$f":"IF($C315=\"\",\"\",Simulação!AB315)","v":291.36179232041985},{"$f":"IF($C315=\"\",\"\",Simulação!AC315)","v":"-"},{"$f":"IF($C315=\"\",\"\",Simulação!AD315)","v":140.66887446424042},{"$f":"IF($C315=\"\",\"\",Simulação!AE315)","v":"-"},{"$f":"IF($C315=\"\",\"\",Simulação!AF315)","v":34.388240562009656},{"$f":"IF($C315=\"\",\"\",Simulação!AG315)","v":"-"},{"$f":"IF($C315=\"\",\"\",Simulação!AH315)","v":29.236023829000793},{"$f":"IF($C315=\"\",\"\",Simulação!AI315)","v":"-"},{"$f":"IF($C315=\"\",\"\",Simulação!AJ315)","v":33.045125393740342},{"$f":"IF($C315=\"\",\"\",Simulação!AK315)","v":"-"},{"$f":"IF($C315=\"\",\"\",Simulação!AL315)","v":32.02721881559642},{"$f":"IF($C315=\"\",\"\",Simulação!AM315)","v":"-"},{"$f":"IF($C315=\"\",\"\",Simulação!AN315)","v":32.217563507182206},{"$f":"IF($C315=\"\",\"\",Simulação!AO315)","v":"-"},{"$f":"IF($C315=\"\",\"\",Simulação!AP315)","v":36.406016086434107},{"$f":"IF($C315=\"\",\"\",Simulação!AQ315)","v":"-"},{"$f":"IF($C315=\"\",\"\",Simulação!AR315)","v":0}]
[null,309,{"$f":"IF(Chegadas!J317<=$C$5,Chegadas!J317,\"\")","v":285.82},{"$f":"IF($C316=\"\",\"\",Simulação!D316)","v":6.7407245261918938},{"$f":"IF($C316=\"\",\"\",Simulação!E316)","v":"*"},{"$f":"IF($C316=\"\",\"\",Simulação!F316)","v":294.32429556114397},{"$f":"IF($C316=\"\",\"\",Simulação!G316)","v":"*"},{"$f":"IF($C316=\"\",\"\",Simulação!H316)","v":291.9721854779375},{"$f":"IF($C316=\"\",\"\",Simulação!I316)","v":"*"},{"$f":"IF($C316=\"\",\"\",Simulação!J316)","v":293.73956074257626},{"$f":"IF($C316=\"\",\"\",Simulação!K316)","v":285.82},{"$f":"IF($C316=\"\",\"\",Simulação!L316)","v":292.5607245261919},{"$f":"IF($C316=\"\",\"\",Simulação!M316)","v":"-"},{"$f":"IF($C316=\"\",\"\",Simulação!N316)","v":283.80734443517184},{"$f":"IF($C316=\"\",\"\",Simulação!O316)","v":"-"},{"$f":"IF($C316=\"\",\"\",Simulação!P316)","v":287.56012275757899},{"$f":"IF($C316=\"\",\"\",Simulação!Q316)","v":"-"},{"$f":"IF($C316=\"\",\"\",Simulação!R316)","v":278.28696113730751},{"$f":"IF($C316=\"\",\"\",Simulação!S316)","v":"-"},{"$f":"IF($C316=\"\",\"\",Simulação!T316)","v":280.49487736924266},{"$f":"IF($C316=\"\",\"\",Simulação!U316)","v":"-"},{"$f":"IF($C316=\"\",\"\",Simulação!V316)","v":282.56996777473711},{"$f":"IF($C316=\"\",\"\",Simulação!W316)","v":"-"},{"$f":"IF($C316=\"\",\"\",Simulação!X316)","v":276.84654396081834},{"$f":"IF($C316=\"\",\"\",Simulação!Y316)","v":"-"},{"$f":"IF($C316=\"\",\"\",Simulação!Z316)","v":277.22791527314786},{"$f":"IF($C316=\"\",\"\",Simulação!AA316)","v":"-"},{"$f":"IF($C316=\"\",\"\",Simulação!AB316)","v":291.36179232041985},{"$f":"IF($C316=\"\",\"\",Simulação!AC316)","v":"-"},{"$f":"IF($C316=\"\",\"\",Simulação!AD316)","v":140.66887446424042},{"$f":"IF($C316=\"\",\"\",Simulação!AE316)","v":"-"},{"$f":"IF($C316=\"\",\"\",Simulação!AF316)","v":34.388240562009656},{"$f":"IF($C316=\"\",\"\",Simulação!AG316)","v":"-"},{"$f":"IF($C316=\"\",\"\",Simulação!AH316)","v":29.236023829000793},{"$f":"IF($C316=\"\",\"\",Simulação!AI316)","v":"-"},{"$f":"IF($C316=\"\",\"\",Simulação!AJ316)","v":33.045125393740342},{"$f":"IF($C316=\"\",\"\",Simulação!AK316)","v":"-"},{"$f":"IF($C316=\"\",\"\",Simulação!AL316)","v":32.02721881559642},{"$f":"IF($C316=\"\",\"\",Simulação!AM316)","v":"-"},{"$f":"IF($C316=\"\",\"\",Simulação!AN316)","v":32.217563507182206},{"$f":"IF($C316=\"\",\"\",Simulação!AO316)","v":"-"},{"$f":"IF($C316=\"\",\"\",Simulação!AP316)","v":36.406016086434107},{"$f":"IF($C316=\"\",\"\",Simulação!AQ316)","v":"-"},{"$f":"IF($C316=\"\",\"\",Simulação!AR316)","v":0}]
[null,310,{"$f":"IF(Chegadas!J318<=$C$5,Chegadas!J318,\"\")","v":286.17},{"$f":"IF($C317=\"\",\"\",Simulação!D317)","v":6.4161536126912715},{"$f":"IF($C317=\"\",\"\",Simulação!E317)","v":"*"},{"$f":"IF($C317=\"\",\"\",Simulação!F317)","v":294.32429556114397},{"$f":"IF($C317=\"\",\"\",Simulação!G317)","v":"*"},{"$f":"IF($C317=\"\",\"\",Simulação!H317)","v":291.9721854779375},{"$f":"IF($C317=\"\",\"\",Simulação!I317)","v":"*"},{"$f":"IF($C317=\"\",\"\",Simulação!J317)","v":293.73956074257626},{"$f":"IF($C317=\"\",\"\",Simulação!K317)","v":"*"},{"$f":"IF($C317=\"\",\"\",Simulação!L317)","v":292.5607245261919},{"$f":"IF($C317=\"\",\"\",Simulação!M317)","v":286.17},{"$f":"IF($C317=\"\",\"\",Simulação!N317)","v":292.58615361269131},{"$f":"IF($C317=\"\",\"\",Simulação!O317)","v":"-"},{"$f":"IF($C317=\"\",\"\",Simulação!P317)","v":287.56012275757899},{"$f":"IF($C317=\"\",\"\",Simulação!Q317)","v":"-"},{"$f":"IF($C317=\"\",\"\",Simulação!R317)","v":278.28696113730751},{"$f":"IF($C317=\"\",\"\",Simulação!S317)","v":"-"},{"$f":"IF($C317=\"\",\"\",Simulação!T317)","v":280.49487736924266},{"$f":"IF($C317=\"\",\"\",Simulação!U317)","v":"-"},{"$f":"IF($C317=\"\",\"\",Simulação!V317)","v":282.56996777473711},{"$f":"IF($C317=\"\",\"\",Simulação!W317)","v":"-"},{"$f":"IF($C317=\"\",\"\",Simulação!X317)","v":276.84654396081834},{"$f":"IF($C317=\"\",\"\",Simulação!Y317)","v":"-"},{"$f":"IF($C317=\"\",\"\",Simulação!Z317)","v":277.22791527314786},{"$f":"IF($C317=\"\",\"\",Simulação!AA317)","v":"-"},{"$f":"IF($C317=\"\",\"\",Simulação!AB317)","v":291.36179232041985},{"$f":"IF($C317=\"\",\"\",Simulação!AC317)","v":"-"},{"$f":"IF($C317=\"\",\"\",Simulação!AD317)","v":140.66887446424042},{"$f":"IF($C317=\"\",\"\",Simulação!AE317)","v":"-"},{"$f":"IF($C317=\"\",\"\",Simulação!AF317)","v":34.388240562009656},{"$f":"IF($C317=\"\",\"\",Simulação!AG317)","v":"-"},{"$f":"IF($C317=\"\",\"\",Simulação!AH317)","v":29.236023829000793},{"$f":"IF($C317=\"\",\"\",Simulação!AI317)","v":"-"},{"$f":"IF($C317=\"\",\"\",Simulação!AJ317)","v":33.045125393740342},{"$f":"IF($C317=\"\",\"\",Simulação!AK317)","v":"-"},{"$f":"IF($C317=\"\",\"\",Simulação!AL317)","v":32.02721881559642},{"$f":"IF($C317=\"\",\"\",Simulação!AM317)","v":"-"},{"$f":"IF($C317=\"\",\"\",Simulação!AN317)","v":32.217563507182206},{"$f":"IF($C317=\"\",\"\",Simulação!AO317)","v":"-"},{"$f":"IF($C317=\"\",\"\",Simulação!AP317)","v":36.406016086434107},{"$f":"IF($C317=\"\",\"\",Simulação!AQ317)","v":"-"},{"$f":"IF($C317=\"\",\"\",Simulação!AR317)","v":0}]
[null,311,{"$f":"IF(Chegadas!J319<=$C$5,Chegadas!J319,\"\")","v":286.94},{"$f":"IF($C318=\"\",\"\",Simulação!D318)","v":9.6668957425759885},{"$f":"IF($C318=\"\",\"\",Simulação!E318)","v":"*"},{"$f":"IF($C318=\"\",\"\",Simulação!F318)","v":294.32429556114397},{"$f":"IF($C318=\"\",\"\",Simulação!G318)","v":"*"},{"$f":"IF($C318=\"\",\"\",Simulação!H318)","v":291.9721854779375},{"$f":"IF($C318=\"\",\"\",Simulação!I318)","v":"*"},{"$f":"IF($C318=\"\",\"\",Simulação!J318)","v":293.73956074257626},{"$f":"IF($C318=\"\",\"\",Simulação!K318)","v":"*"},{"$f":"IF($C318=\"\",\"\",Simulação!L318)","v":292.5607245261919},{"$f":"IF($C318=\"\",\"\",Simulação!M318)","v":"*"},{"$f":"IF($C318=\"\",\"\",Simulação!N318)","v":292.58615361269131},{"$f":"IF($C318=\"\",\"\",Simulação!O318)","v":"*"},{"$f":"IF($C318=\"\",\"\",Simulação!P318)","v":287.56012275757899},{"$f":"IF($C318=\"\",\"\",Simulação!Q318)","v":286.94},{"$f":"IF($C318=\"\",\"\",Simulação!R318)","v":296.606895742576},{"$f":"IF($C318=\"\",\"\",Simulação!S318)","v":"-"},{"$f":"IF($C318=\"\",\"\",Simulação!T318)","v":280.49487736924266},{"$f":"IF($C318=\"\",\"\",Simulação!U318)","v":"-"},{"$f":"IF($C318=\"\",\"\",Simulação!V318)","v":282.56996777473711},{"$f":"IF($C318=\"\",\"\",Simulação!W318)","v":"-"},{"$f":"IF($C318=\"\",\"\",Simulação!X318)","v":276.84654396081834},{"$f":"IF($C318=\"\",\"\",Simulação!Y318)","v":"-"},{"$f":"IF($C318=\"\",\"\",Simulação!Z318)","v":277.22791527314786},{"$f":"IF($C318=\"\",\"\",Simulação!AA318)","v":"-"},{"$f":"IF($C318=\"\",\"\",Simulação!AB318)","v":291.36179232041985},{"$f":"IF($C318=\"\",\"\",Simulação!AC318)","v":"-"},{"$f":"IF($C318=\"\",\"\",Simulação!AD318)","v":140.66887446424042},{"$f":"IF($C318=\"\",\"\",Simulação!AE318)","v":"-"},{"$f":"IF($C318=\"\",\"\",Simulação!AF318)","v":34.388240562009656},{"$f":"IF($C318=\"\",\"\",Simulação!AG318)","v":"-"},{"$f":"IF($C318=\"\",\"\",Simulação!AH318)","v":29.236023829000793},{"$f":"IF($C318=\"\",\"\",Simulação!AI318)","v":"-"},{"$f":"IF($C318=\"\",\"\",Simulação!AJ318)","v":33.045125393740342},{"$f":"IF($C318=\"\",\"\",Simulação!AK318)","v":"-"},{"$f":"IF($C318=\"\",\"\",Simulação!AL318)","v":32.02721881559642},{"$f":"IF($C318=\"\",\"\",Simulação!AM318)","v":"-"},{"$f":"IF($C318=\"\",\"\",Simulação!AN318)","v":32.217563507182206},{"$f":"IF($C318=\"\",\"\",Simulação!AO318)","v":"-"},{"$f":"IF($C318=\"\",\"\",Simulação!AP318)","v":36.406016086434107},{"$f":"IF($C318=\"\",\"\",Simulação!AQ318)","v":"-"},{"$f":"IF($C318=\"\",\"\",Simulação!AR318)","v":0}]
[null,312,{"$f":"IF(Chegadas!J320<=$C$5,Chegadas!J320,\"\")","v":287.38},{"$f":"IF($C319=\"\",\"\",Simulação!D319)","v":9.6391989585206108},{"$f":"IF($C319=\"\",\"\",Simulação!E319)","v":"*"},{"$f":"IF($C319=\"\",\"\",Simulação!F319)","v":294.32429556114397},{"$f":"IF($C319=\"\",\"\",Simulação!G319)","v":"*"},{"$f":"IF($C319=\"\",\"\",Simulação!H319)","v":291.9721854779375},{"$f":"IF($C319=\"\",\"\",Simulação!I319)","v":"*"},{"$f":"IF($C319=\"\",\"\",Simulação!J319)","v":293.73956074257626},{"$f":"IF($C319=\"\",\"\",Simulação!K319)","v":"*"},{"$f":"IF($C319=\"\",\"\",Simulação!L319)","v":292.5607245261919},{"$f":"IF($C319=\"\",\"\",Simulação!M319)","v":"*"},{"$f":"IF($C319=\"\",\"\",Simulação!N319)","v":292.58615361269131},{"$f":"IF($C319=\"\",\"\",Simulação!O319)","v":"*"},{"$f":"IF($C319=\"\",\"\",Simulação!P319)","v":287.56012275757899},{"$f":"IF($C319=\"\",\"\",Simulação!Q319)","v":"*"},{"$f":"IF($C319=\"\",\"\",Simulação!R319)","v":296.606895742576},{"$f":"IF($C319=\"\",\"\",Simulação!S319)","v":287.38},{"$f":"IF($C319=\"\",\"\",Simulação!T319)","v":297.01919895852063},{"$f":"IF($C319=\"\",\"\",Simulação!U319)","v":"-"},{"$f":"IF($C319=\"\",\"\",Simulação!V319)","v":282.56996777473711},{"$f":"IF($C319=\"\",\"\",Simulação!W319)","v":"-"},{"$f":"IF($C319=\"\",\"\",Simulação!X319)","v":276.84654396081834},{"$f":"IF($C319=\"\",\"\",Simulação!Y319)","v":"-"},{"$f":"IF($C319=\"\",\"\",Simulação!Z319)","v":277.22791527314786},{"$f":"IF($C319=\"\",\"\",Simulação!AA319)","v":"-"},{"$f":"IF($C319=\"\",\"\",Simulação!AB319)","v":291.36179232041985},{"$f":"IF($C319=\"\",\"\",Simulação!AC319)","v":"-"},{"$f":"IF($C319=\"\",\"\",Simulação!AD319)","v":140.66887446424042},{"$f":"IF($C319=\"\",\"\",Simulação!AE319)","v":"-"},{"$f":"IF($C319=\"\",\"\",Simulação!AF319)","v":34.388240562009656},{"$f":"IF($C319=\"\",\"\",Simulação!AG319)","v":"-"},{"$f":"IF($C319=\"\",\"\",Simulação!AH319)","v":29.236023829000793},{"$f":"IF($C319=\"\",\"\",Simulação!AI319)","v":"-"},{"$f":"IF($C319=\"\",\"\",Simulação!AJ319)","v":33.045125393740342},{"$f":"IF($C319=\"\",\"\",Simulação!AK319)","v":"-"},{"$f":"IF($C319=\"\",\"\",Simulação!AL319)","v":32.02721881559642},{"$f":"IF($C319=\"\",\"\",Simulação!AM319)","v":"-"},{"$f":"IF($C319=\"\",\"\",Simulação!AN319)","v":32.217563507182206},{"$f":"IF($C319=\"\",\"\",Simulação!AO319)","v":"-"},{"$f":"IF($C319=\"\",\"\",Simulação!AP319)","v":36.406016086434107},{"$f":"IF($C319=\"\",\"\",Simulação!AQ319)","v":"-"},{"$f":"IF($C319=\"\",\"\",Simulação!AR319)","v":0}]
[null,313,{"$f":"IF(Chegadas!J321<=$C$5,Chegadas!J321,\"\")","v":287.98},{"$f":"IF($C320=\"\",\"\",Simulação!D320)","v":3.011868426463248},{"$f":"IF($C320=\"\",\"\",Simulação!E320)","v":"*"},{"$f":"IF($C320=\"\",\"\",Simulação!F320)","v":294.32429556114397},{"$f":"IF($C320=\"\",\"\",Simulação!G320)","v":"*"},{"$f":"IF($C320=\"\",\"\",Simulação!H320)","v":291.9721854779375},{"$f":"IF($C320=\"\",\"\",Simulação!I320)","v":"*"},{"$f":"IF($C320=\"\",\"\",Simulação!J320)","v":293.73956074257626},{"$f":"IF($C320=\"\",\"\",Simulação!K320)","v":"*"},{"$f":"IF($C320=\"\",\"\",Simulação!L320)","v":292.5607245261919},{"$f":"IF($C320=\"\",\"\",Simulação!M320)","v":"*"},{"$f":"IF($C320=\"\",\"\",Simulação!N320)","v":292.58615361269131},{"$f":"IF($C320=\"\",\"\",Simulação!O320)","v":287.98},{"$f":"IF($C320=\"\",\"\",Simulação!P320)","v":290.99186842646327},{"$f":"IF($C320=\"\",\"\",Simulação!Q320)","v":"-"},{"$f":"IF($C320=\"\",\"\",Simulação!R320)","v":296.606895742576},{"$f":"IF($C320=\"\",\"\",Simulação!S320)","v":"-"},{"$f":"IF($C320=\"\",\"\",Simulação!T320)","v":297.01919895852063},{"$f":"IF($C320=\"\",\"\",Simulação!U320)","v":"-"},{"$f":"IF($C320=\"\",\"\",Simulação!V320)","v":282.56996777473711},{"$f":"IF($C320=\"\",\"\",Simulação!W320)","v":"-"},{"$f":"IF($C320=\"\",\"\",Simulação!X320)","v":276.84654396081834},{"$f":"IF($C320=\"\",\"\",Simulação!Y320)","v":"-"},{"$f":"IF($C320=\"\",\"\",Simulação!Z320)","v":277.22791527314786},{"$f":"IF($C320=\"\",\"\",Simulação!AA320)","v":"-"},{"$f":"IF($C320=\"\",\"\",Simulação!AB320)","v":291.36179232041985},{"$f":"IF($C320=\"\",\"\",Simulação!AC320)","v":"-"},{"$f":"IF($C320=\"\",\"\",Simulação!AD320)","v":140.66887446424042},{"$f":"IF($C320=\"\",\"\",Simulação!AE320)","v":"-"},{"$f":"IF($C320=\"\",\"\",Simulação!AF320)","v":34.388240562009656},{"$f":"IF($C320=\"\",\"\",Simulação!AG320)","v":"-"},{"$f":"IF($C320=\"\",\"\",Simulação!AH320)","v":29.236023829000793},{"$f":"IF($C320=\"\",\"\",Simulação!AI320)","v":"-"},{"$f":"IF($C320=\"\",\"\",Simulação!AJ320)","v":33.045125393740342},{"$f":"IF($C320=\"\",\"\",Simulação!AK320)","v":"-"},{"$f":"IF($C320=\"\",\"\",Simulação!AL320)","v":32.02721881559642},{"$f":"IF($C320=\"\",\"\",Simulação!AM320)","v":"-"},{"$f":"IF($C320=\"\",\"\",Simulação!AN320)","v":32.217563507182206},{"$f":"IF($C320=\"\",\"\",Simulação!AO320)","v":"-"},{"$f":"IF($C320=\"\",\"\",Simulação!AP320)","v":36.406016086434107},{"$f":"IF($C320=\"\",\"\",Simulação!AQ320)","v":"-"},{"$f":"IF($C320=\"\",\"\",Simulação!AR320)","v":0}]
[null,314,{"$f":"IF(Chegadas!J322<=$C$5,Chegadas!J322,\"\")","v":288.02000000000004},{"$f":"IF($C321=\"\",\"\",Simulação!D321)","v":4.3849728478154013},{"$f":"IF($C321=\"\",\"\",Simulação!E321)","v":"*"},{"$f":"IF($C321=\"\",\"\",Simulação!F321)","v":294.32429556114397},{"$f":"IF($C321=\"\",\"\",Simulação!G321)","v":"*"},{"$f":"IF($C321=\"\",\"\",Simulação!H321)","v":291.9721854779375},{"$f":"IF($C321=\"\",\"\",Simulação!I321)","v":"*"},{"$f":"IF($C321=\"\",\"\",Simulação!J321)","v":293.73956074257626},{"$f":"IF($C321=\"\",\"\",Simulação!K321)","v":"*"},{"$f":"IF($C321=\"\",\"\",Simulação!L321)","v":292.5607245261919},{"$f":"IF($C321=\"\",\"\",Simulação!M321)","v":"*"},{"$f":"IF($C321=\"\",\"\",Simulação!N321)","v":292.58615361269131},{"$f":"IF($C321=\"\",\"\",Simulação!O321)","v":"*"},{"$f":"IF($C321=\"\",\"\",Simulação!P321)","v":290.99186842646327},{"$f":"IF($C321=\"\",\"\",Simulação!Q321)","v":"*"},{"$f":"IF($C321=\"\",\"\",Simulação!R321)","v":296.606895742576},{"$f":"IF($C321=\"\",\"\",Simulação!S321)","v":"*"},{"$f":"IF($C321=\"\",\"\",Simulação!T321)","v":297.01919895852063},{"$f":"IF($C321=\"\",\"\",Simulação!U321)","v":288.02000000000004},{"$f":"IF($C321=\"\",\"\",Simulação!V321)","v":292.40497284781543},{"$f":"IF($C321=\"\",\"\",Simulação!W321)","v":"-"},{"$f":"IF($C321=\"\",\"\",Simulação!X321)","v":276.84654396081834},{"$f":"IF($C321=\"\",\"\",Simulação!Y321)","v":"-"},{"$f":"IF($C321=\"\",\"\",Simulação!Z321)","v":277.22791527314786},{"$f":"IF($C321=\"\",\"\",Simulação!AA321)","v":"-"},{"$f":"IF($C321=\"\",\"\",Simulação!AB321)","v":291.36179232041985},{"$f":"IF($C321=\"\",\"\",Simulação!AC321)","v":"-"},{"$f":"IF($C321=\"\",\"\",Simulação!AD321)","v":140.66887446424042},{"$f":"IF($C321=\"\",\"\",Simulação!AE321)","v":"-"},{"$f":"IF($C321=\"\",\"\",Simulação!AF321)","v":34.388240562009656},{"$f":"IF($C321=\"\",\"\",Simulação!AG321)","v":"-"},{"$f":"IF($C321=\"\",\"\",Simulação!AH321)","v":29.236023829000793},{"$f":"IF($C321=\"\",\"\",Simulação!AI321)","v":"-"},{"$f":"IF($C321=\"\",\"\",Simulação!AJ321)","v":33.045125393740342},{"$f":"IF($C321=\"\",\"\",Simulação!AK321)","v":"-"},{"$f":"IF($C321=\"\",\"\",Simulação!AL321)","v":32.02721881559642},{"$f":"IF($C321=\"\",\"\",Simulação!AM321)","v":"-"},{"$f":"IF($C321=\"\",\"\",Simulação!AN321)","v":32.217563507182206},{"$f":"IF($C321=\"\",\"\",Simulação!AO321)","v":"-"},{"$f":"IF($C321=\"\",\"\",Simulação!AP321)","v":36.406016086434107},{"$f":"IF($C321=\"\",\"\",Simulação!AQ321)","v":"-"},{"$f":"IF($C321=\"\",\"\",Simulação!AR321)","v":0}]
[null,315,{"$f":"IF(Chegadas!J323<=$C$5,Chegadas!J323,\"\")","v":290.48},{"$f":"IF($C322=\"\",\"\",Simulação!D322)","v":8.887441701583942},{"$f":"IF($C322=\"\",\"\",Simulação!E322)","v":"*"},{"$f":"IF($C322=\"\",\"\",Simulação!F322)","v":294.32429556114397},{"$f":"IF($C322=\"\",\"\",Simulação!G322)","v":"*"},{"$f":"IF($C322=\"\",\"\",Simulação!H322)","v":291.9721854779375},{"$f":"IF($C322=\"\",\"\",Simulação!I322)","v":"*"},{"$f":"IF($C322=\"\",\"\",Simulação!J322)","v":293.73956074257626},{"$f":"IF($C322=\"\",\"\",Simulação!K322)","v":"*"},{"$f":"IF($C322=\"\",\"\",Simulação!L322)","v":292.5607245261919},{"$f":"IF($C322=\"\",\"\",Simulação!M322)","v":"*"},{"$f":"IF($C322=\"\",\"\",Simulação!N322)","v":292.58615361269131},{"$f":"IF($C322=\"\",\"\",Simulação!O322)","v":"*"},{"$f":"IF($C322=\"\",\"\",Simulação!P322)","v":290.99186842646327},{"$f":"IF($C322=\"\",\"\",Simulação!Q322)","v":"*"},{"$f":"IF($C322=\"\",\"\",Simulação!R322)","v":296.606895742576},{"$f":"IF($C322=\"\",\"\",Simulação!S322)","v":"*"},{"$f":"IF($C322=\"\",\"\",Simulação!T322)","v":297.01919895852063},{"$f":"IF($C322=\"\",\"\",Simulação!U322)","v":"*"},{"$f":"IF($C322=\"\",\"\",Simulação!V322)","v":292.40497284781543},{"$f":"IF($C322=\"\",\"\",Simulação!W322)","v":290.48},{"$f":"IF($C322=\"\",\"\",Simulação!X322)","v":299.36744170158397},{"$f":"IF($C322=\"\",\"\",Simulação!Y322)","v":"-"},{"$f":"IF($C322=\"\",\"\",Simulação!Z322)","v":277.22791527314786},{"$f":"IF($C322=\"\",\"\",Simulação!AA322)","v":"-"},{"$f":"IF($C322=\"\",\"\",Simulação!AB322)","v":291.36179232041985},{"$f":"IF($C322=\"\",\"\",Simulação!AC322)","v":"-"},{"$f":"IF($C322=\"\",\"\",Simulação!AD322)","v":140.66887446424042},{"$f":"IF($C322=\"\",\"\",Simulação!AE322)","v":"-"},{"$f":"IF($C322=\"\",\"\",Simulação!AF322)","v":34.388240562009656},{"$f":"IF($C322=\"\",\"\",Simulação!AG322)","v":"-"},{"$f":"IF($C322=\"\",\"\",Simulação!AH322)","v":29.236023829000793},{"$f":"IF($C322=\"\",\"\",Simulação!AI322)","v":"-"},{"$f":"IF($C322=\"\",\"\",Simulação!AJ322)","v":33.045125393740342},{"$f":"IF($C322=\"\",\"\",Simulação!AK322)","v":"-"},{"$f":"IF($C322=\"\",\"\",Simulação!AL322)","v":32.02721881559642},{"$f":"IF($C322=\"\",\"\",Simulação!AM322)","v":"-"},{"$f":"IF($C322=\"\",\"\",Simulação!AN322)","v":32.217563507182206},{"$f":"IF($C322=\"\",\"\",Simulação!AO322)","v":"-"},{"$f":"IF($C322=\"\",\"\",Simulação!AP322)","v":36.406016086434107},{"$f":"IF($C322=\"\",\"\",Simulação!AQ322)","v":"-"},{"$f":"IF($C322=\"\",\"\",Simulação!AR322)","v":0}]
[null,316,{"$f":"IF(Chegadas!J324<=$C$5,Chegadas!J324,\"\")","v":290.72000000000003},{"$f":"IF($C323=\"\",\"\",Simulação!D323)","v":12.630608918041062},{"$f":"IF($C323=\"\",\"\",Simulação!E323)","v":"*"},{"$f":"IF($C323=\"\",\"\",Simulação!F323)","v":294.32429556114397},{"$f":"IF($C323=\"\",\"\",Simulação!G323)","v":"*"},{"$f":"IF($C323=\"\",\"\",Simulação!H323)","v":291.9721854779375},{"$f":"IF($C323=\"\",\"\",Simulação!I323)","v":"*"},{"$f":"IF($C323=\"\",\"\",Simulação!J323)","v":293.73956074257626},{"$f":"IF($C323=\"\",\"\",Simulação!K323)","v":"*"},{"$f":"IF($C323=\"\",\"\",Simulação!L323)","v":292.5607245261919},{"$f":"IF($C323=\"\",\"\",Simulação!M323)","v":"*"},{"$f":"IF($C323=\"\",\"\",Simulação!N323)","v":292.58615361269131},{"$f":"IF($C323=\"\",\"\",Simulação!O323)","v":"*"},{"$f":"IF($C323=\"\",\"\",Simulação!P323)","v":290.99186842646327},{"$f":"IF($C323=\"\",\"\",Simulação!Q323)","v":"*"},{"$f":"IF($C323=\"\",\"\",Simulação!R323)","v":296.606895742576},{"$f":"IF($C323=\"\",\"\",Simulação!S323)","v":"*"},{"$f":"IF($C323=\"\",\"\",Simulação!T323)","v":297.01919895852063},{"$f":"IF($C323=\"\",\"\",Simulação!U323)","v":"*"},{"$f":"IF($C323=\"\",\"\",Simulação!V323)","v":292.40497284781543},{"$f":"IF($C323=\"\",\"\",Simulação!W323)","v":"*"},{"$f":"IF($C323=\"\",\"\",Simulação!X323)","v":299.36744170158397},{"$f":"IF($C323=\"\",\"\",Simulação!Y323)","v":290.72000000000003},{"$f":"IF($C323=\"\",\"\",Simulação!Z323)","v":303.35060891804108},{"$f":"IF($C323=\"\",\"\",Simulação!AA323)","v":"-"},{"$f":"IF($C323=\"\",\"\",Simulação!AB323)","v":291.36179232041985},{"$f":"IF($C323=\"\",\"\",Simulação!AC323)","v":"-"},{"$f":"IF($C323=\"\",\"\",Simulação!AD323)","v":140.66887446424042},{"$f":"IF($C323=\"\",\"\",Simulação!AE323)","v":"-"},{"$f":"IF($C323=\"\",\"\",Simulação!AF323)","v":34.388240562009656},{"$f":"IF($C323=\"\",\"\",Simulação!AG323)","v":"-"},{"$f":"IF($C323=\"\",\"\",Simulação!AH323)","v":29.236023829000793},{"$f":"IF($C323=\"\",\"\",Simulação!AI323)","v":"-"},{"$f":"IF($C323=\"\",\"\",Simulação!AJ323)","v":33.045125393740342},{"$f":"IF($C323=\"\",\"\",Simulação!AK323)","v":"-"},{"$f":"IF($C323=\"\",\"\",Simulação!AL323)","v":32.02721881559642},{"$f":"IF($C323=\"\",\"\",Simulação!AM323)","v":"-"},{"$f":"IF($C323=\"\",\"\",Simulação!AN323)","v":32.217563507182206},{"$f":"IF($C323=\"\",\"\",Simulação!AO323)","v":"-"},{"$f":"IF($C323=\"\",\"\",Simulação!AP323)","v":36.406016086434107},{"$f":"IF($C323=\"\",\"\",Simulação!AQ323)","v":"-"},{"$f":"IF($C323=\"\",\"\",Simulação!AR323)","v":0}]
[null,317,{"$f":"IF(Chegadas!J325<=$C$5,Chegadas!J325,\"\")","v":292.8},{"$f":"IF($C324=\"\",\"\",Simulação!D324)","v":5.7296885065824474},{"$f":"IF($C324=\"\",\"\",Simulação!E324)","v":"*"},{"$f":"IF($C324=\"\",\"\",Simulação!F324)","v":294.32429556114397},{"$f":"IF($C324=\"\",\"\",Simulação!G324)","v":292.8},{"$f":"IF($C324=\"\",\"\",Simulação!H324)","v":298.52968850658243},{"$f":"IF($C324=\"\",\"\",Simulação!I324)","v":"-"},{"$f":"IF($C324=\"\",\"\",Simulação!J324)","v":293.73956074257626},{"$f":"IF($C324=\"\",\"\",Simulação!K324)","v":"-"},{"$f":"IF($C324=\"\",\"\",Simulação!L324)","v":292.5607245261919},{"$f":"IF($C324=\"\",\"\",Simulação!M324)","v":"-"},{"$f":"IF($C324=\"\",\"\",Simulação!N324)","v":292.58615361269131},{"$f":"IF($C324=\"\",\"\",Simulação!O324)","v":"-"},{"$f":"IF($C324=\"\",\"\",Simulação!P324)","v":290.99186842646327},{"$f":"IF($C324=\"\",\"\",Simulação!Q324)","v":"-"},{"$f":"IF($C324=\"\",\"\",Simulação!R324)","v":296.606895742576},{"$f":"IF($C324=\"\",\"\",Simulação!S324)","v":"-"},{"$f":"IF($C324=\"\",\"\",Simulação!T324)","v":297.01919895852063},{"$f":"IF($C324=\"\",\"\",Simulação!U324)","v":"-"},{"$f":"IF($C324=\"\",\"\",Simulação!V324)","v":292.40497284781543},{"$f":"IF($C324=\"\",\"\",Simulação!W324)","v":"-"},{"$f":"IF($C324=\"\",\"\",Simulação!X324)","v":299.36744170158397},{"$f":"IF($C324=\"\",\"\",Simulação!Y324)","v":"-"},{"$f":"IF($C324=\"\",\"\",Simulação!Z324)","v":303.35060891804108},{"$f":"IF($C324=\"\",\"\",Simulação!AA324)","v":"-"},{"$f":"IF($C324=\"\",\"\",Simulação!AB324)","v":291.36179232041985},{"$f":"IF($C324=\"\",\"\",Simulação!AC324)","v":"-"},{"$f":"IF($C324=\"\",\"\",Simulação!AD324)","v":140.66887446424042},{"$f":"IF($C324=\"\",\"\",Simulação!AE324)","v":"-"},{"$f":"IF($C324=\"\",\"\",Simulação!AF324)","v":34.388240562009656},{"$f":"IF($C324=\"\",\"\",Simulação!AG324)","v":"-"},{"$f":"IF($C324=\"\",\"\",Simulação!AH324)","v":29.236023829000793},{"$f":"IF($C324=\"\",\"\",Simulação!AI324)","v":"-"},{"$f":"IF($C324=\"\",\"\",Simulação!AJ324)","v":33.045125393740342},{"$f":"IF($C324=\"\",\"\",Simulação!AK324)","v":"-"},{"$f":"IF($C324=\"\",\"\",Simulação!AL324)","v":32.02721881559642},{"$f":"IF($C324=\"\",\"\",Simulação!AM324)","v":"-"},{"$f":"IF($C324=\"\",\"\",Simulação!AN324)","v":32.217563507182206},{"$f":"IF($C324=\"\",\"\",Simulação!AO324)","v":"-"},{"$f":"IF($C324=\"\",\"\",Simulação!AP324)","v":36.406016086434107},{"$f":"IF($C324=\"\",\"\",Simulação!AQ324)","v":"-"},{"$f":"IF($C324=\"\",\"\",Simulação!AR324)","v":0}]
[null,318,{"$f":"IF(Chegadas!J326<=$C$5,Chegadas!J326,\"\")","v":292.85000000000002},{"$f":"IF($C325=\"\",\"\",Simulação!D325)","v":6.4402903848969588},{"$f":"IF($C325=\"\",\"\",Simulação!E325)","v":"*"},{"$f":"IF($C325=\"\",\"\",Simulação!F325)","v":294.32429556114397},{"$f":"IF($C325=\"\",\"\",Simulação!G325)","v":"*"},{"$f":"IF($C325=\"\",\"\",Simulação!H325)","v":298.52968850658243},{"$f":"IF($C325=\"\",\"\",Simulação!I325)","v":"*"},{"$f":"IF($C325=\"\",\"\",Simulação!J325)","v":293.73956074257626},{"$f":"IF($C325=\"\",\"\",Simulação!K325)","v":292.85000000000002},{"$f":"IF($C325=\"\",\"\",Simulação!L325)","v":299.29029038489699},{"$f":"IF($C325=\"\",\"\",Simulação!M325)","v":"-"},{"$f":"IF($C325=\"\",\"\",Simulação!N325)","v":292.58615361269131},{"$f":"IF($C325=\"\",\"\",Simulação!O325)","v":"-"},{"$f":"IF($C325=\"\",\"\",Simulação!P325)","v":290.99186842646327},{"$f":"IF($C325=\"\",\"\",Simulação!Q325)","v":"-"},{"$f":"IF($C325=\"\",\"\",Simulação!R325)","v":296.606895742576},{"$f":"IF($C325=\"\",\"\",Simulação!S325)","v":"-"},{"$f":"IF($C325=\"\",\"\",Simulação!T325)","v":297.01919895852063},{"$f":"IF($C325=\"\",\"\",Simulação!U325)","v":"-"},{"$f":"IF($C325=\"\",\"\",Simulação!V325)","v":292.40497284781543},{"$f":"IF($C325=\"\",\"\",Simulação!W325)","v":"-"},{"$f":"IF($C325=\"\",\"\",Simulação!X325)","v":299.36744170158397},{"$f":"IF($C325=\"\",\"\",Simulação!Y325)","v":"-"},{"$f":"IF($C325=\"\",\"\",Simulação!Z325)","v":303.35060891804108},{"$f":"IF($C325=\"\",\"\",Simulação!AA325)","v":"-"},{"$f":"IF($C325=\"\",\"\",Simulação!AB325)","v":291.36179232041985},{"$f":"IF($C325=\"\",\"\",Simulação!AC325)","v":"-"},{"$f":"IF($C325=\"\",\"\",Simulação!AD325)","v":140.66887446424042},{"$f":"IF($C325=\"\",\"\",Simulação!AE325)","v":"-"},{"$f":"IF($C325=\"\",\"\",Simulação!AF325)","v":34.388240562009656},{"$f":"IF($C325=\"\",\"\",Simulação!AG325)","v":"-"},{"$f":"IF($C325=\"\",\"\",Simulação!AH325)","v":29.236023829000793},{"$f":"IF($C325=\"\",\"\",Simulação!AI325)","v":"-"},{"$f":"IF($C325=\"\",\"\",Simulação!AJ325)","v":33.045125393740342},{"$f":"IF($C325=\"\",\"\",Simulação!AK325)","v":"-"},{"$f":"IF($C325=\"\",\"\",Simulação!AL325)","v":32.02721881559642},{"$f":"IF($C325=\"\",\"\",Simulação!AM325)","v":"-"},{"$f":"IF($C325=\"\",\"\",Simulação!AN325)","v":32.217563507182206},{"$f":"IF($C325=\"\",\"\",Simulação!AO325)","v":"-"},{"$f":"IF($C325=\"\",\"\",Simulação!AP325)","v":36.406016086434107},{"$f":"IF($C325=\"\",\"\",Simulação!AQ325)","v":"-"},{"$f":"IF($C325=\"\",\"\",Simulação!AR325)","v":0}]
[null,319,{"$f":"IF(Chegadas!J327<=$C$5,Chegadas!J327,\"\")","v":293.25},{"$f":"IF($C326=\"\",\"\",Simulação!D326)","v":6.3262211812392763},{"$f":"IF($C326=\"\",\"\",Simulação!E326)","v":"*"},{"$f":"IF($C326=\"\",\"\",Simulação!F326)","v":294.32429556114397},{"$f":"IF($C326=\"\",\"\",Simulação!G326)","v":"*"},{"$f":"IF($C326=\"\",\"\",Simulação!H326)","v":298.52968850658243},{"$f":"IF($C326=\"\",\"\",Simulação!I326)","v":"*"},{"$f":"IF($C326=\"\",\"\",Simulação!J326)","v":293.73956074257626},{"$f":"IF($C326=\"\",\"\",Simulação!K326)","v":"*"},{"$f":"IF($C326=\"\",\"\",Simulação!L326)","v":299.29029038489699},{"$f":"IF($C326=\"\",\"\",Simulação!M326)","v":293.25},{"$f":"IF($C326=\"\",\"\",Simulação!N326)","v":299.57622118123925},{"$f":"IF($C326=\"\",\"\",Simulação!O326)","v":"-"},{"$f":"IF($C326=\"\",\"\",Simulação!P326)","v":290.99186842646327},{"$f":"IF($C326=\"\",\"\",Simulação!Q326)","v":"-"},{"$f":"IF($C326=\"\",\"\",Simulação!R326)","v":296.606895742576},{"$f":"IF($C326=\"\",\"\",Simulação!S326)","v":"-"},{"$f":"IF($C326=\"\",\"\",Simulação!T326)","v":297.01919895852063},{"$f":"IF($C326=\"\",\"\",Simulação!U326)","v":"-"},{"$f":"IF($C326=\"\",\"\",Simulação!V326)","v":292.40497284781543},{"$f":"IF($C326=\"\",\"\",Simulação!W326)","v":"-"},{"$f":"IF($C326=\"\",\"\",Simulação!X326)","v":299.36744170158397},{"$f":"IF($C326=\"\",\"\",Simulação!Y326)","v":"-"},{"$f":"IF($C326=\"\",\"\",Simulação!Z326)","v":303.35060891804108},{"$f":"IF($C326=\"\",\"\",Simulação!AA326)","v":"-"},{"$f":"IF($C326=\"\",\"\",Simulação!AB326)","v":291.36179232041985},{"$f":"IF($C326=\"\",\"\",Simulação!AC326)","v":"-"},{"$f":"IF($C326=\"\",\"\",Simulação!AD326)","v":140.66887446424042},{"$f":"IF($C326=\"\",\"\",Simulação!AE326)","v":"-"},{"$f":"IF($C326=\"\",\"\",Simulação!AF326)","v":34.388240562009656},{"$f":"IF($C326=\"\",\"\",Simulação!AG326)","v":"-"},{"$f":"IF($C326=\"\",\"\",Simulação!AH326)","v":29.236023829000793},{"$f":"IF($C326=\"\",\"\",Simulação!AI326)","v":"-"},{"$f":"IF($C326=\"\",\"\",Simulação!AJ326)","v":33.045125393740342},{"$f":"IF($C326=\"\",\"\",Simulação!AK326)","v":"-"},{"$f":"IF($C326=\"\",\"\",Simulação!AL326)","v":32.02721881559642},{"$f":"IF($C326=\"\",\"\",Simulação!AM326)","v":"-"},{"$f":"IF($C326=\"\",\"\",Simulação!AN326)","v":32.217563507182206},{"$f":"IF($C326=\"\",\"\",Simulação!AO326)","v":"-"},{"$f":"IF($C326=\"\",\"\",Simulação!AP326)","v":36.406016086434107},{"$f":"IF($C326=\"\",\"\",Simulação!AQ326)","v":"-"},{"$f":"IF($C326=\"\",\"\",Simulação!AR326)","v":0}]
[null,320,{"$f":"IF(Chegadas!J328<=$C$5,Chegadas!J328,\"\")","v":294.73},{"$f":"IF($C327=\"\",\"\",Simulação!D327)","v":5.7178083673602114},{"$f":"IF($C327=\"\",\"\",Simulação!E327)","v":294.73},{"$f":"IF($C327=\"\",\"\",Simulação!F327)","v":300.44780836736021},{"$f":"IF($C327=\"\",\"\",Simulação!G327)","v":"-"},{"$f":"IF($C327=\"\",\"\",Simulação!H327)","v":298.52968850658243},{"$f":"IF($C327=\"\",\"\",Simulação!I327)","v":"-"},{"$f":"IF($C327=\"\",\"\",Simulação!J327)","v":293.73956074257626},{"$f":"IF($C327=\"\",\"\",Simulação!K327)","v":"-"},{"$f":"IF($C327=\"\",\"\",Simulação!L327)","v":299.29029038489699},{"$f":"IF($C327=\"\",\"\",Simulação!M327)","v":"-"},{"$f":"IF($C327=\"\",\"\",Simulação!N327)","v":299.57622118123925},{"$f":"IF($C327=\"\",\"\",Simulação!O327)","v":"-"},{"$f":"IF($C327=\"\",\"\",Simulação!P327)","v":290.99186842646327},{"$f":"IF($C327=\"\",\"\",Simulação!Q327)","v":"-"},{"$f":"IF($C327=\"\",\"\",Simulação!R327)","v":296.606895742576},{"$f":"IF($C327=\"\",\"\",Simulação!S327)","v":"-"},{"$f":"IF($C327=\"\",\"\",Simulação!T327)","v":297.01919895852063},{"$f":"IF($C327=\"\",\"\",Simulação!U327)","v":"-"},{"$f":"IF($C327=\"\",\"\",Simulação!V327)","v":292.40497284781543},{"$f":"IF($C327=\"\",\"\",Simulação!W327)","v":"-"},{"$f":"IF($C327=\"\",\"\",Simulação!X327)","v":299.36744170158397},{"$f":"IF($C327=\"\",\"\",Simulação!Y327)","v":"-"},{"$f":"IF($C327=\"\",\"\",Simulação!Z327)","v":303.35060891804108},{"$f":"IF($C327=\"\",\"\",Simulação!AA327)","v":"-"},{"$f":"IF($C327=\"\",\"\",Simulação!AB327)","v":291.36179232041985},{"$f":"IF($C327=\"\",\"\",Simulação!AC327)","v":"-"},{"$f":"IF($C327=\"\",\"\",Simulação!AD327)","v":140.66887446424042},{"$f":"IF($C327=\"\",\"\",Simulação!AE327)","v":"-"},{"$f":"IF($C327=\"\",\"\",Simulação!AF327)","v":34.388240562009656},{"$f":"IF($C327=\"\",\"\",Simulação!AG327)","v":"-"},{"$f":"IF($C327=\"\",\"\",Simulação!AH327)","v":29.236023829000793},{"$f":"IF($C327=\"\",\"\",Simulação!AI327)","v":"-"},{"$f":"IF($C327=\"\",\"\",Simulação!AJ327)","v":33.045125393740342},{"$f":"IF($C327=\"\",\"\",Simulação!AK327)","v":"-"},{"$f":"IF($C327=\"\",\"\",Simulação!AL327)","v":32.02721881559642},{"$f":"IF($C327=\"\",\"\",Simulação!AM327)","v":"-"},{"$f":"IF($C327=\"\",\"\",Simulação!AN327)","v":32.217563507182206},{"$f":"IF($C327=\"\",\"\",Simulação!AO327)","v":"-"},{"$f":"IF($C327=\"\",\"\",Simulação!AP327)","v":36.406016086434107},{"$f":"IF($C327=\"\",\"\",Simulação!AQ327)","v":"-"},{"$f":"IF($C327=\"\",\"\",Simulação!AR327)","v":0}]
[null,321,{"$f":"IF(Chegadas!J329<=$C$5,Chegadas!J329,\"\")","v":294.88},{"$f":"IF($C328=\"\",\"\",Simulação!D328)","v":10.883930972680972},{"$f":"IF($C328=\"\",\"\",Simulação!E328)","v":"*"},{"$f":"IF($C328=\"\",\"\",Simulação!F328)","v":300.44780836736021},{"$f":"IF($C328=\"\",\"\",Simulação!G328)","v":"*"},{"$f":"IF($C328=\"\",\"\",Simulação!H328)","v":298.52968850658243},{"$f":"IF($C328=\"\",\"\",Simulação!I328)","v":294.88},{"$f":"IF($C328=\"\",\"\",Simulação!J328)","v":305.76393097268095},{"$f":"IF($C328=\"\",\"\",Simulação!K328)","v":"-"},{"$f":"IF($C328=\"\",\"\",Simulação!L328)","v":299.29029038489699},{"$f":"IF($C328=\"\",\"\",Simulação!M328)","v":"-"},{"$f":"IF($C328=\"\",\"\",Simulação!N328)","v":299.57622118123925},{"$f":"IF($C328=\"\",\"\",Simulação!O328)","v":"-"},{"$f":"IF($C328=\"\",\"\",Simulação!P328)","v":290.99186842646327},{"$f":"IF($C328=\"\",\"\",Simulação!Q328)","v":"-"},{"$f":"IF($C328=\"\",\"\",Simulação!R328)","v":296.606895742576},{"$f":"IF($C328=\"\",\"\",Simulação!S328)","v":"-"},{"$f":"IF($C328=\"\",\"\",Simulação!T328)","v":297.01919895852063},{"$f":"IF($C328=\"\",\"\",Simulação!U328)","v":"-"},{"$f":"IF($C328=\"\",\"\",Simulação!V328)","v":292.40497284781543},{"$f":"IF($C328=\"\",\"\",Simulação!W328)","v":"-"},{"$f":"IF($C328=\"\",\"\",Simulação!X328)","v":299.36744170158397},{"$f":"IF($C328=\"\",\"\",Simulação!Y328)","v":"-"},{"$f":"IF($C328=\"\",\"\",Simulação!Z328)","v":303.35060891804108},{"$f":"IF($C328=\"\",\"\",Simulação!AA328)","v":"-"},{"$f":"IF($C328=\"\",\"\",Simulação!AB328)","v":291.36179232041985},{"$f":"IF($C328=\"\",\"\",Simulação!AC328)","v":"-"},{"$f":"IF($C328=\"\",\"\",Simulação!AD328)","v":140.66887446424042},{"$f":"IF($C328=\"\",\"\",Simulação!AE328)","v":"-"},{"$f":"IF($C328=\"\",\"\",Simulação!AF328)","v":34.388240562009656},{"$f":"IF($C328=\"\",\"\",Simulação!AG328)","v":"-"},{"$f":"IF($C328=\"\",\"\",Simulação!AH328)","v":29.236023829000793},{"$f":"IF($C328=\"\",\"\",Simulação!AI328)","v":"-"},{"$f":"IF($C328=\"\",\"\",Simulação!AJ328)","v":33.045125393740342},{"$f":"IF($C328=\"\",\"\",Simulação!AK328)","v":"-"},{"$f":"IF($C328=\"\",\"\",Simulação!AL328)","v":32.02721881559642},{"$f":"IF($C328=\"\",\"\",Simulação!AM328)","v":"-"},{"$f":"IF($C328=\"\",\"\",Simulação!AN328)","v":32.217563507182206},{"$f":"IF($C328=\"\",\"\",Simulação!AO328)","v":"-"},{"$f":"IF($C328=\"\",\"\",Simulação!AP328)","v":36.406016086434107},{"$f":"IF($C328=\"\",\"\",Simulação!AQ328)","v":"-"},{"$f":"IF($C328=\"\",\"\",Simulação!AR328)","v":0}]
[null,322,{"$f":"IF(Chegadas!J330<=$C$5,Chegadas!J330,\"\")","v":296.24},{"$f":"IF($C329=\"\",\"\",Simulação!D329)","v":10.669850452037048},{"$f":"IF($C329=\"\",\"\",Simulação!E329)","v":"*"},{"$f":"IF($C329=\"\",\"\",Simulação!F329)","v":300.44780836736021},{"$f":"IF($C329=\"\",\"\",Simulação!G329)","v":"*"},{"$f":"IF($C329=\"\",\"\",Simulação!H329)","v":298.52968850658243},{"$f":"IF($C329=\"\",\"\",Simulação!I329)","v":"*"},{"$f":"IF($C329=\"\",\"\",Simulação!J329)","v":305.76393097268095},{"$f":"IF($C329=\"\",\"\",Simulação!K329)","v":"*"},{"$f":"IF($C329=\"\",\"\",Simulação!L329)","v":299.29029038489699},{"$f":"IF($C329=\"\",\"\",Simulação!M329)","v":"*"},{"$f":"IF($C329=\"\",\"\",Simulação!N329)","v":299.57622118123925},{"$f":"IF($C329=\"\",\"\",Simulação!O329)","v":296.24},{"$f":"IF($C329=\"\",\"\",Simulação!P329)","v":306.90985045203706},{"$f":"IF($C329=\"\",\"\",Simulação!Q329)","v":"-"},{"$f":"IF($C329=\"\",\"\",Simulação!R329)","v":296.606895742576},{"$f":"IF($C329=\"\",\"\",Simulação!S329)","v":"-"},{"$f":"IF($C329=\"\",\"\",Simulação!T329)","v":297.01919895852063},{"$f":"IF($C329=\"\",\"\",Simulação!U329)","v":"-"},{"$f":"IF($C329=\"\",\"\",Simulação!V329)","v":292.40497284781543},{"$f":"IF($C329=\"\",\"\",Simulação!W329)","v":"-"},{"$f":"IF($C329=\"\",\"\",Simulação!X329)","v":299.36744170158397},{"$f":"IF($C329=\"\",\"\",Simulação!Y329)","v":"-"},{"$f":"IF($C329=\"\",\"\",Simulação!Z329)","v":303.35060891804108},{"$f":"IF($C329=\"\",\"\",Simulação!AA329)","v":"-"},{"$f":"IF($C329=\"\",\"\",Simulação!AB329)","v":291.36179232041985},{"$f":"IF($C329=\"\",\"\",Simulação!AC329)","v":"-"},{"$f":"IF($C329=\"\",\"\",Simulação!AD329)","v":140.66887446424042},{"$f":"IF($C329=\"\",\"\",Simulação!AE329)","v":"-"},{"$f":"IF($C329=\"\",\"\",Simulação!AF329)","v":34.388240562009656},{"$f":"IF($C329=\"\",\"\",Simulação!AG329)","v":"-"},{"$f":"IF($C329=\"\",\"\",Simulação!AH329)","v":29.236023829000793},{"$f":"IF($C329=\"\",\"\",Simulação!AI329)","v":"-"},{"$f":"IF($C329=\"\",\"\",Simulação!AJ329)","v":33.045125393740342},{"$f":"IF($C329=\"\",\"\",Simulação!AK329)","v":"-"},{"$f":"IF($C329=\"\",\"\",Simulação!AL329)","v":32.02721881559642},{"$f":"IF($C329=\"\",\"\",Simulação!AM329)","v":"-"},{"$f":"IF($C329=\"\",\"\",Simulação!AN329)","v":32.217563507182206},{"$f":"IF($C329=\"\",\"\",Simulação!AO329)","v":"-"},{"$f":"IF($C329=\"\",\"\",Simulação!AP329)","v":36.406016086434107},{"$f":"IF($C329=\"\",\"\",Simulação!AQ329)","v":"-"},{"$f":"IF($C329=\"\",\"\",Simulação!AR329)","v":0}]
[null,323,{"$f":"IF(Chegadas!J331<=$C$5,Chegadas!J331,\"\")","v":297.39},{"$f":"IF($C330=\"\",\"\",Simulação!D330)","v":1.0767573598590201},{"$f":"IF($C330=\"\",\"\",Simulação!E330)","v":"*"},{"$f":"IF($C330=\"\",\"\",Simulação!F330)","v":300.44780836736021},{"$f":"IF($C330=\"\",\"\",Simulação!G330)","v":"*"},{"$f":"IF($C330=\"\",\"\",Simulação!H330)","v":298.52968850658243},{"$f":"IF($C330=\"\",\"\",Simulação!I330)","v":"*"},{"$f":"IF($C330=\"\",\"\",Simulação!J330)","v":305.76393097268095},{"$f":"IF($C330=\"\",\"\",Simulação!K330)","v":"*"},{"$f":"IF($C330=\"\",\"\",Simulação!L330)","v":299.29029038489699},{"$f":"IF($C330=\"\",\"\",Simulação!M330)","v":"*"},{"$f":"IF($C330=\"\",\"\",Simulação!N330)","v":299.57622118123925},{"$f":"IF($C330=\"\",\"\",Simulação!O330)","v":"*"},{"$f":"IF($C330=\"\",\"\",Simulação!P330)","v":306.90985045203706},{"$f":"IF($C330=\"\",\"\",Simulação!Q330)","v":297.39},{"$f":"IF($C330=\"\",\"\",Simulação!R330)","v":298.466757359859},{"$f":"IF($C330=\"\",\"\",Simulação!S330)","v":"-"},{"$f":"IF($C330=\"\",\"\",Simulação!T330)","v":297.01919895852063},{"$f":"IF($C330=\"\",\"\",Simulação!U330)","v":"-"},{"$f":"IF($C330=\"\",\"\",Simulação!V330)","v":292.40497284781543},{"$f":"IF($C330=\"\",\"\",Simulação!W330)","v":"-"},{"$f":"IF($C330=\"\",\"\",Simulação!X330)","v":299.36744170158397},{"$f":"IF($C330=\"\",\"\",Simulação!Y330)","v":"-"},{"$f":"IF($C330=\"\",\"\",Simulação!Z330)","v":303.35060891804108},{"$f":"IF($C330=\"\",\"\",Simulação!AA330)","v":"-"},{"$f":"IF($C330=\"\",\"\",Simulação!AB330)","v":291.36179232041985},{"$f":"IF($C330=\"\",\"\",Simulação!AC330)","v":"-"},{"$f":"IF($C330=\"\",\"\",Simulação!AD330)","v":140.66887446424042},{"$f":"IF($C330=\"\",\"\",Simulação!AE330)","v":"-"},{"$f":"IF($C330=\"\",\"\",Simulação!AF330)","v":34.388240562009656},{"$f":"IF($C330=\"\",\"\",Simulação!AG330)","v":"-"},{"$f":"IF($C330=\"\",\"\",Simulação!AH330)","v":29.236023829000793},{"$f":"IF($C330=\"\",\"\",Simulação!AI330)","v":"-"},{"$f":"IF($C330=\"\",\"\",Simulação!AJ330)","v":33.045125393740342},{"$f":"IF($C330=\"\",\"\",Simulação!AK330)","v":"-"},{"$f":"IF($C330=\"\",\"\",Simulação!AL330)","v":32.02721881559642},{"$f":"IF($C330=\"\",\"\",Simulação!AM330)","v":"-"},{"$f":"IF($C330=\"\",\"\",Simulação!AN330)","v":32.217563507182206},{"$f":"IF($C330=\"\",\"\",Simulação!AO330)","v":"-"},{"$f":"IF($C330=\"\",\"\",Simulação!AP330)","v":36.406016086434107},{"$f":"IF($C330=\"\",\"\",Simulação!AQ330)","v":"-"},{"$f":"IF($C330=\"\",\"\",Simulação!AR330)","v":0}]
[null,324,{"$f":"IF(Chegadas!J332<=$C$5,Chegadas!J332,\"\")","v":299.38},{"$f":"IF($C331=\"\",\"\",Simulação!D331)","v":5.5611067315599323},{"$f":"IF($C331=\"\",\"\",Simulação!E331)","v":"*"},{"$f":"IF($C331=\"\",\"\",Simulação!F331)","v":300.44780836736021},{"$f":"IF($C331=\"\",\"\",Simulação!G331)","v":299.38},{"$f":"IF($C331=\"\",\"\",Simulação!H331)","v":304.94110673155996},{"$f":"IF($C331=\"\",\"\",Simulação!I331)","v":"-"},{"$f":"IF($C331=\"\",\"\",Simulação!J331)","v":305.76393097268095},{"$f":"IF($C331=\"\",\"\",Simulação!K331)","v":"-"},{"$f":"IF($C331=\"\",\"\",Simulação!L331)","v":299.29029038489699},{"$f":"IF($C331=\"\",\"\",Simulação!M331)","v":"-"},{"$f":"IF($C331=\"\",\"\",Simulação!N331)","v":299.57622118123925},{"$f":"IF($C331=\"\",\"\",Simulação!O331)","v":"-"},{"$f":"IF($C331=\"\",\"\",Simulação!P331)","v":306.90985045203706},{"$f":"IF($C331=\"\",\"\",Simulação!Q331)","v":"-"},{"$f":"IF($C331=\"\",\"\",Simulação!R331)","v":298.466757359859},{"$f":"IF($C331=\"\",\"\",Simulação!S331)","v":"-"},{"$f":"IF($C331=\"\",\"\",Simulação!T331)","v":297.01919895852063},{"$f":"IF($C331=\"\",\"\",Simulação!U331)","v":"-"},{"$f":"IF($C331=\"\",\"\",Simulação!V331)","v":292.40497284781543},{"$f":"IF($C331=\"\",\"\",Simulação!W331)","v":"-"},{"$f":"IF($C331=\"\",\"\",Simulação!X331)","v":299.36744170158397},{"$f":"IF($C331=\"\",\"\",Simulação!Y331)","v":"-"},{"$f":"IF($C331=\"\",\"\",Simulação!Z331)","v":303.35060891804108},{"$f":"IF($C331=\"\",\"\",Simulação!AA331)","v":"-"},{"$f":"IF($C331=\"\",\"\",Simulação!AB331)","v":291.36179232041985},{"$f":"IF($C331=\"\",\"\",Simulação!AC331)","v":"-"},{"$f":"IF($C331=\"\",\"\",Simulação!AD331)","v":140.66887446424042},{"$f":"IF($C331=\"\",\"\",Simulação!AE331)","v":"-"},{"$f":"IF($C331=\"\",\"\",Simulação!AF331)","v":34.388240562009656},{"$f":"IF($C331=\"\",\"\",Simulação!AG331)","v":"-"},{"$f":"IF($C331=\"\",\"\",Simulação!AH331)","v":29.236023829000793},{"$f":"IF($C331=\"\",\"\",Simulação!AI331)","v":"-"},{"$f":"IF($C331=\"\",\"\",Simulação!AJ331)","v":33.045125393740342},{"$f":"IF($C331=\"\",\"\",Simulação!AK331)","v":"-"},{"$f":"IF($C331=\"\",\"\",Simulação!AL331)","v":32.02721881559642},{"$f":"IF($C331=\"\",\"\",Simulação!AM331)","v":"-"},{"$f":"IF($C331=\"\",\"\",Simulação!AN331)","v":32.217563507182206},{"$f":"IF($C331=\"\",\"\",Simulação!AO331)","v":"-"},{"$f":"IF($C331=\"\",\"\",Simulação!AP331)","v":36.406016086434107},{"$f":"IF($C331=\"\",\"\",Simulação!AQ331)","v":"-"},{"$f":"IF($C331=\"\",\"\",Simulação!AR331)","v":0}]
[null,325,{"$f":"IF(Chegadas!J333<=$C$5,Chegadas!J333,\"\")","v":300.95},{"$f":"IF($C332=\"\",\"\",Simulação!D332)","v":5.3710535698881436},{"$f":"IF($C332=\"\",\"\",Simulação!E332)","v":300.95},{"$f":"IF($C332=\"\",\"\",Simulação!F332)","v":306.32105356988814},{"$f":"IF($C332=\"\",\"\",Simulação!G332)","v":"-"},{"$f":"IF($C332=\"\",\"\",Simulação!H332)","v":304.94110673155996},{"$f":"IF($C332=\"\",\"\",Simulação!I332)","v":"-"},{"$f":"IF($C332=\"\",\"\",Simulação!J332)","v":305.76393097268095},{"$f":"IF($C332=\"\",\"\",Simulação!K332)","v":"-"},{"$f":"IF($C332=\"\",\"\",Simulação!L332)","v":299.29029038489699},{"$f":"IF($C332=\"\",\"\",Simulação!M332)","v":"-"},{"$f":"IF($C332=\"\",\"\",Simulação!N332)","v":299.57622118123925},{"$f":"IF($C332=\"\",\"\",Simulação!O332)","v":"-"},{"$f":"IF($C332=\"\",\"\",Simulação!P332)","v":306.90985045203706},{"$f":"IF($C332=\"\",\"\",Simulação!Q332)","v":"-"},{"$f":"IF($C332=\"\",\"\",Simulação!R332)","v":298.466757359859},{"$f":"IF($C332=\"\",\"\",Simulação!S332)","v":"-"},{"$f":"IF($C332=\"\",\"\",Simulação!T332)","v":297.01919895852063},{"$f":"IF($C332=\"\",\"\",Simulação!U332)","v":"-"},{"$f":"IF($C332=\"\",\"\",Simulação!V332)","v":292.40497284781543},{"$f":"IF($C332=\"\",\"\",Simulação!W332)","v":"-"},{"$f":"IF($C332=\"\",\"\",Simulação!X332)","v":299.36744170158397},{"$f":"IF($C332=\"\",\"\",Simulação!Y332)","v":"-"},{"$f":"IF($C332=\"\",\"\",Simulação!Z332)","v":303.35060891804108},{"$f":"IF($C332=\"\",\"\",Simulação!AA332)","v":"-"},{"$f":"IF($C332=\"\",\"\",Simulação!AB332)","v":291.36179232041985},{"$f":"IF($C332=\"\",\"\",Simulação!AC332)","v":"-"},{"$f":"IF($C332=\"\",\"\",Simulação!AD332)","v":140.66887446424042},{"$f":"IF($C332=\"\",\"\",Simulação!AE332)","v":"-"},{"$f":"IF($C332=\"\",\"\",Simulação!AF332)","v":34.388240562009656},{"$f":"IF($C332=\"\",\"\",Simulação!AG332)","v":"-"},{"$f":"IF($C332=\"\",\"\",Simulação!AH332)","v":29.236023829000793},{"$f":"IF($C332=\"\",\"\",Simulação!AI332)","v":"-"},{"$f":"IF($C332=\"\",\"\",Simulação!AJ332)","v":33.045125393740342},{"$f":"IF($C332=\"\",\"\",Simulação!AK332)","v":"-"},{"$f":"IF($C332=\"\",\"\",Simulação!AL332)","v":32.02721881559642},{"$f":"IF($C332=\"\",\"\",Simulação!AM332)","v":"-"},{"$f":"IF($C332=\"\",\"\",Simulação!AN332)","v":32.217563507182206},{"$f":"IF($C332=\"\",\"\",Simulação!AO332)","v":"-"},{"$f":"IF($C332=\"\",\"\",Simulação!AP332)","v":36.406016086434107},{"$f":"IF($C332=\"\",\"\",Simulação!AQ332)","v":"-"},{"$f":"IF($C332=\"\",\"\",Simulação!AR332)","v":0}]
[null,326,{"$f":"IF(Chegadas!J334<=$C$5,Chegadas!J334,\"\")","v":301.2},{"$f":"IF($C333=\"\",\"\",Simulação!D333)","v":14.391322450020233},{"$f":"IF($C333=\"\",\"\",Simulação!E333)","v":"*"},{"$f":"IF($C333=\"\",\"\",Simulação!F333)","v":306.32105356988814},{"$f":"IF($C333=\"\",\"\",Simulação!G333)","v":"*"},{"$f":"IF($C333=\"\",\"\",Simulação!H333)","v":304.94110673155996},{"$f":"IF($C333=\"\",\"\",Simulação!I333)","v":"*"},{"$f":"IF($C333=\"\",\"\",Simulação!J333)","v":305.76393097268095},{"$f":"IF($C333=\"\",\"\",Simulação!K333)","v":301.2},{"$f":"IF($C333=\"\",\"\",Simulação!L333)","v":315.59132245002024},{"$f":"IF($C333=\"\",\"\",Simulação!M333)","v":"-"},{"$f":"IF($C333=\"\",\"\",Simulação!N333)","v":299.57622118123925},{"$f":"IF($C333=\"\",\"\",Simulação!O333)","v":"-"},{"$f":"IF($C333=\"\",\"\",Simulação!P333)","v":306.90985045203706},{"$f":"IF($C333=\"\",\"\",Simulação!Q333)","v":"-"},{"$f":"IF($C333=\"\",\"\",Simulação!R333)","v":298.466757359859},{"$f":"IF($C333=\"\",\"\",Simulação!S333)","v":"-"},{"$f":"IF($C333=\"\",\"\",Simulação!T333)","v":297.01919895852063},{"$f":"IF($C333=\"\",\"\",Simulação!U333)","v":"-"},{"$f":"IF($C333=\"\",\"\",Simulação!V333)","v":292.40497284781543},{"$f":"IF($C333=\"\",\"\",Simulação!W333)","v":"-"},{"$f":"IF($C333=\"\",\"\",Simulação!X333)","v":299.36744170158397},{"$f":"IF($C333=\"\",\"\",Simulação!Y333)","v":"-"},{"$f":"IF($C333=\"\",\"\",Simulação!Z333)","v":303.35060891804108},{"$f":"IF($C333=\"\",\"\",Simulação!AA333)","v":"-"},{"$f":"IF($C333=\"\",\"\",Simulação!AB333)","v":291.36179232041985},{"$f":"IF($C333=\"\",\"\",Simulação!AC333)","v":"-"},{"$f":"IF($C333=\"\",\"\",Simulação!AD333)","v":140.66887446424042},{"$f":"IF($C333=\"\",\"\",Simulação!AE333)","v":"-"},{"$f":"IF($C333=\"\",\"\",Simulação!AF333)","v":34.388240562009656},{"$f":"IF($C333=\"\",\"\",Simulação!AG333)","v":"-"},{"$f":"IF($C333=\"\",\"\",Simulação!AH333)","v":29.236023829000793},{"$f":"IF($C333=\"\",\"\",Simulação!AI333)","v":"-"},{"$f":"IF($C333=\"\",\"\",Simulação!AJ333)","v":33.045125393740342},{"$f":"IF($C333=\"\",\"\",Simulação!AK333)","v":"-"},{"$f":"IF($C333=\"\",\"\",Simulação!AL333)","v":32.02721881559642},{"$f":"IF($C333=\"\",\"\",Simulação!AM333)","v":"-"},{"$f":"IF($C333=\"\",\"\",Simulação!AN333)","v":32.217563507182206},{"$f":"IF($C333=\"\",\"\",Simulação!AO333)","v":"-"},{"$f":"IF($C333=\"\",\"\",Simulação!AP333)","v":36.406016086434107},{"$f":"IF($C333=\"\",\"\",Simulação!AQ333)","v":"-"},{"$f":"IF($C333=\"\",\"\",Simulação!AR333)","v":0}]
[null,327,{"$f":"IF(Chegadas!J335<=$C$5,Chegadas!J335,\"\")","v":302.33999999999997},{"$f":"IF($C334=\"\",\"\",Simulação!D334)","v":3.6092509626758016},{"$f":"IF($C334=\"\",\"\",Simulação!E334)","v":"*"},{"$f":"IF($C334=\"\",\"\",Simulação!F334)","v":306.32105356988814},{"$f":"IF($C334=\"\",\"\",Simulação!G334)","v":"*"},{"$f":"IF($C334=\"\",\"\",Simulação!H334)","v":304.94110673155996},{"$f":"IF($C334=\"\",\"\",Simulação!I334)","v":"*"},{"$f":"IF($C334=\"\",\"\",Simulação!J334)","v":305.76393097268095},{"$f":"IF($C334=\"\",\"\",Simulação!K334)","v":"*"},{"$f":"IF($C334=\"\",\"\",Simulação!L334)","v":315.59132245002024},{"$f":"IF($C334=\"\",\"\",Simulação!M334)","v":302.33999999999997},{"$f":"IF($C334=\"\",\"\",Simulação!N334)","v":305.94925096267576},{"$f":"IF($C334=\"\",\"\",Simulação!O334)","v":"-"},{"$f":"IF($C334=\"\",\"\",Simulação!P334)","v":306.90985045203706},{"$f":"IF($C334=\"\",\"\",Simulação!Q334)","v":"-"},{"$f":"IF($C334=\"\",\"\",Simulação!R334)","v":298.466757359859},{"$f":"IF($C334=\"\",\"\",Simulação!S334)","v":"-"},{"$f":"IF($C334=\"\",\"\",Simulação!T334)","v":297.01919895852063},{"$f":"IF($C334=\"\",\"\",Simulação!U334)","v":"-"},{"$f":"IF($C334=\"\",\"\",Simulação!V334)","v":292.40497284781543},{"$f":"IF($C334=\"\",\"\",Simulação!W334)","v":"-"},{"$f":"IF($C334=\"\",\"\",Simulação!X334)","v":299.36744170158397},{"$f":"IF($C334=\"\",\"\",Simulação!Y334)","v":"-"},{"$f":"IF($C334=\"\",\"\",Simulação!Z334)","v":303.35060891804108},{"$f":"IF($C334=\"\",\"\",Simulação!AA334)","v":"-"},{"$f":"IF($C334=\"\",\"\",Simulação!AB334)","v":291.36179232041985},{"$f":"IF($C334=\"\",\"\",Simulação!AC334)","v":"-"},{"$f":"IF($C334=\"\",\"\",Simulação!AD334)","v":140.66887446424042},{"$f":"IF($C334=\"\",\"\",Simulação!AE334)","v":"-"},{"$f":"IF($C334=\"\",\"\",Simulação!AF334)","v":34.388240562009656},{"$f":"IF($C334=\"\",\"\",Simulação!AG334)","v":"-"},{"$f":"IF($C334=\"\",\"\",Simulação!AH334)","v":29.236023829000793},{"$f":"IF($C334=\"\",\"\",Simulação!AI334)","v":"-"},{"$f":"IF($C334=\"\",\"\",Simulação!AJ334)","v":33.045125393740342},{"$f":"IF($C334=\"\",\"\",Simulação!AK334)","v":"-"},{"$f":"IF($C334=\"\",\"\",Simulação!AL334)","v":32.02721881559642},{"$f":"IF($C334=\"\",\"\",Simulação!AM334)","v":"-"},{"$f":"IF($C334=\"\",\"\",Simulação!AN334)","v":32.217563507182206},{"$f":"IF($C334=\"\",\"\",Simulação!AO334)","v":"-"},{"$f":"IF($C334=\"\",\"\",Simulação!AP334)","v":36.406016086434107},{"$f":"IF($C334=\"\",\"\",Simulação!AQ334)","v":"-"},{"$f":"IF($C334=\"\",\"\",Simulação!AR334)","v":0}]
[null,328,{"$f":"IF(Chegadas!J336<=$C$5,Chegadas!J336,\"\")","v":302.36},{"$f":"IF($C335=\"\",\"\",Simulação!D335)","v":1.3508004881685953},{"$f":"IF($C335=\"\",\"\",Simulação!E335)","v":"*"},{"$f":"IF($C335=\"\",\"\",Simulação!F335)","v":306.32105356988814},{"$f":"IF($C335=\"\",\"\",Simulação!G335)","v":"*"},{"$f":"IF($C335=\"\",\"\",Simulação!H335)","v":304.94110673155996},{"$f":"IF($C335=\"\",\"\",Simulação!I335)","v":"*"},{"$f":"IF($C335=\"\",\"\",Simulação!J335)","v":305.76393097268095},{"$f":"IF($C335=\"\",\"\",Simulação!K335)","v":"*"},{"$f":"IF($C335=\"\",\"\",Simulação!L335)","v":315.59132245002024},{"$f":"IF($C335=\"\",\"\",Simulação!M335)","v":"*"},{"$f":"IF($C335=\"\",\"\",Simulação!N335)","v":305.94925096267576},{"$f":"IF($C335=\"\",\"\",Simulação!O335)","v":"*"},{"$f":"IF($C335=\"\",\"\",Simulação!P335)","v":306.90985045203706},{"$f":"IF($C335=\"\",\"\",Simulação!Q335)","v":302.36},{"$f":"IF($C335=\"\",\"\",Simulação!R335)","v":303.71080048816862},{"$f":"IF($C335=\"\",\"\",Simulação!S335)","v":"-"},{"$f":"IF($C335=\"\",\"\",Simulação!T335)","v":297.01919895852063},{"$f":"IF($C335=\"\",\"\",Simulação!U335)","v":"-"},{"$f":"IF($C335=\"\",\"\",Simulação!V335)","v":292.40497284781543},{"$f":"IF($C335=\"\",\"\",Simulação!W335)","v":"-"},{"$f":"IF($C335=\"\",\"\",Simulação!X335)","v":299.36744170158397},{"$f":"IF($C335=\"\",\"\",Simulação!Y335)","v":"-"},{"$f":"IF($C335=\"\",\"\",Simulação!Z335)","v":303.35060891804108},{"$f":"IF($C335=\"\",\"\",Simulação!AA335)","v":"-"},{"$f":"IF($C335=\"\",\"\",Simulação!AB335)","v":291.36179232041985},{"$f":"IF($C335=\"\",\"\",Simulação!AC335)","v":"-"},{"$f":"IF($C335=\"\",\"\",Simulação!AD335)","v":140.66887446424042},{"$f":"IF($C335=\"\",\"\",Simulação!AE335)","v":"-"},{"$f":"IF($C335=\"\",\"\",Simulação!AF335)","v":34.388240562009656},{"$f":"IF($C335=\"\",\"\",Simulação!AG335)","v":"-"},{"$f":"IF($C335=\"\",\"\",Simulação!AH335)","v":29.236023829000793},{"$f":"IF($C335=\"\",\"\",Simulação!AI335)","v":"-"},{"$f":"IF($C335=\"\",\"\",Simulação!AJ335)","v":33.045125393740342},{"$f":"IF($C335=\"\",\"\",Simulação!AK335)","v":"-"},{"$f":"IF($C335=\"\",\"\",Simulação!AL335)","v":32.02721881559642},{"$f":"IF($C335=\"\",\"\",Simulação!AM335)","v":"-"},{"$f":"IF($C335=\"\",\"\",Simulação!AN335)","v":32.217563507182206},{"$f":"IF($C335=\"\",\"\",Simulação!AO335)","v":"-"},{"$f":"IF($C335=\"\",\"\",Simulação!AP335)","v":36.406016086434107},{"$f":"IF($C335=\"\",\"\",Simulação!AQ335)","v":"-"},{"$f":"IF($C335=\"\",\"\",Simulação!AR335)","v":0}]
[null,329,{"$f":"IF(Chegadas!J337<=$C$5,Chegadas!J337,\"\")","v":302.88},{"$f":"IF($C336=\"\",\"\",Simulação!D336)","v":7.1546496311302406},{"$f":"IF($C336=\"\",\"\",Simulação!E336)","v":"*"},{"$f":"IF($C336=\"\",\"\",Simulação!F336)","v":306.32105356988814},{"$f":"IF($C336=\"\",\"\",Simulação!G336)","v":"*"},{"$f":"IF($C336=\"\",\"\",Simulação!H336)","v":304.94110673155996},{"$f":"IF($C336=\"\",\"\",Simulação!I336)","v":"*"},{"$f":"IF($C336=\"\",\"\",Simulação!J336)","v":305.76393097268095},{"$f":"IF($C336=\"\",\"\",Simulação!K336)","v":"*"},{"$f":"IF($C336=\"\",\"\",Simulação!L336)","v":315.59132245002024},{"$f":"IF($C336=\"\",\"\",Simulação!M336)","v":"*"},{"$f":"IF($C336=\"\",\"\",Simulação!N336)","v":305.94925096267576},{"$f":"IF($C336=\"\",\"\",Simulação!O336)","v":"*"},{"$f":"IF($C336=\"\",\"\",Simulação!P336)","v":306.90985045203706},{"$f":"IF($C336=\"\",\"\",Simulação!Q336)","v":"*"},{"$f":"IF($C336=\"\",\"\",Simulação!R336)","v":303.71080048816862},{"$f":"IF($C336=\"\",\"\",Simulação!S336)","v":302.88},{"$f":"IF($C336=\"\",\"\",Simulação!T336)","v":310.03464963113026},{"$f":"IF($C336=\"\",\"\",Simulação!U336)","v":"-"},{"$f":"IF($C336=\"\",\"\",Simulação!V336)","v":292.40497284781543},{"$f":"IF($C336=\"\",\"\",Simulação!W336)","v":"-"},{"$f":"IF($C336=\"\",\"\",Simulação!X336)","v":299.36744170158397},{"$f":"IF($C336=\"\",\"\",Simulação!Y336)","v":"-"},{"$f":"IF($C336=\"\",\"\",Simulação!Z336)","v":303.35060891804108},{"$f":"IF($C336=\"\",\"\",Simulação!AA336)","v":"-"},{"$f":"IF($C336=\"\",\"\",Simulação!AB336)","v":291.36179232041985},{"$f":"IF($C336=\"\",\"\",Simulação!AC336)","v":"-"},{"$f":"IF($C336=\"\",\"\",Simulação!AD336)","v":140.66887446424042},{"$f":"IF($C336=\"\",\"\",Simulação!AE336)","v":"-"},{"$f":"IF($C336=\"\",\"\",Simulação!AF336)","v":34.388240562009656},{"$f":"IF($C336=\"\",\"\",Simulação!AG336)","v":"-"},{"$f":"IF($C336=\"\",\"\",Simulação!AH336)","v":29.236023829000793},{"$f":"IF($C336=\"\",\"\",Simulação!AI336)","v":"-"},{"$f":"IF($C336=\"\",\"\",Simulação!AJ336)","v":33.045125393740342},{"$f":"IF($C336=\"\",\"\",Simulação!AK336)","v":"-"},{"$f":"IF($C336=\"\",\"\",Simulação!AL336)","v":32.02721881559642},{"$f":"IF($C336=\"\",\"\",Simulação!AM336)","v":"-"},{"$f":"IF($C336=\"\",\"\",Simulação!AN336)","v":32.217563507182206},{"$f":"IF($C336=\"\",\"\",Simulação!AO336)","v":"-"},{"$f":"IF($C336=\"\",\"\",Simulação!AP336)","v":36.406016086434107},{"$f":"IF($C336=\"\",\"\",Simulação!AQ336)","v":"-"},{"$f":"IF($C336=\"\",\"\",Simulação!AR336)","v":0}]
[null,330,{"$f":"IF(Chegadas!J338<=$C$5,Chegadas!J338,\"\")","v":303.27},{"$f":"IF($C337=\"\",\"\",Simulação!D337)","v":8.7628904458376002},{"$f":"IF($C337=\"\",\"\",Simulação!E337)","v":"*"},{"$f":"IF($C337=\"\",\"\",Simulação!F337)","v":306.32105356988814},{"$f":"IF($C337=\"\",\"\",Simulação!G337)","v":"*"},{"$f":"IF($C337=\"\",\"\",Simulação!H337)","v":304.94110673155996},{"$f":"IF($C337=\"\",\"\",Simulação!I337)","v":"*"},{"$f":"IF($C337=\"\",\"\",Simulação!J337)","v":305.76393097268095},{"$f":"IF($C337=\"\",\"\",Simulação!K337)","v":"*"},{"$f":"IF($C337=\"\",\"\",Simulação!L337)","v":315.59132245002024},{"$f":"IF($C337=\"\",\"\",Simulação!M337)","v":"*"},{"$f":"IF($C337=\"\",\"\",Simulação!N337)","v":305.94925096267576},{"$f":"IF($C337=\"\",\"\",Simulação!O337)","v":"*"},{"$f":"IF($C337=\"\",\"\",Simulação!P337)","v":306.90985045203706},{"$f":"IF($C337=\"\",\"\",Simulação!Q337)","v":"*"},{"$f":"IF($C337=\"\",\"\",Simulação!R337)","v":303.71080048816862},{"$f":"IF($C337=\"\",\"\",Simulação!S337)","v":"*"},{"$f":"IF($C337=\"\",\"\",Simulação!T337)","v":310.03464963113026},{"$f":"IF($C337=\"\",\"\",Simulação!U337)","v":303.27},{"$f":"IF($C337=\"\",\"\",Simulação!V337)","v":312.03289044583761},{"$f":"IF($C337=\"\",\"\",Simulação!W337)","v":"-"},{"$f":"IF($C337=\"\",\"\",Simulação!X337)","v":299.36744170158397},{"$f":"IF($C337=\"\",\"\",Simulação!Y337)","v":"-"},{"$f":"IF($C337=\"\",\"\",Simulação!Z337)","v":303.35060891804108},{"$f":"IF($C337=\"\",\"\",Simulação!AA337)","v":"-"},{"$f":"IF($C337=\"\",\"\",Simulação!AB337)","v":291.36179232041985},{"$f":"IF($C337=\"\",\"\",Simulação!AC337)","v":"-"},{"$f":"IF($C337=\"\",\"\",Simulação!AD337)","v":140.66887446424042},{"$f":"IF($C337=\"\",\"\",Simulação!AE337)","v":"-"},{"$f":"IF($C337=\"\",\"\",Simulação!AF337)","v":34.388240562009656},{"$f":"IF($C337=\"\",\"\",Simulação!AG337)","v":"-"},{"$f":"IF($C337=\"\",\"\",Simulação!AH337)","v":29.236023829000793},{"$f":"IF($C337=\"\",\"\",Simulação!AI337)","v":"-"},{"$f":"IF($C337=\"\",\"\",Simulação!AJ337)","v":33.045125393740342},{"$f":"IF($C337=\"\",\"\",Simulação!AK337)","v":"-"},{"$f":"IF($C337=\"\",\"\",Simulação!AL337)","v":32.02721881559642},{"$f":"IF($C337=\"\",\"\",Simulação!AM337)","v":"-"},{"$f":"IF($C337=\"\",\"\",Simulação!AN337)","v":32.217563507182206},{"$f":"IF($C337=\"\",\"\",Simulação!AO337)","v":"-"},{"$f":"IF($C337=\"\",\"\",Simulação!AP337)","v":36.406016086434107},{"$f":"IF($C337=\"\",\"\",Simulação!AQ337)","v":"-"},{"$f":"IF($C337=\"\",\"\",Simulação!AR337)","v":0}]
[null,331,{"$f":"IF(Chegadas!J339<=$C$5,Chegadas!J339,\"\")","v":303.91999999999996},{"$f":"IF($C338=\"\",\"\",Simulação!D338)","v":11.651519682411196},{"$f":"IF($C338=\"\",\"\",Simulação!E338)","v":"*"},{"$f":"IF($C338=\"\",\"\",Simulação!F338)","v":306.32105356988814},{"$f":"IF($C338=\"\",\"\",Simulação!G338)","v":"*"},{"$f":"IF($C338=\"\",\"\",Simulação!H338)","v":304.94110673155996},{"$f":"IF($C338=\"\",\"\",Simulação!I338)","v":"*"},{"$f":"IF($C338=\"\",\"\",Simulação!J338)","v":305.76393097268095},{"$f":"IF($C338=\"\",\"\",Simulação!K338)","v":"*"},{"$f":"IF($C338=\"\",\"\",Simulação!L338)","v":315.59132245002024},{"$f":"IF($C338=\"\",\"\",Simulação!M338)","v":"*"},{"$f":"IF($C338=\"\",\"\",Simulação!N338)","v":305.94925096267576},{"$f":"IF($C338=\"\",\"\",Simulação!O338)","v":"*"},{"$f":"IF($C338=\"\",\"\",Simulação!P338)","v":306.90985045203706},{"$f":"IF($C338=\"\",\"\",Simulação!Q338)","v":303.91999999999996},{"$f":"IF($C338=\"\",\"\",Simulação!R338)","v":315.57151968241118},{"$f":"IF($C338=\"\",\"\",Simulação!S338)","v":"-"},{"$f":"IF($C338=\"\",\"\",Simulação!T338)","v":310.03464963113026},{"$f":"IF($C338=\"\",\"\",Simulação!U338)","v":"-"},{"$f":"IF($C338=\"\",\"\",Simulação!V338)","v":312.03289044583761},{"$f":"IF($C338=\"\",\"\",Simulação!W338)","v":"-"},{"$f":"IF($C338=\"\",\"\",Simulação!X338)","v":299.36744170158397},{"$f":"IF($C338=\"\",\"\",Simulação!Y338)","v":"-"},{"$f":"IF($C338=\"\",\"\",Simulação!Z338)","v":303.35060891804108},{"$f":"IF($C338=\"\",\"\",Simulação!AA338)","v":"-"},{"$f":"IF($C338=\"\",\"\",Simulação!AB338)","v":291.36179232041985},{"$f":"IF($C338=\"\",\"\",Simulação!AC338)","v":"-"},{"$f":"IF($C338=\"\",\"\",Simulação!AD338)","v":140.66887446424042},{"$f":"IF($C338=\"\",\"\",Simulação!AE338)","v":"-"},{"$f":"IF($C338=\"\",\"\",Simulação!AF338)","v":34.388240562009656},{"$f":"IF($C338=\"\",\"\",Simulação!AG338)","v":"-"},{"$f":"IF($C338=\"\",\"\",Simulação!AH338)","v":29.236023829000793},{"$f":"IF($C338=\"\",\"\",Simulação!AI338)","v":"-"},{"$f":"IF($C338=\"\",\"\",Simulação!AJ338)","v":33.045125393740342},{"$f":"IF($C338=\"\",\"\",Simulação!AK338)","v":"-"},{"$f":"IF($C338=\"\",\"\",Simulação!AL338)","v":32.02721881559642},{"$f":"IF($C338=\"\",\"\",Simulação!AM338)","v":"-"},{"$f":"IF($C338=\"\",\"\",Simulação!AN338)","v":32.217563507182206},{"$f":"IF($C338=\"\",\"\",Simulação!AO338)","v":"-"},{"$f":"IF($C338=\"\",\"\",Simulação!AP338)","v":36.406016086434107},{"$f":"IF($C338=\"\",\"\",Simulação!AQ338)","v":"-"},{"$f":"IF($C338=\"\",\"\",Simulação!AR338)","v":0}]
[null,332,{"$f":"IF(Chegadas!J340<=$C$5,Chegadas!J340,\"\")","v":306.43999999999994},{"$f":"IF($C339=\"\",\"\",Simulação!D339)","v":4.5999069006817717},{"$f":"IF($C339=\"\",\"\",Simulação!E339)","v":306.43999999999994},{"$f":"IF($C339=\"\",\"\",Simulação!F339)","v":311.03990690068173},{"$f":"IF($C339=\"\",\"\",Simulação!G339)","v":"-"},{"$f":"IF($C339=\"\",\"\",Simulação!H339)","v":304.94110673155996},{"$f":"IF($C339=\"\",\"\",Simulação!I339)","v":"-"},{"$f":"IF($C339=\"\",\"\",Simulação!J339)","v":305.76393097268095},{"$f":"IF($C339=\"\",\"\",Simulação!K339)","v":"-"},{"$f":"IF($C339=\"\",\"\",Simulação!L339)","v":315.59132245002024},{"$f":"IF($C339=\"\",\"\",Simulação!M339)","v":"-"},{"$f":"IF($C339=\"\",\"\",Simulação!N339)","v":305.94925096267576},{"$f":"IF($C339=\"\",\"\",Simulação!O339)","v":"-"},{"$f":"IF($C339=\"\",\"\",Simulação!P339)","v":306.90985045203706},{"$f":"IF($C339=\"\",\"\",Simulação!Q339)","v":"-"},{"$f":"IF($C339=\"\",\"\",Simulação!R339)","v":315.57151968241118},{"$f":"IF($C339=\"\",\"\",Simulação!S339)","v":"-"},{"$f":"IF($C339=\"\",\"\",Simulação!T339)","v":310.03464963113026},{"$f":"IF($C339=\"\",\"\",Simulação!U339)","v":"-"},{"$f":"IF($C339=\"\",\"\",Simulação!V339)","v":312.03289044583761},{"$f":"IF($C339=\"\",\"\",Simulação!W339)","v":"-"},{"$f":"IF($C339=\"\",\"\",Simulação!X339)","v":299.36744170158397},{"$f":"IF($C339=\"\",\"\",Simulação!Y339)","v":"-"},{"$f":"IF($C339=\"\",\"\",Simulação!Z339)","v":303.35060891804108},{"$f":"IF($C339=\"\",\"\",Simulação!AA339)","v":"-"},{"$f":"IF($C339=\"\",\"\",Simulação!AB339)","v":291.36179232041985},{"$f":"IF($C339=\"\",\"\",Simulação!AC339)","v":"-"},{"$f":"IF($C339=\"\",\"\",Simulação!AD339)","v":140.66887446424042},{"$f":"IF($C339=\"\",\"\",Simulação!AE339)","v":"-"},{"$f":"IF($C339=\"\",\"\",Simulação!AF339)","v":34.388240562009656},{"$f":"IF($C339=\"\",\"\",Simulação!AG339)","v":"-"},{"$f":"IF($C339=\"\",\"\",Simulação!AH339)","v":29.236023829000793},{"$f":"IF($C339=\"\",\"\",Simulação!AI339)","v":"-"},{"$f":"IF($C339=\"\",\"\",Simulação!AJ339)","v":33.045125393740342},{"$f":"IF($C339=\"\",\"\",Simulação!AK339)","v":"-"},{"$f":"IF($C339=\"\",\"\",Simulação!AL339)","v":32.02721881559642},{"$f":"IF($C339=\"\",\"\",Simulação!AM339)","v":"-"},{"$f":"IF($C339=\"\",\"\",Simulação!AN339)","v":32.217563507182206},{"$f":"IF($C339=\"\",\"\",Simulação!AO339)","v":"-"},{"$f":"IF($C339=\"\",\"\",Simulação!AP339)","v":36.406016086434107},{"$f":"IF($C339=\"\",\"\",Simulação!AQ339)","v":"-"},{"$f":"IF($C339=\"\",\"\",Simulação!AR339)","v":0}]
[null,333,{"$f":"IF(Chegadas!J341<=$C$5,Chegadas!J341,\"\")","v":308.40999999999997},{"$f":"IF($C340=\"\",\"\",Simulação!D340)","v":8.8809582223418495},{"$f":"IF($C340=\"\",\"\",Simulação!E340)","v":"*"},{"$f":"IF($C340=\"\",\"\",Simulação!F340)","v":311.03990690068173},{"$f":"IF($C340=\"\",\"\",Simulação!G340)","v":308.40999999999997},{"$f":"IF($C340=\"\",\"\",Simulação!H340)","v":317.29095822234183},{"$f":"IF($C340=\"\",\"\",Simulação!I340)","v":"-"},{"$f":"IF($C340=\"\",\"\",Simulação!J340)","v":305.76393097268095},{"$f":"IF($C340=\"\",\"\",Simulação!K340)","v":"-"},{"$f":"IF($C340=\"\",\"\",Simulação!L340)","v":315.59132245002024},{"$f":"IF($C340=\"\",\"\",Simulação!M340)","v":"-"},{"$f":"IF($C340=\"\",\"\",Simulação!N340)","v":305.94925096267576},{"$f":"IF($C340=\"\",\"\",Simulação!O340)","v":"-"},{"$f":"IF($C340=\"\",\"\",Simulação!P340)","v":306.90985045203706},{"$f":"IF($C340=\"\",\"\",Simulação!Q340)","v":"-"},{"$f":"IF($C340=\"\",\"\",Simulação!R340)","v":315.57151968241118},{"$f":"IF($C340=\"\",\"\",Simulação!S340)","v":"-"},{"$f":"IF($C340=\"\",\"\",Simulação!T340)","v":310.03464963113026},{"$f":"IF($C340=\"\",\"\",Simulação!U340)","v":"-"},{"$f":"IF($C340=\"\",\"\",Simulação!V340)","v":312.03289044583761},{"$f":"IF($C340=\"\",\"\",Simulação!W340)","v":"-"},{"$f":"IF($C340=\"\",\"\",Simulação!X340)","v":299.36744170158397},{"$f":"IF($C340=\"\",\"\",Simulação!Y340)","v":"-"},{"$f":"IF($C340=\"\",\"\",Simulação!Z340)","v":303.35060891804108},{"$f":"IF($C340=\"\",\"\",Simulação!AA340)","v":"-"},{"$f":"IF($C340=\"\",\"\",Simulação!AB340)","v":291.36179232041985},{"$f":"IF($C340=\"\",\"\",Simulação!AC340)","v":"-"},{"$f":"IF($C340=\"\",\"\",Simulação!AD340)","v":140.66887446424042},{"$f":"IF($C340=\"\",\"\",Simulação!AE340)","v":"-"},{"$f":"IF($C340=\"\",\"\",Simulação!AF340)","v":34.388240562009656},{"$f":"IF($C340=\"\",\"\",Simulação!AG340)","v":"-"},{"$f":"IF($C340=\"\",\"\",Simulação!AH340)","v":29.236023829000793},{"$f":"IF($C340=\"\",\"\",Simulação!AI340)","v":"-"},{"$f":"IF($C340=\"\",\"\",Simulação!AJ340)","v":33.045125393740342},{"$f":"IF($C340=\"\",\"\",Simulação!AK340)","v":"-"},{"$f":"IF($C340=\"\",\"\",Simulação!AL340)","v":32.02721881559642},{"$f":"IF($C340=\"\",\"\",Simulação!AM340)","v":"-"},{"$f":"IF($C340=\"\",\"\",Simulação!AN340)","v":32.217563507182206},{"$f":"IF($C340=\"\",\"\",Simulação!AO340)","v":"-"},{"$f":"IF($C340=\"\",\"\",Simulação!AP340)","v":36.406016086434107},{"$f":"IF($C340=\"\",\"\",Simulação!AQ340)","v":"-"},{"$f":"IF($C340=\"\",\"\",Simulação!AR340)","v":0}]
[null,334,{"$f":"IF(Chegadas!J342<=$C$5,Chegadas!J342,\"\")","v":308.64},{"$f":"IF($C341=\"\",\"\",Simulação!D341)","v":16.423819112590948},{"$f":"IF($C341=\"\",\"\",Simulação!E341)","v":"*"},{"$f":"IF($C341=\"\",\"\",Simulação!F341)","v":311.03990690068173},{"$f":"IF($C341=\"\",\"\",Simulação!G341)","v":"*"},{"$f":"IF($C341=\"\",\"\",Simulação!H341)","v":317.29095822234183},{"$f":"IF($C341=\"\",\"\",Simulação!I341)","v":308.64},{"$f":"IF($C341=\"\",\"\",Simulação!J341)","v":325.06381911259092},{"$f":"IF($C341=\"\",\"\",Simulação!K341)","v":"-"},{"$f":"IF($C341=\"\",\"\",Simulação!L341)","v":315.59132245002024},{"$f":"IF($C341=\"\",\"\",Simulação!M341)","v":"-"},{"$f":"IF($C341=\"\",\"\",Simulação!N341)","v":305.94925096267576},{"$f":"IF($C341=\"\",\"\",Simulação!O341)","v":"-"},{"$f":"IF($C341=\"\",\"\",Simulação!P341)","v":306.90985045203706},{"$f":"IF($C341=\"\",\"\",Simulação!Q341)","v":"-"},{"$f":"IF($C341=\"\",\"\",Simulação!R341)","v":315.57151968241118},{"$f":"IF($C341=\"\",\"\",Simulação!S341)","v":"-"},{"$f":"IF($C341=\"\",\"\",Simulação!T341)","v":310.03464963113026},{"$f":"IF($C341=\"\",\"\",Simulação!U341)","v":"-"},{"$f":"IF($C341=\"\",\"\",Simulação!V341)","v":312.03289044583761},{"$f":"IF($C341=\"\",\"\",Simulação!W341)","v":"-"},{"$f":"IF($C341=\"\",\"\",Simulação!X341)","v":299.36744170158397},{"$f":"IF($C341=\"\",\"\",Simulação!Y341)","v":"-"},{"$f":"IF($C341=\"\",\"\",Simulação!Z341)","v":303.35060891804108},{"$f":"IF($C341=\"\",\"\",Simulação!AA341)","v":"-"},{"$f":"IF($C341=\"\",\"\",Simulação!AB341)","v":291.36179232041985},{"$f":"IF($C341=\"\",\"\",Simulação!AC341)","v":"-"},{"$f":"IF($C341=\"\",\"\",Simulação!AD341)","v":140.66887446424042},{"$f":"IF($C341=\"\",\"\",Simulação!AE341)","v":"-"},{"$f":"IF($C341=\"\",\"\",Simulação!AF341)","v":34.388240562009656},{"$f":"IF($C341=\"\",\"\",Simulação!AG341)","v":"-"},{"$f":"IF($C341=\"\",\"\",Simulação!AH341)","v":29.236023829000793},{"$f":"IF($C341=\"\",\"\",Simulação!AI341)","v":"-"},{"$f":"IF($C341=\"\",\"\",Simulação!AJ341)","v":33.045125393740342},{"$f":"IF($C341=\"\",\"\",Simulação!AK341)","v":"-"},{"$f":"IF($C341=\"\",\"\",Simulação!AL341)","v":32.02721881559642},{"$f":"IF($C341=\"\",\"\",Simulação!AM341)","v":"-"},{"$f":"IF($C341=\"\",\"\",Simulação!AN341)","v":32.217563507182206},{"$f":"IF($C341=\"\",\"\",Simulação!AO341)","v":"-"},{"$f":"IF($C341=\"\",\"\",Simulação!AP341)","v":36.406016086434107},{"$f":"IF($C341=\"\",\"\",Simulação!AQ341)","v":"-"},{"$f":"IF($C341=\"\",\"\",Simulação!AR341)","v":0}]
[null,335,{"$f":"IF(Chegadas!J343<=$C$5,Chegadas!J343,\"\")","v":308.89999999999998},{"$f":"IF($C342=\"\",\"\",Simulação!D342)","v":10.321566091917466},{"$f":"IF($C342=\"\",\"\",Simulação!E342)","v":"*"},{"$f":"IF($C342=\"\",\"\",Simulação!F342)","v":311.03990690068173},{"$f":"IF($C342=\"\",\"\",Simulação!G342)","v":"*"},{"$f":"IF($C342=\"\",\"\",Simulação!H342)","v":317.29095822234183},{"$f":"IF($C342=\"\",\"\",Simulação!I342)","v":"*"},{"$f":"IF($C342=\"\",\"\",Simulação!J342)","v":325.06381911259092},{"$f":"IF($C342=\"\",\"\",Simulação!K342)","v":"*"},{"$f":"IF($C342=\"\",\"\",Simulação!L342)","v":315.59132245002024},{"$f":"IF($C342=\"\",\"\",Simulação!M342)","v":308.89999999999998},{"$f":"IF($C342=\"\",\"\",Simulação!N342)","v":319.22156609191745},{"$f":"IF($C342=\"\",\"\",Simulação!O342)","v":"-"},{"$f":"IF($C342=\"\",\"\",Simulação!P342)","v":306.90985045203706},{"$f":"IF($C342=\"\",\"\",Simulação!Q342)","v":"-"},{"$f":"IF($C342=\"\",\"\",Simulação!R342)","v":315.57151968241118},{"$f":"IF($C342=\"\",\"\",Simulação!S342)","v":"-"},{"$f":"IF($C342=\"\",\"\",Simulação!T342)","v":310.03464963113026},{"$f":"IF($C342=\"\",\"\",Simulação!U342)","v":"-"},{"$f":"IF($C342=\"\",\"\",Simulação!V342)","v":312.03289044583761},{"$f":"IF($C342=\"\",\"\",Simulação!W342)","v":"-"},{"$f":"IF($C342=\"\",\"\",Simulação!X342)","v":299.36744170158397},{"$f":"IF($C342=\"\",\"\",Simulação!Y342)","v":"-"},{"$f":"IF($C342=\"\",\"\",Simulação!Z342)","v":303.35060891804108},{"$f":"IF($C342=\"\",\"\",Simulação!AA342)","v":"-"},{"$f":"IF($C342=\"\",\"\",Simulação!AB342)","v":291.36179232041985},{"$f":"IF($C342=\"\",\"\",Simulação!AC342)","v":"-"},{"$f":"IF($C342=\"\",\"\",Simulação!AD342)","v":140.66887446424042},{"$f":"IF($C342=\"\",\"\",Simulação!AE342)","v":"-"},{"$f":"IF($C342=\"\",\"\",Simulação!AF342)","v":34.388240562009656},{"$f":"IF($C342=\"\",\"\",Simulação!AG342)","v":"-"},{"$f":"IF($C342=\"\",\"\",Simulação!AH342)","v":29.236023829000793},{"$f":"IF($C342=\"\",\"\",Simulação!AI342)","v":"-"},{"$f":"IF($C342=\"\",\"\",Simulação!AJ342)","v":33.045125393740342},{"$f":"IF($C342=\"\",\"\",Simulação!AK342)","v":"-"},{"$f":"IF($C342=\"\",\"\",Simulação!AL342)","v":32.02721881559642},{"$f":"IF($C342=\"\",\"\",Simulação!AM342)","v":"-"},{"$f":"IF($C342=\"\",\"\",Simulação!AN342)","v":32.217563507182206},{"$f":"IF($C342=\"\",\"\",Simulação!AO342)","v":"-"},{"$f":"IF($C342=\"\",\"\",Simulação!AP342)","v":36.406016086434107},{"$f":"IF($C342=\"\",\"\",Simulação!AQ342)","v":"-"},{"$f":"IF($C342=\"\",\"\",Simulação!AR342)","v":0}]
[null,336,{"$f":"IF(Chegadas!J344<=$C$5,Chegadas!J344,\"\")","v":311.26},{"$f":"IF($C343=\"\",\"\",Simulação!D343)","v":8.8636887800622031},{"$f":"IF($C343=\"\",\"\",Simulação!E343)","v":311.26},{"$f":"IF($C343=\"\",\"\",Simulação!F343)","v":320.1236887800622},{"$f":"IF($C343=\"\",\"\",Simulação!G343)","v":"-"},{"$f":"IF($C343=\"\",\"\",Simulação!H343)","v":317.29095822234183},{"$f":"IF($C343=\"\",\"\",Simulação!I343)","v":"-"},{"$f":"IF($C343=\"\",\"\",Simulação!J343)","v":325.06381911259092},{"$f":"IF($C343=\"\",\"\",Simulação!K343)","v":"-"},{"$f":"IF($C343=\"\",\"\",Simulação!L343)","v":315.59132245002024},{"$f":"IF($C343=\"\",\"\",Simulação!M343)","v":"-"},{"$f":"IF($C343=\"\",\"\",Simulação!N343)","v":319.22156609191745},{"$f":"IF($C343=\"\",\"\",Simulação!O343)","v":"-"},{"$f":"IF($C343=\"\",\"\",Simulação!P343)","v":306.90985045203706},{"$f":"IF($C343=\"\",\"\",Simulação!Q343)","v":"-"},{"$f":"IF($C343=\"\",\"\",Simulação!R343)","v":315.57151968241118},{"$f":"IF($C343=\"\",\"\",Simulação!S343)","v":"-"},{"$f":"IF($C343=\"\",\"\",Simulação!T343)","v":310.03464963113026},{"$f":"IF($C343=\"\",\"\",Simulação!U343)","v":"-"},{"$f":"IF($C343=\"\",\"\",Simulação!V343)","v":312.03289044583761},{"$f":"IF($C343=\"\",\"\",Simulação!W343)","v":"-"},{"$f":"IF($C343=\"\",\"\",Simulação!X343)","v":299.36744170158397},{"$f":"IF($C343=\"\",\"\",Simulação!Y343)","v":"-"},{"$f":"IF($C343=\"\",\"\",Simulação!Z343)","v":303.35060891804108},{"$f":"IF($C343=\"\",\"\",Simulação!AA343)","v":"-"},{"$f":"IF($C343=\"\",\"\",Simulação!AB343)","v":291.36179232041985},{"$f":"IF($C343=\"\",\"\",Simulação!AC343)","v":"-"},{"$f":"IF($C343=\"\",\"\",Simulação!AD343)","v":140.66887446424042},{"$f":"IF($C343=\"\",\"\",Simulação!AE343)","v":"-"},{"$f":"IF($C343=\"\",\"\",Simulação!AF343)","v":34.388240562009656},{"$f":"IF($C343=\"\",\"\",Simulação!AG343)","v":"-"},{"$f":"IF($C343=\"\",\"\",Simulação!AH343)","v":29.236023829000793},{"$f":"IF($C343=\"\",\"\",Simulação!AI343)","v":"-"},{"$f":"IF($C343=\"\",\"\",Simulação!AJ343)","v":33.045125393740342},{"$f":"IF($C343=\"\",\"\",Simulação!AK343)","v":"-"},{"$f":"IF($C343=\"\",\"\",Simulação!AL343)","v":32.02721881559642},{"$f":"IF($C343=\"\",\"\",Simulação!AM343)","v":"-"},{"$f":"IF($C343=\"\",\"\",Simulação!AN343)","v":32.217563507182206},{"$f":"IF($C343=\"\",\"\",Simulação!AO343)","v":"-"},{"$f":"IF($C343=\"\",\"\",Simulação!AP343)","v":36.406016086434107},{"$f":"IF($C343=\"\",\"\",Simulação!AQ343)","v":"-"},{"$f":"IF($C343=\"\",\"\",Simulação!AR343)","v":0}]
[null,337,{"$f":"IF(Chegadas!J345<=$C$5,Chegadas!J345,\"\")","v":312.37},{"$f":"IF($C344=\"\",\"\",Simulação!D344)","v":0.98588906878531357},{"$f":"IF($C344=\"\",\"\",Simulação!E344)","v":"*"},{"$f":"IF($C344=\"\",\"\",Simulação!F344)","v":320.1236887800622},{"$f":"IF($C344=\"\",\"\",Simulação!G344)","v":"*"},{"$f":"IF($C344=\"\",\"\",Simulação!H344)","v":317.29095822234183},{"$f":"IF($C344=\"\",\"\",Simulação!I344)","v":"*"},{"$f":"IF($C344=\"\",\"\",Simulação!J344)","v":325.06381911259092},{"$f":"IF($C344=\"\",\"\",Simulação!K344)","v":"*"},{"$f":"IF($C344=\"\",\"\",Simulação!L344)","v":315.59132245002024},{"$f":"IF($C344=\"\",\"\",Simulação!M344)","v":"*"},{"$f":"IF($C344=\"\",\"\",Simulação!N344)","v":319.22156609191745},{"$f":"IF($C344=\"\",\"\",Simulação!O344)","v":312.37},{"$f":"IF($C344=\"\",\"\",Simulação!P344)","v":313.3558890687853},{"$f":"IF($C344=\"\",\"\",Simulação!Q344)","v":"-"},{"$f":"IF($C344=\"\",\"\",Simulação!R344)","v":315.57151968241118},{"$f":"IF($C344=\"\",\"\",Simulação!S344)","v":"-"},{"$f":"IF($C344=\"\",\"\",Simulação!T344)","v":310.03464963113026},{"$f":"IF($C344=\"\",\"\",Simulação!U344)","v":"-"},{"$f":"IF($C344=\"\",\"\",Simulação!V344)","v":312.03289044583761},{"$f":"IF($C344=\"\",\"\",Simulação!W344)","v":"-"},{"$f":"IF($C344=\"\",\"\",Simulação!X344)","v":299.36744170158397},{"$f":"IF($C344=\"\",\"\",Simulação!Y344)","v":"-"},{"$f":"IF($C344=\"\",\"\",Simulação!Z344)","v":303.35060891804108},{"$f":"IF($C344=\"\",\"\",Simulação!AA344)","v":"-"},{"$f":"IF($C344=\"\",\"\",Simulação!AB344)","v":291.36179232041985},{"$f":"IF($C344=\"\",\"\",Simulação!AC344)","v":"-"},{"$f":"IF($C344=\"\",\"\",Simulação!AD344)","v":140.66887446424042},{"$f":"IF($C344=\"\",\"\",Simulação!AE344)","v":"-"},{"$f":"IF($C344=\"\",\"\",Simulação!AF344)","v":34.388240562009656},{"$f":"IF($C344=\"\",\"\",Simulação!AG344)","v":"-"},{"$f":"IF($C344=\"\",\"\",Simulação!AH344)","v":29.236023829000793},{"$f":"IF($C344=\"\",\"\",Simulação!AI344)","v":"-"},{"$f":"IF($C344=\"\",\"\",Simulação!AJ344)","v":33.045125393740342},{"$f":"IF($C344=\"\",\"\",Simulação!AK344)","v":"-"},{"$f":"IF($C344=\"\",\"\",Simulação!AL344)","v":32.02721881559642},{"$f":"IF($C344=\"\",\"\",Simulação!AM344)","v":"-"},{"$f":"IF($C344=\"\",\"\",Simulação!AN344)","v":32.217563507182206},{"$f":"IF($C344=\"\",\"\",Simulação!AO344)","v":"-"},{"$f":"IF($C344=\"\",\"\",Simulação!AP344)","v":36.406016086434107},{"$f":"IF($C344=\"\",\"\",Simulação!AQ344)","v":"-"},{"$f":"IF($C344=\"\",\"\",Simulação!AR344)","v":0}]
[null,338,{"$f":"IF(Chegadas!J346<=$C$5,Chegadas!J346,\"\")","v":313.87},{"$f":"IF($C345=\"\",\"\",Simulação!D345)","v":1.3073665785759347},{"$f":"IF($C345=\"\",\"\",Simulação!E345)","v":"*"},{"$f":"IF($C345=\"\",\"\",Simulação!F345)","v":320.1236887800622},{"$f":"IF($C345=\"\",\"\",Simulação!G345)","v":"*"},{"$f":"IF($C345=\"\",\"\",Simulação!H345)","v":317.29095822234183},{"$f":"IF($C345=\"\",\"\",Simulação!I345)","v":"*"},{"$f":"IF($C345=\"\",\"\",Simulação!J345)","v":325.06381911259092},{"$f":"IF($C345=\"\",\"\",Simulação!K345)","v":"*"},{"$f":"IF($C345=\"\",\"\",Simulação!L345)","v":315.59132245002024},{"$f":"IF($C345=\"\",\"\",Simulação!M345)","v":"*"},{"$f":"IF($C345=\"\",\"\",Simulação!N345)","v":319.22156609191745},{"$f":"IF($C345=\"\",\"\",Simulação!O345)","v":313.87},{"$f":"IF($C345=\"\",\"\",Simulação!P345)","v":315.17736657857591},{"$f":"IF($C345=\"\",\"\",Simulação!Q345)","v":"-"},{"$f":"IF($C345=\"\",\"\",Simulação!R345)","v":315.57151968241118},{"$f":"IF($C345=\"\",\"\",Simulação!S345)","v":"-"},{"$f":"IF($C345=\"\",\"\",Simulação!T345)","v":310.03464963113026},{"$f":"IF($C345=\"\",\"\",Simulação!U345)","v":"-"},{"$f":"IF($C345=\"\",\"\",Simulação!V345)","v":312.03289044583761},{"$f":"IF($C345=\"\",\"\",Simulação!W345)","v":"-"},{"$f":"IF($C345=\"\",\"\",Simulação!X345)","v":299.36744170158397},{"$f":"IF($C345=\"\",\"\",Simulação!Y345)","v":"-"},{"$f":"IF($C345=\"\",\"\",Simulação!Z345)","v":303.35060891804108},{"$f":"IF($C345=\"\",\"\",Simulação!AA345)","v":"-"},{"$f":"IF($C345=\"\",\"\",Simulação!AB345)","v":291.36179232041985},{"$f":"IF($C345=\"\",\"\",Simulação!AC345)","v":"-"},{"$f":"IF($C345=\"\",\"\",Simulação!AD345)","v":140.66887446424042},{"$f":"IF($C345=\"\",\"\",Simulação!AE345)","v":"-"},{"$f":"IF($C345=\"\",\"\",Simulação!AF345)","v":34.388240562009656},{"$f":"IF($C345=\"\",\"\",Simulação!AG345)","v":"-"},{"$f":"IF($C345=\"\",\"\",Simulação!AH345)","v":29.236023829000793},{"$f":"IF($C345=\"\",\"\",Simulação!AI345)","v":"-"},{"$f":"IF($C345=\"\",\"\",Simulação!AJ345)","v":33.045125393740342},{"$f":"IF($C345=\"\",\"\",Simulação!AK345)","v":"-"},{"$f":"IF($C345=\"\",\"\",Simulação!AL345)","v":32.02721881559642},{"$f":"IF($C345=\"\",\"\",Simulação!AM345)","v":"-"},{"$f":"IF($C345=\"\",\"\",Simulação!AN345)","v":32.217563507182206},{"$f":"IF($C345=\"\",\"\",Simulação!AO345)","v":"-"},{"$f":"IF($C345=\"\",\"\",Simulação!AP345)","v":36.406016086434107},{"$f":"IF($C345=\"\",\"\",Simulação!AQ345)","v":"-"},{"$f":"IF($C345=\"\",\"\",Simulação!AR345)","v":0}]
[null,339,{"$f":"IF(Chegadas!J347<=$C$5,Chegadas!J347,\"\")","v":314.3},{"$f":"IF($C346=\"\",\"\",Simulação!D346)","v":8.1191036847417202},{"$f":"IF($C346=\"\",\"\",Simulação!E346)","v":"*"},{"$f":"IF($C346=\"\",\"\",Simulação!F346)","v":320.1236887800622},{"$f":"IF($C346=\"\",\"\",Simulação!G346)","v":"*"},{"$f":"IF($C346=\"\",\"\",Simulação!H346)","v":317.29095822234183},{"$f":"IF($C346=\"\",\"\",Simulação!I346)","v":"*"},{"$f":"IF($C346=\"\",\"\",Simulação!J346)","v":325.06381911259092},{"$f":"IF($C346=\"\",\"\",Simulação!K346)","v":"*"},{"$f":"IF($C346=\"\",\"\",Simulação!L346)","v":315.59132245002024},{"$f":"IF($C346=\"\",\"\",Simulação!M346)","v":"*"},{"$f":"IF($C346=\"\",\"\",Simulação!N346)","v":319.22156609191745},{"$f":"IF($C346=\"\",\"\",Simulação!O346)","v":"*"},{"$f":"IF($C346=\"\",\"\",Simulação!P346)","v":315.17736657857591},{"$f":"IF($C346=\"\",\"\",Simulação!Q346)","v":"*"},{"$f":"IF($C346=\"\",\"\",Simulação!R346)","v":315.57151968241118},{"$f":"IF($C346=\"\",\"\",Simulação!S346)","v":314.3},{"$f":"IF($C346=\"\",\"\",Simulação!T346)","v":322.41910368474174},{"$f":"IF($C346=\"\",\"\",Simulação!U346)","v":"-"},{"$f":"IF($C346=\"\",\"\",Simulação!V346)","v":312.03289044583761},{"$f":"IF($C346=\"\",\"\",Simulação!W346)","v":"-"},{"$f":"IF($C346=\"\",\"\",Simulação!X346)","v":299.36744170158397},{"$f":"IF($C346=\"\",\"\",Simulação!Y346)","v":"-"},{"$f":"IF($C346=\"\",\"\",Simulação!Z346)","v":303.35060891804108},{"$f":"IF($C346=\"\",\"\",Simulação!AA346)","v":"-"},{"$f":"IF($C346=\"\",\"\",Simulação!AB346)","v":291.36179232041985},{"$f":"IF($C346=\"\",\"\",Simulação!AC346)","v":"-"},{"$f":"IF($C346=\"\",\"\",Simulação!AD346)","v":140.66887446424042},{"$f":"IF($C346=\"\",\"\",Simulação!AE346)","v":"-"},{"$f":"IF($C346=\"\",\"\",Simulação!AF346)","v":34.388240562009656},{"$f":"IF($C346=\"\",\"\",Simulação!AG346)","v":"-"},{"$f":"IF($C346=\"\",\"\",Simulação!AH346)","v":29.236023829000793},{"$f":"IF($C346=\"\",\"\",Simulação!AI346)","v":"-"},{"$f":"IF($C346=\"\",\"\",Simulação!AJ346)","v":33.045125393740342},{"$f":"IF($C346=\"\",\"\",Simulação!AK346)","v":"-"},{"$f":"IF($C346=\"\",\"\",Simulação!AL346)","v":32.02721881559642},{"$f":"IF($C346=\"\",\"\",Simulação!AM346)","v":"-"},{"$f":"IF($C346=\"\",\"\",Simulação!AN346)","v":32.217563507182206},{"$f":"IF($C346=\"\",\"\",Simulação!AO346)","v":"-"},{"$f":"IF($C346=\"\",\"\",Simulação!AP346)","v":36.406016086434107},{"$f":"IF($C346=\"\",\"\",Simulação!AQ346)","v":"-"},{"$f":"IF($C346=\"\",\"\",Simulação!AR346)","v":0}]
[null,340,{"$f":"IF(Chegadas!J348<=$C$5,Chegadas!J348,\"\")","v":314.37},{"$f":"IF($C347=\"\",\"\",Simulação!D347)","v":3.0819770598752858},{"$f":"IF($C347=\"\",\"\",Simulação!E347)","v":"*"},{"$f":"IF($C347=\"\",\"\",Simulação!F347)","v":320.1236887800622},{"$f":"IF($C347=\"\",\"\",Simulação!G347)","v":"*"},{"$f":"IF($C347=\"\",\"\",Simulação!H347)","v":317.29095822234183},{"$f":"IF($C347=\"\",\"\",Simulação!I347)","v":"*"},{"$f":"IF($C347=\"\",\"\",Simulação!J347)","v":325.06381911259092},{"$f":"IF($C347=\"\",\"\",Simulação!K347)","v":"*"},{"$f":"IF($C347=\"\",\"\",Simulação!L347)","v":315.59132245002024},{"$f":"IF($C347=\"\",\"\",Simulação!M347)","v":"*"},{"$f":"IF($C347=\"\",\"\",Simulação!N347)","v":319.22156609191745},{"$f":"IF($C347=\"\",\"\",Simulação!O347)","v":"*"},{"$f":"IF($C347=\"\",\"\",Simulação!P347)","v":315.17736657857591},{"$f":"IF($C347=\"\",\"\",Simulação!Q347)","v":"*"},{"$f":"IF($C347=\"\",\"\",Simulação!R347)","v":315.57151968241118},{"$f":"IF($C347=\"\",\"\",Simulação!S347)","v":"*"},{"$f":"IF($C347=\"\",\"\",Simulação!T347)","v":322.41910368474174},{"$f":"IF($C347=\"\",\"\",Simulação!U347)","v":314.37},{"$f":"IF($C347=\"\",\"\",Simulação!V347)","v":317.45197705987528},{"$f":"IF($C347=\"\",\"\",Simulação!W347)","v":"-"},{"$f":"IF($C347=\"\",\"\",Simulação!X347)","v":299.36744170158397},{"$f":"IF($C347=\"\",\"\",Simulação!Y347)","v":"-"},{"$f":"IF($C347=\"\",\"\",Simulação!Z347)","v":303.35060891804108},{"$f":"IF($C347=\"\",\"\",Simulação!AA347)","v":"-"},{"$f":"IF($C347=\"\",\"\",Simulação!AB347)","v":291.36179232041985},{"$f":"IF($C347=\"\",\"\",Simulação!AC347)","v":"-"},{"$f":"IF($C347=\"\",\"\",Simulação!AD347)","v":140.66887446424042},{"$f":"IF($C347=\"\",\"\",Simulação!AE347)","v":"-"},{"$f":"IF($C347=\"\",\"\",Simulação!AF347)","v":34.388240562009656},{"$f":"IF($C347=\"\",\"\",Simulação!AG347)","v":"-"},{"$f":"IF($C347=\"\",\"\",Simulação!AH347)","v":29.236023829000793},{"$f":"IF($C347=\"\",\"\",Simulação!AI347)","v":"-"},{"$f":"IF($C347=\"\",\"\",Simulação!AJ347)","v":33.045125393740342},{"$f":"IF($C347=\"\",\"\",Simulação!AK347)","v":"-"},{"$f":"IF($C347=\"\",\"\",Simulação!AL347)","v":32.02721881559642},{"$f":"IF($C347=\"\",\"\",Simulação!AM347)","v":"-"},{"$f":"IF($C347=\"\",\"\",Simulação!AN347)","v":32.217563507182206},{"$f":"IF($C347=\"\",\"\",Simulação!AO347)","v":"-"},{"$f":"IF($C347=\"\",\"\",Simulação!AP347)","v":36.406016086434107},{"$f":"IF($C347=\"\",\"\",Simulação!AQ347)","v":"-"},{"$f":"IF($C347=\"\",\"\",Simulação!AR347)","v":0}]
[null,341,{"$f":"IF(Chegadas!J349<=$C$5,Chegadas!J349,\"\")","v":315.62},{"$f":"IF($C348=\"\",\"\",Simulação!D348)","v":6.7375961480883477},{"$f":"IF($C348=\"\",\"\",Simulação!E348)","v":"*"},{"$f":"IF($C348=\"\",\"\",Simulação!F348)","v":320.1236887800622},{"$f":"IF($C348=\"\",\"\",Simulação!G348)","v":"*"},{"$f":"IF($C348=\"\",\"\",Simulação!H348)","v":317.29095822234183},{"$f":"IF($C348=\"\",\"\",Simulação!I348)","v":"*"},{"$f":"IF($C348=\"\",\"\",Simulação!J348)","v":325.06381911259092},{"$f":"IF($C348=\"\",\"\",Simulação!K348)","v":315.62},{"$f":"IF($C348=\"\",\"\",Simulação!L348)","v":322.35759614808836},{"$f":"IF($C348=\"\",\"\",Simulação!M348)","v":"-"},{"$f":"IF($C348=\"\",\"\",Simulação!N348)","v":319.22156609191745},{"$f":"IF($C348=\"\",\"\",Simulação!O348)","v":"-"},{"$f":"IF($C348=\"\",\"\",Simulação!P348)","v":315.17736657857591},{"$f":"IF($C348=\"\",\"\",Simulação!Q348)","v":"-"},{"$f":"IF($C348=\"\",\"\",Simulação!R348)","v":315.57151968241118},{"$f":"IF($C348=\"\",\"\",Simulação!S348)","v":"-"},{"$f":"IF($C348=\"\",\"\",Simulação!T348)","v":322.41910368474174},{"$f":"IF($C348=\"\",\"\",Simulação!U348)","v":"-"},{"$f":"IF($C348=\"\",\"\",Simulação!V348)","v":317.45197705987528},{"$f":"IF($C348=\"\",\"\",Simulação!W348)","v":"-"},{"$f":"IF($C348=\"\",\"\",Simulação!X348)","v":299.36744170158397},{"$f":"IF($C348=\"\",\"\",Simulação!Y348)","v":"-"},{"$f":"IF($C348=\"\",\"\",Simulação!Z348)","v":303.35060891804108},{"$f":"IF($C348=\"\",\"\",Simulação!AA348)","v":"-"},{"$f":"IF($C348=\"\",\"\",Simulação!AB348)","v":291.36179232041985},{"$f":"IF($C348=\"\",\"\",Simulação!AC348)","v":"-"},{"$f":"IF($C348=\"\",\"\",Simulação!AD348)","v":140.66887446424042},{"$f":"IF($C348=\"\",\"\",Simulação!AE348)","v":"-"},{"$f":"IF($C348=\"\",\"\",Simulação!AF348)","v":34.388240562009656},{"$f":"IF($C348=\"\",\"\",Simulação!AG348)","v":"-"},{"$f":"IF($C348=\"\",\"\",Simulação!AH348)","v":29.236023829000793},{"$f":"IF($C348=\"\",\"\",Simulação!AI348)","v":"-"},{"$f":"IF($C348=\"\",\"\",Simulação!AJ348)","v":33.045125393740342},{"$f":"IF($C348=\"\",\"\",Simulação!AK348)","v":"-"},{"$f":"IF($C348=\"\",\"\",Simulação!AL348)","v":32.02721881559642},{"$f":"IF($C348=\"\",\"\",Simulação!AM348)","v":"-"},{"$f":"IF($C348=\"\",\"\",Simulação!AN348)","v":32.217563507182206},{"$f":"IF($C348=\"\",\"\",Simulação!AO348)","v":"-"},{"$f":"IF($C348=\"\",\"\",Simulação!AP348)","v":36.406016086434107},{"$f":"IF($C348=\"\",\"\",Simulação!AQ348)","v":"-"},{"$f":"IF($C348=\"\",\"\",Simulação!AR348)","v":0}]
[null,342,{"$f":"IF(Chegadas!J350<=$C$5,Chegadas!J350,\"\")","v":316.5},{"$f":"IF($C349=\"\",\"\",Simulação!D349)","v":3.1918052017108507},{"$f":"IF($C349=\"\",\"\",Simulação!E349)","v":"*"},{"$f":"IF($C349=\"\",\"\",Simulação!F349)","v":320.1236887800622},{"$f":"IF($C349=\"\",\"\",Simulação!G349)","v":"*"},{"$f":"IF($C349=\"\",\"\",Simulação!H349)","v":317.29095822234183},{"$f":"IF($C349=\"\",\"\",Simulação!I349)","v":"*"},{"$f":"IF($C349=\"\",\"\",Simulação!J349)","v":325.06381911259092},{"$f":"IF($C349=\"\",\"\",Simulação!K349)","v":"*"},{"$f":"IF($C349=\"\",\"\",Simulação!L349)","v":322.35759614808836},{"$f":"IF($C349=\"\",\"\",Simulação!M349)","v":"*"},{"$f":"IF($C349=\"\",\"\",Simulação!N349)","v":319.22156609191745},{"$f":"IF($C349=\"\",\"\",Simulação!O349)","v":316.5},{"$f":"IF($C349=\"\",\"\",Simulação!P349)","v":319.69180520171085},{"$f":"IF($C349=\"\",\"\",Simulação!Q349)","v":"-"},{"$f":"IF($C349=\"\",\"\",Simulação!R349)","v":315.57151968241118},{"$f":"IF($C349=\"\",\"\",Simulação!S349)","v":"-"},{"$f":"IF($C349=\"\",\"\",Simulação!T349)","v":322.41910368474174},{"$f":"IF($C349=\"\",\"\",Simulação!U349)","v":"-"},{"$f":"IF($C349=\"\",\"\",Simulação!V349)","v":317.45197705987528},{"$f":"IF($C349=\"\",\"\",Simulação!W349)","v":"-"},{"$f":"IF($C349=\"\",\"\",Simulação!X349)","v":299.36744170158397},{"$f":"IF($C349=\"\",\"\",Simulação!Y349)","v":"-"},{"$f":"IF($C349=\"\",\"\",Simulação!Z349)","v":303.35060891804108},{"$f":"IF($C349=\"\",\"\",Simulação!AA349)","v":"-"},{"$f":"IF($C349=\"\",\"\",Simulação!AB349)","v":291.36179232041985},{"$f":"IF($C349=\"\",\"\",Simulação!AC349)","v":"-"},{"$f":"IF($C349=\"\",\"\",Simulação!AD349)","v":140.66887446424042},{"$f":"IF($C349=\"\",\"\",Simulação!AE349)","v":"-"},{"$f":"IF($C349=\"\",\"\",Simulação!AF349)","v":34.388240562009656},{"$f":"IF($C349=\"\",\"\",Simulação!AG349)","v":"-"},{"$f":"IF($C349=\"\",\"\",Simulação!AH349)","v":29.236023829000793},{"$f":"IF($C349=\"\",\"\",Simulação!AI349)","v":"-"},{"$f":"IF($C349=\"\",\"\",Simulação!AJ349)","v":33.045125393740342},{"$f":"IF($C349=\"\",\"\",Simulação!AK349)","v":"-"},{"$f":"IF($C349=\"\",\"\",Simulação!AL349)","v":32.02721881559642},{"$f":"IF($C349=\"\",\"\",Simulação!AM349)","v":"-"},{"$f":"IF($C349=\"\",\"\",Simulação!AN349)","v":32.217563507182206},{"$f":"IF($C349=\"\",\"\",Simulação!AO349)","v":"-"},{"$f":"IF($C349=\"\",\"\",Simulação!AP349)","v":36.406016086434107},{"$f":"IF($C349=\"\",\"\",Simulação!AQ349)","v":"-"},{"$f":"IF($C349=\"\",\"\",Simulação!AR349)","v":0}]
[null,343,{"$f":"IF(Chegadas!J351<=$C$5,Chegadas!J351,\"\")","v":318.07},{"$f":"IF($C350=\"\",\"\",Simulação!D350)","v":10.125000735618482},{"$f":"IF($C350=\"\",\"\",Simulação!E350)","v":"*"},{"$f":"IF($C350=\"\",\"\",Simulação!F350)","v":320.1236887800622},{"$f":"IF($C350=\"\",\"\",Simulação!G350)","v":318.07},{"$f":"IF($C350=\"\",\"\",Simulação!H350)","v":328.19500073561846},{"$f":"IF($C350=\"\",\"\",Simulação!I350)","v":"-"},{"$f":"IF($C350=\"\",\"\",Simulação!J350)","v":325.06381911259092},{"$f":"IF($C350=\"\",\"\",Simulação!K350)","v":"-"},{"$f":"IF($C350=\"\",\"\",Simulação!L350)","v":322.35759614808836},{"$f":"IF($C350=\"\",\"\",Simulação!M350)","v":"-"},{"$f":"IF($C350=\"\",\"\",Simulação!N350)","v":319.22156609191745},{"$f":"IF($C350=\"\",\"\",Simulação!O350)","v":"-"},{"$f":"IF($C350=\"\",\"\",Simulação!P350)","v":319.69180520171085},{"$f":"IF($C350=\"\",\"\",Simulação!Q350)","v":"-"},{"$f":"IF($C350=\"\",\"\",Simulação!R350)","v":315.57151968241118},{"$f":"IF($C350=\"\",\"\",Simulação!S350)","v":"-"},{"$f":"IF($C350=\"\",\"\",Simulação!T350)","v":322.41910368474174},{"$f":"IF($C350=\"\",\"\",Simulação!U350)","v":"-"},{"$f":"IF($C350=\"\",\"\",Simulação!V350)","v":317.45197705987528},{"$f":"IF($C350=\"\",\"\",Simulação!W350)","v":"-"},{"$f":"IF($C350=\"\",\"\",Simulação!X350)","v":299.36744170158397},{"$f":"IF($C350=\"\",\"\",Simulação!Y350)","v":"-"},{"$f":"IF($C350=\"\",\"\",Simulação!Z350)","v":303.35060891804108},{"$f":"IF($C350=\"\",\"\",Simulação!AA350)","v":"-"},{"$f":"IF($C350=\"\",\"\",Simulação!AB350)","v":291.36179232041985},{"$f":"IF($C350=\"\",\"\",Simulação!AC350)","v":"-"},{"$f":"IF($C350=\"\",\"\",Simulação!AD350)","v":140.66887446424042},{"$f":"IF($C350=\"\",\"\",Simulação!AE350)","v":"-"},{"$f":"IF($C350=\"\",\"\",Simulação!AF350)","v":34.388240562009656},{"$f":"IF($C350=\"\",\"\",Simulação!AG350)","v":"-"},{"$f":"IF($C350=\"\",\"\",Simulação!AH350)","v":29.236023829000793},{"$f":"IF($C350=\"\",\"\",Simulação!AI350)","v":"-"},{"$f":"IF($C350=\"\",\"\",Simulação!AJ350)","v":33.045125393740342},{"$f":"IF($C350=\"\",\"\",Simulação!AK350)","v":"-"},{"$f":"IF($C350=\"\",\"\",Simulação!AL350)","v":32.02721881559642},{"$f":"IF($C350=\"\",\"\",Simulação!AM350)","v":"-"},{"$f":"IF($C350=\"\",\"\",Simulação!AN350)","v":32.217563507182206},{"$f":"IF($C350=\"\",\"\",Simulação!AO350)","v":"-"},{"$f":"IF($C350=\"\",\"\",Simulação!AP350)","v":36.406016086434107},{"$f":"IF($C350=\"\",\"\",Simulação!AQ350)","v":"-"},{"$f":"IF($C350=\"\",\"\",Simulação!AR350)","v":0}]
[null,344,{"$f":"IF(Chegadas!J352<=$C$5,Chegadas!J352,\"\")","v":318.43},{"$f":"IF($C351=\"\",\"\",Simulação!D351)","v":3.6166034339520907},{"$f":"IF($C351=\"\",\"\",Simulação!E351)","v":"*"},{"$f":"IF($C351=\"\",\"\",Simulação!F351)","v":320.1236887800622},{"$f":"IF($C351=\"\",\"\",Simulação!G351)","v":"*"},{"$f":"IF($C351=\"\",\"\",Simulação!H351)","v":328.19500073561846},{"$f":"IF($C351=\"\",\"\",Simulação!I351)","v":"*"},{"$f":"IF($C351=\"\",\"\",Simulação!J351)","v":325.06381911259092},{"$f":"IF($C351=\"\",\"\",Simulação!K351)","v":"*"},{"$f":"IF($C351=\"\",\"\",Simulação!L351)","v":322.35759614808836},{"$f":"IF($C351=\"\",\"\",Simulação!M351)","v":"*"},{"$f":"IF($C351=\"\",\"\",Simulação!N351)","v":319.22156609191745},{"$f":"IF($C351=\"\",\"\",Simulação!O351)","v":"*"},{"$f":"IF($C351=\"\",\"\",Simulação!P351)","v":319.69180520171085},{"$f":"IF($C351=\"\",\"\",Simulação!Q351)","v":318.43},{"$f":"IF($C351=\"\",\"\",Simulação!R351)","v":322.0466034339521},{"$f":"IF($C351=\"\",\"\",Simulação!S351)","v":"-"},{"$f":"IF($C351=\"\",\"\",Simulação!T351)","v":322.41910368474174},{"$f":"IF($C351=\"\",\"\",Simulação!U351)","v":"-"},{"$f":"IF($C351=\"\",\"\",Simulação!V351)","v":317.45197705987528},{"$f":"IF($C351=\"\",\"\",Simulação!W351)","v":"-"},{"$f":"IF($C351=\"\",\"\",Simulação!X351)","v":299.36744170158397},{"$f":"IF($C351=\"\",\"\",Simulação!Y351)","v":"-"},{"$f":"IF($C351=\"\",\"\",Simulação!Z351)","v":303.35060891804108},{"$f":"IF($C351=\"\",\"\",Simulação!AA351)","v":"-"},{"$f":"IF($C351=\"\",\"\",Simulação!AB351)","v":291.36179232041985},{"$f":"IF($C351=\"\",\"\",Simulação!AC351)","v":"-"},{"$f":"IF($C351=\"\",\"\",Simulação!AD351)","v":140.66887446424042},{"$f":"IF($C351=\"\",\"\",Simulação!AE351)","v":"-"},{"$f":"IF($C351=\"\",\"\",Simulação!AF351)","v":34.388240562009656},{"$f":"IF($C351=\"\",\"\",Simulação!AG351)","v":"-"},{"$f":"IF($C351=\"\",\"\",Simulação!AH351)","v":29.236023829000793},{"$f":"IF($C351=\"\",\"\",Simulação!AI351)","v":"-"},{"$f":"IF($C351=\"\",\"\",Simulação!AJ351)","v":33.045125393740342},{"$f":"IF($C351=\"\",\"\",Simulação!AK351)","v":"-"},{"$f":"IF($C351=\"\",\"\",Simulação!AL351)","v":32.02721881559642},{"$f":"IF($C351=\"\",\"\",Simulação!AM351)","v":"-"},{"$f":"IF($C351=\"\",\"\",Simulação!AN351)","v":32.217563507182206},{"$f":"IF($C351=\"\",\"\",Simulação!AO351)","v":"-"},{"$f":"IF($C351=\"\",\"\",Simulação!AP351)","v":36.406016086434107},{"$f":"IF($C351=\"\",\"\",Simulação!AQ351)","v":"-"},{"$f":"IF($C351=\"\",\"\",Simulação!AR351)","v":0}]
[null,345,{"$f":"IF(Chegadas!J353<=$C$5,Chegadas!J353,\"\")","v":322.09000000000003},{"$f":"IF($C352=\"\",\"\",Simulação!D352)","v":1.1993925602894184},{"$f":"IF($C352=\"\",\"\",Simulação!E352)","v":322.09000000000003},{"$f":"IF($C352=\"\",\"\",Simulação!F352)","v":323.28939256028946},{"$f":"IF($C352=\"\",\"\",Simulação!G352)","v":"-"},{"$f":"IF($C352=\"\",\"\",Simulação!H352)","v":328.19500073561846},{"$f":"IF($C352=\"\",\"\",Simulação!I352)","v":"-"},{"$f":"IF($C352=\"\",\"\",Simulação!J352)","v":325.06381911259092},{"$f":"IF($C352=\"\",\"\",Simulação!K352)","v":"-"},{"$f":"IF($C352=\"\",\"\",Simulação!L352)","v":322.35759614808836},{"$f":"IF($C352=\"\",\"\",Simulação!M352)","v":"-"},{"$f":"IF($C352=\"\",\"\",Simulação!N352)","v":319.22156609191745},{"$f":"IF($C352=\"\",\"\",Simulação!O352)","v":"-"},{"$f":"IF($C352=\"\",\"\",Simulação!P352)","v":319.69180520171085},{"$f":"IF($C352=\"\",\"\",Simulação!Q352)","v":"-"},{"$f":"IF($C352=\"\",\"\",Simulação!R352)","v":322.0466034339521},{"$f":"IF($C352=\"\",\"\",Simulação!S352)","v":"-"},{"$f":"IF($C352=\"\",\"\",Simulação!T352)","v":322.41910368474174},{"$f":"IF($C352=\"\",\"\",Simulação!U352)","v":"-"},{"$f":"IF($C352=\"\",\"\",Simulação!V352)","v":317.45197705987528},{"$f":"IF($C352=\"\",\"\",Simulação!W352)","v":"-"},{"$f":"IF($C352=\"\",\"\",Simulação!X352)","v":299.36744170158397},{"$f":"IF($C352=\"\",\"\",Simulação!Y352)","v":"-"},{"$f":"IF($C352=\"\",\"\",Simulação!Z352)","v":303.35060891804108},{"$f":"IF($C352=\"\",\"\",Simulação!AA352)","v":"-"},{"$f":"IF($C352=\"\",\"\",Simulação!AB352)","v":291.36179232041985},{"$f":"IF($C352=\"\",\"\",Simulação!AC352)","v":"-"},{"$f":"IF($C352=\"\",\"\",Simulação!AD352)","v":140.66887446424042},{"$f":"IF($C352=\"\",\"\",Simulação!AE352)","v":"-"},{"$f":"IF($C352=\"\",\"\",Simulação!AF352)","v":34.388240562009656},{"$f":"IF($C352=\"\",\"\",Simulação!AG352)","v":"-"},{"$f":"IF($C352=\"\",\"\",Simulação!AH352)","v":29.236023829000793},{"$f":"IF($C352=\"\",\"\",Simulação!AI352)","v":"-"},{"$f":"IF($C352=\"\",\"\",Simulação!AJ352)","v":33.045125393740342},{"$f":"IF($C352=\"\",\"\",Simulação!AK352)","v":"-"},{"$f":"IF($C352=\"\",\"\",Simulação!AL352)","v":32.02721881559642},{"$f":"IF($C352=\"\",\"\",Simulação!AM352)","v":"-"},{"$f":"IF($C352=\"\",\"\",Simulação!AN352)","v":32.217563507182206},{"$f":"IF($C352=\"\",\"\",Simulação!AO352)","v":"-"},{"$f":"IF($C352=\"\",\"\",Simulação!AP352)","v":36.406016086434107},{"$f":"IF($C352=\"\",\"\",Simulação!AQ352)","v":"-"},{"$f":"IF($C352=\"\",\"\",Simulação!AR352)","v":0}]
[null,346,{"$f":"IF(Chegadas!J354<=$C$5,Chegadas!J354,\"\")","v":324.09000000000003},{"$f":"IF($C353=\"\",\"\",Simulação!D353)","v":1.483804854595236},{"$f":"IF($C353=\"\",\"\",Simulação!E353)","v":324.09000000000003},{"$f":"IF($C353=\"\",\"\",Simulação!F353)","v":325.57380485459527},{"$f":"IF($C353=\"\",\"\",Simulação!G353)","v":"-"},{"$f":"IF($C353=\"\",\"\",Simulação!H353)","v":328.19500073561846},{"$f":"IF($C353=\"\",\"\",Simulação!I353)","v":"-"},{"$f":"IF($C353=\"\",\"\",Simulação!J353)","v":325.06381911259092},{"$f":"IF($C353=\"\",\"\",Simulação!K353)","v":"-"},{"$f":"IF($C353=\"\",\"\",Simulação!L353)","v":322.35759614808836},{"$f":"IF($C353=\"\",\"\",Simulação!M353)","v":"-"},{"$f":"IF($C353=\"\",\"\",Simulação!N353)","v":319.22156609191745},{"$f":"IF($C353=\"\",\"\",Simulação!O353)","v":"-"},{"$f":"IF($C353=\"\",\"\",Simulação!P353)","v":319.69180520171085},{"$f":"IF($C353=\"\",\"\",Simulação!Q353)","v":"-"},{"$f":"IF($C353=\"\",\"\",Simulação!R353)","v":322.0466034339521},{"$f":"IF($C353=\"\",\"\",Simulação!S353)","v":"-"},{"$f":"IF($C353=\"\",\"\",Simulação!T353)","v":322.41910368474174},{"$f":"IF($C353=\"\",\"\",Simulação!U353)","v":"-"},{"$f":"IF($C353=\"\",\"\",Simulação!V353)","v":317.45197705987528},{"$f":"IF($C353=\"\",\"\",Simulação!W353)","v":"-"},{"$f":"IF($C353=\"\",\"\",Simulação!X353)","v":299.36744170158397},{"$f":"IF($C353=\"\",\"\",Simulação!Y353)","v":"-"},{"$f":"IF($C353=\"\",\"\",Simulação!Z353)","v":303.35060891804108},{"$f":"IF($C353=\"\",\"\",Simulação!AA353)","v":"-"},{"$f":"IF($C353=\"\",\"\",Simulação!AB353)","v":291.36179232041985},{"$f":"IF($C353=\"\",\"\",Simulação!AC353)","v":"-"},{"$f":"IF($C353=\"\",\"\",Simulação!AD353)","v":140.66887446424042},{"$f":"IF($C353=\"\",\"\",Simulação!AE353)","v":"-"},{"$f":"IF($C353=\"\",\"\",Simulação!AF353)","v":34.388240562009656},{"$f":"IF($C353=\"\",\"\",Simulação!AG353)","v":"-"},{"$f":"IF($C353=\"\",\"\",Simulação!AH353)","v":29.236023829000793},{"$f":"IF($C353=\"\",\"\",Simulação!AI353)","v":"-"},{"$f":"IF($C353=\"\",\"\",Simulação!AJ353)","v":33.045125393740342},{"$f":"IF($C353=\"\",\"\",Simulação!AK353)","v":"-"},{"$f":"IF($C353=\"\",\"\",Simulação!AL353)","v":32.02721881559642},{"$f":"IF($C353=\"\",\"\",Simulação!AM353)","v":"-"},{"$f":"IF($C353=\"\",\"\",Simulação!AN353)","v":32.217563507182206},{"$f":"IF($C353=\"\",\"\",Simulação!AO353)","v":"-"},{"$f":"IF($C353=\"\",\"\",Simulação!AP353)","v":36.406016086434107},{"$f":"IF($C353=\"\",\"\",Simulação!AQ353)","v":"-"},{"$f":"IF($C353=\"\",\"\",Simulação!AR353)","v":0}]
[null,347,{"$f":"IF(Chegadas!J355<=$C$5,Chegadas!J355,\"\")","v":324.37},{"$f":"IF($C354=\"\",\"\",Simulação!D354)","v":9.5621441344727849},{"$f":"IF($C354=\"\",\"\",Simulação!E354)","v":"*"},{"$f":"IF($C354=\"\",\"\",Simulação!F354)","v":325.57380485459527},{"$f":"IF($C354=\"\",\"\",Simulação!G354)","v":"*"},{"$f":"IF($C354=\"\",\"\",Simulação!H354)","v":328.19500073561846},{"$f":"IF($C354=\"\",\"\",Simulação!I354)","v":"*"},{"$f":"IF($C354=\"\",\"\",Simulação!J354)","v":325.06381911259092},{"$f":"IF($C354=\"\",\"\",Simulação!K354)","v":324.37},{"$f":"IF($C354=\"\",\"\",Simulação!L354)","v":333.93214413447276},{"$f":"IF($C354=\"\",\"\",Simulação!M354)","v":"-"},{"$f":"IF($C354=\"\",\"\",Simulação!N354)","v":319.22156609191745},{"$f":"IF($C354=\"\",\"\",Simulação!O354)","v":"-"},{"$f":"IF($C354=\"\",\"\",Simulação!P354)","v":319.69180520171085},{"$f":"IF($C354=\"\",\"\",Simulação!Q354)","v":"-"},{"$f":"IF($C354=\"\",\"\",Simulação!R354)","v":322.0466034339521},{"$f":"IF($C354=\"\",\"\",Simulação!S354)","v":"-"},{"$f":"IF($C354=\"\",\"\",Simulação!T354)","v":322.41910368474174},{"$f":"IF($C354=\"\",\"\",Simulação!U354)","v":"-"},{"$f":"IF($C354=\"\",\"\",Simulação!V354)","v":317.45197705987528},{"$f":"IF($C354=\"\",\"\",Simulação!W354)","v":"-"},{"$f":"IF($C354=\"\",\"\",Simulação!X354)","v":299.36744170158397},{"$f":"IF($C354=\"\",\"\",Simulação!Y354)","v":"-"},{"$f":"IF($C354=\"\",\"\",Simulação!Z354)","v":303.35060891804108},{"$f":"IF($C354=\"\",\"\",Simulação!AA354)","v":"-"},{"$f":"IF($C354=\"\",\"\",Simulação!AB354)","v":291.36179232041985},{"$f":"IF($C354=\"\",\"\",Simulação!AC354)","v":"-"},{"$f":"IF($C354=\"\",\"\",Simulação!AD354)","v":140.66887446424042},{"$f":"IF($C354=\"\",\"\",Simulação!AE354)","v":"-"},{"$f":"IF($C354=\"\",\"\",Simulação!AF354)","v":34.388240562009656},{"$f":"IF($C354=\"\",\"\",Simulação!AG354)","v":"-"},{"$f":"IF($C354=\"\",\"\",Simulação!AH354)","v":29.236023829000793},{"$f":"IF($C354=\"\",\"\",Simulação!AI354)","v":"-"},{"$f":"IF($C354=\"\",\"\",Simulação!AJ354)","v":33.045125393740342},{"$f":"IF($C354=\"\",\"\",Simulação!AK354)","v":"-"},{"$f":"IF($C354=\"\",\"\",Simulação!AL354)","v":32.02721881559642},{"$f":"IF($C354=\"\",\"\",Simulação!AM354)","v":"-"},{"$f":"IF($C354=\"\",\"\",Simulação!AN354)","v":32.217563507182206},{"$f":"IF($C354=\"\",\"\",Simulação!AO354)","v":"-"},{"$f":"IF($C354=\"\",\"\",Simulação!AP354)","v":36.406016086434107},{"$f":"IF($C354=\"\",\"\",Simulação!AQ354)","v":"-"},{"$f":"IF($C354=\"\",\"\",Simulação!AR354)","v":0}]
[null,348,{"$f":"IF(Chegadas!J356<=$C$5,Chegadas!J356,\"\")","v":325.75},{"$f":"IF($C355=\"\",\"\",Simulação!D355)","v":9.3766384686283608},{"$f":"IF($C355=\"\",\"\",Simulação!E355)","v":325.75},{"$f":"IF($C355=\"\",\"\",Simulação!F355)","v":335.12663846862836},{"$f":"IF($C355=\"\",\"\",Simulação!G355)","v":"-"},{"$f":"IF($C355=\"\",\"\",Simulação!H355)","v":328.19500073561846},{"$f":"IF($C355=\"\",\"\",Simulação!I355)","v":"-"},{"$f":"IF($C355=\"\",\"\",Simulação!J355)","v":325.06381911259092},{"$f":"IF($C355=\"\",\"\",Simulação!K355)","v":"-"},{"$f":"IF($C355=\"\",\"\",Simulação!L355)","v":333.93214413447276},{"$f":"IF($C355=\"\",\"\",Simulação!M355)","v":"-"},{"$f":"IF($C355=\"\",\"\",Simulação!N355)","v":319.22156609191745},{"$f":"IF($C355=\"\",\"\",Simulação!O355)","v":"-"},{"$f":"IF($C355=\"\",\"\",Simulação!P355)","v":319.69180520171085},{"$f":"IF($C355=\"\",\"\",Simulação!Q355)","v":"-"},{"$f":"IF($C355=\"\",\"\",Simulação!R355)","v":322.0466034339521},{"$f":"IF($C355=\"\",\"\",Simulação!S355)","v":"-"},{"$f":"IF($C355=\"\",\"\",Simulação!T355)","v":322.41910368474174},{"$f":"IF($C355=\"\",\"\",Simulação!U355)","v":"-"},{"$f":"IF($C355=\"\",\"\",Simulação!V355)","v":317.45197705987528},{"$f":"IF($C355=\"\",\"\",Simulação!W355)","v":"-"},{"$f":"IF($C355=\"\",\"\",Simulação!X355)","v":299.36744170158397},{"$f":"IF($C355=\"\",\"\",Simulação!Y355)","v":"-"},{"$f":"IF($C355=\"\",\"\",Simulação!Z355)","v":303.35060891804108},{"$f":"IF($C355=\"\",\"\",Simulação!AA355)","v":"-"},{"$f":"IF($C355=\"\",\"\",Simulação!AB355)","v":291.36179232041985},{"$f":"IF($C355=\"\",\"\",Simulação!AC355)","v":"-"},{"$f":"IF($C355=\"\",\"\",Simulação!AD355)","v":140.66887446424042},{"$f":"IF($C355=\"\",\"\",Simulação!AE355)","v":"-"},{"$f":"IF($C355=\"\",\"\",Simulação!AF355)","v":34.388240562009656},{"$f":"IF($C355=\"\",\"\",Simulação!AG355)","v":"-"},{"$f":"IF($C355=\"\",\"\",Simulação!AH355)","v":29.236023829000793},{"$f":"IF($C355=\"\",\"\",Simulação!AI355)","v":"-"},{"$f":"IF($C355=\"\",\"\",Simulação!AJ355)","v":33.045125393740342},{"$f":"IF($C355=\"\",\"\",Simulação!AK355)","v":"-"},{"$f":"IF($C355=\"\",\"\",Simulação!AL355)","v":32.02721881559642},{"$f":"IF($C355=\"\",\"\",Simulação!AM355)","v":"-"},{"$f":"IF($C355=\"\",\"\",Simulação!AN355)","v":32.217563507182206},{"$f":"IF($C355=\"\",\"\",Simulação!AO355)","v":"-"},{"$f":"IF($C355=\"\",\"\",Simulação!AP355)","v":36.406016086434107},{"$f":"IF($C355=\"\",\"\",Simulação!AQ355)","v":"-"},{"$f":"IF($C355=\"\",\"\",Simulação!AR355)","v":0}]
[null,349,{"$f":"IF(Chegadas!J357<=$C$5,Chegadas!J357,\"\")","v":325.95},{"$f":"IF($C356=\"\",\"\",Simulação!D356)","v":3.1948107882237942},{"$f":"IF($C356=\"\",\"\",Simulação!E356)","v":"*"},{"$f":"IF($C356=\"\",\"\",Simulação!F356)","v":335.12663846862836},{"$f":"IF($C356=\"\",\"\",Simulação!G356)","v":"*"},{"$f":"IF($C356=\"\",\"\",Simulação!H356)","v":328.19500073561846},{"$f":"IF($C356=\"\",\"\",Simulação!I356)","v":325.95},{"$f":"IF($C356=\"\",\"\",Simulação!J356)","v":329.14481078822377},{"$f":"IF($C356=\"\",\"\",Simulação!K356)","v":"-"},{"$f":"IF($C356=\"\",\"\",Simulação!L356)","v":333.93214413447276},{"$f":"IF($C356=\"\",\"\",Simulação!M356)","v":"-"},{"$f":"IF($C356=\"\",\"\",Simulação!N356)","v":319.22156609191745},{"$f":"IF($C356=\"\",\"\",Simulação!O356)","v":"-"},{"$f":"IF($C356=\"\",\"\",Simulação!P356)","v":319.69180520171085},{"$f":"IF($C356=\"\",\"\",Simulação!Q356)","v":"-"},{"$f":"IF($C356=\"\",\"\",Simulação!R356)","v":322.0466034339521},{"$f":"IF($C356=\"\",\"\",Simulação!S356)","v":"-"},{"$f":"IF($C356=\"\",\"\",Simulação!T356)","v":322.41910368474174},{"$f":"IF($C356=\"\",\"\",Simulação!U356)","v":"-"},{"$f":"IF($C356=\"\",\"\",Simulação!V356)","v":317.45197705987528},{"$f":"IF($C356=\"\",\"\",Simulação!W356)","v":"-"},{"$f":"IF($C356=\"\",\"\",Simulação!X356)","v":299.36744170158397},{"$f":"IF($C356=\"\",\"\",Simulação!Y356)","v":"-"},{"$f":"IF($C356=\"\",\"\",Simulação!Z356)","v":303.35060891804108},{"$f":"IF($C356=\"\",\"\",Simulação!AA356)","v":"-"},{"$f":"IF($C356=\"\",\"\",Simulação!AB356)","v":291.36179232041985},{"$f":"IF($C356=\"\",\"\",Simulação!AC356)","v":"-"},{"$f":"IF($C356=\"\",\"\",Simulação!AD356)","v":140.66887446424042},{"$f":"IF($C356=\"\",\"\",Simulação!AE356)","v":"-"},{"$f":"IF($C356=\"\",\"\",Simulação!AF356)","v":34.388240562009656},{"$f":"IF($C356=\"\",\"\",Simulação!AG356)","v":"-"},{"$f":"IF($C356=\"\",\"\",Simulação!AH356)","v":29.236023829000793},{"$f":"IF($C356=\"\",\"\",Simulação!AI356)","v":"-"},{"$f":"IF($C356=\"\",\"\",Simulação!AJ356)","v":33.045125393740342},{"$f":"IF($C356=\"\",\"\",Simulação!AK356)","v":"-"},{"$f":"IF($C356=\"\",\"\",Simulação!AL356)","v":32.02721881559642},{"$f":"IF($C356=\"\",\"\",Simulação!AM356)","v":"-"},{"$f":"IF($C356=\"\",\"\",Simulação!AN356)","v":32.217563507182206},{"$f":"IF($C356=\"\",\"\",Simulação!AO356)","v":"-"},{"$f":"IF($C356=\"\",\"\",Simulação!AP356)","v":36.406016086434107},{"$f":"IF($C356=\"\",\"\",Simulação!AQ356)","v":"-"},{"$f":"IF($C356=\"\",\"\",Simulação!AR356)","v":0}]
[null,350,{"$f":"IF(Chegadas!J358<=$C$5,Chegadas!J358,\"\")","v":325.99},{"$f":"IF($C357=\"\",\"\",Simulação!D357)","v":11.074346943081096},{"$f":"IF($C357=\"\",\"\",Simulação!E357)","v":"*"},{"$f":"IF($C357=\"\",\"\",Simulação!F357)","v":335.12663846862836},{"$f":"IF($C357=\"\",\"\",Simulação!G357)","v":"*"},{"$f":"IF($C357=\"\",\"\",Simulação!H357)","v":328.19500073561846},{"$f":"IF($C357=\"\",\"\",Simulação!I357)","v":"*"},{"$f":"IF($C357=\"\",\"\",Simulação!J357)","v":329.14481078822377},{"$f":"IF($C357=\"\",\"\",Simulação!K357)","v":"*"},{"$f":"IF($C357=\"\",\"\",Simulação!L357)","v":333.93214413447276},{"$f":"IF($C357=\"\",\"\",Simulação!M357)","v":325.99},{"$f":"IF($C357=\"\",\"\",Simulação!N357)","v":337.06434694308109},{"$f":"IF($C357=\"\",\"\",Simulação!O357)","v":"-"},{"$f":"IF($C357=\"\",\"\",Simulação!P357)","v":319.69180520171085},{"$f":"IF($C357=\"\",\"\",Simulação!Q357)","v":"-"},{"$f":"IF($C357=\"\",\"\",Simulação!R357)","v":322.0466034339521},{"$f":"IF($C357=\"\",\"\",Simulação!S357)","v":"-"},{"$f":"IF($C357=\"\",\"\",Simulação!T357)","v":322.41910368474174},{"$f":"IF($C357=\"\",\"\",Simulação!U357)","v":"-"},{"$f":"IF($C357=\"\",\"\",Simulação!V357)","v":317.45197705987528},{"$f":"IF($C357=\"\",\"\",Simulação!W357)","v":"-"},{"$f":"IF($C357=\"\",\"\",Simulação!X357)","v":299.36744170158397},{"$f":"IF($C357=\"\",\"\",Simulação!Y357)","v":"-"},{"$f":"IF($C357=\"\",\"\",Simulação!Z357)","v":303.35060891804108},{"$f":"IF($C357=\"\",\"\",Simulação!AA357)","v":"-"},{"$f":"IF($C357=\"\",\"\",Simulação!AB357)","v":291.36179232041985},{"$f":"IF($C357=\"\",\"\",Simulação!AC357)","v":"-"},{"$f":"IF($C357=\"\",\"\",Simulação!AD357)","v":140.66887446424042},{"$f":"IF($C357=\"\",\"\",Simulação!AE357)","v":"-"},{"$f":"IF($C357=\"\",\"\",Simulação!AF357)","v":34.388240562009656},{"$f":"IF($C357=\"\",\"\",Simulação!AG357)","v":"-"},{"$f":"IF($C357=\"\",\"\",Simulação!AH357)","v":29.236023829000793},{"$f":"IF($C357=\"\",\"\",Simulação!AI357)","v":"-"},{"$f":"IF($C357=\"\",\"\",Simulação!AJ357)","v":33.045125393740342},{"$f":"IF($C357=\"\",\"\",Simulação!AK357)","v":"-"},{"$f":"IF($C357=\"\",\"\",Simulação!AL357)","v":32.02721881559642},{"$f":"IF($C357=\"\",\"\",Simulação!AM357)","v":"-"},{"$f":"IF($C357=\"\",\"\",Simulação!AN357)","v":32.217563507182206},{"$f":"IF($C357=\"\",\"\",Simulação!AO357)","v":"-"},{"$f":"IF($C357=\"\",\"\",Simulação!AP357)","v":36.406016086434107},{"$f":"IF($C357=\"\",\"\",Simulação!AQ357)","v":"-"},{"$f":"IF($C357=\"\",\"\",Simulação!AR357)","v":0}]
[null,351,{"$f":"IF(Chegadas!J359<=$C$5,Chegadas!J359,\"\")","v":326.24},{"$f":"IF($C358=\"\",\"\",Simulação!D358)","v":0.85399591069232605},{"$f":"IF($C358=\"\",\"\",Simulação!E358)","v":"*"},{"$f":"IF($C358=\"\",\"\",Simulação!F358)","v":335.12663846862836},{"$f":"IF($C358=\"\",\"\",Simulação!G358)","v":"*"},{"$f":"IF($C358=\"\",\"\",Simulação!H358)","v":328.19500073561846},{"$f":"IF($C358=\"\",\"\",Simulação!I358)","v":"*"},{"$f":"IF($C358=\"\",\"\",Simulação!J358)","v":329.14481078822377},{"$f":"IF($C358=\"\",\"\",Simulação!K358)","v":"*"},{"$f":"IF($C358=\"\",\"\",Simulação!L358)","v":333.93214413447276},{"$f":"IF($C358=\"\",\"\",Simulação!M358)","v":"*"},{"$f":"IF($C358=\"\",\"\",Simulação!N358)","v":337.06434694308109},{"$f":"IF($C358=\"\",\"\",Simulação!O358)","v":326.24},{"$f":"IF($C358=\"\",\"\",Simulação!P358)","v":327.09399591069234},{"$f":"IF($C358=\"\",\"\",Simulação!Q358)","v":"-"},{"$f":"IF($C358=\"\",\"\",Simulação!R358)","v":322.0466034339521},{"$f":"IF($C358=\"\",\"\",Simulação!S358)","v":"-"},{"$f":"IF($C358=\"\",\"\",Simulação!T358)","v":322.41910368474174},{"$f":"IF($C358=\"\",\"\",Simulação!U358)","v":"-"},{"$f":"IF($C358=\"\",\"\",Simulação!V358)","v":317.45197705987528},{"$f":"IF($C358=\"\",\"\",Simulação!W358)","v":"-"},{"$f":"IF($C358=\"\",\"\",Simulação!X358)","v":299.36744170158397},{"$f":"IF($C358=\"\",\"\",Simulação!Y358)","v":"-"},{"$f":"IF($C358=\"\",\"\",Simulação!Z358)","v":303.35060891804108},{"$f":"IF($C358=\"\",\"\",Simulação!AA358)","v":"-"},{"$f":"IF($C358=\"\",\"\",Simulação!AB358)","v":291.36179232041985},{"$f":"IF($C358=\"\",\"\",Simulação!AC358)","v":"-"},{"$f":"IF($C358=\"\",\"\",Simulação!AD358)","v":140.66887446424042},{"$f":"IF($C358=\"\",\"\",Simulação!AE358)","v":"-"},{"$f":"IF($C358=\"\",\"\",Simulação!AF358)","v":34.388240562009656},{"$f":"IF($C358=\"\",\"\",Simulação!AG358)","v":"-"},{"$f":"IF($C358=\"\",\"\",Simulação!AH358)","v":29.236023829000793},{"$f":"IF($C358=\"\",\"\",Simulação!AI358)","v":"-"},{"$f":"IF($C358=\"\",\"\",Simulação!AJ358)","v":33.045125393740342},{"$f":"IF($C358=\"\",\"\",Simulação!AK358)","v":"-"},{"$f":"IF($C358=\"\",\"\",Simulação!AL358)","v":32.02721881559642},{"$f":"IF($C358=\"\",\"\",Simulação!AM358)","v":"-"},{"$f":"IF($C358=\"\",\"\",Simulação!AN358)","v":32.217563507182206},{"$f":"IF($C358=\"\",\"\",Simulação!AO358)","v":"-"},{"$f":"IF($C358=\"\",\"\",Simulação!AP358)","v":36.406016086434107},{"$f":"IF($C358=\"\",\"\",Simulação!AQ358)","v":"-"},{"$f":"IF($C358=\"\",\"\",Simulação!AR358)","v":0}]
[null,352,{"$f":"IF(Chegadas!J360<=$C$5,Chegadas!J360,\"\")","v":326.74},{"$f":"IF($C359=\"\",\"\",Simulação!D359)","v":10.667173604853833},{"$f":"IF($C359=\"\",\"\",Simulação!E359)","v":"*"},{"$f":"IF($C359=\"\",\"\",Simulação!F359)","v":335.12663846862836},{"$f":"IF($C359=\"\",\"\",Simulação!G359)","v":"*"},{"$f":"IF($C359=\"\",\"\",Simulação!H359)","v":328.19500073561846},{"$f":"IF($C359=\"\",\"\",Simulação!I359)","v":"*"},{"$f":"IF($C359=\"\",\"\",Simulação!J359)","v":329.14481078822377},{"$f":"IF($C359=\"\",\"\",Simulação!K359)","v":"*"},{"$f":"IF($C359=\"\",\"\",Simulação!L359)","v":333.93214413447276},{"$f":"IF($C359=\"\",\"\",Simulação!M359)","v":"*"},{"$f":"IF($C359=\"\",\"\",Simulação!N359)","v":337.06434694308109},{"$f":"IF($C359=\"\",\"\",Simulação!O359)","v":"*"},{"$f":"IF($C359=\"\",\"\",Simulação!P359)","v":327.09399591069234},{"$f":"IF($C359=\"\",\"\",Simulação!Q359)","v":326.74},{"$f":"IF($C359=\"\",\"\",Simulação!R359)","v":337.40717360485382},{"$f":"IF($C359=\"\",\"\",Simulação!S359)","v":"-"},{"$f":"IF($C359=\"\",\"\",Simulação!T359)","v":322.41910368474174},{"$f":"IF($C359=\"\",\"\",Simulação!U359)","v":"-"},{"$f":"IF($C359=\"\",\"\",Simulação!V359)","v":317.45197705987528},{"$f":"IF($C359=\"\",\"\",Simulação!W359)","v":"-"},{"$f":"IF($C359=\"\",\"\",Simulação!X359)","v":299.36744170158397},{"$f":"IF($C359=\"\",\"\",Simulação!Y359)","v":"-"},{"$f":"IF($C359=\"\",\"\",Simulação!Z359)","v":303.35060891804108},{"$f":"IF($C359=\"\",\"\",Simulação!AA359)","v":"-"},{"$f":"IF($C359=\"\",\"\",Simulação!AB359)","v":291.36179232041985},{"$f":"IF($C359=\"\",\"\",Simulação!AC359)","v":"-"},{"$f":"IF($C359=\"\",\"\",Simulação!AD359)","v":140.66887446424042},{"$f":"IF($C359=\"\",\"\",Simulação!AE359)","v":"-"},{"$f":"IF($C359=\"\",\"\",Simulação!AF359)","v":34.388240562009656},{"$f":"IF($C359=\"\",\"\",Simulação!AG359)","v":"-"},{"$f":"IF($C359=\"\",\"\",Simulação!AH359)","v":29.236023829000793},{"$f":"IF($C359=\"\",\"\",Simulação!AI359)","v":"-"},{"$f":"IF($C359=\"\",\"\",Simulação!AJ359)","v":33.045125393740342},{"$f":"IF($C359=\"\",\"\",Simulação!AK359)","v":"-"},{"$f":"IF($C359=\"\",\"\",Simulação!AL359)","v":32.02721881559642},{"$f":"IF($C359=\"\",\"\",Simulação!AM359)","v":"-"},{"$f":"IF($C359=\"\",\"\",Simulação!AN359)","v":32.217563507182206},{"$f":"IF($C359=\"\",\"\",Simulação!AO359)","v":"-"},{"$f":"IF($C359=\"\",\"\",Simulação!AP359)","v":36.406016086434107},{"$f":"IF($C359=\"\",\"\",Simulação!AQ359)","v":"-"},{"$f":"IF($C359=\"\",\"\",Simulação!AR359)","v":0}]
[null,353,{"$f":"IF(Chegadas!J361<=$C$5,Chegadas!J361,\"\")","v":327.88},{"$f":"IF($C360=\"\",\"\",Simulação!D360)","v":4.5573191206815036},{"$f":"IF($C360=\"\",\"\",Simulação!E360)","v":"*"},{"$f":"IF($C360=\"\",\"\",Simulação!F360)","v":335.12663846862836},{"$f":"IF($C360=\"\",\"\",Simulação!G360)","v":"*"},{"$f":"IF($C360=\"\",\"\",Simulação!H360)","v":328.19500073561846},{"$f":"IF($C360=\"\",\"\",Simulação!I360)","v":"*"},{"$f":"IF($C360=\"\",\"\",Simulação!J360)","v":329.14481078822377},{"$f":"IF($C360=\"\",\"\",Simulação!K360)","v":"*"},{"$f":"IF($C360=\"\",\"\",Simulação!L360)","v":333.93214413447276},{"$f":"IF($C360=\"\",\"\",Simulação!M360)","v":"*"},{"$f":"IF($C360=\"\",\"\",Simulação!N360)","v":337.06434694308109},{"$f":"IF($C360=\"\",\"\",Simulação!O360)","v":327.88},{"$f":"IF($C360=\"\",\"\",Simulação!P360)","v":332.43731912068148},{"$f":"IF($C360=\"\",\"\",Simulação!Q360)","v":"-"},{"$f":"IF($C360=\"\",\"\",Simulação!R360)","v":337.40717360485382},{"$f":"IF($C360=\"\",\"\",Simulação!S360)","v":"-"},{"$f":"IF($C360=\"\",\"\",Simulação!T360)","v":322.41910368474174},{"$f":"IF($C360=\"\",\"\",Simulação!U360)","v":"-"},{"$f":"IF($C360=\"\",\"\",Simulação!V360)","v":317.45197705987528},{"$f":"IF($C360=\"\",\"\",Simulação!W360)","v":"-"},{"$f":"IF($C360=\"\",\"\",Simulação!X360)","v":299.36744170158397},{"$f":"IF($C360=\"\",\"\",Simulação!Y360)","v":"-"},{"$f":"IF($C360=\"\",\"\",Simulação!Z360)","v":303.35060891804108},{"$f":"IF($C360=\"\",\"\",Simulação!AA360)","v":"-"},{"$f":"IF($C360=\"\",\"\",Simulação!AB360)","v":291.36179232041985},{"$f":"IF($C360=\"\",\"\",Simulação!AC360)","v":"-"},{"$f":"IF($C360=\"\",\"\",Simulação!AD360)","v":140.66887446424042},{"$f":"IF($C360=\"\",\"\",Simulação!AE360)","v":"-"},{"$f":"IF($C360=\"\",\"\",Simulação!AF360)","v":34.388240562009656},{"$f":"IF($C360=\"\",\"\",Simulação!AG360)","v":"-"},{"$f":"IF($C360=\"\",\"\",Simulação!AH360)","v":29.236023829000793},{"$f":"IF($C360=\"\",\"\",Simulação!AI360)","v":"-"},{"$f":"IF($C360=\"\",\"\",Simulação!AJ360)","v":33.045125393740342},{"$f":"IF($C360=\"\",\"\",Simulação!AK360)","v":"-"},{"$f":"IF($C360=\"\",\"\",Simulação!AL360)","v":32.02721881559642},{"$f":"IF($C360=\"\",\"\",Simulação!AM360)","v":"-"},{"$f":"IF($C360=\"\",\"\",Simulação!AN360)","v":32.217563507182206},{"$f":"IF($C360=\"\",\"\",Simulação!AO360)","v":"-"},{"$f":"IF($C360=\"\",\"\",Simulação!AP360)","v":36.406016086434107},{"$f":"IF($C360=\"\",\"\",Simulação!AQ360)","v":"-"},{"$f":"IF($C360=\"\",\"\",Simulação!AR360)","v":0}]
[null,354,{"$f":"IF(Chegadas!J362<=$C$5,Chegadas!J362,\"\")","v":330.02},{"$f":"IF($C361=\"\",\"\",Simulação!D361)","v":1.1546400930321146},{"$f":"IF($C361=\"\",\"\",Simulação!E361)","v":"*"},{"$f":"IF($C361=\"\",\"\",Simulação!F361)","v":335.12663846862836},{"$f":"IF($C361=\"\",\"\",Simulação!G361)","v":330.02},{"$f":"IF($C361=\"\",\"\",Simulação!H361)","v":331.17464009303211},{"$f":"IF($C361=\"\",\"\",Simulação!I361)","v":"-"},{"$f":"IF($C361=\"\",\"\",Simulação!J361)","v":329.14481078822377},{"$f":"IF($C361=\"\",\"\",Simulação!K361)","v":"-"},{"$f":"IF($C361=\"\",\"\",Simulação!L361)","v":333.93214413447276},{"$f":"IF($C361=\"\",\"\",Simulação!M361)","v":"-"},{"$f":"IF($C361=\"\",\"\",Simulação!N361)","v":337.06434694308109},{"$f":"IF($C361=\"\",\"\",Simulação!O361)","v":"-"},{"$f":"IF($C361=\"\",\"\",Simulação!P361)","v":332.43731912068148},{"$f":"IF($C361=\"\",\"\",Simulação!Q361)","v":"-"},{"$f":"IF($C361=\"\",\"\",Simulação!R361)","v":337.40717360485382},{"$f":"IF($C361=\"\",\"\",Simulação!S361)","v":"-"},{"$f":"IF($C361=\"\",\"\",Simulação!T361)","v":322.41910368474174},{"$f":"IF($C361=\"\",\"\",Simulação!U361)","v":"-"},{"$f":"IF($C361=\"\",\"\",Simulação!V361)","v":317.45197705987528},{"$f":"IF($C361=\"\",\"\",Simulação!W361)","v":"-"},{"$f":"IF($C361=\"\",\"\",Simulação!X361)","v":299.36744170158397},{"$f":"IF($C361=\"\",\"\",Simulação!Y361)","v":"-"},{"$f":"IF($C361=\"\",\"\",Simulação!Z361)","v":303.35060891804108},{"$f":"IF($C361=\"\",\"\",Simulação!AA361)","v":"-"},{"$f":"IF($C361=\"\",\"\",Simulação!AB361)","v":291.36179232041985},{"$f":"IF($C361=\"\",\"\",Simulação!AC361)","v":"-"},{"$f":"IF($C361=\"\",\"\",Simulação!AD361)","v":140.66887446424042},{"$f":"IF($C361=\"\",\"\",Simulação!AE361)","v":"-"},{"$f":"IF($C361=\"\",\"\",Simulação!AF361)","v":34.388240562009656},{"$f":"IF($C361=\"\",\"\",Simulação!AG361)","v":"-"},{"$f":"IF($C361=\"\",\"\",Simulação!AH361)","v":29.236023829000793},{"$f":"IF($C361=\"\",\"\",Simulação!AI361)","v":"-"},{"$f":"IF($C361=\"\",\"\",Simulação!AJ361)","v":33.045125393740342},{"$f":"IF($C361=\"\",\"\",Simulação!AK361)","v":"-"},{"$f":"IF($C361=\"\",\"\",Simulação!AL361)","v":32.02721881559642},{"$f":"IF($C361=\"\",\"\",Simulação!AM361)","v":"-"},{"$f":"IF($C361=\"\",\"\",Simulação!AN361)","v":32.217563507182206},{"$f":"IF($C361=\"\",\"\",Simulação!AO361)","v":"-"},{"$f":"IF($C361=\"\",\"\",Simulação!AP361)","v":36.406016086434107},{"$f":"IF($C361=\"\",\"\",Simulação!AQ361)","v":"-"},{"$f":"IF($C361=\"\",\"\",Simulação!AR361)","v":0}]
[null,355,{"$f":"IF(Chegadas!J363<=$C$5,Chegadas!J363,\"\")","v":330.39},{"$f":"IF($C362=\"\",\"\",Simulação!D362)","v":14.22727548327209},{"$f":"IF($C362=\"\",\"\",Simulação!E362)","v":"*"},{"$f":"IF($C362=\"\",\"\",Simulação!F362)","v":335.12663846862836},{"$f":"IF($C362=\"\",\"\",Simulação!G362)","v":"*"},{"$f":"IF($C362=\"\",\"\",Simulação!H362)","v":331.17464009303211},{"$f":"IF($C362=\"\",\"\",Simulação!I362)","v":330.39},{"$f":"IF($C362=\"\",\"\",Simulação!J362)","v":344.61727548327207},{"$f":"IF($C362=\"\",\"\",Simulação!K362)","v":"-"},{"$f":"IF($C362=\"\",\"\",Simulação!L362)","v":333.93214413447276},{"$f":"IF($C362=\"\",\"\",Simulação!M362)","v":"-"},{"$f":"IF($C362=\"\",\"\",Simulação!N362)","v":337.06434694308109},{"$f":"IF($C362=\"\",\"\",Simulação!O362)","v":"-"},{"$f":"IF($C362=\"\",\"\",Simulação!P362)","v":332.43731912068148},{"$f":"IF($C362=\"\",\"\",Simulação!Q362)","v":"-"},{"$f":"IF($C362=\"\",\"\",Simulação!R362)","v":337.40717360485382},{"$f":"IF($C362=\"\",\"\",Simulação!S362)","v":"-"},{"$f":"IF($C362=\"\",\"\",Simulação!T362)","v":322.41910368474174},{"$f":"IF($C362=\"\",\"\",Simulação!U362)","v":"-"},{"$f":"IF($C362=\"\",\"\",Simulação!V362)","v":317.45197705987528},{"$f":"IF($C362=\"\",\"\",Simulação!W362)","v":"-"},{"$f":"IF($C362=\"\",\"\",Simulação!X362)","v":299.36744170158397},{"$f":"IF($C362=\"\",\"\",Simulação!Y362)","v":"-"},{"$f":"IF($C362=\"\",\"\",Simulação!Z362)","v":303.35060891804108},{"$f":"IF($C362=\"\",\"\",Simulação!AA362)","v":"-"},{"$f":"IF($C362=\"\",\"\",Simulação!AB362)","v":291.36179232041985},{"$f":"IF($C362=\"\",\"\",Simulação!AC362)","v":"-"},{"$f":"IF($C362=\"\",\"\",Simulação!AD362)","v":140.66887446424042},{"$f":"IF($C362=\"\",\"\",Simulação!AE362)","v":"-"},{"$f":"IF($C362=\"\",\"\",Simulação!AF362)","v":34.388240562009656},{"$f":"IF($C362=\"\",\"\",Simulação!AG362)","v":"-"},{"$f":"IF($C362=\"\",\"\",Simulação!AH362)","v":29.236023829000793},{"$f":"IF($C362=\"\",\"\",Simulação!AI362)","v":"-"},{"$f":"IF($C362=\"\",\"\",Simulação!AJ362)","v":33.045125393740342},{"$f":"IF($C362=\"\",\"\",Simulação!AK362)","v":"-"},{"$f":"IF($C362=\"\",\"\",Simulação!AL362)","v":32.02721881559642},{"$f":"IF($C362=\"\",\"\",Simulação!AM362)","v":"-"},{"$f":"IF($C362=\"\",\"\",Simulação!AN362)","v":32.217563507182206},{"$f":"IF($C362=\"\",\"\",Simulação!AO362)","v":"-"},{"$f":"IF($C362=\"\",\"\",Simulação!AP362)","v":36.406016086434107},{"$f":"IF($C362=\"\",\"\",Simulação!AQ362)","v":"-"},{"$f":"IF($C362=\"\",\"\",Simulação!AR362)","v":0}]
[null,356,{"$f":"IF(Chegadas!J364<=$C$5,Chegadas!J364,\"\")","v":331.22999999999996},{"$f":"IF($C363=\"\",\"\",Simulação!D363)","v":2.5809323779324997},{"$f":"IF($C363=\"\",\"\",Simulação!E363)","v":"*"},{"$f":"IF($C363=\"\",\"\",Simulação!F363)","v":335.12663846862836},{"$f":"IF($C363=\"\",\"\",Simulação!G363)","v":331.22999999999996},{"$f":"IF($C363=\"\",\"\",Simulação!H363)","v":333.81093237793249},{"$f":"IF($C363=\"\",\"\",Simulação!I363)","v":"-"},{"$f":"IF($C363=\"\",\"\",Simulação!J363)","v":344.61727548327207},{"$f":"IF($C363=\"\",\"\",Simulação!K363)","v":"-"},{"$f":"IF($C363=\"\",\"\",Simulação!L363)","v":333.93214413447276},{"$f":"IF($C363=\"\",\"\",Simulação!M363)","v":"-"},{"$f":"IF($C363=\"\",\"\",Simulação!N363)","v":337.06434694308109},{"$f":"IF($C363=\"\",\"\",Simulação!O363)","v":"-"},{"$f":"IF($C363=\"\",\"\",Simulação!P363)","v":332.43731912068148},{"$f":"IF($C363=\"\",\"\",Simulação!Q363)","v":"-"},{"$f":"IF($C363=\"\",\"\",Simulação!R363)","v":337.40717360485382},{"$f":"IF($C363=\"\",\"\",Simulação!S363)","v":"-"},{"$f":"IF($C363=\"\",\"\",Simulação!T363)","v":322.41910368474174},{"$f":"IF($C363=\"\",\"\",Simulação!U363)","v":"-"},{"$f":"IF($C363=\"\",\"\",Simulação!V363)","v":317.45197705987528},{"$f":"IF($C363=\"\",\"\",Simulação!W363)","v":"-"},{"$f":"IF($C363=\"\",\"\",Simulação!X363)","v":299.36744170158397},{"$f":"IF($C363=\"\",\"\",Simulação!Y363)","v":"-"},{"$f":"IF($C363=\"\",\"\",Simulação!Z363)","v":303.35060891804108},{"$f":"IF($C363=\"\",\"\",Simulação!AA363)","v":"-"},{"$f":"IF($C363=\"\",\"\",Simulação!AB363)","v":291.36179232041985},{"$f":"IF($C363=\"\",\"\",Simulação!AC363)","v":"-"},{"$f":"IF($C363=\"\",\"\",Simulação!AD363)","v":140.66887446424042},{"$f":"IF($C363=\"\",\"\",Simulação!AE363)","v":"-"},{"$f":"IF($C363=\"\",\"\",Simulação!AF363)","v":34.388240562009656},{"$f":"IF($C363=\"\",\"\",Simulação!AG363)","v":"-"},{"$f":"IF($C363=\"\",\"\",Simulação!AH363)","v":29.236023829000793},{"$f":"IF($C363=\"\",\"\",Simulação!AI363)","v":"-"},{"$f":"IF($C363=\"\",\"\",Simulação!AJ363)","v":33.045125393740342},{"$f":"IF($C363=\"\",\"\",Simulação!AK363)","v":"-"},{"$f":"IF($C363=\"\",\"\",Simulação!AL363)","v":32.02721881559642},{"$f":"IF($C363=\"\",\"\",Simulação!AM363)","v":"-"},{"$f":"IF($C363=\"\",\"\",Simulação!AN363)","v":32.217563507182206},{"$f":"IF($C363=\"\",\"\",Simulação!AO363)","v":"-"},{"$f":"IF($C363=\"\",\"\",Simulação!AP363)","v":36.406016086434107},{"$f":"IF($C363=\"\",\"\",Simulação!AQ363)","v":"-"},{"$f":"IF($C363=\"\",\"\",Simulação!AR363)","v":0}]
[null,357,{"$f":"IF(Chegadas!J365<=$C$5,Chegadas!J365,\"\")","v":332.93999999999994},{"$f":"IF($C364=\"\",\"\",Simulação!D364)","v":7.4553635020837685},{"$f":"IF($C364=\"\",\"\",Simulação!E364)","v":"*"},{"$f":"IF($C364=\"\",\"\",Simulação!F364)","v":335.12663846862836},{"$f":"IF($C364=\"\",\"\",Simulação!G364)","v":"*"},{"$f":"IF($C364=\"\",\"\",Simulação!H364)","v":333.81093237793249},{"$f":"IF($C364=\"\",\"\",Simulação!I364)","v":"*"},{"$f":"IF($C364=\"\",\"\",Simulação!J364)","v":344.61727548327207},{"$f":"IF($C364=\"\",\"\",Simulação!K364)","v":"*"},{"$f":"IF($C364=\"\",\"\",Simulação!L364)","v":333.93214413447276},{"$f":"IF($C364=\"\",\"\",Simulação!M364)","v":"*"},{"$f":"IF($C364=\"\",\"\",Simulação!N364)","v":337.06434694308109},{"$f":"IF($C364=\"\",\"\",Simulação!O364)","v":332.93999999999994},{"$f":"IF($C364=\"\",\"\",Simulação!P364)","v":340.39536350208368},{"$f":"IF($C364=\"\",\"\",Simulação!Q364)","v":"-"},{"$f":"IF($C364=\"\",\"\",Simulação!R364)","v":337.40717360485382},{"$f":"IF($C364=\"\",\"\",Simulação!S364)","v":"-"},{"$f":"IF($C364=\"\",\"\",Simulação!T364)","v":322.41910368474174},{"$f":"IF($C364=\"\",\"\",Simulação!U364)","v":"-"},{"$f":"IF($C364=\"\",\"\",Simulação!V364)","v":317.45197705987528},{"$f":"IF($C364=\"\",\"\",Simulação!W364)","v":"-"},{"$f":"IF($C364=\"\",\"\",Simulação!X364)","v":299.36744170158397},{"$f":"IF($C364=\"\",\"\",Simulação!Y364)","v":"-"},{"$f":"IF($C364=\"\",\"\",Simulação!Z364)","v":303.35060891804108},{"$f":"IF($C364=\"\",\"\",Simulação!AA364)","v":"-"},{"$f":"IF($C364=\"\",\"\",Simulação!AB364)","v":291.36179232041985},{"$f":"IF($C364=\"\",\"\",Simulação!AC364)","v":"-"},{"$f":"IF($C364=\"\",\"\",Simulação!AD364)","v":140.66887446424042},{"$f":"IF($C364=\"\",\"\",Simulação!AE364)","v":"-"},{"$f":"IF($C364=\"\",\"\",Simulação!AF364)","v":34.388240562009656},{"$f":"IF($C364=\"\",\"\",Simulação!AG364)","v":"-"},{"$f":"IF($C364=\"\",\"\",Simulação!AH364)","v":29.236023829000793},{"$f":"IF($C364=\"\",\"\",Simulação!AI364)","v":"-"},{"$f":"IF($C364=\"\",\"\",Simulação!AJ364)","v":33.045125393740342},{"$f":"IF($C364=\"\",\"\",Simulação!AK364)","v":"-"},{"$f":"IF($C364=\"\",\"\",Simulação!AL364)","v":32.02721881559642},{"$f":"IF($C364=\"\",\"\",Simulação!AM364)","v":"-"},{"$f":"IF($C364=\"\",\"\",Simulação!AN364)","v":32.217563507182206},{"$f":"IF($C364=\"\",\"\",Simulação!AO364)","v":"-"},{"$f":"IF($C364=\"\",\"\",Simulação!AP364)","v":36.406016086434107},{"$f":"IF($C364=\"\",\"\",Simulação!AQ364)","v":"-"},{"$f":"IF($C364=\"\",\"\",Simulação!AR364)","v":0}]
[null,358,{"$f":"IF(Chegadas!J366<=$C$5,Chegadas!J366,\"\")","v":333.38999999999993},{"$f":"IF($C365=\"\",\"\",Simulação!D365)","v":6.5208175491971385},{"$f":"IF($C365=\"\",\"\",Simulação!E365)","v":"*"},{"$f":"IF($C365=\"\",\"\",Simulação!F365)","v":335.12663846862836},{"$f":"IF($C365=\"\",\"\",Simulação!G365)","v":"*"},{"$f":"IF($C365=\"\",\"\",Simulação!H365)","v":333.81093237793249},{"$f":"IF($C365=\"\",\"\",Simulação!I365)","v":"*"},{"$f":"IF($C365=\"\",\"\",Simulação!J365)","v":344.61727548327207},{"$f":"IF($C365=\"\",\"\",Simulação!K365)","v":"*"},{"$f":"IF($C365=\"\",\"\",Simulação!L365)","v":333.93214413447276},{"$f":"IF($C365=\"\",\"\",Simulação!M365)","v":"*"},{"$f":"IF($C365=\"\",\"\",Simulação!N365)","v":337.06434694308109},{"$f":"IF($C365=\"\",\"\",Simulação!O365)","v":"*"},{"$f":"IF($C365=\"\",\"\",Simulação!P365)","v":340.39536350208368},{"$f":"IF($C365=\"\",\"\",Simulação!Q365)","v":"*"},{"$f":"IF($C365=\"\",\"\",Simulação!R365)","v":337.40717360485382},{"$f":"IF($C365=\"\",\"\",Simulação!S365)","v":333.38999999999993},{"$f":"IF($C365=\"\",\"\",Simulação!T365)","v":339.91081754919708},{"$f":"IF($C365=\"\",\"\",Simulação!U365)","v":"-"},{"$f":"IF($C365=\"\",\"\",Simulação!V365)","v":317.45197705987528},{"$f":"IF($C365=\"\",\"\",Simulação!W365)","v":"-"},{"$f":"IF($C365=\"\",\"\",Simulação!X365)","v":299.36744170158397},{"$f":"IF($C365=\"\",\"\",Simulação!Y365)","v":"-"},{"$f":"IF($C365=\"\",\"\",Simulação!Z365)","v":303.35060891804108},{"$f":"IF($C365=\"\",\"\",Simulação!AA365)","v":"-"},{"$f":"IF($C365=\"\",\"\",Simulação!AB365)","v":291.36179232041985},{"$f":"IF($C365=\"\",\"\",Simulação!AC365)","v":"-"},{"$f":"IF($C365=\"\",\"\",Simulação!AD365)","v":140.66887446424042},{"$f":"IF($C365=\"\",\"\",Simulação!AE365)","v":"-"},{"$f":"IF($C365=\"\",\"\",Simulação!AF365)","v":34.388240562009656},{"$f":"IF($C365=\"\",\"\",Simulação!AG365)","v":"-"},{"$f":"IF($C365=\"\",\"\",Simulação!AH365)","v":29.236023829000793},{"$f":"IF($C365=\"\",\"\",Simulação!AI365)","v":"-"},{"$f":"IF($C365=\"\",\"\",Simulação!AJ365)","v":33.045125393740342},{"$f":"IF($C365=\"\",\"\",Simulação!AK365)","v":"-"},{"$f":"IF($C365=\"\",\"\",Simulação!AL365)","v":32.02721881559642},{"$f":"IF($C365=\"\",\"\",Simulação!AM365)","v":"-"},{"$f":"IF($C365=\"\",\"\",Simulação!AN365)","v":32.217563507182206},{"$f":"IF($C365=\"\",\"\",Simulação!AO365)","v":"-"},{"$f":"IF($C365=\"\",\"\",Simulação!AP365)","v":36.406016086434107},{"$f":"IF($C365=\"\",\"\",Simulação!AQ365)","v":"-"},{"$f":"IF($C365=\"\",\"\",Simulação!AR365)","v":0}]
[null,359,{"$f":"IF(Chegadas!J367<=$C$5,Chegadas!J367,\"\")","v":333.75999999999993},{"$f":"IF($C366=\"\",\"\",Simulação!D366)","v":11.197919641345909},{"$f":"IF($C366=\"\",\"\",Simulação!E366)","v":"*"},{"$f":"IF($C366=\"\",\"\",Simulação!F366)","v":335.12663846862836},{"$f":"IF($C366=\"\",\"\",Simulação!G366)","v":"*"},{"$f":"IF($C366=\"\",\"\",Simulação!H366)","v":333.81093237793249},{"$f":"IF($C366=\"\",\"\",Simulação!I366)","v":"*"},{"$f":"IF($C366=\"\",\"\",Simulação!J366)","v":344.61727548327207},{"$f":"IF($C366=\"\",\"\",Simulação!K366)","v":"*"},{"$f":"IF($C366=\"\",\"\",Simulação!L366)","v":333.93214413447276},{"$f":"IF($C366=\"\",\"\",Simulação!M366)","v":"*"},{"$f":"IF($C366=\"\",\"\",Simulação!N366)","v":337.06434694308109},{"$f":"IF($C366=\"\",\"\",Simulação!O366)","v":"*"},{"$f":"IF($C366=\"\",\"\",Simulação!P366)","v":340.39536350208368},{"$f":"IF($C366=\"\",\"\",Simulação!Q366)","v":"*"},{"$f":"IF($C366=\"\",\"\",Simulação!R366)","v":337.40717360485382},{"$f":"IF($C366=\"\",\"\",Simulação!S366)","v":"*"},{"$f":"IF($C366=\"\",\"\",Simulação!T366)","v":339.91081754919708},{"$f":"IF($C366=\"\",\"\",Simulação!U366)","v":333.75999999999993},{"$f":"IF($C366=\"\",\"\",Simulação!V366)","v":344.95791964134582},{"$f":"IF($C366=\"\",\"\",Simulação!W366)","v":"-"},{"$f":"IF($C366=\"\",\"\",Simulação!X366)","v":299.36744170158397},{"$f":"IF($C366=\"\",\"\",Simulação!Y366)","v":"-"},{"$f":"IF($C366=\"\",\"\",Simulação!Z366)","v":303.35060891804108},{"$f":"IF($C366=\"\",\"\",Simulação!AA366)","v":"-"},{"$f":"IF($C366=\"\",\"\",Simulação!AB366)","v":291.36179232041985},{"$f":"IF($C366=\"\",\"\",Simulação!AC366)","v":"-"},{"$f":"IF($C366=\"\",\"\",Simulação!AD366)","v":140.66887446424042},{"$f":"IF($C366=\"\",\"\",Simulação!AE366)","v":"-"},{"$f":"IF($C366=\"\",\"\",Simulação!AF366)","v":34.388240562009656},{"$f":"IF($C366=\"\",\"\",Simulação!AG366)","v":"-"},{"$f":"IF($C366=\"\",\"\",Simulação!AH366)","v":29.236023829000793},{"$f":"IF($C366=\"\",\"\",Simulação!AI366)","v":"-"},{"$f":"IF($C366=\"\",\"\",Simulação!AJ366)","v":33.045125393740342},{"$f":"IF($C366=\"\",\"\",Simulação!AK366)","v":"-"},{"$f":"IF($C366=\"\",\"\",Simulação!AL366)","v":32.02721881559642},{"$f":"IF($C366=\"\",\"\",Simulação!AM366)","v":"-"},{"$f":"IF($C366=\"\",\"\",Simulação!AN366)","v":32.217563507182206},{"$f":"IF($C366=\"\",\"\",Simulação!AO366)","v":"-"},{"$f":"IF($C366=\"\",\"\",Simulação!AP366)","v":36.406016086434107},{"$f":"IF($C366=\"\",\"\",Simulação!AQ366)","v":"-"},{"$f":"IF($C366=\"\",\"\",Simulação!AR366)","v":0}]
[null,360,{"$f":"IF(Chegadas!J368<=$C$5,Chegadas!J368,\"\")","v":333.86999999999995},{"$f":"IF($C367=\"\",\"\",Simulação!D367)","v":8.0933207723578384},{"$f":"IF($C367=\"\",\"\",Simulação!E367)","v":"*"},{"$f":"IF($C367=\"\",\"\",Simulação!F367)","v":335.12663846862836},{"$f":"IF($C367=\"\",\"\",Simulação!G367)","v":333.86999999999995},{"$f":"IF($C367=\"\",\"\",Simulação!H367)","v":341.9633207723578},{"$f":"IF($C367=\"\",\"\",Simulação!I367)","v":"-"},{"$f":"IF($C367=\"\",\"\",Simulação!J367)","v":344.61727548327207},{"$f":"IF($C367=\"\",\"\",Simulação!K367)","v":"-"},{"$f":"IF($C367=\"\",\"\",Simulação!L367)","v":333.93214413447276},{"$f":"IF($C367=\"\",\"\",Simulação!M367)","v":"-"},{"$f":"IF($C367=\"\",\"\",Simulação!N367)","v":337.06434694308109},{"$f":"IF($C367=\"\",\"\",Simulação!O367)","v":"-"},{"$f":"IF($C367=\"\",\"\",Simulação!P367)","v":340.39536350208368},{"$f":"IF($C367=\"\",\"\",Simulação!Q367)","v":"-"},{"$f":"IF($C367=\"\",\"\",Simulação!R367)","v":337.40717360485382},{"$f":"IF($C367=\"\",\"\",Simulação!S367)","v":"-"},{"$f":"IF($C367=\"\",\"\",Simulação!T367)","v":339.91081754919708},{"$f":"IF($C367=\"\",\"\",Simulação!U367)","v":"-"},{"$f":"IF($C367=\"\",\"\",Simulação!V367)","v":344.95791964134582},{"$f":"IF($C367=\"\",\"\",Simulação!W367)","v":"-"},{"$f":"IF($C367=\"\",\"\",Simulação!X367)","v":299.36744170158397},{"$f":"IF($C367=\"\",\"\",Simulação!Y367)","v":"-"},{"$f":"IF($C367=\"\",\"\",Simulação!Z367)","v":303.35060891804108},{"$f":"IF($C367=\"\",\"\",Simulação!AA367)","v":"-"},{"$f":"IF($C367=\"\",\"\",Simulação!AB367)","v":291.36179232041985},{"$f":"IF($C367=\"\",\"\",Simulação!AC367)","v":"-"},{"$f":"IF($C367=\"\",\"\",Simulação!AD367)","v":140.66887446424042},{"$f":"IF($C367=\"\",\"\",Simulação!AE367)","v":"-"},{"$f":"IF($C367=\"\",\"\",Simulação!AF367)","v":34.388240562009656},{"$f":"IF($C367=\"\",\"\",Simulação!AG367)","v":"-"},{"$f":"IF($C367=\"\",\"\",Simulação!AH367)","v":29.236023829000793},{"$f":"IF($C367=\"\",\"\",Simulação!AI367)","v":"-"},{"$f":"IF($C367=\"\",\"\",Simulação!AJ367)","v":33.045125393740342},{"$f":"IF($C367=\"\",\"\",Simulação!AK367)","v":"-"},{"$f":"IF($C367=\"\",\"\",Simulação!AL367)","v":32.02721881559642},{"$f":"IF($C367=\"\",\"\",Simulação!AM367)","v":"-"},{"$f":"IF($C367=\"\",\"\",Simulação!AN367)","v":32.217563507182206},{"$f":"IF($C367=\"\",\"\",Simulação!AO367)","v":"-"},{"$f":"IF($C367=\"\",\"\",Simulação!AP367)","v":36.406016086434107},{"$f":"IF($C367=\"\",\"\",Simulação!AQ367)","v":"-"},{"$f":"IF($C367=\"\",\"\",Simulação!AR367)","v":0}]
[null,361,{"$f":"IF(Chegadas!J369<=$C$5,Chegadas!J369,\"\")","v":334.06},{"$f":"IF($C368=\"\",\"\",Simulação!D368)","v":1.0726322425472368},{"$f":"IF($C368=\"\",\"\",Simulação!E368)","v":"*"},{"$f":"IF($C368=\"\",\"\",Simulação!F368)","v":335.12663846862836},{"$f":"IF($C368=\"\",\"\",Simulação!G368)","v":"*"},{"$f":"IF($C368=\"\",\"\",Simulação!H368)","v":341.9633207723578},{"$f":"IF($C368=\"\",\"\",Simulação!I368)","v":"*"},{"$f":"IF($C368=\"\",\"\",Simulação!J368)","v":344.61727548327207},{"$f":"IF($C368=\"\",\"\",Simulação!K368)","v":334.06},{"$f":"IF($C368=\"\",\"\",Simulação!L368)","v":335.13263224254723},{"$f":"IF($C368=\"\",\"\",Simulação!M368)","v":"-"},{"$f":"IF($C368=\"\",\"\",Simulação!N368)","v":337.06434694308109},{"$f":"IF($C368=\"\",\"\",Simulação!O368)","v":"-"},{"$f":"IF($C368=\"\",\"\",Simulação!P368)","v":340.39536350208368},{"$f":"IF($C368=\"\",\"\",Simulação!Q368)","v":"-"},{"$f":"IF($C368=\"\",\"\",Simulação!R368)","v":337.40717360485382},{"$f":"IF($C368=\"\",\"\",Simulação!S368)","v":"-"},{"$f":"IF($C368=\"\",\"\",Simulação!T368)","v":339.91081754919708},{"$f":"IF($C368=\"\",\"\",Simulação!U368)","v":"-"},{"$f":"IF($C368=\"\",\"\",Simulação!V368)","v":344.95791964134582},{"$f":"IF($C368=\"\",\"\",Simulação!W368)","v":"-"},{"$f":"IF($C368=\"\",\"\",Simulação!X368)","v":299.36744170158397},{"$f":"IF($C368=\"\",\"\",Simulação!Y368)","v":"-"},{"$f":"IF($C368=\"\",\"\",Simulação!Z368)","v":303.35060891804108},{"$f":"IF($C368=\"\",\"\",Simulação!AA368)","v":"-"},{"$f":"IF($C368=\"\",\"\",Simulação!AB368)","v":291.36179232041985},{"$f":"IF($C368=\"\",\"\",Simulação!AC368)","v":"-"},{"$f":"IF($C368=\"\",\"\",Simulação!AD368)","v":140.66887446424042},{"$f":"IF($C368=\"\",\"\",Simulação!AE368)","v":"-"},{"$f":"IF($C368=\"\",\"\",Simulação!AF368)","v":34.388240562009656},{"$f":"IF($C368=\"\",\"\",Simulação!AG368)","v":"-"},{"$f":"IF($C368=\"\",\"\",Simulação!AH368)","v":29.236023829000793},{"$f":"IF($C368=\"\",\"\",Simulação!AI368)","v":"-"},{"$f":"IF($C368=\"\",\"\",Simulação!AJ368)","v":33.045125393740342},{"$f":"IF($C368=\"\",\"\",Simulação!AK368)","v":"-"},{"$f":"IF($C368=\"\",\"\",Simulação!AL368)","v":32.02721881559642},{"$f":"IF($C368=\"\",\"\",Simulação!AM368)","v":"-"},{"$f":"IF($C368=\"\",\"\",Simulação!AN368)","v":32.217563507182206},{"$f":"IF($C368=\"\",\"\",Simulação!AO368)","v":"-"},{"$f":"IF($C368=\"\",\"\",Simulação!AP368)","v":36.406016086434107},{"$f":"IF($C368=\"\",\"\",Simulação!AQ368)","v":"-"},{"$f":"IF($C368=\"\",\"\",Simulação!AR368)","v":0}]
[null,362,{"$f":"IF(Chegadas!J370<=$C$5,Chegadas!J370,\"\")","v":334.71999999999997},{"$f":"IF($C369=\"\",\"\",Simulação!D369)","v":15.757954842518719},{"$f":"IF($C369=\"\",\"\",Simulação!E369)","v":"*"},{"$f":"IF($C369=\"\",\"\",Simulação!F369)","v":335.12663846862836},{"$f":"IF($C369=\"\",\"\",Simulação!G369)","v":"*"},{"$f":"IF($C369=\"\",\"\",Simulação!H369)","v":341.9633207723578},{"$f":"IF($C369=\"\",\"\",Simulação!I369)","v":"*"},{"$f":"IF($C369=\"\",\"\",Simulação!J369)","v":344.61727548327207},{"$f":"IF($C369=\"\",\"\",Simulação!K369)","v":"*"},{"$f":"IF($C369=\"\",\"\",Simulação!L369)","v":335.13263224254723},{"$f":"IF($C369=\"\",\"\",Simulação!M369)","v":"*"},{"$f":"IF($C369=\"\",\"\",Simulação!N369)","v":337.06434694308109},{"$f":"IF($C369=\"\",\"\",Simulação!O369)","v":"*"},{"$f":"IF($C369=\"\",\"\",Simulação!P369)","v":340.39536350208368},{"$f":"IF($C369=\"\",\"\",Simulação!Q369)","v":"*"},{"$f":"IF($C369=\"\",\"\",Simulação!R369)","v":337.40717360485382},{"$f":"IF($C369=\"\",\"\",Simulação!S369)","v":"*"},{"$f":"IF($C369=\"\",\"\",Simulação!T369)","v":339.91081754919708},{"$f":"IF($C369=\"\",\"\",Simulação!U369)","v":"*"},{"$f":"IF($C369=\"\",\"\",Simulação!V369)","v":344.95791964134582},{"$f":"IF($C369=\"\",\"\",Simulação!W369)","v":334.71999999999997},{"$f":"IF($C369=\"\",\"\",Simulação!X369)","v":350.47795484251867},{"$f":"IF($C369=\"\",\"\",Simulação!Y369)","v":"-"},{"$f":"IF($C369=\"\",\"\",Simulação!Z369)","v":303.35060891804108},{"$f":"IF($C369=\"\",\"\",Simulação!AA369)","v":"-"},{"$f":"IF($C369=\"\",\"\",Simulação!AB369)","v":291.36179232041985},{"$f":"IF($C369=\"\",\"\",Simulação!AC369)","v":"-"},{"$f":"IF($C369=\"\",\"\",Simulação!AD369)","v":140.66887446424042},{"$f":"IF($C369=\"\",\"\",Simulação!AE369)","v":"-"},{"$f":"IF($C369=\"\",\"\",Simulação!AF369)","v":34.388240562009656},{"$f":"IF($C369=\"\",\"\",Simulação!AG369)","v":"-"},{"$f":"IF($C369=\"\",\"\",Simulação!AH369)","v":29.236023829000793},{"$f":"IF($C369=\"\",\"\",Simulação!AI369)","v":"-"},{"$f":"IF($C369=\"\",\"\",Simulação!AJ369)","v":33.045125393740342},{"$f":"IF($C369=\"\",\"\",Simulação!AK369)","v":"-"},{"$f":"IF($C369=\"\",\"\",Simulação!AL369)","v":32.02721881559642},{"$f":"IF($C369=\"\",\"\",Simulação!AM369)","v":"-"},{"$f":"IF($C369=\"\",\"\",Simulação!AN369)","v":32.217563507182206},{"$f":"IF($C369=\"\",\"\",Simulação!AO369)","v":"-"},{"$f":"IF($C369=\"\",\"\",Simulação!AP369)","v":36.406016086434107},{"$f":"IF($C369=\"\",\"\",Simulação!AQ369)","v":"-"},{"$f":"IF($C369=\"\",\"\",Simulação!AR369)","v":0}]
[null,363,{"$f":"IF(Chegadas!J371<=$C$5,Chegadas!J371,\"\")","v":335.03},{"$f":"IF($C370=\"\",\"\",Simulação!D370)","v":13.089955667210056},{"$f":"IF($C370=\"\",\"\",Simulação!E370)","v":"*"},{"$f":"IF($C370=\"\",\"\",Simulação!F370)","v":335.12663846862836},{"$f":"IF($C370=\"\",\"\",Simulação!G370)","v":"*"},{"$f":"IF($C370=\"\",\"\",Simulação!H370)","v":341.9633207723578},{"$f":"IF($C370=\"\",\"\",Simulação!I370)","v":"*"},{"$f":"IF($C370=\"\",\"\",Simulação!J370)","v":344.61727548327207},{"$f":"IF($C370=\"\",\"\",Simulação!K370)","v":"*"},{"$f":"IF($C370=\"\",\"\",Simulação!L370)","v":335.13263224254723},{"$f":"IF($C370=\"\",\"\",Simulação!M370)","v":"*"},{"$f":"IF($C370=\"\",\"\",Simulação!N370)","v":337.06434694308109},{"$f":"IF($C370=\"\",\"\",Simulação!O370)","v":"*"},{"$f":"IF($C370=\"\",\"\",Simulação!P370)","v":340.39536350208368},{"$f":"IF($C370=\"\",\"\",Simulação!Q370)","v":"*"},{"$f":"IF($C370=\"\",\"\",Simulação!R370)","v":337.40717360485382},{"$f":"IF($C370=\"\",\"\",Simulação!S370)","v":"*"},{"$f":"IF($C370=\"\",\"\",Simulação!T370)","v":339.91081754919708},{"$f":"IF($C370=\"\",\"\",Simulação!U370)","v":"*"},{"$f":"IF($C370=\"\",\"\",Simulação!V370)","v":344.95791964134582},{"$f":"IF($C370=\"\",\"\",Simulação!W370)","v":"*"},{"$f":"IF($C370=\"\",\"\",Simulação!X370)","v":350.47795484251867},{"$f":"IF($C370=\"\",\"\",Simulação!Y370)","v":335.03},{"$f":"IF($C370=\"\",\"\",Simulação!Z370)","v":348.11995566721004},{"$f":"IF($C370=\"\",\"\",Simulação!AA370)","v":"-"},{"$f":"IF($C370=\"\",\"\",Simulação!AB370)","v":291.36179232041985},{"$f":"IF($C370=\"\",\"\",Simulação!AC370)","v":"-"},{"$f":"IF($C370=\"\",\"\",Simulação!AD370)","v":140.66887446424042},{"$f":"IF($C370=\"\",\"\",Simulação!AE370)","v":"-"},{"$f":"IF($C370=\"\",\"\",Simulação!AF370)","v":34.388240562009656},{"$f":"IF($C370=\"\",\"\",Simulação!AG370)","v":"-"},{"$f":"IF($C370=\"\",\"\",Simulação!AH370)","v":29.236023829000793},{"$f":"IF($C370=\"\",\"\",Simulação!AI370)","v":"-"},{"$f":"IF($C370=\"\",\"\",Simulação!AJ370)","v":33.045125393740342},{"$f":"IF($C370=\"\",\"\",Simulação!AK370)","v":"-"},{"$f":"IF($C370=\"\",\"\",Simulação!AL370)","v":32.02721881559642},{"$f":"IF($C370=\"\",\"\",Simulação!AM370)","v":"-"},{"$f":"IF($C370=\"\",\"\",Simulação!AN370)","v":32.217563507182206},{"$f":"IF($C370=\"\",\"\",Simulação!AO370)","v":"-"},{"$f":"IF($C370=\"\",\"\",Simulação!AP370)","v":36.406016086434107},{"$f":"IF($C370=\"\",\"\",Simulação!AQ370)","v":"-"},{"$f":"IF($C370=\"\",\"\",Simulação!AR370)","v":0}]
[null,364,{"$f":"IF(Chegadas!J372<=$C$5,Chegadas!J372,\"\")","v":335.98999999999995},{"$f":"IF($C371=\"\",\"\",Simulação!D371)","v":7.5680458000340503},{"$f":"IF($C371=\"\",\"\",Simulação!E371)","v":335.98999999999995},{"$f":"IF($C371=\"\",\"\",Simulação!F371)","v":343.55804580003399},{"$f":"IF($C371=\"\",\"\",Simulação!G371)","v":"-"},{"$f":"IF($C371=\"\",\"\",Simulação!H371)","v":341.9633207723578},{"$f":"IF($C371=\"\",\"\",Simulação!I371)","v":"-"},{"$f":"IF($C371=\"\",\"\",Simulação!J371)","v":344.61727548327207},{"$f":"IF($C371=\"\",\"\",Simulação!K371)","v":"-"},{"$f":"IF($C371=\"\",\"\",Simulação!L371)","v":335.13263224254723},{"$f":"IF($C371=\"\",\"\",Simulação!M371)","v":"-"},{"$f":"IF($C371=\"\",\"\",Simulação!N371)","v":337.06434694308109},{"$f":"IF($C371=\"\",\"\",Simulação!O371)","v":"-"},{"$f":"IF($C371=\"\",\"\",Simulação!P371)","v":340.39536350208368},{"$f":"IF($C371=\"\",\"\",Simulação!Q371)","v":"-"},{"$f":"IF($C371=\"\",\"\",Simulação!R371)","v":337.40717360485382},{"$f":"IF($C371=\"\",\"\",Simulação!S371)","v":"-"},{"$f":"IF($C371=\"\",\"\",Simulação!T371)","v":339.91081754919708},{"$f":"IF($C371=\"\",\"\",Simulação!U371)","v":"-"},{"$f":"IF($C371=\"\",\"\",Simulação!V371)","v":344.95791964134582},{"$f":"IF($C371=\"\",\"\",Simulação!W371)","v":"-"},{"$f":"IF($C371=\"\",\"\",Simulação!X371)","v":350.47795484251867},{"$f":"IF($C371=\"\",\"\",Simulação!Y371)","v":"-"},{"$f":"IF($C371=\"\",\"\",Simulação!Z371)","v":348.11995566721004},{"$f":"IF($C371=\"\",\"\",Simulação!AA371)","v":"-"},{"$f":"IF($C371=\"\",\"\",Simulação!AB371)","v":291.36179232041985},{"$f":"IF($C371=\"\",\"\",Simulação!AC371)","v":"-"},{"$f":"IF($C371=\"\",\"\",Simulação!AD371)","v":140.66887446424042},{"$f":"IF($C371=\"\",\"\",Simulação!AE371)","v":"-"},{"$f":"IF($C371=\"\",\"\",Simulação!AF371)","v":34.388240562009656},{"$f":"IF($C371=\"\",\"\",Simulação!AG371)","v":"-"},{"$f":"IF($C371=\"\",\"\",Simulação!AH371)","v":29.236023829000793},{"$f":"IF($C371=\"\",\"\",Simulação!AI371)","v":"-"},{"$f":"IF($C371=\"\",\"\",Simulação!AJ371)","v":33.045125393740342},{"$f":"IF($C371=\"\",\"\",Simulação!AK371)","v":"-"},{"$f":"IF($C371=\"\",\"\",Simulação!AL371)","v":32.02721881559642},{"$f":"IF($C371=\"\",\"\",Simulação!AM371)","v":"-"},{"$f":"IF($C371=\"\",\"\",Simulação!AN371)","v":32.217563507182206},{"$f":"IF($C371=\"\",\"\",Simulação!AO371)","v":"-"},{"$f":"IF($C371=\"\",\"\",Simulação!AP371)","v":36.406016086434107},{"$f":"IF($C371=\"\",\"\",Simulação!AQ371)","v":"-"},{"$f":"IF($C371=\"\",\"\",Simulação!AR371)","v":0}]
[null,365,{"$f":"IF(Chegadas!J373<=$C$5,Chegadas!J373,\"\")","v":336.19999999999993},{"$f":"IF($C372=\"\",\"\",Simulação!D372)","v":4.5707799867521173},{"$f":"IF($C372=\"\",\"\",Simulação!E372)","v":"*"},{"$f":"IF($C372=\"\",\"\",Simulação!F372)","v":343.55804580003399},{"$f":"IF($C372=\"\",\"\",Simulação!G372)","v":"*"},{"$f":"IF($C372=\"\",\"\",Simulação!H372)","v":341.9633207723578},{"$f":"IF($C372=\"\",\"\",Simulação!I372)","v":"*"},{"$f":"IF($C372=\"\",\"\",Simulação!J372)","v":344.61727548327207},{"$f":"IF($C372=\"\",\"\",Simulação!K372)","v":336.19999999999993},{"$f":"IF($C372=\"\",\"\",Simulação!L372)","v":340.77077998675207},{"$f":"IF($C372=\"\",\"\",Simulação!M372)","v":"-"},{"$f":"IF($C372=\"\",\"\",Simulação!N372)","v":337.06434694308109},{"$f":"IF($C372=\"\",\"\",Simulação!O372)","v":"-"},{"$f":"IF($C372=\"\",\"\",Simulação!P372)","v":340.39536350208368},{"$f":"IF($C372=\"\",\"\",Simulação!Q372)","v":"-"},{"$f":"IF($C372=\"\",\"\",Simulação!R372)","v":337.40717360485382},{"$f":"IF($C372=\"\",\"\",Simulação!S372)","v":"-"},{"$f":"IF($C372=\"\",\"\",Simulação!T372)","v":339.91081754919708},{"$f":"IF($C372=\"\",\"\",Simulação!U372)","v":"-"},{"$f":"IF($C372=\"\",\"\",Simulação!V372)","v":344.95791964134582},{"$f":"IF($C372=\"\",\"\",Simulação!W372)","v":"-"},{"$f":"IF($C372=\"\",\"\",Simulação!X372)","v":350.47795484251867},{"$f":"IF($C372=\"\",\"\",Simulação!Y372)","v":"-"},{"$f":"IF($C372=\"\",\"\",Simulação!Z372)","v":348.11995566721004},{"$f":"IF($C372=\"\",\"\",Simulação!AA372)","v":"-"},{"$f":"IF($C372=\"\",\"\",Simulação!AB372)","v":291.36179232041985},{"$f":"IF($C372=\"\",\"\",Simulação!AC372)","v":"-"},{"$f":"IF($C372=\"\",\"\",Simulação!AD372)","v":140.66887446424042},{"$f":"IF($C372=\"\",\"\",Simulação!AE372)","v":"-"},{"$f":"IF($C372=\"\",\"\",Simulação!AF372)","v":34.388240562009656},{"$f":"IF($C372=\"\",\"\",Simulação!AG372)","v":"-"},{"$f":"IF($C372=\"\",\"\",Simulação!AH372)","v":29.236023829000793},{"$f":"IF($C372=\"\",\"\",Simulação!AI372)","v":"-"},{"$f":"IF($C372=\"\",\"\",Simulação!AJ372)","v":33.045125393740342},{"$f":"IF($C372=\"\",\"\",Simulação!AK372)","v":"-"},{"$f":"IF($C372=\"\",\"\",Simulação!AL372)","v":32.02721881559642},{"$f":"IF($C372=\"\",\"\",Simulação!AM372)","v":"-"},{"$f":"IF($C372=\"\",\"\",Simulação!AN372)","v":32.217563507182206},{"$f":"IF($C372=\"\",\"\",Simulação!AO372)","v":"-"},{"$f":"IF($C372=\"\",\"\",Simulação!AP372)","v":36.406016086434107},{"$f":"IF($C372=\"\",\"\",Simulação!AQ372)","v":"-"},{"$f":"IF($C372=\"\",\"\",Simulação!AR372)","v":0}]
[null,366,{"$f":"IF(Chegadas!J374<=$C$5,Chegadas!J374,\"\")","v":336.44999999999993},{"$f":"IF($C373=\"\",\"\",Simulação!D373)","v":8.2594371071637713},{"$f":"IF($C373=\"\",\"\",Simulação!E373)","v":"*"},{"$f":"IF($C373=\"\",\"\",Simulação!F373)","v":343.55804580003399},{"$f":"IF($C373=\"\",\"\",Simulação!G373)","v":"*"},{"$f":"IF($C373=\"\",\"\",Simulação!H373)","v":341.9633207723578},{"$f":"IF($C373=\"\",\"\",Simulação!I373)","v":"*"},{"$f":"IF($C373=\"\",\"\",Simulação!J373)","v":344.61727548327207},{"$f":"IF($C373=\"\",\"\",Simulação!K373)","v":"*"},{"$f":"IF($C373=\"\",\"\",Simulação!L373)","v":340.77077998675207},{"$f":"IF($C373=\"\",\"\",Simulação!M373)","v":"*"},{"$f":"IF($C373=\"\",\"\",Simulação!N373)","v":337.06434694308109},{"$f":"IF($C373=\"\",\"\",Simulação!O373)","v":"*"},{"$f":"IF($C373=\"\",\"\",Simulação!P373)","v":340.39536350208368},{"$f":"IF($C373=\"\",\"\",Simulação!Q373)","v":"*"},{"$f":"IF($C373=\"\",\"\",Simulação!R373)","v":337.40717360485382},{"$f":"IF($C373=\"\",\"\",Simulação!S373)","v":"*"},{"$f":"IF($C373=\"\",\"\",Simulação!T373)","v":339.91081754919708},{"$f":"IF($C373=\"\",\"\",Simulação!U373)","v":"*"},{"$f":"IF($C373=\"\",\"\",Simulação!V373)","v":344.95791964134582},{"$f":"IF($C373=\"\",\"\",Simulação!W373)","v":"*"},{"$f":"IF($C373=\"\",\"\",Simulação!X373)","v":350.47795484251867},{"$f":"IF($C373=\"\",\"\",Simulação!Y373)","v":"*"},{"$f":"IF($C373=\"\",\"\",Simulação!Z373)","v":348.11995566721004},{"$f":"IF($C373=\"\",\"\",Simulação!AA373)","v":336.44999999999993},{"$f":"IF($C373=\"\",\"\",Simulação!AB373)","v":344.70943710716369},{"$f":"IF($C373=\"\",\"\",Simulação!AC373)","v":"-"},{"$f":"IF($C373=\"\",\"\",Simulação!AD373)","v":140.66887446424042},{"$f":"IF($C373=\"\",\"\",Simulação!AE373)","v":"-"},{"$f":"IF($C373=\"\",\"\",Simulação!AF373)","v":34.388240562009656},{"$f":"IF($C373=\"\",\"\",Simulação!AG373)","v":"-"},{"$f":"IF($C373=\"\",\"\",Simulação!AH373)","v":29.236023829000793},{"$f":"IF($C373=\"\",\"\",Simulação!AI373)","v":"-"},{"$f":"IF($C373=\"\",\"\",Simulação!AJ373)","v":33.045125393740342},{"$f":"IF($C373=\"\",\"\",Simulação!AK373)","v":"-"},{"$f":"IF($C373=\"\",\"\",Simulação!AL373)","v":32.02721881559642},{"$f":"IF($C373=\"\",\"\",Simulação!AM373)","v":"-"},{"$f":"IF($C373=\"\",\"\",Simulação!AN373)","v":32.217563507182206},{"$f":"IF($C373=\"\",\"\",Simulação!AO373)","v":"-"},{"$f":"IF($C373=\"\",\"\",Simulação!AP373)","v":36.406016086434107},{"$f":"IF($C373=\"\",\"\",Simulação!AQ373)","v":"-"},{"$f":"IF($C373=\"\",\"\",Simulação!AR373)","v":0}]
[null,367,{"$f":"IF(Chegadas!J375<=$C$5,Chegadas!J375,\"\")","v":336.80999999999995},{"$f":"IF($C374=\"\",\"\",Simulação!D374)","v":4.9592008208243854},{"$f":"IF($C374=\"\",\"\",Simulação!E374)","v":"*"},{"$f":"IF($C374=\"\",\"\",Simulação!F374)","v":343.55804580003399},{"$f":"IF($C374=\"\",\"\",Simulação!G374)","v":"*"},{"$f":"IF($C374=\"\",\"\",Simulação!H374)","v":341.9633207723578},{"$f":"IF($C374=\"\",\"\",Simulação!I374)","v":"*"},{"$f":"IF($C374=\"\",\"\",Simulação!J374)","v":344.61727548327207},{"$f":"IF($C374=\"\",\"\",Simulação!K374)","v":"*"},{"$f":"IF($C374=\"\",\"\",Simulação!L374)","v":340.77077998675207},{"$f":"IF($C374=\"\",\"\",Simulação!M374)","v":"*"},{"$f":"IF($C374=\"\",\"\",Simulação!N374)","v":337.06434694308109},{"$f":"IF($C374=\"\",\"\",Simulação!O374)","v":"*"},{"$f":"IF($C374=\"\",\"\",Simulação!P374)","v":340.39536350208368},{"$f":"IF($C374=\"\",\"\",Simulação!Q374)","v":"*"},{"$f":"IF($C374=\"\",\"\",Simulação!R374)","v":337.40717360485382},{"$f":"IF($C374=\"\",\"\",Simulação!S374)","v":"*"},{"$f":"IF($C374=\"\",\"\",Simulação!T374)","v":339.91081754919708},{"$f":"IF($C374=\"\",\"\",Simulação!U374)","v":"*"},{"$f":"IF($C374=\"\",\"\",Simulação!V374)","v":344.95791964134582},{"$f":"IF($C374=\"\",\"\",Simulação!W374)","v":"*"},{"$f":"IF($C374=\"\",\"\",Simulação!X374)","v":350.47795484251867},{"$f":"IF($C374=\"\",\"\",Simulação!Y374)","v":"*"},{"$f":"IF($C374=\"\",\"\",Simulação!Z374)","v":348.11995566721004},{"$f":"IF($C374=\"\",\"\",Simulação!AA374)","v":"*"},{"$f":"IF($C374=\"\",\"\",Simulação!AB374)","v":344.70943710716369},{"$f":"IF($C374=\"\",\"\",Simulação!AC374)","v":336.80999999999995},{"$f":"IF($C374=\"\",\"\",Simulação!AD374)","v":341.76920082082432},{"$f":"IF($C374=\"\",\"\",Simulação!AE374)","v":"-"},{"$f":"IF($C374=\"\",\"\",Simulação!AF374)","v":34.388240562009656},{"$f":"IF($C374=\"\",\"\",Simulação!AG374)","v":"-"},{"$f":"IF($C374=\"\",\"\",Simulação!AH374)","v":29.236023829000793},{"$f":"IF($C374=\"\",\"\",Simulação!AI374)","v":"-"},{"$f":"IF($C374=\"\",\"\",Simulação!AJ374)","v":33.045125393740342},{"$f":"IF($C374=\"\",\"\",Simulação!AK374)","v":"-"},{"$f":"IF($C374=\"\",\"\",Simulação!AL374)","v":32.02721881559642},{"$f":"IF($C374=\"\",\"\",Simulação!AM374)","v":"-"},{"$f":"IF($C374=\"\",\"\",Simulação!AN374)","v":32.217563507182206},{"$f":"IF($C374=\"\",\"\",Simulação!AO374)","v":"-"},{"$f":"IF($C374=\"\",\"\",Simulação!AP374)","v":36.406016086434107},{"$f":"IF($C374=\"\",\"\",Simulação!AQ374)","v":"-"},{"$f":"IF($C374=\"\",\"\",Simulação!AR374)","v":0}]
[null,368,{"$f":"IF(Chegadas!J376<=$C$5,Chegadas!J376,\"\")","v":336.86},{"$f":"IF($C375=\"\",\"\",Simulação!D375)","v":1.120187462312866},{"$f":"IF($C375=\"\",\"\",Simulação!E375)","v":"*"},{"$f":"IF($C375=\"\",\"\",Simulação!F375)","v":343.55804580003399},{"$f":"IF($C375=\"\",\"\",Simulação!G375)","v":"*"},{"$f":"IF($C375=\"\",\"\",Simulação!H375)","v":341.9633207723578},{"$f":"IF($C375=\"\",\"\",Simulação!I375)","v":"*"},{"$f":"IF($C375=\"\",\"\",Simulação!J375)","v":344.61727548327207},{"$f":"IF($C375=\"\",\"\",Simulação!K375)","v":"*"},{"$f":"IF($C375=\"\",\"\",Simulação!L375)","v":340.77077998675207},{"$f":"IF($C375=\"\",\"\",Simulação!M375)","v":"*"},{"$f":"IF($C375=\"\",\"\",Simulação!N375)","v":337.06434694308109},{"$f":"IF($C375=\"\",\"\",Simulação!O375)","v":"*"},{"$f":"IF($C375=\"\",\"\",Simulação!P375)","v":340.39536350208368},{"$f":"IF($C375=\"\",\"\",Simulação!Q375)","v":"*"},{"$f":"IF($C375=\"\",\"\",Simulação!R375)","v":337.40717360485382},{"$f":"IF($C375=\"\",\"\",Simulação!S375)","v":"*"},{"$f":"IF($C375=\"\",\"\",Simulação!T375)","v":339.91081754919708},{"$f":"IF($C375=\"\",\"\",Simulação!U375)","v":"*"},{"$f":"IF($C375=\"\",\"\",Simulação!V375)","v":344.95791964134582},{"$f":"IF($C375=\"\",\"\",Simulação!W375)","v":"*"},{"$f":"IF($C375=\"\",\"\",Simulação!X375)","v":350.47795484251867},{"$f":"IF($C375=\"\",\"\",Simulação!Y375)","v":"*"},{"$f":"IF($C375=\"\",\"\",Simulação!Z375)","v":348.11995566721004},{"$f":"IF($C375=\"\",\"\",Simulação!AA375)","v":"*"},{"$f":"IF($C375=\"\",\"\",Simulação!AB375)","v":344.70943710716369},{"$f":"IF($C375=\"\",\"\",Simulação!AC375)","v":"*"},{"$f":"IF($C375=\"\",\"\",Simulação!AD375)","v":341.76920082082432},{"$f":"IF($C375=\"\",\"\",Simulação!AE375)","v":336.86},{"$f":"IF($C375=\"\",\"\",Simulação!AF375)","v":337.98018746231287},{"$f":"IF($C375=\"\",\"\",Simulação!AG375)","v":"-"},{"$f":"IF($C375=\"\",\"\",Simulação!AH375)","v":29.236023829000793},{"$f":"IF($C375=\"\",\"\",Simulação!AI375)","v":"-"},{"$f":"IF($C375=\"\",\"\",Simulação!AJ375)","v":33.045125393740342},{"$f":"IF($C375=\"\",\"\",Simulação!AK375)","v":"-"},{"$f":"IF($C375=\"\",\"\",Simulação!AL375)","v":32.02721881559642},{"$f":"IF($C375=\"\",\"\",Simulação!AM375)","v":"-"},{"$f":"IF($C375=\"\",\"\",Simulação!AN375)","v":32.217563507182206},{"$f":"IF($C375=\"\",\"\",Simulação!AO375)","v":"-"},{"$f":"IF($C375=\"\",\"\",Simulação!AP375)","v":36.406016086434107},{"$f":"IF($C375=\"\",\"\",Simulação!AQ375)","v":"-"},{"$f":"IF($C375=\"\",\"\",Simulação!AR375)","v":0}]
[null,369,{"$f":"IF(Chegadas!J377<=$C$5,Chegadas!J377,\"\")","v":337.73999999999995},{"$f":"IF($C376=\"\",\"\",Simulação!D376)","v":2.4987849673324272},{"$f":"IF($C376=\"\",\"\",Simulação!E376)","v":"*"},{"$f":"IF($C376=\"\",\"\",Simulação!F376)","v":343.55804580003399},{"$f":"IF($C376=\"\",\"\",Simulação!G376)","v":"*"},{"$f":"IF($C376=\"\",\"\",Simulação!H376)","v":341.9633207723578},{"$f":"IF($C376=\"\",\"\",Simulação!I376)","v":"*"},{"$f":"IF($C376=\"\",\"\",Simulação!J376)","v":344.61727548327207},{"$f":"IF($C376=\"\",\"\",Simulação!K376)","v":"*"},{"$f":"IF($C376=\"\",\"\",Simulação!L376)","v":340.77077998675207},{"$f":"IF($C376=\"\",\"\",Simulação!M376)","v":337.73999999999995},{"$f":"IF($C376=\"\",\"\",Simulação!N376)","v":340.23878496733238},{"$f":"IF($C376=\"\",\"\",Simulação!O376)","v":"-"},{"$f":"IF($C376=\"\",\"\",Simulação!P376)","v":340.39536350208368},{"$f":"IF($C376=\"\",\"\",Simulação!Q376)","v":"-"},{"$f":"IF($C376=\"\",\"\",Simulação!R376)","v":337.40717360485382},{"$f":"IF($C376=\"\",\"\",Simulação!S376)","v":"-"},{"$f":"IF($C376=\"\",\"\",Simulação!T376)","v":339.91081754919708},{"$f":"IF($C376=\"\",\"\",Simulação!U376)","v":"-"},{"$f":"IF($C376=\"\",\"\",Simulação!V376)","v":344.95791964134582},{"$f":"IF($C376=\"\",\"\",Simulação!W376)","v":"-"},{"$f":"IF($C376=\"\",\"\",Simulação!X376)","v":350.47795484251867},{"$f":"IF($C376=\"\",\"\",Simulação!Y376)","v":"-"},{"$f":"IF($C376=\"\",\"\",Simulação!Z376)","v":348.11995566721004},{"$f":"IF($C376=\"\",\"\",Simulação!AA376)","v":"-"},{"$f":"IF($C376=\"\",\"\",Simulação!AB376)","v":344.70943710716369},{"$f":"IF($C376=\"\",\"\",Simulação!AC376)","v":"-"},{"$f":"IF($C376=\"\",\"\",Simulação!AD376)","v":341.76920082082432},{"$f":"IF($C376=\"\",\"\",Simulação!AE376)","v":"-"},{"$f":"IF($C376=\"\",\"\",Simulação!AF376)","v":337.98018746231287},{"$f":"IF($C376=\"\",\"\",Simulação!AG376)","v":"-"},{"$f":"IF($C376=\"\",\"\",Simulação!AH376)","v":29.236023829000793},{"$f":"IF($C376=\"\",\"\",Simulação!AI376)","v":"-"},{"$f":"IF($C376=\"\",\"\",Simulação!AJ376)","v":33.045125393740342},{"$f":"IF($C376=\"\",\"\",Simulação!AK376)","v":"-"},{"$f":"IF($C376=\"\",\"\",Simulação!AL376)","v":32.02721881559642},{"$f":"IF($C376=\"\",\"\",Simulação!AM376)","v":"-"},{"$f":"IF($C376=\"\",\"\",Simulação!AN376)","v":32.217563507182206},{"$f":"IF($C376=\"\",\"\",Simulação!AO376)","v":"-"},{"$f":"IF($C376=\"\",\"\",Simulação!AP376)","v":36.406016086434107},{"$f":"IF($C376=\"\",\"\",Simulação!AQ376)","v":"-"},{"$f":"IF($C376=\"\",\"\",Simulação!AR376)","v":0}]
[null,370,{"$f":"IF(Chegadas!J378<=$C$5,Chegadas!J378,\"\")","v":338.07999999999993},{"$f":"IF($C377=\"\",\"\",Simulação!D377)","v":9.7588422149886327},{"$f":"IF($C377=\"\",\"\",Simulação!E377)","v":"*"},{"$f":"IF($C377=\"\",\"\",Simulação!F377)","v":343.55804580003399},{"$f":"IF($C377=\"\",\"\",Simulação!G377)","v":"*"},{"$f":"IF($C377=\"\",\"\",Simulação!H377)","v":341.9633207723578},{"$f":"IF($C377=\"\",\"\",Simulação!I377)","v":"*"},{"$f":"IF($C377=\"\",\"\",Simulação!J377)","v":344.61727548327207},{"$f":"IF($C377=\"\",\"\",Simulação!K377)","v":"*"},{"$f":"IF($C377=\"\",\"\",Simulação!L377)","v":340.77077998675207},{"$f":"IF($C377=\"\",\"\",Simulação!M377)","v":"*"},{"$f":"IF($C377=\"\",\"\",Simulação!N377)","v":340.23878496733238},{"$f":"IF($C377=\"\",\"\",Simulação!O377)","v":"*"},{"$f":"IF($C377=\"\",\"\",Simulação!P377)","v":340.39536350208368},{"$f":"IF($C377=\"\",\"\",Simulação!Q377)","v":338.07999999999993},{"$f":"IF($C377=\"\",\"\",Simulação!R377)","v":347.83884221498857},{"$f":"IF($C377=\"\",\"\",Simulação!S377)","v":"-"},{"$f":"IF($C377=\"\",\"\",Simulação!T377)","v":339.91081754919708},{"$f":"IF($C377=\"\",\"\",Simulação!U377)","v":"-"},{"$f":"IF($C377=\"\",\"\",Simulação!V377)","v":344.95791964134582},{"$f":"IF($C377=\"\",\"\",Simulação!W377)","v":"-"},{"$f":"IF($C377=\"\",\"\",Simulação!X377)","v":350.47795484251867},{"$f":"IF($C377=\"\",\"\",Simulação!Y377)","v":"-"},{"$f":"IF($C377=\"\",\"\",Simulação!Z377)","v":348.11995566721004},{"$f":"IF($C377=\"\",\"\",Simulação!AA377)","v":"-"},{"$f":"IF($C377=\"\",\"\",Simulação!AB377)","v":344.70943710716369},{"$f":"IF($C377=\"\",\"\",Simulação!AC377)","v":"-"},{"$f":"IF($C377=\"\",\"\",Simulação!AD377)","v":341.76920082082432},{"$f":"IF($C377=\"\",\"\",Simulação!AE377)","v":"-"},{"$f":"IF($C377=\"\",\"\",Simulação!AF377)","v":337.98018746231287},{"$f":"IF($C377=\"\",\"\",Simulação!AG377)","v":"-"},{"$f":"IF($C377=\"\",\"\",Simulação!AH377)","v":29.236023829000793},{"$f":"IF($C377=\"\",\"\",Simulação!AI377)","v":"-"},{"$f":"IF($C377=\"\",\"\",Simulação!AJ377)","v":33.045125393740342},{"$f":"IF($C377=\"\",\"\",Simulação!AK377)","v":"-"},{"$f":"IF($C377=\"\",\"\",Simulação!AL377)","v":32.02721881559642},{"$f":"IF($C377=\"\",\"\",Simulação!AM377)","v":"-"},{"$f":"IF($C377=\"\",\"\",Simulação!AN377)","v":32.217563507182206},{"$f":"IF($C377=\"\",\"\",Simulação!AO377)","v":"-"},{"$f":"IF($C377=\"\",\"\",Simulação!AP377)","v":36.406016086434107},{"$f":"IF($C377=\"\",\"\",Simulação!AQ377)","v":"-"},{"$f":"IF($C377=\"\",\"\",Simulação!AR377)","v":0}]
[null,371,{"$f":"IF(Chegadas!J379<=$C$5,Chegadas!J379,\"\")","v":338.1699999999999},{"$f":"IF($C378=\"\",\"\",Simulação!D378)","v":12.816452573239344},{"$f":"IF($C378=\"\",\"\",Simulação!E378)","v":"*"},{"$f":"IF($C378=\"\",\"\",Simulação!F378)","v":343.55804580003399},{"$f":"IF($C378=\"\",\"\",Simulação!G378)","v":"*"},{"$f":"IF($C378=\"\",\"\",Simulação!H378)","v":341.9633207723578},{"$f":"IF($C378=\"\",\"\",Simulação!I378)","v":"*"},{"$f":"IF($C378=\"\",\"\",Simulação!J378)","v":344.61727548327207},{"$f":"IF($C378=\"\",\"\",Simulação!K378)","v":"*"},{"$f":"IF($C378=\"\",\"\",Simulação!L378)","v":340.77077998675207},{"$f":"IF($C378=\"\",\"\",Simulação!M378)","v":"*"},{"$f":"IF($C378=\"\",\"\",Simulação!N378)","v":340.23878496733238},{"$f":"IF($C378=\"\",\"\",Simulação!O378)","v":"*"},{"$f":"IF($C378=\"\",\"\",Simulação!P378)","v":340.39536350208368},{"$f":"IF($C378=\"\",\"\",Simulação!Q378)","v":"*"},{"$f":"IF($C378=\"\",\"\",Simulação!R378)","v":347.83884221498857},{"$f":"IF($C378=\"\",\"\",Simulação!S378)","v":"*"},{"$f":"IF($C378=\"\",\"\",Simulação!T378)","v":339.91081754919708},{"$f":"IF($C378=\"\",\"\",Simulação!U378)","v":"*"},{"$f":"IF($C378=\"\",\"\",Simulação!V378)","v":344.95791964134582},{"$f":"IF($C378=\"\",\"\",Simulação!W378)","v":"*"},{"$f":"IF($C378=\"\",\"\",Simulação!X378)","v":350.47795484251867},{"$f":"IF($C378=\"\",\"\",Simulação!Y378)","v":"*"},{"$f":"IF($C378=\"\",\"\",Simulação!Z378)","v":348.11995566721004},{"$f":"IF($C378=\"\",\"\",Simulação!AA378)","v":"*"},{"$f":"IF($C378=\"\",\"\",Simulação!AB378)","v":344.70943710716369},{"$f":"IF($C378=\"\",\"\",Simulação!AC378)","v":"*"},{"$f":"IF($C378=\"\",\"\",Simulação!AD378)","v":341.76920082082432},{"$f":"IF($C378=\"\",\"\",Simulação!AE378)","v":338.1699999999999},{"$f":"IF($C378=\"\",\"\",Simulação!AF378)","v":350.98645257323926},{"$f":"IF($C378=\"\",\"\",Simulação!AG378)","v":"-"},{"$f":"IF($C378=\"\",\"\",Simulação!AH378)","v":29.236023829000793},{"$f":"IF($C378=\"\",\"\",Simulação!AI378)","v":"-"},{"$f":"IF($C378=\"\",\"\",Simulação!AJ378)","v":33.045125393740342},{"$f":"IF($C378=\"\",\"\",Simulação!AK378)","v":"-"},{"$f":"IF($C378=\"\",\"\",Simulação!AL378)","v":32.02721881559642},{"$f":"IF($C378=\"\",\"\",Simulação!AM378)","v":"-"},{"$f":"IF($C378=\"\",\"\",Simulação!AN378)","v":32.217563507182206},{"$f":"IF($C378=\"\",\"\",Simulação!AO378)","v":"-"},{"$f":"IF($C378=\"\",\"\",Simulação!AP378)","v":36.406016086434107},{"$f":"IF($C378=\"\",\"\",Simulação!AQ378)","v":"-"},{"$f":"IF($C378=\"\",\"\",Simulação!AR378)","v":0}]
[null,372,{"$f":"IF(Chegadas!J380<=$C$5,Chegadas!J380,\"\")","v":339.89999999999992},{"$f":"IF($C379=\"\",\"\",Simulação!D379)","v":8.7319601363073964},{"$f":"IF($C379=\"\",\"\",Simulação!E379)","v":"*"},{"$f":"IF($C379=\"\",\"\",Simulação!F379)","v":343.55804580003399},{"$f":"IF($C379=\"\",\"\",Simulação!G379)","v":"*"},{"$f":"IF($C379=\"\",\"\",Simulação!H379)","v":341.9633207723578},{"$f":"IF($C379=\"\",\"\",Simulação!I379)","v":"*"},{"$f":"IF($C379=\"\",\"\",Simulação!J379)","v":344.61727548327207},{"$f":"IF($C379=\"\",\"\",Simulação!K379)","v":"*"},{"$f":"IF($C379=\"\",\"\",Simulação!L379)","v":340.77077998675207},{"$f":"IF($C379=\"\",\"\",Simulação!M379)","v":"*"},{"$f":"IF($C379=\"\",\"\",Simulação!N379)","v":340.23878496733238},{"$f":"IF($C379=\"\",\"\",Simulação!O379)","v":"*"},{"$f":"IF($C379=\"\",\"\",Simulação!P379)","v":340.39536350208368},{"$f":"IF($C379=\"\",\"\",Simulação!Q379)","v":"*"},{"$f":"IF($C379=\"\",\"\",Simulação!R379)","v":347.83884221498857},{"$f":"IF($C379=\"\",\"\",Simulação!S379)","v":"*"},{"$f":"IF($C379=\"\",\"\",Simulação!T379)","v":339.91081754919708},{"$f":"IF($C379=\"\",\"\",Simulação!U379)","v":"*"},{"$f":"IF($C379=\"\",\"\",Simulação!V379)","v":344.95791964134582},{"$f":"IF($C379=\"\",\"\",Simulação!W379)","v":"*"},{"$f":"IF($C379=\"\",\"\",Simulação!X379)","v":350.47795484251867},{"$f":"IF($C379=\"\",\"\",Simulação!Y379)","v":"*"},{"$f":"IF($C379=\"\",\"\",Simulação!Z379)","v":348.11995566721004},{"$f":"IF($C379=\"\",\"\",Simulação!AA379)","v":"*"},{"$f":"IF($C379=\"\",\"\",Simulação!AB379)","v":344.70943710716369},{"$f":"IF($C379=\"\",\"\",Simulação!AC379)","v":"*"},{"$f":"IF($C379=\"\",\"\",Simulação!AD379)","v":341.76920082082432},{"$f":"IF($C379=\"\",\"\",Simulação!AE379)","v":"*"},{"$f":"IF($C379=\"\",\"\",Simulação!AF379)","v":350.98645257323926},{"$f":"IF($C379=\"\",\"\",Simulação!AG379)","v":339.89999999999992},{"$f":"IF($C379=\"\",\"\",Simulação!AH379)","v":348.63196013630733},{"$f":"IF($C379=\"\",\"\",Simulação!AI379)","v":"-"},{"$f":"IF($C379=\"\",\"\",Simulação!AJ379)","v":33.045125393740342},{"$f":"IF($C379=\"\",\"\",Simulação!AK379)","v":"-"},{"$f":"IF($C379=\"\",\"\",Simulação!AL379)","v":32.02721881559642},{"$f":"IF($C379=\"\",\"\",Simulação!AM379)","v":"-"},{"$f":"IF($C379=\"\",\"\",Simulação!AN379)","v":32.217563507182206},{"$f":"IF($C379=\"\",\"\",Simulação!AO379)","v":"-"},{"$f":"IF($C379=\"\",\"\",Simulação!AP379)","v":36.406016086434107},{"$f":"IF($C379=\"\",\"\",Simulação!AQ379)","v":"-"},{"$f":"IF($C379=\"\",\"\",Simulação!AR379)","v":0}]
[null,373,{"$f":"IF(Chegadas!J381<=$C$5,Chegadas!J381,\"\")","v":341.53999999999991},{"$f":"IF($C380=\"\",\"\",Simulação!D380)","v":2.50397250630109},{"$f":"IF($C380=\"\",\"\",Simulação!E380)","v":"*"},{"$f":"IF($C380=\"\",\"\",Simulação!F380)","v":343.55804580003399},{"$f":"IF($C380=\"\",\"\",Simulação!G380)","v":"*"},{"$f":"IF($C380=\"\",\"\",Simulação!H380)","v":341.9633207723578},{"$f":"IF($C380=\"\",\"\",Simulação!I380)","v":"*"},{"$f":"IF($C380=\"\",\"\",Simulação!J380)","v":344.61727548327207},{"$f":"IF($C380=\"\",\"\",Simulação!K380)","v":341.53999999999991},{"$f":"IF($C380=\"\",\"\",Simulação!L380)","v":344.04397250630097},{"$f":"IF($C380=\"\",\"\",Simulação!M380)","v":"-"},{"$f":"IF($C380=\"\",\"\",Simulação!N380)","v":340.23878496733238},{"$f":"IF($C380=\"\",\"\",Simulação!O380)","v":"-"},{"$f":"IF($C380=\"\",\"\",Simulação!P380)","v":340.39536350208368},{"$f":"IF($C380=\"\",\"\",Simulação!Q380)","v":"-"},{"$f":"IF($C380=\"\",\"\",Simulação!R380)","v":347.83884221498857},{"$f":"IF($C380=\"\",\"\",Simulação!S380)","v":"-"},{"$f":"IF($C380=\"\",\"\",Simulação!T380)","v":339.91081754919708},{"$f":"IF($C380=\"\",\"\",Simulação!U380)","v":"-"},{"$f":"IF($C380=\"\",\"\",Simulação!V380)","v":344.95791964134582},{"$f":"IF($C380=\"\",\"\",Simulação!W380)","v":"-"},{"$f":"IF($C380=\"\",\"\",Simulação!X380)","v":350.47795484251867},{"$f":"IF($C380=\"\",\"\",Simulação!Y380)","v":"-"},{"$f":"IF($C380=\"\",\"\",Simulação!Z380)","v":348.11995566721004},{"$f":"IF($C380=\"\",\"\",Simulação!AA380)","v":"-"},{"$f":"IF($C380=\"\",\"\",Simulação!AB380)","v":344.70943710716369},{"$f":"IF($C380=\"\",\"\",Simulação!AC380)","v":"-"},{"$f":"IF($C380=\"\",\"\",Simulação!AD380)","v":341.76920082082432},{"$f":"IF($C380=\"\",\"\",Simulação!AE380)","v":"-"},{"$f":"IF($C380=\"\",\"\",Simulação!AF380)","v":350.98645257323926},{"$f":"IF($C380=\"\",\"\",Simulação!AG380)","v":"-"},{"$f":"IF($C380=\"\",\"\",Simulação!AH380)","v":348.63196013630733},{"$f":"IF($C380=\"\",\"\",Simulação!AI380)","v":"-"},{"$f":"IF($C380=\"\",\"\",Simulação!AJ380)","v":33.045125393740342},{"$f":"IF($C380=\"\",\"\",Simulação!AK380)","v":"-"},{"$f":"IF($C380=\"\",\"\",Simulação!AL380)","v":32.02721881559642},{"$f":"IF($C380=\"\",\"\",Simulação!AM380)","v":"-"},{"$f":"IF($C380=\"\",\"\",Simulação!AN380)","v":32.217563507182206},{"$f":"IF($C380=\"\",\"\",Simulação!AO380)","v":"-"},{"$f":"IF($C380=\"\",\"\",Simulação!AP380)","v":36.406016086434107},{"$f":"IF($C380=\"\",\"\",Simulação!AQ380)","v":"-"},{"$f":"IF($C380=\"\",\"\",Simulação!AR380)","v":0}]
[null,374,{"$f":"IF(Chegadas!J382<=$C$5,Chegadas!J382,\"\")","v":342.52999999999992},{"$f":"IF($C381=\"\",\"\",Simulação!D381)","v":8.30947570788231},{"$f":"IF($C381=\"\",\"\",Simulação!E381)","v":"*"},{"$f":"IF($C381=\"\",\"\",Simulação!F381)","v":343.55804580003399},{"$f":"IF($C381=\"\",\"\",Simulação!G381)","v":342.52999999999992},{"$f":"IF($C381=\"\",\"\",Simulação!H381)","v":350.83947570788223},{"$f":"IF($C381=\"\",\"\",Simulação!I381)","v":"-"},{"$f":"IF($C381=\"\",\"\",Simulação!J381)","v":344.61727548327207},{"$f":"IF($C381=\"\",\"\",Simulação!K381)","v":"-"},{"$f":"IF($C381=\"\",\"\",Simulação!L381)","v":344.04397250630097},{"$f":"IF($C381=\"\",\"\",Simulação!M381)","v":"-"},{"$f":"IF($C381=\"\",\"\",Simulação!N381)","v":340.23878496733238},{"$f":"IF($C381=\"\",\"\",Simulação!O381)","v":"-"},{"$f":"IF($C381=\"\",\"\",Simulação!P381)","v":340.39536350208368},{"$f":"IF($C381=\"\",\"\",Simulação!Q381)","v":"-"},{"$f":"IF($C381=\"\",\"\",Simulação!R381)","v":347.83884221498857},{"$f":"IF($C381=\"\",\"\",Simulação!S381)","v":"-"},{"$f":"IF($C381=\"\",\"\",Simulação!T381)","v":339.91081754919708},{"$f":"IF($C381=\"\",\"\",Simulação!U381)","v":"-"},{"$f":"IF($C381=\"\",\"\",Simulação!V381)","v":344.95791964134582},{"$f":"IF($C381=\"\",\"\",Simulação!W381)","v":"-"},{"$f":"IF($C381=\"\",\"\",Simulação!X381)","v":350.47795484251867},{"$f":"IF($C381=\"\",\"\",Simulação!Y381)","v":"-"},{"$f":"IF($C381=\"\",\"\",Simulação!Z381)","v":348.11995566721004},{"$f":"IF($C381=\"\",\"\",Simulação!AA381)","v":"-"},{"$f":"IF($C381=\"\",\"\",Simulação!AB381)","v":344.70943710716369},{"$f":"IF($C381=\"\",\"\",Simulação!AC381)","v":"-"},{"$f":"IF($C381=\"\",\"\",Simulação!AD381)","v":341.76920082082432},{"$f":"IF($C381=\"\",\"\",Simulação!AE381)","v":"-"},{"$f":"IF($C381=\"\",\"\",Simulação!AF381)","v":350.98645257323926},{"$f":"IF($C381=\"\",\"\",Simulação!AG381)","v":"-"},{"$f":"IF($C381=\"\",\"\",Simulação!AH381)","v":348.63196013630733},{"$f":"IF($C381=\"\",\"\",Simulação!AI381)","v":"-"},{"$f":"IF($C381=\"\",\"\",Simulação!AJ381)","v":33.045125393740342},{"$f":"IF($C381=\"\",\"\",Simulação!AK381)","v":"-"},{"$f":"IF($C381=\"\",\"\",Simulação!AL381)","v":32.02721881559642},{"$f":"IF($C381=\"\",\"\",Simulação!AM381)","v":"-"},{"$f":"IF($C381=\"\",\"\",Simulação!AN381)","v":32.217563507182206},{"$f":"IF($C381=\"\",\"\",Simulação!AO381)","v":"-"},{"$f":"IF($C381=\"\",\"\",Simulação!AP381)","v":36.406016086434107},{"$f":"IF($C381=\"\",\"\",Simulação!AQ381)","v":"-"},{"$f":"IF($C381=\"\",\"\",Simulação!AR381)","v":0}]
[null,375,{"$f":"IF(Chegadas!J383<=$C$5,Chegadas!J383,\"\")","v":343.25},{"$f":"IF($C382=\"\",\"\",Simulação!D382)","v":0.75753882848395171},{"$f":"IF($C382=\"\",\"\",Simulação!E382)","v":"*"},{"$f":"IF($C382=\"\",\"\",Simulação!F382)","v":343.55804580003399},{"$f":"IF($C382=\"\",\"\",Simulação!G382)","v":"*"},{"$f":"IF($C382=\"\",\"\",Simulação!H382)","v":350.83947570788223},{"$f":"IF($C382=\"\",\"\",Simulação!I382)","v":"*"},{"$f":"IF($C382=\"\",\"\",Simulação!J382)","v":344.61727548327207},{"$f":"IF($C382=\"\",\"\",Simulação!K382)","v":"*"},{"$f":"IF($C382=\"\",\"\",Simulação!L382)","v":344.04397250630097},{"$f":"IF($C382=\"\",\"\",Simulação!M382)","v":343.25},{"$f":"IF($C382=\"\",\"\",Simulação!N382)","v":344.00753882848397},{"$f":"IF($C382=\"\",\"\",Simulação!O382)","v":"-"},{"$f":"IF($C382=\"\",\"\",Simulação!P382)","v":340.39536350208368},{"$f":"IF($C382=\"\",\"\",Simulação!Q382)","v":"-"},{"$f":"IF($C382=\"\",\"\",Simulação!R382)","v":347.83884221498857},{"$f":"IF($C382=\"\",\"\",Simulação!S382)","v":"-"},{"$f":"IF($C382=\"\",\"\",Simulação!T382)","v":339.91081754919708},{"$f":"IF($C382=\"\",\"\",Simulação!U382)","v":"-"},{"$f":"IF($C382=\"\",\"\",Simulação!V382)","v":344.95791964134582},{"$f":"IF($C382=\"\",\"\",Simulação!W382)","v":"-"},{"$f":"IF($C382=\"\",\"\",Simulação!X382)","v":350.47795484251867},{"$f":"IF($C382=\"\",\"\",Simulação!Y382)","v":"-"},{"$f":"IF($C382=\"\",\"\",Simulação!Z382)","v":348.11995566721004},{"$f":"IF($C382=\"\",\"\",Simulação!AA382)","v":"-"},{"$f":"IF($C382=\"\",\"\",Simulação!AB382)","v":344.70943710716369},{"$f":"IF($C382=\"\",\"\",Simulação!AC382)","v":"-"},{"$f":"IF($C382=\"\",\"\",Simulação!AD382)","v":341.76920082082432},{"$f":"IF($C382=\"\",\"\",Simulação!AE382)","v":"-"},{"$f":"IF($C382=\"\",\"\",Simulação!AF382)","v":350.98645257323926},{"$f":"IF($C382=\"\",\"\",Simulação!AG382)","v":"-"},{"$f":"IF($C382=\"\",\"\",Simulação!AH382)","v":348.63196013630733},{"$f":"IF($C382=\"\",\"\",Simulação!AI382)","v":"-"},{"$f":"IF($C382=\"\",\"\",Simulação!AJ382)","v":33.045125393740342},{"$f":"IF($C382=\"\",\"\",Simulação!AK382)","v":"-"},{"$f":"IF($C382=\"\",\"\",Simulação!AL382)","v":32.02721881559642},{"$f":"IF($C382=\"\",\"\",Simulação!AM382)","v":"-"},{"$f":"IF($C382=\"\",\"\",Simulação!AN382)","v":32.217563507182206},{"$f":"IF($C382=\"\",\"\",Simulação!AO382)","v":"-"},{"$f":"IF($C382=\"\",\"\",Simulação!AP382)","v":36.406016086434107},{"$f":"IF($C382=\"\",\"\",Simulação!AQ382)","v":"-"},{"$f":"IF($C382=\"\",\"\",Simulação!AR382)","v":0}]
[null,376,{"$f":"IF(Chegadas!J384<=$C$5,Chegadas!J384,\"\")","v":343.37999999999994},{"$f":"IF($C383=\"\",\"\",Simulação!D383)","v":6.4642227582358185},{"$f":"IF($C383=\"\",\"\",Simulação!E383)","v":"*"},{"$f":"IF($C383=\"\",\"\",Simulação!F383)","v":343.55804580003399},{"$f":"IF($C383=\"\",\"\",Simulação!G383)","v":"*"},{"$f":"IF($C383=\"\",\"\",Simulação!H383)","v":350.83947570788223},{"$f":"IF($C383=\"\",\"\",Simulação!I383)","v":"*"},{"$f":"IF($C383=\"\",\"\",Simulação!J383)","v":344.61727548327207},{"$f":"IF($C383=\"\",\"\",Simulação!K383)","v":"*"},{"$f":"IF($C383=\"\",\"\",Simulação!L383)","v":344.04397250630097},{"$f":"IF($C383=\"\",\"\",Simulação!M383)","v":"*"},{"$f":"IF($C383=\"\",\"\",Simulação!N383)","v":344.00753882848397},{"$f":"IF($C383=\"\",\"\",Simulação!O383)","v":343.37999999999994},{"$f":"IF($C383=\"\",\"\",Simulação!P383)","v":349.84422275823573},{"$f":"IF($C383=\"\",\"\",Simulação!Q383)","v":"-"},{"$f":"IF($C383=\"\",\"\",Simulação!R383)","v":347.83884221498857},{"$f":"IF($C383=\"\",\"\",Simulação!S383)","v":"-"},{"$f":"IF($C383=\"\",\"\",Simulação!T383)","v":339.91081754919708},{"$f":"IF($C383=\"\",\"\",Simulação!U383)","v":"-"},{"$f":"IF($C383=\"\",\"\",Simulação!V383)","v":344.95791964134582},{"$f":"IF($C383=\"\",\"\",Simulação!W383)","v":"-"},{"$f":"IF($C383=\"\",\"\",Simulação!X383)","v":350.47795484251867},{"$f":"IF($C383=\"\",\"\",Simulação!Y383)","v":"-"},{"$f":"IF($C383=\"\",\"\",Simulação!Z383)","v":348.11995566721004},{"$f":"IF($C383=\"\",\"\",Simulação!AA383)","v":"-"},{"$f":"IF($C383=\"\",\"\",Simulação!AB383)","v":344.70943710716369},{"$f":"IF($C383=\"\",\"\",Simulação!AC383)","v":"-"},{"$f":"IF($C383=\"\",\"\",Simulação!AD383)","v":341.76920082082432},{"$f":"IF($C383=\"\",\"\",Simulação!AE383)","v":"-"},{"$f":"IF($C383=\"\",\"\",Simulação!AF383)","v":350.98645257323926},{"$f":"IF($C383=\"\",\"\",Simulação!AG383)","v":"-"},{"$f":"IF($C383=\"\",\"\",Simulação!AH383)","v":348.63196013630733},{"$f":"IF($C383=\"\",\"\",Simulação!AI383)","v":"-"},{"$f":"IF($C383=\"\",\"\",Simulação!AJ383)","v":33.045125393740342},{"$f":"IF($C383=\"\",\"\",Simulação!AK383)","v":"-"},{"$f":"IF($C383=\"\",\"\",Simulação!AL383)","v":32.02721881559642},{"$f":"IF($C383=\"\",\"\",Simulação!AM383)","v":"-"},{"$f":"IF($C383=\"\",\"\",Simulação!AN383)","v":32.217563507182206},{"$f":"IF($C383=\"\",\"\",Simulação!AO383)","v":"-"},{"$f":"IF($C383=\"\",\"\",Simulação!AP383)","v":36.406016086434107},{"$f":"IF($C383=\"\",\"\",Simulação!AQ383)","v":"-"},{"$f":"IF($C383=\"\",\"\",Simulação!AR383)","v":0}]
[null,377,{"$f":"IF(Chegadas!J385<=$C$5,Chegadas!J385,\"\")","v":343.96999999999991},{"$f":"IF($C384=\"\",\"\",Simulação!D384)","v":3.6125862831644504},{"$f":"IF($C384=\"\",\"\",Simulação!E384)","v":343.96999999999991},{"$f":"IF($C384=\"\",\"\",Simulação!F384)","v":347.58258628316435},{"$f":"IF($C384=\"\",\"\",Simulação!G384)","v":"-"},{"$f":"IF($C384=\"\",\"\",Simulação!H384)","v":350.83947570788223},{"$f":"IF($C384=\"\",\"\",Simulação!I384)","v":"-"},{"$f":"IF($C384=\"\",\"\",Simulação!J384)","v":344.61727548327207},{"$f":"IF($C384=\"\",\"\",Simulação!K384)","v":"-"},{"$f":"IF($C384=\"\",\"\",Simulação!L384)","v":344.04397250630097},{"$f":"IF($C384=\"\",\"\",Simulação!M384)","v":"-"},{"$f":"IF($C384=\"\",\"\",Simulação!N384)","v":344.00753882848397},{"$f":"IF($C384=\"\",\"\",Simulação!O384)","v":"-"},{"$f":"IF($C384=\"\",\"\",Simulação!P384)","v":349.84422275823573},{"$f":"IF($C384=\"\",\"\",Simulação!Q384)","v":"-"},{"$f":"IF($C384=\"\",\"\",Simulação!R384)","v":347.83884221498857},{"$f":"IF($C384=\"\",\"\",Simulação!S384)","v":"-"},{"$f":"IF($C384=\"\",\"\",Simulação!T384)","v":339.91081754919708},{"$f":"IF($C384=\"\",\"\",Simulação!U384)","v":"-"},{"$f":"IF($C384=\"\",\"\",Simulação!V384)","v":344.95791964134582},{"$f":"IF($C384=\"\",\"\",Simulação!W384)","v":"-"},{"$f":"IF($C384=\"\",\"\",Simulação!X384)","v":350.47795484251867},{"$f":"IF($C384=\"\",\"\",Simulação!Y384)","v":"-"},{"$f":"IF($C384=\"\",\"\",Simulação!Z384)","v":348.11995566721004},{"$f":"IF($C384=\"\",\"\",Simulação!AA384)","v":"-"},{"$f":"IF($C384=\"\",\"\",Simulação!AB384)","v":344.70943710716369},{"$f":"IF($C384=\"\",\"\",Simulação!AC384)","v":"-"},{"$f":"IF($C384=\"\",\"\",Simulação!AD384)","v":341.76920082082432},{"$f":"IF($C384=\"\",\"\",Simulação!AE384)","v":"-"},{"$f":"IF($C384=\"\",\"\",Simulação!AF384)","v":350.98645257323926},{"$f":"IF($C384=\"\",\"\",Simulação!AG384)","v":"-"},{"$f":"IF($C384=\"\",\"\",Simulação!AH384)","v":348.63196013630733},{"$f":"IF($C384=\"\",\"\",Simulação!AI384)","v":"-"},{"$f":"IF($C384=\"\",\"\",Simulação!AJ384)","v":33.045125393740342},{"$f":"IF($C384=\"\",\"\",Simulação!AK384)","v":"-"},{"$f":"IF($C384=\"\",\"\",Simulação!AL384)","v":32.02721881559642},{"$f":"IF($C384=\"\",\"\",Simulação!AM384)","v":"-"},{"$f":"IF($C384=\"\",\"\",Simulação!AN384)","v":32.217563507182206},{"$f":"IF($C384=\"\",\"\",Simulação!AO384)","v":"-"},{"$f":"IF($C384=\"\",\"\",Simulação!AP384)","v":36.406016086434107},{"$f":"IF($C384=\"\",\"\",Simulação!AQ384)","v":"-"},{"$f":"IF($C384=\"\",\"\",Simulação!AR384)","v":0}]
[null,378,{"$f":"IF(Chegadas!J386<=$C$5,Chegadas!J386,\"\")","v":345.24999999999989},{"$f":"IF($C385=\"\",\"\",Simulação!D385)","v":11.144353178921559},{"$f":"IF($C385=\"\",\"\",Simulação!E385)","v":"*"},{"$f":"IF($C385=\"\",\"\",Simulação!F385)","v":347.58258628316435},{"$f":"IF($C385=\"\",\"\",Simulação!G385)","v":"*"},{"$f":"IF($C385=\"\",\"\",Simulação!H385)","v":350.83947570788223},{"$f":"IF($C385=\"\",\"\",Simulação!I385)","v":345.24999999999989},{"$f":"IF($C385=\"\",\"\",Simulação!J385)","v":356.39435317892145},{"$f":"IF($C385=\"\",\"\",Simulação!K385)","v":"-"},{"$f":"IF($C385=\"\",\"\",Simulação!L385)","v":344.04397250630097},{"$f":"IF($C385=\"\",\"\",Simulação!M385)","v":"-"},{"$f":"IF($C385=\"\",\"\",Simulação!N385)","v":344.00753882848397},{"$f":"IF($C385=\"\",\"\",Simulação!O385)","v":"-"},{"$f":"IF($C385=\"\",\"\",Simulação!P385)","v":349.84422275823573},{"$f":"IF($C385=\"\",\"\",Simulação!Q385)","v":"-"},{"$f":"IF($C385=\"\",\"\",Simulação!R385)","v":347.83884221498857},{"$f":"IF($C385=\"\",\"\",Simulação!S385)","v":"-"},{"$f":"IF($C385=\"\",\"\",Simulação!T385)","v":339.91081754919708},{"$f":"IF($C385=\"\",\"\",Simulação!U385)","v":"-"},{"$f":"IF($C385=\"\",\"\",Simulação!V385)","v":344.95791964134582},{"$f":"IF($C385=\"\",\"\",Simulação!W385)","v":"-"},{"$f":"IF($C385=\"\",\"\",Simulação!X385)","v":350.47795484251867},{"$f":"IF($C385=\"\",\"\",Simulação!Y385)","v":"-"},{"$f":"IF($C385=\"\",\"\",Simulação!Z385)","v":348.11995566721004},{"$f":"IF($C385=\"\",\"\",Simulação!AA385)","v":"-"},{"$f":"IF($C385=\"\",\"\",Simulação!AB385)","v":344.70943710716369},{"$f":"IF($C385=\"\",\"\",Simulação!AC385)","v":"-"},{"$f":"IF($C385=\"\",\"\",Simulação!AD385)","v":341.76920082082432},{"$f":"IF($C385=\"\",\"\",Simulação!AE385)","v":"-"},{"$f":"IF($C385=\"\",\"\",Simulação!AF385)","v":350.98645257323926},{"$f":"IF($C385=\"\",\"\",Simulação!AG385)","v":"-"},{"$f":"IF($C385=\"\",\"\",Simulação!AH385)","v":348.63196013630733},{"$f":"IF($C385=\"\",\"\",Simulação!AI385)","v":"-"},{"$f":"IF($C385=\"\",\"\",Simulação!AJ385)","v":33.045125393740342},{"$f":"IF($C385=\"\",\"\",Simulação!AK385)","v":"-"},{"$f":"IF($C385=\"\",\"\",Simulação!AL385)","v":32.02721881559642},{"$f":"IF($C385=\"\",\"\",Simulação!AM385)","v":"-"},{"$f":"IF($C385=\"\",\"\",Simulação!AN385)","v":32.217563507182206},{"$f":"IF($C385=\"\",\"\",Simulação!AO385)","v":"-"},{"$f":"IF($C385=\"\",\"\",Simulação!AP385)","v":36.406016086434107},{"$f":"IF($C385=\"\",\"\",Simulação!AQ385)","v":"-"},{"$f":"IF($C385=\"\",\"\",Simulação!AR385)","v":0}]
[null,379,{"$f":"IF(Chegadas!J387<=$C$5,Chegadas!J387,\"\")","v":345.71999999999991},{"$f":"IF($C386=\"\",\"\",Simulação!D386)","v":7.2841913034104833},{"$f":"IF($C386=\"\",\"\",Simulação!E386)","v":"*"},{"$f":"IF($C386=\"\",\"\",Simulação!F386)","v":347.58258628316435},{"$f":"IF($C386=\"\",\"\",Simulação!G386)","v":"*"},{"$f":"IF($C386=\"\",\"\",Simulação!H386)","v":350.83947570788223},{"$f":"IF($C386=\"\",\"\",Simulação!I386)","v":"*"},{"$f":"IF($C386=\"\",\"\",Simulação!J386)","v":356.39435317892145},{"$f":"IF($C386=\"\",\"\",Simulação!K386)","v":345.71999999999991},{"$f":"IF($C386=\"\",\"\",Simulação!L386)","v":353.00419130341038},{"$f":"IF($C386=\"\",\"\",Simulação!M386)","v":"-"},{"$f":"IF($C386=\"\",\"\",Simulação!N386)","v":344.00753882848397},{"$f":"IF($C386=\"\",\"\",Simulação!O386)","v":"-"},{"$f":"IF($C386=\"\",\"\",Simulação!P386)","v":349.84422275823573},{"$f":"IF($C386=\"\",\"\",Simulação!Q386)","v":"-"},{"$f":"IF($C386=\"\",\"\",Simulação!R386)","v":347.83884221498857},{"$f":"IF($C386=\"\",\"\",Simulação!S386)","v":"-"},{"$f":"IF($C386=\"\",\"\",Simulação!T386)","v":339.91081754919708},{"$f":"IF($C386=\"\",\"\",Simulação!U386)","v":"-"},{"$f":"IF($C386=\"\",\"\",Simulação!V386)","v":344.95791964134582},{"$f":"IF($C386=\"\",\"\",Simulação!W386)","v":"-"},{"$f":"IF($C386=\"\",\"\",Simulação!X386)","v":350.47795484251867},{"$f":"IF($C386=\"\",\"\",Simulação!Y386)","v":"-"},{"$f":"IF($C386=\"\",\"\",Simulação!Z386)","v":348.11995566721004},{"$f":"IF($C386=\"\",\"\",Simulação!AA386)","v":"-"},{"$f":"IF($C386=\"\",\"\",Simulação!AB386)","v":344.70943710716369},{"$f":"IF($C386=\"\",\"\",Simulação!AC386)","v":"-"},{"$f":"IF($C386=\"\",\"\",Simulação!AD386)","v":341.76920082082432},{"$f":"IF($C386=\"\",\"\",Simulação!AE386)","v":"-"},{"$f":"IF($C386=\"\",\"\",Simulação!AF386)","v":350.98645257323926},{"$f":"IF($C386=\"\",\"\",Simulação!AG386)","v":"-"},{"$f":"IF($C386=\"\",\"\",Simulação!AH386)","v":348.63196013630733},{"$f":"IF($C386=\"\",\"\",Simulação!AI386)","v":"-"},{"$f":"IF($C386=\"\",\"\",Simulação!AJ386)","v":33.045125393740342},{"$f":"IF($C386=\"\",\"\",Simulação!AK386)","v":"-"},{"$f":"IF($C386=\"\",\"\",Simulação!AL386)","v":32.02721881559642},{"$f":"IF($C386=\"\",\"\",Simulação!AM386)","v":"-"},{"$f":"IF($C386=\"\",\"\",Simulação!AN386)","v":32.217563507182206},{"$f":"IF($C386=\"\",\"\",Simulação!AO386)","v":"-"},{"$f":"IF($C386=\"\",\"\",Simulação!AP386)","v":36.406016086434107},{"$f":"IF($C386=\"\",\"\",Simulação!AQ386)","v":"-"},{"$f":"IF($C386=\"\",\"\",Simulação!AR386)","v":0}]
[null,380,{"$f":"IF(Chegadas!J388<=$C$5,Chegadas!J388,\"\")","v":346.59999999999991},{"$f":"IF($C387=\"\",\"\",Simulação!D387)","v":3.8609055567572268},{"$f":"IF($C387=\"\",\"\",Simulação!E387)","v":"*"},{"$f":"IF($C387=\"\",\"\",Simulação!F387)","v":347.58258628316435},{"$f":"IF($C387=\"\",\"\",Simulação!G387)","v":"*"},{"$f":"IF($C387=\"\",\"\",Simulação!H387)","v":350.83947570788223},{"$f":"IF($C387=\"\",\"\",Simulação!I387)","v":"*"},{"$f":"IF($C387=\"\",\"\",Simulação!J387)","v":356.39435317892145},{"$f":"IF($C387=\"\",\"\",Simulação!K387)","v":"*"},{"$f":"IF($C387=\"\",\"\",Simulação!L387)","v":353.00419130341038},{"$f":"IF($C387=\"\",\"\",Simulação!M387)","v":346.59999999999991},{"$f":"IF($C387=\"\",\"\",Simulação!N387)","v":350.46090555675715},{"$f":"IF($C387=\"\",\"\",Simulação!O387)","v":"-"},{"$f":"IF($C387=\"\",\"\",Simulação!P387)","v":349.84422275823573},{"$f":"IF($C387=\"\",\"\",Simulação!Q387)","v":"-"},{"$f":"IF($C387=\"\",\"\",Simulação!R387)","v":347.83884221498857},{"$f":"IF($C387=\"\",\"\",Simulação!S387)","v":"-"},{"$f":"IF($C387=\"\",\"\",Simulação!T387)","v":339.91081754919708},{"$f":"IF($C387=\"\",\"\",Simulação!U387)","v":"-"},{"$f":"IF($C387=\"\",\"\",Simulação!V387)","v":344.95791964134582},{"$f":"IF($C387=\"\",\"\",Simulação!W387)","v":"-"},{"$f":"IF($C387=\"\",\"\",Simulação!X387)","v":350.47795484251867},{"$f":"IF($C387=\"\",\"\",Simulação!Y387)","v":"-"},{"$f":"IF($C387=\"\",\"\",Simulação!Z387)","v":348.11995566721004},{"$f":"IF($C387=\"\",\"\",Simulação!AA387)","v":"-"},{"$f":"IF($C387=\"\",\"\",Simulação!AB387)","v":344.70943710716369},{"$f":"IF($C387=\"\",\"\",Simulação!AC387)","v":"-"},{"$f":"IF($C387=\"\",\"\",Simulação!AD387)","v":341.76920082082432},{"$f":"IF($C387=\"\",\"\",Simulação!AE387)","v":"-"},{"$f":"IF($C387=\"\",\"\",Simulação!AF387)","v":350.98645257323926},{"$f":"IF($C387=\"\",\"\",Simulação!AG387)","v":"-"},{"$f":"IF($C387=\"\",\"\",Simulação!AH387)","v":348.63196013630733},{"$f":"IF($C387=\"\",\"\",Simulação!AI387)","v":"-"},{"$f":"IF($C387=\"\",\"\",Simulação!AJ387)","v":33.045125393740342},{"$f":"IF($C387=\"\",\"\",Simulação!AK387)","v":"-"},{"$f":"IF($C387=\"\",\"\",Simulação!AL387)","v":32.02721881559642},{"$f":"IF($C387=\"\",\"\",Simulação!AM387)","v":"-"},{"$f":"IF($C387=\"\",\"\",Simulação!AN387)","v":32.217563507182206},{"$f":"IF($C387=\"\",\"\",Simulação!AO387)","v":"-"},{"$f":"IF($C387=\"\",\"\",Simulação!AP387)","v":36.406016086434107},{"$f":"IF($C387=\"\",\"\",Simulação!AQ387)","v":"-"},{"$f":"IF($C387=\"\",\"\",Simulação!AR387)","v":0}]
[null,381,{"$f":"IF(Chegadas!J389<=$C$5,Chegadas!J389,\"\")","v":346.63999999999993},{"$f":"IF($C388=\"\",\"\",Simulação!D388)","v":4.7046115883784676},{"$f":"IF($C388=\"\",\"\",Simulação!E388)","v":"*"},{"$f":"IF($C388=\"\",\"\",Simulação!F388)","v":347.58258628316435},{"$f":"IF($C388=\"\",\"\",Simulação!G388)","v":"*"},{"$f":"IF($C388=\"\",\"\",Simulação!H388)","v":350.83947570788223},{"$f":"IF($C388=\"\",\"\",Simulação!I388)","v":"*"},{"$f":"IF($C388=\"\",\"\",Simulação!J388)","v":356.39435317892145},{"$f":"IF($C388=\"\",\"\",Simulação!K388)","v":"*"},{"$f":"IF($C388=\"\",\"\",Simulação!L388)","v":353.00419130341038},{"$f":"IF($C388=\"\",\"\",Simulação!M388)","v":"*"},{"$f":"IF($C388=\"\",\"\",Simulação!N388)","v":350.46090555675715},{"$f":"IF($C388=\"\",\"\",Simulação!O388)","v":"*"},{"$f":"IF($C388=\"\",\"\",Simulação!P388)","v":349.84422275823573},{"$f":"IF($C388=\"\",\"\",Simulação!Q388)","v":"*"},{"$f":"IF($C388=\"\",\"\",Simulação!R388)","v":347.83884221498857},{"$f":"IF($C388=\"\",\"\",Simulação!S388)","v":346.63999999999993},{"$f":"IF($C388=\"\",\"\",Simulação!T388)","v":351.34461158837837},{"$f":"IF($C388=\"\",\"\",Simulação!U388)","v":"-"},{"$f":"IF($C388=\"\",\"\",Simulação!V388)","v":344.95791964134582},{"$f":"IF($C388=\"\",\"\",Simulação!W388)","v":"-"},{"$f":"IF($C388=\"\",\"\",Simulação!X388)","v":350.47795484251867},{"$f":"IF($C388=\"\",\"\",Simulação!Y388)","v":"-"},{"$f":"IF($C388=\"\",\"\",Simulação!Z388)","v":348.11995566721004},{"$f":"IF($C388=\"\",\"\",Simulação!AA388)","v":"-"},{"$f":"IF($C388=\"\",\"\",Simulação!AB388)","v":344.70943710716369},{"$f":"IF($C388=\"\",\"\",Simulação!AC388)","v":"-"},{"$f":"IF($C388=\"\",\"\",Simulação!AD388)","v":341.76920082082432},{"$f":"IF($C388=\"\",\"\",Simulação!AE388)","v":"-"},{"$f":"IF($C388=\"\",\"\",Simulação!AF388)","v":350.98645257323926},{"$f":"IF($C388=\"\",\"\",Simulação!AG388)","v":"-"},{"$f":"IF($C388=\"\",\"\",Simulação!AH388)","v":348.63196013630733},{"$f":"IF($C388=\"\",\"\",Simulação!AI388)","v":"-"},{"$f":"IF($C388=\"\",\"\",Simulação!AJ388)","v":33.045125393740342},{"$f":"IF($C388=\"\",\"\",Simulação!AK388)","v":"-"},{"$f":"IF($C388=\"\",\"\",Simulação!AL388)","v":32.02721881559642},{"$f":"IF($C388=\"\",\"\",Simulação!AM388)","v":"-"},{"$f":"IF($C388=\"\",\"\",Simulação!AN388)","v":32.217563507182206},{"$f":"IF($C388=\"\",\"\",Simulação!AO388)","v":"-"},{"$f":"IF($C388=\"\",\"\",Simulação!AP388)","v":36.406016086434107},{"$f":"IF($C388=\"\",\"\",Simulação!AQ388)","v":"-"},{"$f":"IF($C388=\"\",\"\",Simulação!AR388)","v":0}]
[null,382,{"$f":"IF(Chegadas!J390<=$C$5,Chegadas!J390,\"\")","v":349.51999999999992},{"$f":"IF($C389=\"\",\"\",Simulação!D389)","v":11.38355688137778},{"$f":"IF($C389=\"\",\"\",Simulação!E389)","v":349.51999999999992},{"$f":"IF($C389=\"\",\"\",Simulação!F389)","v":360.90355688137771},{"$f":"IF($C389=\"\",\"\",Simulação!G389)","v":"-"},{"$f":"IF($C389=\"\",\"\",Simulação!H389)","v":350.83947570788223},{"$f":"IF($C389=\"\",\"\",Simulação!I389)","v":"-"},{"$f":"IF($C389=\"\",\"\",Simulação!J389)","v":356.39435317892145},{"$f":"IF($C389=\"\",\"\",Simulação!K389)","v":"-"},{"$f":"IF($C389=\"\",\"\",Simulação!L389)","v":353.00419130341038},{"$f":"IF($C389=\"\",\"\",Simulação!M389)","v":"-"},{"$f":"IF($C389=\"\",\"\",Simulação!N389)","v":350.46090555675715},{"$f":"IF($C389=\"\",\"\",Simulação!O389)","v":"-"},{"$f":"IF($C389=\"\",\"\",Simulação!P389)","v":349.84422275823573},{"$f":"IF($C389=\"\",\"\",Simulação!Q389)","v":"-"},{"$f":"IF($C389=\"\",\"\",Simulação!R389)","v":347.83884221498857},{"$f":"IF($C389=\"\",\"\",Simulação!S389)","v":"-"},{"$f":"IF($C389=\"\",\"\",Simulação!T389)","v":351.34461158837837},{"$f":"IF($C389=\"\",\"\",Simulação!U389)","v":"-"},{"$f":"IF($C389=\"\",\"\",Simulação!V389)","v":344.95791964134582},{"$f":"IF($C389=\"\",\"\",Simulação!W389)","v":"-"},{"$f":"IF($C389=\"\",\"\",Simulação!X389)","v":350.47795484251867},{"$f":"IF($C389=\"\",\"\",Simulação!Y389)","v":"-"},{"$f":"IF($C389=\"\",\"\",Simulação!Z389)","v":348.11995566721004},{"$f":"IF($C389=\"\",\"\",Simulação!AA389)","v":"-"},{"$f":"IF($C389=\"\",\"\",Simulação!AB389)","v":344.70943710716369},{"$f":"IF($C389=\"\",\"\",Simulação!AC389)","v":"-"},{"$f":"IF($C389=\"\",\"\",Simulação!AD389)","v":341.76920082082432},{"$f":"IF($C389=\"\",\"\",Simulação!AE389)","v":"-"},{"$f":"IF($C389=\"\",\"\",Simulação!AF389)","v":350.98645257323926},{"$f":"IF($C389=\"\",\"\",Simulação!AG389)","v":"-"},{"$f":"IF($C389=\"\",\"\",Simulação!AH389)","v":348.63196013630733},{"$f":"IF($C389=\"\",\"\",Simulação!AI389)","v":"-"},{"$f":"IF($C389=\"\",\"\",Simulação!AJ389)","v":33.045125393740342},{"$f":"IF($C389=\"\",\"\",Simulação!AK389)","v":"-"},{"$f":"IF($C389=\"\",\"\",Simulação!AL389)","v":32.02721881559642},{"$f":"IF($C389=\"\",\"\",Simulação!AM389)","v":"-"},{"$f":"IF($C389=\"\",\"\",Simulação!AN389)","v":32.217563507182206},{"$f":"IF($C389=\"\",\"\",Simulação!AO389)","v":"-"},{"$f":"IF($C389=\"\",\"\",Simulação!AP389)","v":36.406016086434107},{"$f":"IF($C389=\"\",\"\",Simulação!AQ389)","v":"-"},{"$f":"IF($C389=\"\",\"\",Simulação!AR389)","v":0}]
[null,383,{"$f":"IF(Chegadas!J391<=$C$5,Chegadas!J391,\"\")","v":350.17999999999995},{"$f":"IF($C390=\"\",\"\",Simulação!D390)","v":5.4636061413322663},{"$f":"IF($C390=\"\",\"\",Simulação!E390)","v":"*"},{"$f":"IF($C390=\"\",\"\",Simulação!F390)","v":360.90355688137771},{"$f":"IF($C390=\"\",\"\",Simulação!G390)","v":"*"},{"$f":"IF($C390=\"\",\"\",Simulação!H390)","v":350.83947570788223},{"$f":"IF($C390=\"\",\"\",Simulação!I390)","v":"*"},{"$f":"IF($C390=\"\",\"\",Simulação!J390)","v":356.39435317892145},{"$f":"IF($C390=\"\",\"\",Simulação!K390)","v":"*"},{"$f":"IF($C390=\"\",\"\",Simulação!L390)","v":353.00419130341038},{"$f":"IF($C390=\"\",\"\",Simulação!M390)","v":"*"},{"$f":"IF($C390=\"\",\"\",Simulação!N390)","v":350.46090555675715},{"$f":"IF($C390=\"\",\"\",Simulação!O390)","v":350.17999999999995},{"$f":"IF($C390=\"\",\"\",Simulação!P390)","v":355.64360614133221},{"$f":"IF($C390=\"\",\"\",Simulação!Q390)","v":"-"},{"$f":"IF($C390=\"\",\"\",Simulação!R390)","v":347.83884221498857},{"$f":"IF($C390=\"\",\"\",Simulação!S390)","v":"-"},{"$f":"IF($C390=\"\",\"\",Simulação!T390)","v":351.34461158837837},{"$f":"IF($C390=\"\",\"\",Simulação!U390)","v":"-"},{"$f":"IF($C390=\"\",\"\",Simulação!V390)","v":344.95791964134582},{"$f":"IF($C390=\"\",\"\",Simulação!W390)","v":"-"},{"$f":"IF($C390=\"\",\"\",Simulação!X390)","v":350.47795484251867},{"$f":"IF($C390=\"\",\"\",Simulação!Y390)","v":"-"},{"$f":"IF($C390=\"\",\"\",Simulação!Z390)","v":348.11995566721004},{"$f":"IF($C390=\"\",\"\",Simulação!AA390)","v":"-"},{"$f":"IF($C390=\"\",\"\",Simulação!AB390)","v":344.70943710716369},{"$f":"IF($C390=\"\",\"\",Simulação!AC390)","v":"-"},{"$f":"IF($C390=\"\",\"\",Simulação!AD390)","v":341.76920082082432},{"$f":"IF($C390=\"\",\"\",Simulação!AE390)","v":"-"},{"$f":"IF($C390=\"\",\"\",Simulação!AF390)","v":350.98645257323926},{"$f":"IF($C390=\"\",\"\",Simulação!AG390)","v":"-"},{"$f":"IF($C390=\"\",\"\",Simulação!AH390)","v":348.63196013630733},{"$f":"IF($C390=\"\",\"\",Simulação!AI390)","v":"-"},{"$f":"IF($C390=\"\",\"\",Simulação!AJ390)","v":33.045125393740342},{"$f":"IF($C390=\"\",\"\",Simulação!AK390)","v":"-"},{"$f":"IF($C390=\"\",\"\",Simulação!AL390)","v":32.02721881559642},{"$f":"IF($C390=\"\",\"\",Simulação!AM390)","v":"-"},{"$f":"IF($C390=\"\",\"\",Simulação!AN390)","v":32.217563507182206},{"$f":"IF($C390=\"\",\"\",Simulação!AO390)","v":"-"},{"$f":"IF($C390=\"\",\"\",Simulação!AP390)","v":36.406016086434107},{"$f":"IF($C390=\"\",\"\",Simulação!AQ390)","v":"-"},{"$f":"IF($C390=\"\",\"\",Simulação!AR390)","v":0}]
[null,384,{"$f":"IF(Chegadas!J392<=$C$5,Chegadas!J392,\"\")","v":350.44},{"$f":"IF($C391=\"\",\"\",Simulação!D391)","v":0.84519269837002553},{"$f":"IF($C391=\"\",\"\",Simulação!E391)","v":"*"},{"$f":"IF($C391=\"\",\"\",Simulação!F391)","v":360.90355688137771},{"$f":"IF($C391=\"\",\"\",Simulação!G391)","v":"*"},{"$f":"IF($C391=\"\",\"\",Simulação!H391)","v":350.83947570788223},{"$f":"IF($C391=\"\",\"\",Simulação!I391)","v":"*"},{"$f":"IF($C391=\"\",\"\",Simulação!J391)","v":356.39435317892145},{"$f":"IF($C391=\"\",\"\",Simulação!K391)","v":"*"},{"$f":"IF($C391=\"\",\"\",Simulação!L391)","v":353.00419130341038},{"$f":"IF($C391=\"\",\"\",Simulação!M391)","v":"*"},{"$f":"IF($C391=\"\",\"\",Simulação!N391)","v":350.46090555675715},{"$f":"IF($C391=\"\",\"\",Simulação!O391)","v":"*"},{"$f":"IF($C391=\"\",\"\",Simulação!P391)","v":355.64360614133221},{"$f":"IF($C391=\"\",\"\",Simulação!Q391)","v":350.44},{"$f":"IF($C391=\"\",\"\",Simulação!R391)","v":351.28519269837},{"$f":"IF($C391=\"\",\"\",Simulação!S391)","v":"-"},{"$f":"IF($C391=\"\",\"\",Simulação!T391)","v":351.34461158837837},{"$f":"IF($C391=\"\",\"\",Simulação!U391)","v":"-"},{"$f":"IF($C391=\"\",\"\",Simulação!V391)","v":344.95791964134582},{"$f":"IF($C391=\"\",\"\",Simulação!W391)","v":"-"},{"$f":"IF($C391=\"\",\"\",Simulação!X391)","v":350.47795484251867},{"$f":"IF($C391=\"\",\"\",Simulação!Y391)","v":"-"},{"$f":"IF($C391=\"\",\"\",Simulação!Z391)","v":348.11995566721004},{"$f":"IF($C391=\"\",\"\",Simulação!AA391)","v":"-"},{"$f":"IF($C391=\"\",\"\",Simulação!AB391)","v":344.70943710716369},{"$f":"IF($C391=\"\",\"\",Simulação!AC391)","v":"-"},{"$f":"IF($C391=\"\",\"\",Simulação!AD391)","v":341.76920082082432},{"$f":"IF($C391=\"\",\"\",Simulação!AE391)","v":"-"},{"$f":"IF($C391=\"\",\"\",Simulação!AF391)","v":350.98645257323926},{"$f":"IF($C391=\"\",\"\",Simulação!AG391)","v":"-"},{"$f":"IF($C391=\"\",\"\",Simulação!AH391)","v":348.63196013630733},{"$f":"IF($C391=\"\",\"\",Simulação!AI391)","v":"-"},{"$f":"IF($C391=\"\",\"\",Simulação!AJ391)","v":33.045125393740342},{"$f":"IF($C391=\"\",\"\",Simulação!AK391)","v":"-"},{"$f":"IF($C391=\"\",\"\",Simulação!AL391)","v":32.02721881559642},{"$f":"IF($C391=\"\",\"\",Simulação!AM391)","v":"-"},{"$f":"IF($C391=\"\",\"\",Simulação!AN391)","v":32.217563507182206},{"$f":"IF($C391=\"\",\"\",Simulação!AO391)","v":"-"},{"$f":"IF($C391=\"\",\"\",Simulação!AP391)","v":36.406016086434107},{"$f":"IF($C391=\"\",\"\",Simulação!AQ391)","v":"-"},{"$f":"IF($C391=\"\",\"\",Simulação!AR391)","v":0}]
[null,385,{"$f":"IF(Chegadas!J393<=$C$5,Chegadas!J393,\"\")","v":351.26999999999992},{"$f":"IF($C392=\"\",\"\",Simulação!D392)","v":3.1235349825522616},{"$f":"IF($C392=\"\",\"\",Simulação!E392)","v":"*"},{"$f":"IF($C392=\"\",\"\",Simulação!F392)","v":360.90355688137771},{"$f":"IF($C392=\"\",\"\",Simulação!G392)","v":351.26999999999992},{"$f":"IF($C392=\"\",\"\",Simulação!H392)","v":354.39353498255218},{"$f":"IF($C392=\"\",\"\",Simulação!I392)","v":"-"},{"$f":"IF($C392=\"\",\"\",Simulação!J392)","v":356.39435317892145},{"$f":"IF($C392=\"\",\"\",Simulação!K392)","v":"-"},{"$f":"IF($C392=\"\",\"\",Simulação!L392)","v":353.00419130341038},{"$f":"IF($C392=\"\",\"\",Simulação!M392)","v":"-"},{"$f":"IF($C392=\"\",\"\",Simulação!N392)","v":350.46090555675715},{"$f":"IF($C392=\"\",\"\",Simulação!O392)","v":"-"},{"$f":"IF($C392=\"\",\"\",Simulação!P392)","v":355.64360614133221},{"$f":"IF($C392=\"\",\"\",Simulação!Q392)","v":"-"},{"$f":"IF($C392=\"\",\"\",Simulação!R392)","v":351.28519269837},{"$f":"IF($C392=\"\",\"\",Simulação!S392)","v":"-"},{"$f":"IF($C392=\"\",\"\",Simulação!T392)","v":351.34461158837837},{"$f":"IF($C392=\"\",\"\",Simulação!U392)","v":"-"},{"$f":"IF($C392=\"\",\"\",Simulação!V392)","v":344.95791964134582},{"$f":"IF($C392=\"\",\"\",Simulação!W392)","v":"-"},{"$f":"IF($C392=\"\",\"\",Simulação!X392)","v":350.47795484251867},{"$f":"IF($C392=\"\",\"\",Simulação!Y392)","v":"-"},{"$f":"IF($C392=\"\",\"\",Simulação!Z392)","v":348.11995566721004},{"$f":"IF($C392=\"\",\"\",Simulação!AA392)","v":"-"},{"$f":"IF($C392=\"\",\"\",Simulação!AB392)","v":344.70943710716369},{"$f":"IF($C392=\"\",\"\",Simulação!AC392)","v":"-"},{"$f":"IF($C392=\"\",\"\",Simulação!AD392)","v":341.76920082082432},{"$f":"IF($C392=\"\",\"\",Simulação!AE392)","v":"-"},{"$f":"IF($C392=\"\",\"\",Simulação!AF392)","v":350.98645257323926},{"$f":"IF($C392=\"\",\"\",Simulação!AG392)","v":"-"},{"$f":"IF($C392=\"\",\"\",Simulação!AH392)","v":348.63196013630733},{"$f":"IF($C392=\"\",\"\",Simulação!AI392)","v":"-"},{"$f":"IF($C392=\"\",\"\",Simulação!AJ392)","v":33.045125393740342},{"$f":"IF($C392=\"\",\"\",Simulação!AK392)","v":"-"},{"$f":"IF($C392=\"\",\"\",Simulação!AL392)","v":32.02721881559642},{"$f":"IF($C392=\"\",\"\",Simulação!AM392)","v":"-"},{"$f":"IF($C392=\"\",\"\",Simulação!AN392)","v":32.217563507182206},{"$f":"IF($C392=\"\",\"\",Simulação!AO392)","v":"-"},{"$f":"IF($C392=\"\",\"\",Simulação!AP392)","v":36.406016086434107},{"$f":"IF($C392=\"\",\"\",Simulação!AQ392)","v":"-"},{"$f":"IF($C392=\"\",\"\",Simulação!AR392)","v":0}]
[null,386,{"$f":"IF(Chegadas!J394<=$C$5,Chegadas!J394,\"\")","v":352.06999999999994},{"$f":"IF($C393=\"\",\"\",Simulação!D393)","v":12.405765368399297},{"$f":"IF($C393=\"\",\"\",Simulação!E393)","v":"*"},{"$f":"IF($C393=\"\",\"\",Simulação!F393)","v":360.90355688137771},{"$f":"IF($C393=\"\",\"\",Simulação!G393)","v":"*"},{"$f":"IF($C393=\"\",\"\",Simulação!H393)","v":354.39353498255218},{"$f":"IF($C393=\"\",\"\",Simulação!I393)","v":"*"},{"$f":"IF($C393=\"\",\"\",Simulação!J393)","v":356.39435317892145},{"$f":"IF($C393=\"\",\"\",Simulação!K393)","v":"*"},{"$f":"IF($C393=\"\",\"\",Simulação!L393)","v":353.00419130341038},{"$f":"IF($C393=\"\",\"\",Simulação!M393)","v":352.06999999999994},{"$f":"IF($C393=\"\",\"\",Simulação!N393)","v":364.47576536839921},{"$f":"IF($C393=\"\",\"\",Simulação!O393)","v":"-"},{"$f":"IF($C393=\"\",\"\",Simulação!P393)","v":355.64360614133221},{"$f":"IF($C393=\"\",\"\",Simulação!Q393)","v":"-"},{"$f":"IF($C393=\"\",\"\",Simulação!R393)","v":351.28519269837},{"$f":"IF($C393=\"\",\"\",Simulação!S393)","v":"-"},{"$f":"IF($C393=\"\",\"\",Simulação!T393)","v":351.34461158837837},{"$f":"IF($C393=\"\",\"\",Simulação!U393)","v":"-"},{"$f":"IF($C393=\"\",\"\",Simulação!V393)","v":344.95791964134582},{"$f":"IF($C393=\"\",\"\",Simulação!W393)","v":"-"},{"$f":"IF($C393=\"\",\"\",Simulação!X393)","v":350.47795484251867},{"$f":"IF($C393=\"\",\"\",Simulação!Y393)","v":"-"},{"$f":"IF($C393=\"\",\"\",Simulação!Z393)","v":348.11995566721004},{"$f":"IF($C393=\"\",\"\",Simulação!AA393)","v":"-"},{"$f":"IF($C393=\"\",\"\",Simulação!AB393)","v":344.70943710716369},{"$f":"IF($C393=\"\",\"\",Simulação!AC393)","v":"-"},{"$f":"IF($C393=\"\",\"\",Simulação!AD393)","v":341.76920082082432},{"$f":"IF($C393=\"\",\"\",Simulação!AE393)","v":"-"},{"$f":"IF($C393=\"\",\"\",Simulação!AF393)","v":350.98645257323926},{"$f":"IF($C393=\"\",\"\",Simulação!AG393)","v":"-"},{"$f":"IF($C393=\"\",\"\",Simulação!AH393)","v":348.63196013630733},{"$f":"IF($C393=\"\",\"\",Simulação!AI393)","v":"-"},{"$f":"IF($C393=\"\",\"\",Simulação!AJ393)","v":33.045125393740342},{"$f":"IF($C393=\"\",\"\",Simulação!AK393)","v":"-"},{"$f":"IF($C393=\"\",\"\",Simulação!AL393)","v":32.02721881559642},{"$f":"IF($C393=\"\",\"\",Simulação!AM393)","v":"-"},{"$f":"IF($C393=\"\",\"\",Simulação!AN393)","v":32.217563507182206},{"$f":"IF($C393=\"\",\"\",Simulação!AO393)","v":"-"},{"$f":"IF($C393=\"\",\"\",Simulação!AP393)","v":36.406016086434107},{"$f":"IF($C393=\"\",\"\",Simulação!AQ393)","v":"-"},{"$f":"IF($C393=\"\",\"\",Simulação!AR393)","v":0}]
[null,387,{"$f":"IF(Chegadas!J395<=$C$5,Chegadas!J395,\"\")","v":353.28999999999996},{"$f":"IF($C394=\"\",\"\",Simulação!D394)","v":5.4339411486074738},{"$f":"IF($C394=\"\",\"\",Simulação!E394)","v":"*"},{"$f":"IF($C394=\"\",\"\",Simulação!F394)","v":360.90355688137771},{"$f":"IF($C394=\"\",\"\",Simulação!G394)","v":"*"},{"$f":"IF($C394=\"\",\"\",Simulação!H394)","v":354.39353498255218},{"$f":"IF($C394=\"\",\"\",Simulação!I394)","v":"*"},{"$f":"IF($C394=\"\",\"\",Simulação!J394)","v":356.39435317892145},{"$f":"IF($C394=\"\",\"\",Simulação!K394)","v":353.28999999999996},{"$f":"IF($C394=\"\",\"\",Simulação!L394)","v":358.72394114860742},{"$f":"IF($C394=\"\",\"\",Simulação!M394)","v":"-"},{"$f":"IF($C394=\"\",\"\",Simulação!N394)","v":364.47576536839921},{"$f":"IF($C394=\"\",\"\",Simulação!O394)","v":"-"},{"$f":"IF($C394=\"\",\"\",Simulação!P394)","v":355.64360614133221},{"$f":"IF($C394=\"\",\"\",Simulação!Q394)","v":"-"},{"$f":"IF($C394=\"\",\"\",Simulação!R394)","v":351.28519269837},{"$f":"IF($C394=\"\",\"\",Simulação!S394)","v":"-"},{"$f":"IF($C394=\"\",\"\",Simulação!T394)","v":351.34461158837837},{"$f":"IF($C394=\"\",\"\",Simulação!U394)","v":"-"},{"$f":"IF($C394=\"\",\"\",Simulação!V394)","v":344.95791964134582},{"$f":"IF($C394=\"\",\"\",Simulação!W394)","v":"-"},{"$f":"IF($C394=\"\",\"\",Simulação!X394)","v":350.47795484251867},{"$f":"IF($C394=\"\",\"\",Simulação!Y394)","v":"-"},{"$f":"IF($C394=\"\",\"\",Simulação!Z394)","v":348.11995566721004},{"$f":"IF($C394=\"\",\"\",Simulação!AA394)","v":"-"},{"$f":"IF($C394=\"\",\"\",Simulação!AB394)","v":344.70943710716369},{"$f":"IF($C394=\"\",\"\",Simulação!AC394)","v":"-"},{"$f":"IF($C394=\"\",\"\",Simulação!AD394)","v":341.76920082082432},{"$f":"IF($C394=\"\",\"\",Simulação!AE394)","v":"-"},{"$f":"IF($C394=\"\",\"\",Simulação!AF394)","v":350.98645257323926},{"$f":"IF($C394=\"\",\"\",Simulação!AG394)","v":"-"},{"$f":"IF($C394=\"\",\"\",Simulação!AH394)","v":348.63196013630733},{"$f":"IF($C394=\"\",\"\",Simulação!AI394)","v":"-"},{"$f":"IF($C394=\"\",\"\",Simulação!AJ394)","v":33.045125393740342},{"$f":"IF($C394=\"\",\"\",Simulação!AK394)","v":"-"},{"$f":"IF($C394=\"\",\"\",Simulação!AL394)","v":32.02721881559642},{"$f":"IF($C394=\"\",\"\",Simulação!AM394)","v":"-"},{"$f":"IF($C394=\"\",\"\",Simulação!AN394)","v":32.217563507182206},{"$f":"IF($C394=\"\",\"\",Simulação!AO394)","v":"-"},{"$f":"IF($C394=\"\",\"\",Simulação!AP394)","v":36.406016086434107},{"$f":"IF($C394=\"\",\"\",Simulação!AQ394)","v":"-"},{"$f":"IF($C394=\"\",\"\",Simulação!AR394)","v":0}]
[null,388,{"$f":"IF(Chegadas!J396<=$C$5,Chegadas!J396,\"\")","v":354.55999999999995},{"$f":"IF($C395=\"\",\"\",Simulação!D395)","v":7.3340948394578636},{"$f":"IF($C395=\"\",\"\",Simulação!E395)","v":"*"},{"$f":"IF($C395=\"\",\"\",Simulação!F395)","v":360.90355688137771},{"$f":"IF($C395=\"\",\"\",Simulação!G395)","v":354.55999999999995},{"$f":"IF($C395=\"\",\"\",Simulação!H395)","v":361.89409483945781},{"$f":"IF($C395=\"\",\"\",Simulação!I395)","v":"-"},{"$f":"IF($C395=\"\",\"\",Simulação!J395)","v":356.39435317892145},{"$f":"IF($C395=\"\",\"\",Simulação!K395)","v":"-"},{"$f":"IF($C395=\"\",\"\",Simulação!L395)","v":358.72394114860742},{"$f":"IF($C395=\"\",\"\",Simulação!M395)","v":"-"},{"$f":"IF($C395=\"\",\"\",Simulação!N395)","v":364.47576536839921},{"$f":"IF($C395=\"\",\"\",Simulação!O395)","v":"-"},{"$f":"IF($C395=\"\",\"\",Simulação!P395)","v":355.64360614133221},{"$f":"IF($C395=\"\",\"\",Simulação!Q395)","v":"-"},{"$f":"IF($C395=\"\",\"\",Simulação!R395)","v":351.28519269837},{"$f":"IF($C395=\"\",\"\",Simulação!S395)","v":"-"},{"$f":"IF($C395=\"\",\"\",Simulação!T395)","v":351.34461158837837},{"$f":"IF($C395=\"\",\"\",Simulação!U395)","v":"-"},{"$f":"IF($C395=\"\",\"\",Simulação!V395)","v":344.95791964134582},{"$f":"IF($C395=\"\",\"\",Simulação!W395)","v":"-"},{"$f":"IF($C395=\"\",\"\",Simulação!X395)","v":350.47795484251867},{"$f":"IF($C395=\"\",\"\",Simulação!Y395)","v":"-"},{"$f":"IF($C395=\"\",\"\",Simulação!Z395)","v":348.11995566721004},{"$f":"IF($C395=\"\",\"\",Simulação!AA395)","v":"-"},{"$f":"IF($C395=\"\",\"\",Simulação!AB395)","v":344.70943710716369},{"$f":"IF($C395=\"\",\"\",Simulação!AC395)","v":"-"},{"$f":"IF($C395=\"\",\"\",Simulação!AD395)","v":341.76920082082432},{"$f":"IF($C395=\"\",\"\",Simulação!AE395)","v":"-"},{"$f":"IF($C395=\"\",\"\",Simulação!AF395)","v":350.98645257323926},{"$f":"IF($C395=\"\",\"\",Simulação!AG395)","v":"-"},{"$f":"IF($C395=\"\",\"\",Simulação!AH395)","v":348.63196013630733},{"$f":"IF($C395=\"\",\"\",Simulação!AI395)","v":"-"},{"$f":"IF($C395=\"\",\"\",Simulação!AJ395)","v":33.045125393740342},{"$f":"IF($C395=\"\",\"\",Simulação!AK395)","v":"-"},{"$f":"IF($C395=\"\",\"\",Simulação!AL395)","v":32.02721881559642},{"$f":"IF($C395=\"\",\"\",Simulação!AM395)","v":"-"},{"$f":"IF($C395=\"\",\"\",Simulação!AN395)","v":32.217563507182206},{"$f":"IF($C395=\"\",\"\",Simulação!AO395)","v":"-"},{"$f":"IF($C395=\"\",\"\",Simulação!AP395)","v":36.406016086434107},{"$f":"IF($C395=\"\",\"\",Simulação!AQ395)","v":"-"},{"$f":"IF($C395=\"\",\"\",Simulação!AR395)","v":0}]
[null,389,{"$f":"IF(Chegadas!J397<=$C$5,Chegadas!J397,\"\")","v":356.75999999999993},{"$f":"IF($C396=\"\",\"\",Simulação!D396)","v":6.8172119197882637},{"$f":"IF($C396=\"\",\"\",Simulação!E396)","v":"*"},{"$f":"IF($C396=\"\",\"\",Simulação!F396)","v":360.90355688137771},{"$f":"IF($C396=\"\",\"\",Simulação!G396)","v":"*"},{"$f":"IF($C396=\"\",\"\",Simulação!H396)","v":361.89409483945781},{"$f":"IF($C396=\"\",\"\",Simulação!I396)","v":356.75999999999993},{"$f":"IF($C396=\"\",\"\",Simulação!J396)","v":363.57721191978817},{"$f":"IF($C396=\"\",\"\",Simulação!K396)","v":"-"},{"$f":"IF($C396=\"\",\"\",Simulação!L396)","v":358.72394114860742},{"$f":"IF($C396=\"\",\"\",Simulação!M396)","v":"-"},{"$f":"IF($C396=\"\",\"\",Simulação!N396)","v":364.47576536839921},{"$f":"IF($C396=\"\",\"\",Simulação!O396)","v":"-"},{"$f":"IF($C396=\"\",\"\",Simulação!P396)","v":355.64360614133221},{"$f":"IF($C396=\"\",\"\",Simulação!Q396)","v":"-"},{"$f":"IF($C396=\"\",\"\",Simulação!R396)","v":351.28519269837},{"$f":"IF($C396=\"\",\"\",Simulação!S396)","v":"-"},{"$f":"IF($C396=\"\",\"\",Simulação!T396)","v":351.34461158837837},{"$f":"IF($C396=\"\",\"\",Simulação!U396)","v":"-"},{"$f":"IF($C396=\"\",\"\",Simulação!V396)","v":344.95791964134582},{"$f":"IF($C396=\"\",\"\",Simulação!W396)","v":"-"},{"$f":"IF($C396=\"\",\"\",Simulação!X396)","v":350.47795484251867},{"$f":"IF($C396=\"\",\"\",Simulação!Y396)","v":"-"},{"$f":"IF($C396=\"\",\"\",Simulação!Z396)","v":348.11995566721004},{"$f":"IF($C396=\"\",\"\",Simulação!AA396)","v":"-"},{"$f":"IF($C396=\"\",\"\",Simulação!AB396)","v":344.70943710716369},{"$f":"IF($C396=\"\",\"\",Simulação!AC396)","v":"-"},{"$f":"IF($C396=\"\",\"\",Simulação!AD396)","v":341.76920082082432},{"$f":"IF($C396=\"\",\"\",Simulação!AE396)","v":"-"},{"$f":"IF($C396=\"\",\"\",Simulação!AF396)","v":350.98645257323926},{"$f":"IF($C396=\"\",\"\",Simulação!AG396)","v":"-"},{"$f":"IF($C396=\"\",\"\",Simulação!AH396)","v":348.63196013630733},{"$f":"IF($C396=\"\",\"\",Simulação!AI396)","v":"-"},{"$f":"IF($C396=\"\",\"\",Simulação!AJ396)","v":33.045125393740342},{"$f":"IF($C396=\"\",\"\",Simulação!AK396)","v":"-"},{"$f":"IF($C396=\"\",\"\",Simulação!AL396)","v":32.02721881559642},{"$f":"IF($C396=\"\",\"\",Simulação!AM396)","v":"-"},{"$f":"IF($C396=\"\",\"\",Simulação!AN396)","v":32.217563507182206},{"$f":"IF($C396=\"\",\"\",Simulação!AO396)","v":"-"},{"$f":"IF($C396=\"\",\"\",Simulação!AP396)","v":36.406016086434107},{"$f":"IF($C396=\"\",\"\",Simulação!AQ396)","v":"-"},{"$f":"IF($C396=\"\",\"\",Simulação!AR396)","v":0}]
[null,390,{"$f":"IF(Chegadas!J398<=$C$5,Chegadas!J398,\"\")","v":357.27999999999992},{"$f":"IF($C397=\"\",\"\",Simulação!D397)","v":10.347631168452574},{"$f":"IF($C397=\"\",\"\",Simulação!E397)","v":"*"},{"$f":"IF($C397=\"\",\"\",Simulação!F397)","v":360.90355688137771},{"$f":"IF($C397=\"\",\"\",Simulação!G397)","v":"*"},{"$f":"IF($C397=\"\",\"\",Simulação!H397)","v":361.89409483945781},{"$f":"IF($C397=\"\",\"\",Simulação!I397)","v":"*"},{"$f":"IF($C397=\"\",\"\",Simulação!J397)","v":363.57721191978817},{"$f":"IF($C397=\"\",\"\",Simulação!K397)","v":"*"},{"$f":"IF($C397=\"\",\"\",Simulação!L397)","v":358.72394114860742},{"$f":"IF($C397=\"\",\"\",Simulação!M397)","v":"*"},{"$f":"IF($C397=\"\",\"\",Simulação!N397)","v":364.47576536839921},{"$f":"IF($C397=\"\",\"\",Simulação!O397)","v":357.27999999999992},{"$f":"IF($C397=\"\",\"\",Simulação!P397)","v":367.62763116845247},{"$f":"IF($C397=\"\",\"\",Simulação!Q397)","v":"-"},{"$f":"IF($C397=\"\",\"\",Simulação!R397)","v":351.28519269837},{"$f":"IF($C397=\"\",\"\",Simulação!S397)","v":"-"},{"$f":"IF($C397=\"\",\"\",Simulação!T397)","v":351.34461158837837},{"$f":"IF($C397=\"\",\"\",Simulação!U397)","v":"-"},{"$f":"IF($C397=\"\",\"\",Simulação!V397)","v":344.95791964134582},{"$f":"IF($C397=\"\",\"\",Simulação!W397)","v":"-"},{"$f":"IF($C397=\"\",\"\",Simulação!X397)","v":350.47795484251867},{"$f":"IF($C397=\"\",\"\",Simulação!Y397)","v":"-"},{"$f":"IF($C397=\"\",\"\",Simulação!Z397)","v":348.11995566721004},{"$f":"IF($C397=\"\",\"\",Simulação!AA397)","v":"-"},{"$f":"IF($C397=\"\",\"\",Simulação!AB397)","v":344.70943710716369},{"$f":"IF($C397=\"\",\"\",Simulação!AC397)","v":"-"},{"$f":"IF($C397=\"\",\"\",Simulação!AD397)","v":341.76920082082432},{"$f":"IF($C397=\"\",\"\",Simulação!AE397)","v":"-"},{"$f":"IF($C397=\"\",\"\",Simulação!AF397)","v":350.98645257323926},{"$f":"IF($C397=\"\",\"\",Simulação!AG397)","v":"-"},{"$f":"IF($C397=\"\",\"\",Simulação!AH397)","v":348.63196013630733},{"$f":"IF($C397=\"\",\"\",Simulação!AI397)","v":"-"},{"$f":"IF($C397=\"\",\"\",Simulação!AJ397)","v":33.045125393740342},{"$f":"IF($C397=\"\",\"\",Simulação!AK397)","v":"-"},{"$f":"IF($C397=\"\",\"\",Simulação!AL397)","v":32.02721881559642},{"$f":"IF($C397=\"\",\"\",Simulação!AM397)","v":"-"},{"$f":"IF($C397=\"\",\"\",Simulação!AN397)","v":32.217563507182206},{"$f":"IF($C397=\"\",\"\",Simulação!AO397)","v":"-"},{"$f":"IF($C397=\"\",\"\",Simulação!AP397)","v":36.406016086434107},{"$f":"IF($C397=\"\",\"\",Simulação!AQ397)","v":"-"},{"$f":"IF($C397=\"\",\"\",Simulação!AR397)","v":0}]
[null,391,{"$f":"IF(Chegadas!J399<=$C$5,Chegadas!J399,\"\")","v":357.75999999999993},{"$f":"IF($C398=\"\",\"\",Simulação!D398)","v":7.1904065622209403},{"$f":"IF($C398=\"\",\"\",Simulação!E398)","v":"*"},{"$f":"IF($C398=\"\",\"\",Simulação!F398)","v":360.90355688137771},{"$f":"IF($C398=\"\",\"\",Simulação!G398)","v":"*"},{"$f":"IF($C398=\"\",\"\",Simulação!H398)","v":361.89409483945781},{"$f":"IF($C398=\"\",\"\",Simulação!I398)","v":"*"},{"$f":"IF($C398=\"\",\"\",Simulação!J398)","v":363.57721191978817},{"$f":"IF($C398=\"\",\"\",Simulação!K398)","v":"*"},{"$f":"IF($C398=\"\",\"\",Simulação!L398)","v":358.72394114860742},{"$f":"IF($C398=\"\",\"\",Simulação!M398)","v":"*"},{"$f":"IF($C398=\"\",\"\",Simulação!N398)","v":364.47576536839921},{"$f":"IF($C398=\"\",\"\",Simulação!O398)","v":"*"},{"$f":"IF($C398=\"\",\"\",Simulação!P398)","v":367.62763116845247},{"$f":"IF($C398=\"\",\"\",Simulação!Q398)","v":357.75999999999993},{"$f":"IF($C398=\"\",\"\",Simulação!R398)","v":364.95040656222085},{"$f":"IF($C398=\"\",\"\",Simulação!S398)","v":"-"},{"$f":"IF($C398=\"\",\"\",Simulação!T398)","v":351.34461158837837},{"$f":"IF($C398=\"\",\"\",Simulação!U398)","v":"-"},{"$f":"IF($C398=\"\",\"\",Simulação!V398)","v":344.95791964134582},{"$f":"IF($C398=\"\",\"\",Simulação!W398)","v":"-"},{"$f":"IF($C398=\"\",\"\",Simulação!X398)","v":350.47795484251867},{"$f":"IF($C398=\"\",\"\",Simulação!Y398)","v":"-"},{"$f":"IF($C398=\"\",\"\",Simulação!Z398)","v":348.11995566721004},{"$f":"IF($C398=\"\",\"\",Simulação!AA398)","v":"-"},{"$f":"IF($C398=\"\",\"\",Simulação!AB398)","v":344.70943710716369},{"$f":"IF($C398=\"\",\"\",Simulação!AC398)","v":"-"},{"$f":"IF($C398=\"\",\"\",Simulação!AD398)","v":341.76920082082432},{"$f":"IF($C398=\"\",\"\",Simulação!AE398)","v":"-"},{"$f":"IF($C398=\"\",\"\",Simulação!AF398)","v":350.98645257323926},{"$f":"IF($C398=\"\",\"\",Simulação!AG398)","v":"-"},{"$f":"IF($C398=\"\",\"\",Simulação!AH398)","v":348.63196013630733},{"$f":"IF($C398=\"\",\"\",Simulação!AI398)","v":"-"},{"$f":"IF($C398=\"\",\"\",Simulação!AJ398)","v":33.045125393740342},{"$f":"IF($C398=\"\",\"\",Simulação!AK398)","v":"-"},{"$f":"IF($C398=\"\",\"\",Simulação!AL398)","v":32.02721881559642},{"$f":"IF($C398=\"\",\"\",Simulação!AM398)","v":"-"},{"$f":"IF($C398=\"\",\"\",Simulação!AN398)","v":32.217563507182206},{"$f":"IF($C398=\"\",\"\",Simulação!AO398)","v":"-"},{"$f":"IF($C398=\"\",\"\",Simulação!AP398)","v":36.406016086434107},{"$f":"IF($C398=\"\",\"\",Simulação!AQ398)","v":"-"},{"$f":"IF($C398=\"\",\"\",Simulação!AR398)","v":0}]
[null,392,{"$f":"IF(Chegadas!J400<=$C$5,Chegadas!J400,\"\")","v":358.16999999999996},{"$f":"IF($C399=\"\",\"\",Simulação!D399)","v":5.974726708273721},{"$f":"IF($C399=\"\",\"\",Simulação!E399)","v":"*"},{"$f":"IF($C399=\"\",\"\",Simulação!F399)","v":360.90355688137771},{"$f":"IF($C399=\"\",\"\",Simulação!G399)","v":"*"},{"$f":"IF($C399=\"\",\"\",Simulação!H399)","v":361.89409483945781},{"$f":"IF($C399=\"\",\"\",Simulação!I399)","v":"*"},{"$f":"IF($C399=\"\",\"\",Simulação!J399)","v":363.57721191978817},{"$f":"IF($C399=\"\",\"\",Simulação!K399)","v":"*"},{"$f":"IF($C399=\"\",\"\",Simulação!L399)","v":358.72394114860742},{"$f":"IF($C399=\"\",\"\",Simulação!M399)","v":"*"},{"$f":"IF($C399=\"\",\"\",Simulação!N399)","v":364.47576536839921},{"$f":"IF($C399=\"\",\"\",Simulação!O399)","v":"*"},{"$f":"IF($C399=\"\",\"\",Simulação!P399)","v":367.62763116845247},{"$f":"IF($C399=\"\",\"\",Simulação!Q399)","v":"*"},{"$f":"IF($C399=\"\",\"\",Simulação!R399)","v":364.95040656222085},{"$f":"IF($C399=\"\",\"\",Simulação!S399)","v":358.16999999999996},{"$f":"IF($C399=\"\",\"\",Simulação!T399)","v":364.14472670827365},{"$f":"IF($C399=\"\",\"\",Simulação!U399)","v":"-"},{"$f":"IF($C399=\"\",\"\",Simulação!V399)","v":344.95791964134582},{"$f":"IF($C399=\"\",\"\",Simulação!W399)","v":"-"},{"$f":"IF($C399=\"\",\"\",Simulação!X399)","v":350.47795484251867},{"$f":"IF($C399=\"\",\"\",Simulação!Y399)","v":"-"},{"$f":"IF($C399=\"\",\"\",Simulação!Z399)","v":348.11995566721004},{"$f":"IF($C399=\"\",\"\",Simulação!AA399)","v":"-"},{"$f":"IF($C399=\"\",\"\",Simulação!AB399)","v":344.70943710716369},{"$f":"IF($C399=\"\",\"\",Simulação!AC399)","v":"-"},{"$f":"IF($C399=\"\",\"\",Simulação!AD399)","v":341.76920082082432},{"$f":"IF($C399=\"\",\"\",Simulação!AE399)","v":"-"},{"$f":"IF($C399=\"\",\"\",Simulação!AF399)","v":350.98645257323926},{"$f":"IF($C399=\"\",\"\",Simulação!AG399)","v":"-"},{"$f":"IF($C399=\"\",\"\",Simulação!AH399)","v":348.63196013630733},{"$f":"IF($C399=\"\",\"\",Simulação!AI399)","v":"-"},{"$f":"IF($C399=\"\",\"\",Simulação!AJ399)","v":33.045125393740342},{"$f":"IF($C399=\"\",\"\",Simulação!AK399)","v":"-"},{"$f":"IF($C399=\"\",\"\",Simulação!AL399)","v":32.02721881559642},{"$f":"IF($C399=\"\",\"\",Simulação!AM399)","v":"-"},{"$f":"IF($C399=\"\",\"\",Simulação!AN399)","v":32.217563507182206},{"$f":"IF($C399=\"\",\"\",Simulação!AO399)","v":"-"},{"$f":"IF($C399=\"\",\"\",Simulação!AP399)","v":36.406016086434107},{"$f":"IF($C399=\"\",\"\",Simulação!AQ399)","v":"-"},{"$f":"IF($C399=\"\",\"\",Simulação!AR399)","v":0}]
[null,393,{"$f":"IF(Chegadas!J401<=$C$5,Chegadas!J401,\"\")","v":358.61999999999995},{"$f":"IF($C400=\"\",\"\",Simulação!D400)","v":4.4066572757604989},{"$f":"IF($C400=\"\",\"\",Simulação!E400)","v":"*"},{"$f":"IF($C400=\"\",\"\",Simulação!F400)","v":360.90355688137771},{"$f":"IF($C400=\"\",\"\",Simulação!G400)","v":"*"},{"$f":"IF($C400=\"\",\"\",Simulação!H400)","v":361.89409483945781},{"$f":"IF($C400=\"\",\"\",Simulação!I400)","v":"*"},{"$f":"IF($C400=\"\",\"\",Simulação!J400)","v":363.57721191978817},{"$f":"IF($C400=\"\",\"\",Simulação!K400)","v":"*"},{"$f":"IF($C400=\"\",\"\",Simulação!L400)","v":358.72394114860742},{"$f":"IF($C400=\"\",\"\",Simulação!M400)","v":"*"},{"$f":"IF($C400=\"\",\"\",Simulação!N400)","v":364.47576536839921},{"$f":"IF($C400=\"\",\"\",Simulação!O400)","v":"*"},{"$f":"IF($C400=\"\",\"\",Simulação!P400)","v":367.62763116845247},{"$f":"IF($C400=\"\",\"\",Simulação!Q400)","v":"*"},{"$f":"IF($C400=\"\",\"\",Simulação!R400)","v":364.95040656222085},{"$f":"IF($C400=\"\",\"\",Simulação!S400)","v":"*"},{"$f":"IF($C400=\"\",\"\",Simulação!T400)","v":364.14472670827365},{"$f":"IF($C400=\"\",\"\",Simulação!U400)","v":358.61999999999995},{"$f":"IF($C400=\"\",\"\",Simulação!V400)","v":363.02665727576044},{"$f":"IF($C400=\"\",\"\",Simulação!W400)","v":"-"},{"$f":"IF($C400=\"\",\"\",Simulação!X400)","v":350.47795484251867},{"$f":"IF($C400=\"\",\"\",Simulação!Y400)","v":"-"},{"$f":"IF($C400=\"\",\"\",Simulação!Z400)","v":348.11995566721004},{"$f":"IF($C400=\"\",\"\",Simulação!AA400)","v":"-"},{"$f":"IF($C400=\"\",\"\",Simulação!AB400)","v":344.70943710716369},{"$f":"IF($C400=\"\",\"\",Simulação!AC400)","v":"-"},{"$f":"IF($C400=\"\",\"\",Simulação!AD400)","v":341.76920082082432},{"$f":"IF($C400=\"\",\"\",Simulação!AE400)","v":"-"},{"$f":"IF($C400=\"\",\"\",Simulação!AF400)","v":350.98645257323926},{"$f":"IF($C400=\"\",\"\",Simulação!AG400)","v":"-"},{"$f":"IF($C400=\"\",\"\",Simulação!AH400)","v":348.63196013630733},{"$f":"IF($C400=\"\",\"\",Simulação!AI400)","v":"-"},{"$f":"IF($C400=\"\",\"\",Simulação!AJ400)","v":33.045125393740342},{"$f":"IF($C400=\"\",\"\",Simulação!AK400)","v":"-"},{"$f":"IF($C400=\"\",\"\",Simulação!AL400)","v":32.02721881559642},{"$f":"IF($C400=\"\",\"\",Simulação!AM400)","v":"-"},{"$f":"IF($C400=\"\",\"\",Simulação!AN400)","v":32.217563507182206},{"$f":"IF($C400=\"\",\"\",Simulação!AO400)","v":"-"},{"$f":"IF($C400=\"\",\"\",Simulação!AP400)","v":36.406016086434107},{"$f":"IF($C400=\"\",\"\",Simulação!AQ400)","v":"-"},{"$f":"IF($C400=\"\",\"\",Simulação!AR400)","v":0}]
[null,394,{"$f":"IF(Chegadas!J402<=$C$5,Chegadas!J402,\"\")","v":359.09},{"$f":"IF($C401=\"\",\"\",Simulação!D401)","v":6.161162430912932},{"$f":"IF($C401=\"\",\"\",Simulação!E401)","v":"*"},{"$f":"IF($C401=\"\",\"\",Simulação!F401)","v":360.90355688137771},{"$f":"IF($C401=\"\",\"\",Simulação!G401)","v":"*"},{"$f":"IF($C401=\"\",\"\",Simulação!H401)","v":361.89409483945781},{"$f":"IF($C401=\"\",\"\",Simulação!I401)","v":"*"},{"$f":"IF($C401=\"\",\"\",Simulação!J401)","v":363.57721191978817},{"$f":"IF($C401=\"\",\"\",Simulação!K401)","v":359.09},{"$f":"IF($C401=\"\",\"\",Simulação!L401)","v":365.25116243091293},{"$f":"IF($C401=\"\",\"\",Simulação!M401)","v":"-"},{"$f":"IF($C401=\"\",\"\",Simulação!N401)","v":364.47576536839921},{"$f":"IF($C401=\"\",\"\",Simulação!O401)","v":"-"},{"$f":"IF($C401=\"\",\"\",Simulação!P401)","v":367.62763116845247},{"$f":"IF($C401=\"\",\"\",Simulação!Q401)","v":"-"},{"$f":"IF($C401=\"\",\"\",Simulação!R401)","v":364.95040656222085},{"$f":"IF($C401=\"\",\"\",Simulação!S401)","v":"-"},{"$f":"IF($C401=\"\",\"\",Simulação!T401)","v":364.14472670827365},{"$f":"IF($C401=\"\",\"\",Simulação!U401)","v":"-"},{"$f":"IF($C401=\"\",\"\",Simulação!V401)","v":363.02665727576044},{"$f":"IF($C401=\"\",\"\",Simulação!W401)","v":"-"},{"$f":"IF($C401=\"\",\"\",Simulação!X401)","v":350.47795484251867},{"$f":"IF($C401=\"\",\"\",Simulação!Y401)","v":"-"},{"$f":"IF($C401=\"\",\"\",Simulação!Z401)","v":348.11995566721004},{"$f":"IF($C401=\"\",\"\",Simulação!AA401)","v":"-"},{"$f":"IF($C401=\"\",\"\",Simulação!AB401)","v":344.70943710716369},{"$f":"IF($C401=\"\",\"\",Simulação!AC401)","v":"-"},{"$f":"IF($C401=\"\",\"\",Simulação!AD401)","v":341.76920082082432},{"$f":"IF($C401=\"\",\"\",Simulação!AE401)","v":"-"},{"$f":"IF($C401=\"\",\"\",Simulação!AF401)","v":350.98645257323926},{"$f":"IF($C401=\"\",\"\",Simulação!AG401)","v":"-"},{"$f":"IF($C401=\"\",\"\",Simulação!AH401)","v":348.63196013630733},{"$f":"IF($C401=\"\",\"\",Simulação!AI401)","v":"-"},{"$f":"IF($C401=\"\",\"\",Simulação!AJ401)","v":33.045125393740342},{"$f":"IF($C401=\"\",\"\",Simulação!AK401)","v":"-"},{"$f":"IF($C401=\"\",\"\",Simulação!AL401)","v":32.02721881559642},{"$f":"IF($C401=\"\",\"\",Simulação!AM401)","v":"-"},{"$f":"IF($C401=\"\",\"\",Simulação!AN401)","v":32.217563507182206},{"$f":"IF($C401=\"\",\"\",Simulação!AO401)","v":"-"},{"$f":"IF($C401=\"\",\"\",Simulação!AP401)","v":36.406016086434107},{"$f":"IF($C401=\"\",\"\",Simulação!AQ401)","v":"-"},{"$f":"IF($C401=\"\",\"\",Simulação!AR401)","v":0}]
[null,395,{"$f":"IF(Chegadas!J403<=$C$5,Chegadas!J403,\"\")","v":359.39},{"$f":"IF($C402=\"\",\"\",Simulação!D402)","v":8.2909186240384791},{"$f":"IF($C402=\"\",\"\",Simulação!E402)","v":"*"},{"$f":"IF($C402=\"\",\"\",Simulação!F402)","v":360.90355688137771},{"$f":"IF($C402=\"\",\"\",Simulação!G402)","v":"*"},{"$f":"IF($C402=\"\",\"\",Simulação!H402)","v":361.89409483945781},{"$f":"IF($C402=\"\",\"\",Simulação!I402)","v":"*"},{"$f":"IF($C402=\"\",\"\",Simulação!J402)","v":363.57721191978817},{"$f":"IF($C402=\"\",\"\",Simulação!K402)","v":"*"},{"$f":"IF($C402=\"\",\"\",Simulação!L402)","v":365.25116243091293},{"$f":"IF($C402=\"\",\"\",Simulação!M402)","v":"*"},{"$f":"IF($C402=\"\",\"\",Simulação!N402)","v":364.47576536839921},{"$f":"IF($C402=\"\",\"\",Simulação!O402)","v":"*"},{"$f":"IF($C402=\"\",\"\",Simulação!P402)","v":367.62763116845247},{"$f":"IF($C402=\"\",\"\",Simulação!Q402)","v":"*"},{"$f":"IF($C402=\"\",\"\",Simulação!R402)","v":364.95040656222085},{"$f":"IF($C402=\"\",\"\",Simulação!S402)","v":"*"},{"$f":"IF($C402=\"\",\"\",Simulação!T402)","v":364.14472670827365},{"$f":"IF($C402=\"\",\"\",Simulação!U402)","v":"*"},{"$f":"IF($C402=\"\",\"\",Simulação!V402)","v":363.02665727576044},{"$f":"IF($C402=\"\",\"\",Simulação!W402)","v":359.39},{"$f":"IF($C402=\"\",\"\",Simulação!X402)","v":367.68091862403844},{"$f":"IF($C402=\"\",\"\",Simulação!Y402)","v":"-"},{"$f":"IF($C402=\"\",\"\",Simulação!Z402)","v":348.11995566721004},{"$f":"IF($C402=\"\",\"\",Simulação!AA402)","v":"-"},{"$f":"IF($C402=\"\",\"\",Simulação!AB402)","v":344.70943710716369},{"$f":"IF($C402=\"\",\"\",Simulação!AC402)","v":"-"},{"$f":"IF($C402=\"\",\"\",Simulação!AD402)","v":341.76920082082432},{"$f":"IF($C402=\"\",\"\",Simulação!AE402)","v":"-"},{"$f":"IF($C402=\"\",\"\",Simulação!AF402)","v":350.98645257323926},{"$f":"IF($C402=\"\",\"\",Simulação!AG402)","v":"-"},{"$f":"IF($C402=\"\",\"\",Simulação!AH402)","v":348.63196013630733},{"$f":"IF($C402=\"\",\"\",Simulação!AI402)","v":"-"},{"$f":"IF($C402=\"\",\"\",Simulação!AJ402)","v":33.045125393740342},{"$f":"IF($C402=\"\",\"\",Simulação!AK402)","v":"-"},{"$f":"IF($C402=\"\",\"\",Simulação!AL402)","v":32.02721881559642},{"$f":"IF($C402=\"\",\"\",Simulação!AM402)","v":"-"},{"$f":"IF($C402=\"\",\"\",Simulação!AN402)","v":32.217563507182206},{"$f":"IF($C402=\"\",\"\",Simulação!AO402)","v":"-"},{"$f":"IF($C402=\"\",\"\",Simulação!AP402)","v":36.406016086434107},{"$f":"IF($C402=\"\",\"\",Simulação!AQ402)","v":"-"},{"$f":"IF($C402=\"\",\"\",Simulação!AR402)","v":0}]
[null,396,{"$f":"IF(Chegadas!J404<=$C$5,Chegadas!J404,\"\")","v":359.59},{"$f":"IF($C403=\"\",\"\",Simulação!D403)","v":2.1158997511058897},{"$f":"IF($C403=\"\",\"\",Simulação!E403)","v":"*"},{"$f":"IF($C403=\"\",\"\",Simulação!F403)","v":360.90355688137771},{"$f":"IF($C403=\"\",\"\",Simulação!G403)","v":"*"},{"$f":"IF($C403=\"\",\"\",Simulação!H403)","v":361.89409483945781},{"$f":"IF($C403=\"\",\"\",Simulação!I403)","v":"*"},{"$f":"IF($C403=\"\",\"\",Simulação!J403)","v":363.57721191978817},{"$f":"IF($C403=\"\",\"\",Simulação!K403)","v":"*"},{"$f":"IF($C403=\"\",\"\",Simulação!L403)","v":365.25116243091293},{"$f":"IF($C403=\"\",\"\",Simulação!M403)","v":"*"},{"$f":"IF($C403=\"\",\"\",Simulação!N403)","v":364.47576536839921},{"$f":"IF($C403=\"\",\"\",Simulação!O403)","v":"*"},{"$f":"IF($C403=\"\",\"\",Simulação!P403)","v":367.62763116845247},{"$f":"IF($C403=\"\",\"\",Simulação!Q403)","v":"*"},{"$f":"IF($C403=\"\",\"\",Simulação!R403)","v":364.95040656222085},{"$f":"IF($C403=\"\",\"\",Simulação!S403)","v":"*"},{"$f":"IF($C403=\"\",\"\",Simulação!T403)","v":364.14472670827365},{"$f":"IF($C403=\"\",\"\",Simulação!U403)","v":"*"},{"$f":"IF($C403=\"\",\"\",Simulação!V403)","v":363.02665727576044},{"$f":"IF($C403=\"\",\"\",Simulação!W403)","v":"*"},{"$f":"IF($C403=\"\",\"\",Simulação!X403)","v":367.68091862403844},{"$f":"IF($C403=\"\",\"\",Simulação!Y403)","v":359.59},{"$f":"IF($C403=\"\",\"\",Simulação!Z403)","v":361.70589975110585},{"$f":"IF($C403=\"\",\"\",Simulação!AA403)","v":"-"},{"$f":"IF($C403=\"\",\"\",Simulação!AB403)","v":344.70943710716369},{"$f":"IF($C403=\"\",\"\",Simulação!AC403)","v":"-"},{"$f":"IF($C403=\"\",\"\",Simulação!AD403)","v":341.76920082082432},{"$f":"IF($C403=\"\",\"\",Simulação!AE403)","v":"-"},{"$f":"IF($C403=\"\",\"\",Simulação!AF403)","v":350.98645257323926},{"$f":"IF($C403=\"\",\"\",Simulação!AG403)","v":"-"},{"$f":"IF($C403=\"\",\"\",Simulação!AH403)","v":348.63196013630733},{"$f":"IF($C403=\"\",\"\",Simulação!AI403)","v":"-"},{"$f":"IF($C403=\"\",\"\",Simulação!AJ403)","v":33.045125393740342},{"$f":"IF($C403=\"\",\"\",Simulação!AK403)","v":"-"},{"$f":"IF($C403=\"\",\"\",Simulação!AL403)","v":32.02721881559642},{"$f":"IF($C403=\"\",\"\",Simulação!AM403)","v":"-"},{"$f":"IF($C403=\"\",\"\",Simulação!AN403)","v":32.217563507182206},{"$f":"IF($C403=\"\",\"\",Simulação!AO403)","v":"-"},{"$f":"IF($C403=\"\",\"\",Simulação!AP403)","v":36.406016086434107},{"$f":"IF($C403=\"\",\"\",Simulação!AQ403)","v":"-"},{"$f":"IF($C403=\"\",\"\",Simulação!AR403)","v":0}]
[null,397,{"$f":"IF(Chegadas!J405<=$C$5,Chegadas!J405,\"\")","v":359.94},{"$f":"IF($C404=\"\",\"\",Simulação!D404)","v":2.3689256901290858},{"$f":"IF($C404=\"\",\"\",Simulação!E404)","v":"*"},{"$f":"IF($C404=\"\",\"\",Simulação!F404)","v":360.90355688137771},{"$f":"IF($C404=\"\",\"\",Simulação!G404)","v":"*"},{"$f":"IF($C404=\"\",\"\",Simulação!H404)","v":361.89409483945781},{"$f":"IF($C404=\"\",\"\",Simulação!I404)","v":"*"},{"$f":"IF($C404=\"\",\"\",Simulação!J404)","v":363.57721191978817},{"$f":"IF($C404=\"\",\"\",Simulação!K404)","v":"*"},{"$f":"IF($C404=\"\",\"\",Simulação!L404)","v":365.25116243091293},{"$f":"IF($C404=\"\",\"\",Simulação!M404)","v":"*"},{"$f":"IF($C404=\"\",\"\",Simulação!N404)","v":364.47576536839921},{"$f":"IF($C404=\"\",\"\",Simulação!O404)","v":"*"},{"$f":"IF($C404=\"\",\"\",Simulação!P404)","v":367.62763116845247},{"$f":"IF($C404=\"\",\"\",Simulação!Q404)","v":"*"},{"$f":"IF($C404=\"\",\"\",Simulação!R404)","v":364.95040656222085},{"$f":"IF($C404=\"\",\"\",Simulação!S404)","v":"*"},{"$f":"IF($C404=\"\",\"\",Simulação!T404)","v":364.14472670827365},{"$f":"IF($C404=\"\",\"\",Simulação!U404)","v":"*"},{"$f":"IF($C404=\"\",\"\",Simulação!V404)","v":363.02665727576044},{"$f":"IF($C404=\"\",\"\",Simulação!W404)","v":"*"},{"$f":"IF($C404=\"\",\"\",Simulação!X404)","v":367.68091862403844},{"$f":"IF($C404=\"\",\"\",Simulação!Y404)","v":"*"},{"$f":"IF($C404=\"\",\"\",Simulação!Z404)","v":361.70589975110585},{"$f":"IF($C404=\"\",\"\",Simulação!AA404)","v":359.94},{"$f":"IF($C404=\"\",\"\",Simulação!AB404)","v":362.30892569012906},{"$f":"IF($C404=\"\",\"\",Simulação!AC404)","v":"-"},{"$f":"IF($C404=\"\",\"\",Simulação!AD404)","v":341.76920082082432},{"$f":"IF($C404=\"\",\"\",Simulação!AE404)","v":"-"},{"$f":"IF($C404=\"\",\"\",Simulação!AF404)","v":350.98645257323926},{"$f":"IF($C404=\"\",\"\",Simulação!AG404)","v":"-"},{"$f":"IF($C404=\"\",\"\",Simulação!AH404)","v":348.63196013630733},{"$f":"IF($C404=\"\",\"\",Simulação!AI404)","v":"-"},{"$f":"IF($C404=\"\",\"\",Simulação!AJ404)","v":33.045125393740342},{"$f":"IF($C404=\"\",\"\",Simulação!AK404)","v":"-"},{"$f":"IF($C404=\"\",\"\",Simulação!AL404)","v":32.02721881559642},{"$f":"IF($C404=\"\",\"\",Simulação!AM404)","v":"-"},{"$f":"IF($C404=\"\",\"\",Simulação!AN404)","v":32.217563507182206},{"$f":"IF($C404=\"\",\"\",Simulação!AO404)","v":"-"},{"$f":"IF($C404=\"\",\"\",Simulação!AP404)","v":36.406016086434107},{"$f":"IF($C404=\"\",\"\",Simulação!AQ404)","v":"-"},{"$f":"IF($C404=\"\",\"\",Simulação!AR404)","v":0}]
[null,398,{"$f":"IF(Chegadas!J406<=$C$5,Chegadas!J406,\"\")","v":360.4},{"$f":"IF($C405=\"\",\"\",Simulação!D405)","v":4.4831493731939345},{"$f":"IF($C405=\"\",\"\",Simulação!E405)","v":"*"},{"$f":"IF($C405=\"\",\"\",Simulação!F405)","v":360.90355688137771},{"$f":"IF($C405=\"\",\"\",Simulação!G405)","v":"*"},{"$f":"IF($C405=\"\",\"\",Simulação!H405)","v":361.89409483945781},{"$f":"IF($C405=\"\",\"\",Simulação!I405)","v":"*"},{"$f":"IF($C405=\"\",\"\",Simulação!J405)","v":363.57721191978817},{"$f":"IF($C405=\"\",\"\",Simulação!K405)","v":"*"},{"$f":"IF($C405=\"\",\"\",Simulação!L405)","v":365.25116243091293},{"$f":"IF($C405=\"\",\"\",Simulação!M405)","v":"*"},{"$f":"IF($C405=\"\",\"\",Simulação!N405)","v":364.47576536839921},{"$f":"IF($C405=\"\",\"\",Simulação!O405)","v":"*"},{"$f":"IF($C405=\"\",\"\",Simulação!P405)","v":367.62763116845247},{"$f":"IF($C405=\"\",\"\",Simulação!Q405)","v":"*"},{"$f":"IF($C405=\"\",\"\",Simulação!R405)","v":364.95040656222085},{"$f":"IF($C405=\"\",\"\",Simulação!S405)","v":"*"},{"$f":"IF($C405=\"\",\"\",Simulação!T405)","v":364.14472670827365},{"$f":"IF($C405=\"\",\"\",Simulação!U405)","v":"*"},{"$f":"IF($C405=\"\",\"\",Simulação!V405)","v":363.02665727576044},{"$f":"IF($C405=\"\",\"\",Simulação!W405)","v":"*"},{"$f":"IF($C405=\"\",\"\",Simulação!X405)","v":367.68091862403844},{"$f":"IF($C405=\"\",\"\",Simulação!Y405)","v":"*"},{"$f":"IF($C405=\"\",\"\",Simulação!Z405)","v":361.70589975110585},{"$f":"IF($C405=\"\",\"\",Simulação!AA405)","v":"*"},{"$f":"IF($C405=\"\",\"\",Simulação!AB405)","v":362.30892569012906},{"$f":"IF($C405=\"\",\"\",Simulação!AC405)","v":360.4},{"$f":"IF($C405=\"\",\"\",Simulação!AD405)","v":364.88314937319393},{"$f":"IF($C405=\"\",\"\",Simulação!AE405)","v":"-"},{"$f":"IF($C405=\"\",\"\",Simulação!AF405)","v":350.98645257323926},{"$f":"IF($C405=\"\",\"\",Simulação!AG405)","v":"-"},{"$f":"IF($C405=\"\",\"\",Simulação!AH405)","v":348.63196013630733},{"$f":"IF($C405=\"\",\"\",Simulação!AI405)","v":"-"},{"$f":"IF($C405=\"\",\"\",Simulação!AJ405)","v":33.045125393740342},{"$f":"IF($C405=\"\",\"\",Simulação!AK405)","v":"-"},{"$f":"IF($C405=\"\",\"\",Simulação!AL405)","v":32.02721881559642},{"$f":"IF($C405=\"\",\"\",Simulação!AM405)","v":"-"},{"$f":"IF($C405=\"\",\"\",Simulação!AN405)","v":32.217563507182206},{"$f":"IF($C405=\"\",\"\",Simulação!AO405)","v":"-"},{"$f":"IF($C405=\"\",\"\",Simulação!AP405)","v":36.406016086434107},{"$f":"IF($C405=\"\",\"\",Simulação!AQ405)","v":"-"},{"$f":"IF($C405=\"\",\"\",Simulação!AR405)","v":0}]
[null,399,{"$f":"IF(Chegadas!J407<=$C$5,Chegadas!J407,\"\")","v":360.66999999999996},{"$f":"IF($C406=\"\",\"\",Simulação!D406)","v":3.9411457732567934},{"$f":"IF($C406=\"\",\"\",Simulação!E406)","v":"*"},{"$f":"IF($C406=\"\",\"\",Simulação!F406)","v":360.90355688137771},{"$f":"IF($C406=\"\",\"\",Simulação!G406)","v":"*"},{"$f":"IF($C406=\"\",\"\",Simulação!H406)","v":361.89409483945781},{"$f":"IF($C406=\"\",\"\",Simulação!I406)","v":"*"},{"$f":"IF($C406=\"\",\"\",Simulação!J406)","v":363.57721191978817},{"$f":"IF($C406=\"\",\"\",Simulação!K406)","v":"*"},{"$f":"IF($C406=\"\",\"\",Simulação!L406)","v":365.25116243091293},{"$f":"IF($C406=\"\",\"\",Simulação!M406)","v":"*"},{"$f":"IF($C406=\"\",\"\",Simulação!N406)","v":364.47576536839921},{"$f":"IF($C406=\"\",\"\",Simulação!O406)","v":"*"},{"$f":"IF($C406=\"\",\"\",Simulação!P406)","v":367.62763116845247},{"$f":"IF($C406=\"\",\"\",Simulação!Q406)","v":"*"},{"$f":"IF($C406=\"\",\"\",Simulação!R406)","v":364.95040656222085},{"$f":"IF($C406=\"\",\"\",Simulação!S406)","v":"*"},{"$f":"IF($C406=\"\",\"\",Simulação!T406)","v":364.14472670827365},{"$f":"IF($C406=\"\",\"\",Simulação!U406)","v":"*"},{"$f":"IF($C406=\"\",\"\",Simulação!V406)","v":363.02665727576044},{"$f":"IF($C406=\"\",\"\",Simulação!W406)","v":"*"},{"$f":"IF($C406=\"\",\"\",Simulação!X406)","v":367.68091862403844},{"$f":"IF($C406=\"\",\"\",Simulação!Y406)","v":"*"},{"$f":"IF($C406=\"\",\"\",Simulação!Z406)","v":361.70589975110585},{"$f":"IF($C406=\"\",\"\",Simulação!AA406)","v":"*"},{"$f":"IF($C406=\"\",\"\",Simulação!AB406)","v":362.30892569012906},{"$f":"IF($C406=\"\",\"\",Simulação!AC406)","v":"*"},{"$f":"IF($C406=\"\",\"\",Simulação!AD406)","v":364.88314937319393},{"$f":"IF($C406=\"\",\"\",Simulação!AE406)","v":360.66999999999996},{"$f":"IF($C406=\"\",\"\",Simulação!AF406)","v":364.61114577325674},{"$f":"IF($C406=\"\",\"\",Simulação!AG406)","v":"-"},{"$f":"IF($C406=\"\",\"\",Simulação!AH406)","v":348.63196013630733},{"$f":"IF($C406=\"\",\"\",Simulação!AI406)","v":"-"},{"$f":"IF($C406=\"\",\"\",Simulação!AJ406)","v":33.045125393740342},{"$f":"IF($C406=\"\",\"\",Simulação!AK406)","v":"-"},{"$f":"IF($C406=\"\",\"\",Simulação!AL406)","v":32.02721881559642},{"$f":"IF($C406=\"\",\"\",Simulação!AM406)","v":"-"},{"$f":"IF($C406=\"\",\"\",Simulação!AN406)","v":32.217563507182206},{"$f":"IF($C406=\"\",\"\",Simulação!AO406)","v":"-"},{"$f":"IF($C406=\"\",\"\",Simulação!AP406)","v":36.406016086434107},{"$f":"IF($C406=\"\",\"\",Simulação!AQ406)","v":"-"},{"$f":"IF($C406=\"\",\"\",Simulação!AR406)","v":0}]
[null,400,{"$f":"IF(Chegadas!J408<=$C$5,Chegadas!J408,\"\")","v":361.19999999999993},{"$f":"IF($C407=\"\",\"\",Simulação!D407)","v":10.588793884318667},{"$f":"IF($C407=\"\",\"\",Simulação!E407)","v":361.19999999999993},{"$f":"IF($C407=\"\",\"\",Simulação!F407)","v":371.78879388431858},{"$f":"IF($C407=\"\",\"\",Simulação!G407)","v":"-"},{"$f":"IF($C407=\"\",\"\",Simulação!H407)","v":361.89409483945781},{"$f":"IF($C407=\"\",\"\",Simulação!I407)","v":"-"},{"$f":"IF($C407=\"\",\"\",Simulação!J407)","v":363.57721191978817},{"$f":"IF($C407=\"\",\"\",Simulação!K407)","v":"-"},{"$f":"IF($C407=\"\",\"\",Simulação!L407)","v":365.25116243091293},{"$f":"IF($C407=\"\",\"\",Simulação!M407)","v":"-"},{"$f":"IF($C407=\"\",\"\",Simulação!N407)","v":364.47576536839921},{"$f":"IF($C407=\"\",\"\",Simulação!O407)","v":"-"},{"$f":"IF($C407=\"\",\"\",Simulação!P407)","v":367.62763116845247},{"$f":"IF($C407=\"\",\"\",Simulação!Q407)","v":"-"},{"$f":"IF($C407=\"\",\"\",Simulação!R407)","v":364.95040656222085},{"$f":"IF($C407=\"\",\"\",Simulação!S407)","v":"-"},{"$f":"IF($C407=\"\",\"\",Simulação!T407)","v":364.14472670827365},{"$f":"IF($C407=\"\",\"\",Simulação!U407)","v":"-"},{"$f":"IF($C407=\"\",\"\",Simulação!V407)","v":363.02665727576044},{"$f":"IF($C407=\"\",\"\",Simulação!W407)","v":"-"},{"$f":"IF($C407=\"\",\"\",Simulação!X407)","v":367.68091862403844},{"$f":"IF($C407=\"\",\"\",Simulação!Y407)","v":"-"},{"$f":"IF($C407=\"\",\"\",Simulação!Z407)","v":361.70589975110585},{"$f":"IF($C407=\"\",\"\",Simulação!AA407)","v":"-"},{"$f":"IF($C407=\"\",\"\",Simulação!AB407)","v":362.30892569012906},{"$f":"IF($C407=\"\",\"\",Simulação!AC407)","v":"-"},{"$f":"IF($C407=\"\",\"\",Simulação!AD407)","v":364.88314937319393},{"$f":"IF($C407=\"\",\"\",Simulação!AE407)","v":"-"},{"$f":"IF($C407=\"\",\"\",Simulação!AF407)","v":364.61114577325674},{"$f":"IF($C407=\"\",\"\",Simulação!AG407)","v":"-"},{"$f":"IF($C407=\"\",\"\",Simulação!AH407)","v":348.63196013630733},{"$f":"IF($C407=\"\",\"\",Simulação!AI407)","v":"-"},{"$f":"IF($C407=\"\",\"\",Simulação!AJ407)","v":33.045125393740342},{"$f":"IF($C407=\"\",\"\",Simulação!AK407)","v":"-"},{"$f":"IF($C407=\"\",\"\",Simulação!AL407)","v":32.02721881559642},{"$f":"IF($C407=\"\",\"\",Simulação!AM407)","v":"-"},{"$f":"IF($C407=\"\",\"\",Simulação!AN407)","v":32.217563507182206},{"$f":"IF($C407=\"\",\"\",Simulação!AO407)","v":"-"},{"$f":"IF($C407=\"\",\"\",Simulação!AP407)","v":36.406016086434107},{"$f":"IF($C407=\"\",\"\",Simulação!AQ407)","v":"-"},{"$f":"IF($C407=\"\",\"\",Simulação!AR407)","v":0}]
[null,401,{"$f":"IF(Chegadas!J409<=$C$5,Chegadas!J409,\"\")","v":361.83999999999992},{"$f":"IF($C408=\"\",\"\",Simulação!D408)","v":3.7289357481522276},{"$f":"IF($C408=\"\",\"\",Simulação!E408)","v":"*"},{"$f":"IF($C408=\"\",\"\",Simulação!F408)","v":371.78879388431858},{"$f":"IF($C408=\"\",\"\",Simulação!G408)","v":"*"},{"$f":"IF($C408=\"\",\"\",Simulação!H408)","v":361.89409483945781},{"$f":"IF($C408=\"\",\"\",Simulação!I408)","v":"*"},{"$f":"IF($C408=\"\",\"\",Simulação!J408)","v":363.57721191978817},{"$f":"IF($C408=\"\",\"\",Simulação!K408)","v":"*"},{"$f":"IF($C408=\"\",\"\",Simulação!L408)","v":365.25116243091293},{"$f":"IF($C408=\"\",\"\",Simulação!M408)","v":"*"},{"$f":"IF($C408=\"\",\"\",Simulação!N408)","v":364.47576536839921},{"$f":"IF($C408=\"\",\"\",Simulação!O408)","v":"*"},{"$f":"IF($C408=\"\",\"\",Simulação!P408)","v":367.62763116845247},{"$f":"IF($C408=\"\",\"\",Simulação!Q408)","v":"*"},{"$f":"IF($C408=\"\",\"\",Simulação!R408)","v":364.95040656222085},{"$f":"IF($C408=\"\",\"\",Simulação!S408)","v":"*"},{"$f":"IF($C408=\"\",\"\",Simulação!T408)","v":364.14472670827365},{"$f":"IF($C408=\"\",\"\",Simulação!U408)","v":"*"},{"$f":"IF($C408=\"\",\"\",Simulação!V408)","v":363.02665727576044},{"$f":"IF($C408=\"\",\"\",Simulação!W408)","v":"*"},{"$f":"IF($C408=\"\",\"\",Simulação!X408)","v":367.68091862403844},{"$f":"IF($C408=\"\",\"\",Simulação!Y408)","v":361.83999999999992},{"$f":"IF($C408=\"\",\"\",Simulação!Z408)","v":365.56893574815217},{"$f":"IF($C408=\"\",\"\",Simulação!AA408)","v":"-"},{"$f":"IF($C408=\"\",\"\",Simulação!AB408)","v":362.30892569012906},{"$f":"IF($C408=\"\",\"\",Simulação!AC408)","v":"-"},{"$f":"IF($C408=\"\",\"\",Simulação!AD408)","v":364.88314937319393},{"$f":"IF($C408=\"\",\"\",Simulação!AE408)","v":"-"},{"$f":"IF($C408=\"\",\"\",Simulação!AF408)","v":364.61114577325674},{"$f":"IF($C408=\"\",\"\",Simulação!AG408)","v":"-"},{"$f":"IF($C408=\"\",\"\",Simulação!AH408)","v":348.63196013630733},{"$f":"IF($C408=\"\",\"\",Simulação!AI408)","v":"-"},{"$f":"IF($C408=\"\",\"\",Simulação!AJ408)","v":33.045125393740342},{"$f":"IF($C408=\"\",\"\",Simulação!AK408)","v":"-"},{"$f":"IF($C408=\"\",\"\",Simulação!AL408)","v":32.02721881559642},{"$f":"IF($C408=\"\",\"\",Simulação!AM408)","v":"-"},{"$f":"IF($C408=\"\",\"\",Simulação!AN408)","v":32.217563507182206},{"$f":"IF($C408=\"\",\"\",Simulação!AO408)","v":"-"},{"$f":"IF($C408=\"\",\"\",Simulação!AP408)","v":36.406016086434107},{"$f":"IF($C408=\"\",\"\",Simulação!AQ408)","v":"-"},{"$f":"IF($C408=\"\",\"\",Simulação!AR408)","v":0}]
[null,402,{"$f":"IF(Chegadas!J410<=$C$5,Chegadas!J410,\"\")","v":362.71999999999991},{"$f":"IF($C409=\"\",\"\",Simulação!D409)","v":11.54565411695835},{"$f":"IF($C409=\"\",\"\",Simulação!E409)","v":"*"},{"$f":"IF($C409=\"\",\"\",Simulação!F409)","v":371.78879388431858},{"$f":"IF($C409=\"\",\"\",Simulação!G409)","v":362.71999999999991},{"$f":"IF($C409=\"\",\"\",Simulação!H409)","v":374.26565411695827},{"$f":"IF($C409=\"\",\"\",Simulação!I409)","v":"-"},{"$f":"IF($C409=\"\",\"\",Simulação!J409)","v":363.57721191978817},{"$f":"IF($C409=\"\",\"\",Simulação!K409)","v":"-"},{"$f":"IF($C409=\"\",\"\",Simulação!L409)","v":365.25116243091293},{"$f":"IF($C409=\"\",\"\",Simulação!M409)","v":"-"},{"$f":"IF($C409=\"\",\"\",Simulação!N409)","v":364.47576536839921},{"$f":"IF($C409=\"\",\"\",Simulação!O409)","v":"-"},{"$f":"IF($C409=\"\",\"\",Simulação!P409)","v":367.62763116845247},{"$f":"IF($C409=\"\",\"\",Simulação!Q409)","v":"-"},{"$f":"IF($C409=\"\",\"\",Simulação!R409)","v":364.95040656222085},{"$f":"IF($C409=\"\",\"\",Simulação!S409)","v":"-"},{"$f":"IF($C409=\"\",\"\",Simulação!T409)","v":364.14472670827365},{"$f":"IF($C409=\"\",\"\",Simulação!U409)","v":"-"},{"$f":"IF($C409=\"\",\"\",Simulação!V409)","v":363.02665727576044},{"$f":"IF($C409=\"\",\"\",Simulação!W409)","v":"-"},{"$f":"IF($C409=\"\",\"\",Simulação!X409)","v":367.68091862403844},{"$f":"IF($C409=\"\",\"\",Simulação!Y409)","v":"-"},{"$f":"IF($C409=\"\",\"\",Simulação!Z409)","v":365.56893574815217},{"$f":"IF($C409=\"\",\"\",Simulação!AA409)","v":"-"},{"$f":"IF($C409=\"\",\"\",Simulação!AB409)","v":362.30892569012906},{"$f":"IF($C409=\"\",\"\",Simulação!AC409)","v":"-"},{"$f":"IF($C409=\"\",\"\",Simulação!AD409)","v":364.88314937319393},{"$f":"IF($C409=\"\",\"\",Simulação!AE409)","v":"-"},{"$f":"IF($C409=\"\",\"\",Simulação!AF409)","v":364.61114577325674},{"$f":"IF($C409=\"\",\"\",Simulação!AG409)","v":"-"},{"$f":"IF($C409=\"\",\"\",Simulação!AH409)","v":348.63196013630733},{"$f":"IF($C409=\"\",\"\",Simulação!AI409)","v":"-"},{"$f":"IF($C409=\"\",\"\",Simulação!AJ409)","v":33.045125393740342},{"$f":"IF($C409=\"\",\"\",Simulação!AK409)","v":"-"},{"$f":"IF($C409=\"\",\"\",Simulação!AL409)","v":32.02721881559642},{"$f":"IF($C409=\"\",\"\",Simulação!AM409)","v":"-"},{"$f":"IF($C409=\"\",\"\",Simulação!AN409)","v":32.217563507182206},{"$f":"IF($C409=\"\",\"\",Simulação!AO409)","v":"-"},{"$f":"IF($C409=\"\",\"\",Simulação!AP409)","v":36.406016086434107},{"$f":"IF($C409=\"\",\"\",Simulação!AQ409)","v":"-"},{"$f":"IF($C409=\"\",\"\",Simulação!AR409)","v":0}]
[null,403,{"$f":"IF(Chegadas!J411<=$C$5,Chegadas!J411,\"\")","v":363.64999999999992},{"$f":"IF($C410=\"\",\"\",Simulação!D410)","v":11.483295156273321},{"$f":"IF($C410=\"\",\"\",Simulação!E410)","v":"*"},{"$f":"IF($C410=\"\",\"\",Simulação!F410)","v":371.78879388431858},{"$f":"IF($C410=\"\",\"\",Simulação!G410)","v":"*"},{"$f":"IF($C410=\"\",\"\",Simulação!H410)","v":374.26565411695827},{"$f":"IF($C410=\"\",\"\",Simulação!I410)","v":363.64999999999992},{"$f":"IF($C410=\"\",\"\",Simulação!J410)","v":375.13329515627322},{"$f":"IF($C410=\"\",\"\",Simulação!K410)","v":"-"},{"$f":"IF($C410=\"\",\"\",Simulação!L410)","v":365.25116243091293},{"$f":"IF($C410=\"\",\"\",Simulação!M410)","v":"-"},{"$f":"IF($C410=\"\",\"\",Simulação!N410)","v":364.47576536839921},{"$f":"IF($C410=\"\",\"\",Simulação!O410)","v":"-"},{"$f":"IF($C410=\"\",\"\",Simulação!P410)","v":367.62763116845247},{"$f":"IF($C410=\"\",\"\",Simulação!Q410)","v":"-"},{"$f":"IF($C410=\"\",\"\",Simulação!R410)","v":364.95040656222085},{"$f":"IF($C410=\"\",\"\",Simulação!S410)","v":"-"},{"$f":"IF($C410=\"\",\"\",Simulação!T410)","v":364.14472670827365},{"$f":"IF($C410=\"\",\"\",Simulação!U410)","v":"-"},{"$f":"IF($C410=\"\",\"\",Simulação!V410)","v":363.02665727576044},{"$f":"IF($C410=\"\",\"\",Simulação!W410)","v":"-"},{"$f":"IF($C410=\"\",\"\",Simulação!X410)","v":367.68091862403844},{"$f":"IF($C410=\"\",\"\",Simulação!Y410)","v":"-"},{"$f":"IF($C410=\"\",\"\",Simulação!Z410)","v":365.56893574815217},{"$f":"IF($C410=\"\",\"\",Simulação!AA410)","v":"-"},{"$f":"IF($C410=\"\",\"\",Simulação!AB410)","v":362.30892569012906},{"$f":"IF($C410=\"\",\"\",Simulação!AC410)","v":"-"},{"$f":"IF($C410=\"\",\"\",Simulação!AD410)","v":364.88314937319393},{"$f":"IF($C410=\"\",\"\",Simulação!AE410)","v":"-"},{"$f":"IF($C410=\"\",\"\",Simulação!AF410)","v":364.61114577325674},{"$f":"IF($C410=\"\",\"\",Simulação!AG410)","v":"-"},{"$f":"IF($C410=\"\",\"\",Simulação!AH410)","v":348.63196013630733},{"$f":"IF($C410=\"\",\"\",Simulação!AI410)","v":"-"},{"$f":"IF($C410=\"\",\"\",Simulação!AJ410)","v":33.045125393740342},{"$f":"IF($C410=\"\",\"\",Simulação!AK410)","v":"-"},{"$f":"IF($C410=\"\",\"\",Simulação!AL410)","v":32.02721881559642},{"$f":"IF($C410=\"\",\"\",Simulação!AM410)","v":"-"},{"$f":"IF($C410=\"\",\"\",Simulação!AN410)","v":32.217563507182206},{"$f":"IF($C410=\"\",\"\",Simulação!AO410)","v":"-"},{"$f":"IF($C410=\"\",\"\",Simulação!AP410)","v":36.406016086434107},{"$f":"IF($C410=\"\",\"\",Simulação!AQ410)","v":"-"},{"$f":"IF($C410=\"\",\"\",Simulação!AR410)","v":0}]
[null,404,{"$f":"IF(Chegadas!J412<=$C$5,Chegadas!J412,\"\")","v":363.82999999999993},{"$f":"IF($C411=\"\",\"\",Simulação!D411)","v":6.4395402557004102},{"$f":"IF($C411=\"\",\"\",Simulação!E411)","v":"*"},{"$f":"IF($C411=\"\",\"\",Simulação!F411)","v":371.78879388431858},{"$f":"IF($C411=\"\",\"\",Simulação!G411)","v":"*"},{"$f":"IF($C411=\"\",\"\",Simulação!H411)","v":374.26565411695827},{"$f":"IF($C411=\"\",\"\",Simulação!I411)","v":"*"},{"$f":"IF($C411=\"\",\"\",Simulação!J411)","v":375.13329515627322},{"$f":"IF($C411=\"\",\"\",Simulação!K411)","v":"*"},{"$f":"IF($C411=\"\",\"\",Simulação!L411)","v":365.25116243091293},{"$f":"IF($C411=\"\",\"\",Simulação!M411)","v":"*"},{"$f":"IF($C411=\"\",\"\",Simulação!N411)","v":364.47576536839921},{"$f":"IF($C411=\"\",\"\",Simulação!O411)","v":"*"},{"$f":"IF($C411=\"\",\"\",Simulação!P411)","v":367.62763116845247},{"$f":"IF($C411=\"\",\"\",Simulação!Q411)","v":"*"},{"$f":"IF($C411=\"\",\"\",Simulação!R411)","v":364.95040656222085},{"$f":"IF($C411=\"\",\"\",Simulação!S411)","v":"*"},{"$f":"IF($C411=\"\",\"\",Simulação!T411)","v":364.14472670827365},{"$f":"IF($C411=\"\",\"\",Simulação!U411)","v":363.82999999999993},{"$f":"IF($C411=\"\",\"\",Simulação!V411)","v":370.26954025570035},{"$f":"IF($C411=\"\",\"\",Simulação!W411)","v":"-"},{"$f":"IF($C411=\"\",\"\",Simulação!X411)","v":367.68091862403844},{"$f":"IF($C411=\"\",\"\",Simulação!Y411)","v":"-"},{"$f":"IF($C411=\"\",\"\",Simulação!Z411)","v":365.56893574815217},{"$f":"IF($C411=\"\",\"\",Simulação!AA411)","v":"-"},{"$f":"IF($C411=\"\",\"\",Simulação!AB411)","v":362.30892569012906},{"$f":"IF($C411=\"\",\"\",Simulação!AC411)","v":"-"},{"$f":"IF($C411=\"\",\"\",Simulação!AD411)","v":364.88314937319393},{"$f":"IF($C411=\"\",\"\",Simulação!AE411)","v":"-"},{"$f":"IF($C411=\"\",\"\",Simulação!AF411)","v":364.61114577325674},{"$f":"IF($C411=\"\",\"\",Simulação!AG411)","v":"-"},{"$f":"IF($C411=\"\",\"\",Simulação!AH411)","v":348.63196013630733},{"$f":"IF($C411=\"\",\"\",Simulação!AI411)","v":"-"},{"$f":"IF($C411=\"\",\"\",Simulação!AJ411)","v":33.045125393740342},{"$f":"IF($C411=\"\",\"\",Simulação!AK411)","v":"-"},{"$f":"IF($C411=\"\",\"\",Simulação!AL411)","v":32.02721881559642},{"$f":"IF($C411=\"\",\"\",Simulação!AM411)","v":"-"},{"$f":"IF($C411=\"\",\"\",Simulação!AN411)","v":32.217563507182206},{"$f":"IF($C411=\"\",\"\",Simulação!AO411)","v":"-"},{"$f":"IF($C411=\"\",\"\",Simulação!AP411)","v":36.406016086434107},{"$f":"IF($C411=\"\",\"\",Simulação!AQ411)","v":"-"},{"$f":"IF($C411=\"\",\"\",Simulação!AR411)","v":0}]
[null,405,{"$f":"IF(Chegadas!J413<=$C$5,Chegadas!J413,\"\")","v":363.9799999999999},{"$f":"IF($C412=\"\",\"\",Simulação!D412)","v":4.9346989838893798},{"$f":"IF($C412=\"\",\"\",Simulação!E412)","v":"*"},{"$f":"IF($C412=\"\",\"\",Simulação!F412)","v":371.78879388431858},{"$f":"IF($C412=\"\",\"\",Simulação!G412)","v":"*"},{"$f":"IF($C412=\"\",\"\",Simulação!H412)","v":374.26565411695827},{"$f":"IF($C412=\"\",\"\",Simulação!I412)","v":"*"},{"$f":"IF($C412=\"\",\"\",Simulação!J412)","v":375.13329515627322},{"$f":"IF($C412=\"\",\"\",Simulação!K412)","v":"*"},{"$f":"IF($C412=\"\",\"\",Simulação!L412)","v":365.25116243091293},{"$f":"IF($C412=\"\",\"\",Simulação!M412)","v":"*"},{"$f":"IF($C412=\"\",\"\",Simulação!N412)","v":364.47576536839921},{"$f":"IF($C412=\"\",\"\",Simulação!O412)","v":"*"},{"$f":"IF($C412=\"\",\"\",Simulação!P412)","v":367.62763116845247},{"$f":"IF($C412=\"\",\"\",Simulação!Q412)","v":"*"},{"$f":"IF($C412=\"\",\"\",Simulação!R412)","v":364.95040656222085},{"$f":"IF($C412=\"\",\"\",Simulação!S412)","v":"*"},{"$f":"IF($C412=\"\",\"\",Simulação!T412)","v":364.14472670827365},{"$f":"IF($C412=\"\",\"\",Simulação!U412)","v":"*"},{"$f":"IF($C412=\"\",\"\",Simulação!V412)","v":370.26954025570035},{"$f":"IF($C412=\"\",\"\",Simulação!W412)","v":"*"},{"$f":"IF($C412=\"\",\"\",Simulação!X412)","v":367.68091862403844},{"$f":"IF($C412=\"\",\"\",Simulação!Y412)","v":"*"},{"$f":"IF($C412=\"\",\"\",Simulação!Z412)","v":365.56893574815217},{"$f":"IF($C412=\"\",\"\",Simulação!AA412)","v":363.9799999999999},{"$f":"IF($C412=\"\",\"\",Simulação!AB412)","v":368.91469898388931},{"$f":"IF($C412=\"\",\"\",Simulação!AC412)","v":"-"},{"$f":"IF($C412=\"\",\"\",Simulação!AD412)","v":364.88314937319393},{"$f":"IF($C412=\"\",\"\",Simulação!AE412)","v":"-"},{"$f":"IF($C412=\"\",\"\",Simulação!AF412)","v":364.61114577325674},{"$f":"IF($C412=\"\",\"\",Simulação!AG412)","v":"-"},{"$f":"IF($C412=\"\",\"\",Simulação!AH412)","v":348.63196013630733},{"$f":"IF($C412=\"\",\"\",Simulação!AI412)","v":"-"},{"$f":"IF($C412=\"\",\"\",Simulação!AJ412)","v":33.045125393740342},{"$f":"IF($C412=\"\",\"\",Simulação!AK412)","v":"-"},{"$f":"IF($C412=\"\",\"\",Simulação!AL412)","v":32.02721881559642},{"$f":"IF($C412=\"\",\"\",Simulação!AM412)","v":"-"},{"$f":"IF($C412=\"\",\"\",Simulação!AN412)","v":32.217563507182206},{"$f":"IF($C412=\"\",\"\",Simulação!AO412)","v":"-"},{"$f":"IF($C412=\"\",\"\",Simulação!AP412)","v":36.406016086434107},{"$f":"IF($C412=\"\",\"\",Simulação!AQ412)","v":"-"},{"$f":"IF($C412=\"\",\"\",Simulação!AR412)","v":0}]
[null,406,{"$f":"IF(Chegadas!J414<=$C$5,Chegadas!J414,\"\")","v":364.4199999999999},{"$f":"IF($C413=\"\",\"\",Simulação!D413)","v":8.688711582351262},{"$f":"IF($C413=\"\",\"\",Simulação!E413)","v":"*"},{"$f":"IF($C413=\"\",\"\",Simulação!F413)","v":371.78879388431858},{"$f":"IF($C413=\"\",\"\",Simulação!G413)","v":"*"},{"$f":"IF($C413=\"\",\"\",Simulação!H413)","v":374.26565411695827},{"$f":"IF($C413=\"\",\"\",Simulação!I413)","v":"*"},{"$f":"IF($C413=\"\",\"\",Simulação!J413)","v":375.13329515627322},{"$f":"IF($C413=\"\",\"\",Simulação!K413)","v":"*"},{"$f":"IF($C413=\"\",\"\",Simulação!L413)","v":365.25116243091293},{"$f":"IF($C413=\"\",\"\",Simulação!M413)","v":"*"},{"$f":"IF($C413=\"\",\"\",Simulação!N413)","v":364.47576536839921},{"$f":"IF($C413=\"\",\"\",Simulação!O413)","v":"*"},{"$f":"IF($C413=\"\",\"\",Simulação!P413)","v":367.62763116845247},{"$f":"IF($C413=\"\",\"\",Simulação!Q413)","v":"*"},{"$f":"IF($C413=\"\",\"\",Simulação!R413)","v":364.95040656222085},{"$f":"IF($C413=\"\",\"\",Simulação!S413)","v":364.4199999999999},{"$f":"IF($C413=\"\",\"\",Simulação!T413)","v":373.10871158235119},{"$f":"IF($C413=\"\",\"\",Simulação!U413)","v":"-"},{"$f":"IF($C413=\"\",\"\",Simulação!V413)","v":370.26954025570035},{"$f":"IF($C413=\"\",\"\",Simulação!W413)","v":"-"},{"$f":"IF($C413=\"\",\"\",Simulação!X413)","v":367.68091862403844},{"$f":"IF($C413=\"\",\"\",Simulação!Y413)","v":"-"},{"$f":"IF($C413=\"\",\"\",Simulação!Z413)","v":365.56893574815217},{"$f":"IF($C413=\"\",\"\",Simulação!AA413)","v":"-"},{"$f":"IF($C413=\"\",\"\",Simulação!AB413)","v":368.91469898388931},{"$f":"IF($C413=\"\",\"\",Simulação!AC413)","v":"-"},{"$f":"IF($C413=\"\",\"\",Simulação!AD413)","v":364.88314937319393},{"$f":"IF($C413=\"\",\"\",Simulação!AE413)","v":"-"},{"$f":"IF($C413=\"\",\"\",Simulação!AF413)","v":364.61114577325674},{"$f":"IF($C413=\"\",\"\",Simulação!AG413)","v":"-"},{"$f":"IF($C413=\"\",\"\",Simulação!AH413)","v":348.63196013630733},{"$f":"IF($C413=\"\",\"\",Simulação!AI413)","v":"-"},{"$f":"IF($C413=\"\",\"\",Simulação!AJ413)","v":33.045125393740342},{"$f":"IF($C413=\"\",\"\",Simulação!AK413)","v":"-"},{"$f":"IF($C413=\"\",\"\",Simulação!AL413)","v":32.02721881559642},{"$f":"IF($C413=\"\",\"\",Simulação!AM413)","v":"-"},{"$f":"IF($C413=\"\",\"\",Simulação!AN413)","v":32.217563507182206},{"$f":"IF($C413=\"\",\"\",Simulação!AO413)","v":"-"},{"$f":"IF($C413=\"\",\"\",Simulação!AP413)","v":36.406016086434107},{"$f":"IF($C413=\"\",\"\",Simulação!AQ413)","v":"-"},{"$f":"IF($C413=\"\",\"\",Simulação!AR413)","v":0}]
[null,407,{"$f":"IF(Chegadas!J415<=$C$5,Chegadas!J415,\"\")","v":365.74999999999989},{"$f":"IF($C414=\"\",\"\",Simulação!D414)","v":7.4706238325658783},{"$f":"IF($C414=\"\",\"\",Simulação!E414)","v":"*"},{"$f":"IF($C414=\"\",\"\",Simulação!F414)","v":371.78879388431858},{"$f":"IF($C414=\"\",\"\",Simulação!G414)","v":"*"},{"$f":"IF($C414=\"\",\"\",Simulação!H414)","v":374.26565411695827},{"$f":"IF($C414=\"\",\"\",Simulação!I414)","v":"*"},{"$f":"IF($C414=\"\",\"\",Simulação!J414)","v":375.13329515627322},{"$f":"IF($C414=\"\",\"\",Simulação!K414)","v":365.74999999999989},{"$f":"IF($C414=\"\",\"\",Simulação!L414)","v":373.22062383256576},{"$f":"IF($C414=\"\",\"\",Simulação!M414)","v":"-"},{"$f":"IF($C414=\"\",\"\",Simulação!N414)","v":364.47576536839921},{"$f":"IF($C414=\"\",\"\",Simulação!O414)","v":"-"},{"$f":"IF($C414=\"\",\"\",Simulação!P414)","v":367.62763116845247},{"$f":"IF($C414=\"\",\"\",Simulação!Q414)","v":"-"},{"$f":"IF($C414=\"\",\"\",Simulação!R414)","v":364.95040656222085},{"$f":"IF($C414=\"\",\"\",Simulação!S414)","v":"-"},{"$f":"IF($C414=\"\",\"\",Simulação!T414)","v":373.10871158235119},{"$f":"IF($C414=\"\",\"\",Simulação!U414)","v":"-"},{"$f":"IF($C414=\"\",\"\",Simulação!V414)","v":370.26954025570035},{"$f":"IF($C414=\"\",\"\",Simulação!W414)","v":"-"},{"$f":"IF($C414=\"\",\"\",Simulação!X414)","v":367.68091862403844},{"$f":"IF($C414=\"\",\"\",Simulação!Y414)","v":"-"},{"$f":"IF($C414=\"\",\"\",Simulação!Z414)","v":365.56893574815217},{"$f":"IF($C414=\"\",\"\",Simulação!AA414)","v":"-"},{"$f":"IF($C414=\"\",\"\",Simulação!AB414)","v":368.91469898388931},{"$f":"IF($C414=\"\",\"\",Simulação!AC414)","v":"-"},{"$f":"IF($C414=\"\",\"\",Simulação!AD414)","v":364.88314937319393},{"$f":"IF($C414=\"\",\"\",Simulação!AE414)","v":"-"},{"$f":"IF($C414=\"\",\"\",Simulação!AF414)","v":364.61114577325674},{"$f":"IF($C414=\"\",\"\",Simulação!AG414)","v":"-"},{"$f":"IF($C414=\"\",\"\",Simulação!AH414)","v":348.63196013630733},{"$f":"IF($C414=\"\",\"\",Simulação!AI414)","v":"-"},{"$f":"IF($C414=\"\",\"\",Simulação!AJ414)","v":33.045125393740342},{"$f":"IF($C414=\"\",\"\",Simulação!AK414)","v":"-"},{"$f":"IF($C414=\"\",\"\",Simulação!AL414)","v":32.02721881559642},{"$f":"IF($C414=\"\",\"\",Simulação!AM414)","v":"-"},{"$f":"IF($C414=\"\",\"\",Simulação!AN414)","v":32.217563507182206},{"$f":"IF($C414=\"\",\"\",Simulação!AO414)","v":"-"},{"$f":"IF($C414=\"\",\"\",Simulação!AP414)","v":36.406016086434107},{"$f":"IF($C414=\"\",\"\",Simulação!AQ414)","v":"-"},{"$f":"IF($C414=\"\",\"\",Simulação!AR414)","v":0}]
[null,408,{"$f":"IF(Chegadas!J416<=$C$5,Chegadas!J416,\"\")","v":368.08999999999986},{"$f":"IF($C415=\"\",\"\",Simulação!D415)","v":14.284992783814342},{"$f":"IF($C415=\"\",\"\",Simulação!E415)","v":"*"},{"$f":"IF($C415=\"\",\"\",Simulação!F415)","v":371.78879388431858},{"$f":"IF($C415=\"\",\"\",Simulação!G415)","v":"*"},{"$f":"IF($C415=\"\",\"\",Simulação!H415)","v":374.26565411695827},{"$f":"IF($C415=\"\",\"\",Simulação!I415)","v":"*"},{"$f":"IF($C415=\"\",\"\",Simulação!J415)","v":375.13329515627322},{"$f":"IF($C415=\"\",\"\",Simulação!K415)","v":"*"},{"$f":"IF($C415=\"\",\"\",Simulação!L415)","v":373.22062383256576},{"$f":"IF($C415=\"\",\"\",Simulação!M415)","v":368.08999999999986},{"$f":"IF($C415=\"\",\"\",Simulação!N415)","v":382.37499278381421},{"$f":"IF($C415=\"\",\"\",Simulação!O415)","v":"-"},{"$f":"IF($C415=\"\",\"\",Simulação!P415)","v":367.62763116845247},{"$f":"IF($C415=\"\",\"\",Simulação!Q415)","v":"-"},{"$f":"IF($C415=\"\",\"\",Simulação!R415)","v":364.95040656222085},{"$f":"IF($C415=\"\",\"\",Simulação!S415)","v":"-"},{"$f":"IF($C415=\"\",\"\",Simulação!T415)","v":373.10871158235119},{"$f":"IF($C415=\"\",\"\",Simulação!U415)","v":"-"},{"$f":"IF($C415=\"\",\"\",Simulação!V415)","v":370.26954025570035},{"$f":"IF($C415=\"\",\"\",Simulação!W415)","v":"-"},{"$f":"IF($C415=\"\",\"\",Simulação!X415)","v":367.68091862403844},{"$f":"IF($C415=\"\",\"\",Simulação!Y415)","v":"-"},{"$f":"IF($C415=\"\",\"\",Simulação!Z415)","v":365.56893574815217},{"$f":"IF($C415=\"\",\"\",Simulação!AA415)","v":"-"},{"$f":"IF($C415=\"\",\"\",Simulação!AB415)","v":368.91469898388931},{"$f":"IF($C415=\"\",\"\",Simulação!AC415)","v":"-"},{"$f":"IF($C415=\"\",\"\",Simulação!AD415)","v":364.88314937319393},{"$f":"IF($C415=\"\",\"\",Simulação!AE415)","v":"-"},{"$f":"IF($C415=\"\",\"\",Simulação!AF415)","v":364.61114577325674},{"$f":"IF($C415=\"\",\"\",Simulação!AG415)","v":"-"},{"$f":"IF($C415=\"\",\"\",Simulação!AH415)","v":348.63196013630733},{"$f":"IF($C415=\"\",\"\",Simulação!AI415)","v":"-"},{"$f":"IF($C415=\"\",\"\",Simulação!AJ415)","v":33.045125393740342},{"$f":"IF($C415=\"\",\"\",Simulação!AK415)","v":"-"},{"$f":"IF($C415=\"\",\"\",Simulação!AL415)","v":32.02721881559642},{"$f":"IF($C415=\"\",\"\",Simulação!AM415)","v":"-"},{"$f":"IF($C415=\"\",\"\",Simulação!AN415)","v":32.217563507182206},{"$f":"IF($C415=\"\",\"\",Simulação!AO415)","v":"-"},{"$f":"IF($C415=\"\",\"\",Simulação!AP415)","v":36.406016086434107},{"$f":"IF($C415=\"\",\"\",Simulação!AQ415)","v":"-"},{"$f":"IF($C415=\"\",\"\",Simulação!AR415)","v":0}]
[null,409,{"$f":"IF(Chegadas!J417<=$C$5,Chegadas!J417,\"\")","v":372.49999999999989},{"$f":"IF($C416=\"\",\"\",Simulação!D416)","v":10.708466672268647},{"$f":"IF($C416=\"\",\"\",Simulação!E416)","v":372.49999999999989},{"$f":"IF($C416=\"\",\"\",Simulação!F416)","v":383.20846667226851},{"$f":"IF($C416=\"\",\"\",Simulação!G416)","v":"-"},{"$f":"IF($C416=\"\",\"\",Simulação!H416)","v":374.26565411695827},{"$f":"IF($C416=\"\",\"\",Simulação!I416)","v":"-"},{"$f":"IF($C416=\"\",\"\",Simulação!J416)","v":375.13329515627322},{"$f":"IF($C416=\"\",\"\",Simulação!K416)","v":"-"},{"$f":"IF($C416=\"\",\"\",Simulação!L416)","v":373.22062383256576},{"$f":"IF($C416=\"\",\"\",Simulação!M416)","v":"-"},{"$f":"IF($C416=\"\",\"\",Simulação!N416)","v":382.37499278381421},{"$f":"IF($C416=\"\",\"\",Simulação!O416)","v":"-"},{"$f":"IF($C416=\"\",\"\",Simulação!P416)","v":367.62763116845247},{"$f":"IF($C416=\"\",\"\",Simulação!Q416)","v":"-"},{"$f":"IF($C416=\"\",\"\",Simulação!R416)","v":364.95040656222085},{"$f":"IF($C416=\"\",\"\",Simulação!S416)","v":"-"},{"$f":"IF($C416=\"\",\"\",Simulação!T416)","v":373.10871158235119},{"$f":"IF($C416=\"\",\"\",Simulação!U416)","v":"-"},{"$f":"IF($C416=\"\",\"\",Simulação!V416)","v":370.26954025570035},{"$f":"IF($C416=\"\",\"\",Simulação!W416)","v":"-"},{"$f":"IF($C416=\"\",\"\",Simulação!X416)","v":367.68091862403844},{"$f":"IF($C416=\"\",\"\",Simulação!Y416)","v":"-"},{"$f":"IF($C416=\"\",\"\",Simulação!Z416)","v":365.56893574815217},{"$f":"IF($C416=\"\",\"\",Simulação!AA416)","v":"-"},{"$f":"IF($C416=\"\",\"\",Simulação!AB416)","v":368.91469898388931},{"$f":"IF($C416=\"\",\"\",Simulação!AC416)","v":"-"},{"$f":"IF($C416=\"\",\"\",Simulação!AD416)","v":364.88314937319393},{"$f":"IF($C416=\"\",\"\",Simulação!AE416)","v":"-"},{"$f":"IF($C416=\"\",\"\",Simulação!AF416)","v":364.61114577325674},{"$f":"IF($C416=\"\",\"\",Simulação!AG416)","v":"-"},{"$f":"IF($C416=\"\",\"\",Simulação!AH416)","v":348.63196013630733},{"$f":"IF($C416=\"\",\"\",Simulação!AI416)","v":"-"},{"$f":"IF($C416=\"\",\"\",Simulação!AJ416)","v":33.045125393740342},{"$f":"IF($C416=\"\",\"\",Simulação!AK416)","v":"-"},{"$f":"IF($C416=\"\",\"\",Simulação!AL416)","v":32.02721881559642},{"$f":"IF($C416=\"\",\"\",Simulação!AM416)","v":"-"},{"$f":"IF($C416=\"\",\"\",Simulação!AN416)","v":32.217563507182206},{"$f":"IF($C416=\"\",\"\",Simulação!AO416)","v":"-"},{"$f":"IF($C416=\"\",\"\",Simulação!AP416)","v":36.406016086434107},{"$f":"IF($C416=\"\",\"\",Simulação!AQ416)","v":"-"},{"$f":"IF($C416=\"\",\"\",Simulação!AR416)","v":0}]
[null,410,{"$f":"IF(Chegadas!J418<=$C$5,Chegadas!J418,\"\")","v":373.82999999999987},{"$f":"IF($C417=\"\",\"\",Simulação!D417)","v":8.3236001593080715},{"$f":"IF($C417=\"\",\"\",Simulação!E417)","v":"*"},{"$f":"IF($C417=\"\",\"\",Simulação!F417)","v":383.20846667226851},{"$f":"IF($C417=\"\",\"\",Simulação!G417)","v":"*"},{"$f":"IF($C417=\"\",\"\",Simulação!H417)","v":374.26565411695827},{"$f":"IF($C417=\"\",\"\",Simulação!I417)","v":"*"},{"$f":"IF($C417=\"\",\"\",Simulação!J417)","v":375.13329515627322},{"$f":"IF($C417=\"\",\"\",Simulação!K417)","v":373.82999999999987},{"$f":"IF($C417=\"\",\"\",Simulação!L417)","v":382.15360015930793},{"$f":"IF($C417=\"\",\"\",Simulação!M417)","v":"-"},{"$f":"IF($C417=\"\",\"\",Simulação!N417)","v":382.37499278381421},{"$f":"IF($C417=\"\",\"\",Simulação!O417)","v":"-"},{"$f":"IF($C417=\"\",\"\",Simulação!P417)","v":367.62763116845247},{"$f":"IF($C417=\"\",\"\",Simulação!Q417)","v":"-"},{"$f":"IF($C417=\"\",\"\",Simulação!R417)","v":364.95040656222085},{"$f":"IF($C417=\"\",\"\",Simulação!S417)","v":"-"},{"$f":"IF($C417=\"\",\"\",Simulação!T417)","v":373.10871158235119},{"$f":"IF($C417=\"\",\"\",Simulação!U417)","v":"-"},{"$f":"IF($C417=\"\",\"\",Simulação!V417)","v":370.26954025570035},{"$f":"IF($C417=\"\",\"\",Simulação!W417)","v":"-"},{"$f":"IF($C417=\"\",\"\",Simulação!X417)","v":367.68091862403844},{"$f":"IF($C417=\"\",\"\",Simulação!Y417)","v":"-"},{"$f":"IF($C417=\"\",\"\",Simulação!Z417)","v":365.56893574815217},{"$f":"IF($C417=\"\",\"\",Simulação!AA417)","v":"-"},{"$f":"IF($C417=\"\",\"\",Simulação!AB417)","v":368.91469898388931},{"$f":"IF($C417=\"\",\"\",Simulação!AC417)","v":"-"},{"$f":"IF($C417=\"\",\"\",Simulação!AD417)","v":364.88314937319393},{"$f":"IF($C417=\"\",\"\",Simulação!AE417)","v":"-"},{"$f":"IF($C417=\"\",\"\",Simulação!AF417)","v":364.61114577325674},{"$f":"IF($C417=\"\",\"\",Simulação!AG417)","v":"-"},{"$f":"IF($C417=\"\",\"\",Simulação!AH417)","v":348.63196013630733},{"$f":"IF($C417=\"\",\"\",Simulação!AI417)","v":"-"},{"$f":"IF($C417=\"\",\"\",Simulação!AJ417)","v":33.045125393740342},{"$f":"IF($C417=\"\",\"\",Simulação!AK417)","v":"-"},{"$f":"IF($C417=\"\",\"\",Simulação!AL417)","v":32.02721881559642},{"$f":"IF($C417=\"\",\"\",Simulação!AM417)","v":"-"},{"$f":"IF($C417=\"\",\"\",Simulação!AN417)","v":32.217563507182206},{"$f":"IF($C417=\"\",\"\",Simulação!AO417)","v":"-"},{"$f":"IF($C417=\"\",\"\",Simulação!AP417)","v":36.406016086434107},{"$f":"IF($C417=\"\",\"\",Simulação!AQ417)","v":"-"},{"$f":"IF($C417=\"\",\"\",Simulação!AR417)","v":0}]
[null,411,{"$f":"IF(Chegadas!J419<=$C$5,Chegadas!J419,\"\")","v":374.59999999999985},{"$f":"IF($C418=\"\",\"\",Simulação!D418)","v":13.719825565910499},{"$f":"IF($C418=\"\",\"\",Simulação!E418)","v":"*"},{"$f":"IF($C418=\"\",\"\",Simulação!F418)","v":383.20846667226851},{"$f":"IF($C418=\"\",\"\",Simulação!G418)","v":374.59999999999985},{"$f":"IF($C418=\"\",\"\",Simulação!H418)","v":388.31982556591038},{"$f":"IF($C418=\"\",\"\",Simulação!I418)","v":"-"},{"$f":"IF($C418=\"\",\"\",Simulação!J418)","v":375.13329515627322},{"$f":"IF($C418=\"\",\"\",Simulação!K418)","v":"-"},{"$f":"IF($C418=\"\",\"\",Simulação!L418)","v":382.15360015930793},{"$f":"IF($C418=\"\",\"\",Simulação!M418)","v":"-"},{"$f":"IF($C418=\"\",\"\",Simulação!N418)","v":382.37499278381421},{"$f":"IF($C418=\"\",\"\",Simulação!O418)","v":"-"},{"$f":"IF($C418=\"\",\"\",Simulação!P418)","v":367.62763116845247},{"$f":"IF($C418=\"\",\"\",Simulação!Q418)","v":"-"},{"$f":"IF($C418=\"\",\"\",Simulação!R418)","v":364.95040656222085},{"$f":"IF($C418=\"\",\"\",Simulação!S418)","v":"-"},{"$f":"IF($C418=\"\",\"\",Simulação!T418)","v":373.10871158235119},{"$f":"IF($C418=\"\",\"\",Simulação!U418)","v":"-"},{"$f":"IF($C418=\"\",\"\",Simulação!V418)","v":370.26954025570035},{"$f":"IF($C418=\"\",\"\",Simulação!W418)","v":"-"},{"$f":"IF($C418=\"\",\"\",Simulação!X418)","v":367.68091862403844},{"$f":"IF($C418=\"\",\"\",Simulação!Y418)","v":"-"},{"$f":"IF($C418=\"\",\"\",Simulação!Z418)","v":365.56893574815217},{"$f":"IF($C418=\"\",\"\",Simulação!AA418)","v":"-"},{"$f":"IF($C418=\"\",\"\",Simulação!AB418)","v":368.91469898388931},{"$f":"IF($C418=\"\",\"\",Simulação!AC418)","v":"-"},{"$f":"IF($C418=\"\",\"\",Simulação!AD418)","v":364.88314937319393},{"$f":"IF($C418=\"\",\"\",Simulação!AE418)","v":"-"},{"$f":"IF($C418=\"\",\"\",Simulação!AF418)","v":364.61114577325674},{"$f":"IF($C418=\"\",\"\",Simulação!AG418)","v":"-"},{"$f":"IF($C418=\"\",\"\",Simulação!AH418)","v":348.63196013630733},{"$f":"IF($C418=\"\",\"\",Simulação!AI418)","v":"-"},{"$f":"IF($C418=\"\",\"\",Simulação!AJ418)","v":33.045125393740342},{"$f":"IF($C418=\"\",\"\",Simulação!AK418)","v":"-"},{"$f":"IF($C418=\"\",\"\",Simulação!AL418)","v":32.02721881559642},{"$f":"IF($C418=\"\",\"\",Simulação!AM418)","v":"-"},{"$f":"IF($C418=\"\",\"\",Simulação!AN418)","v":32.217563507182206},{"$f":"IF($C418=\"\",\"\",Simulação!AO418)","v":"-"},{"$f":"IF($C418=\"\",\"\",Simulação!AP418)","v":36.406016086434107},{"$f":"IF($C418=\"\",\"\",Simulação!AQ418)","v":"-"},{"$f":"IF($C418=\"\",\"\",Simulação!AR418)","v":0}]
[null,412,{"$f":"IF(Chegadas!J420<=$C$5,Chegadas!J420,\"\")","v":375.24999999999983},{"$f":"IF($C419=\"\",\"\",Simulação!D419)","v":13.070551505721996},{"$f":"IF($C419=\"\",\"\",Simulação!E419)","v":"*"},{"$f":"IF($C419=\"\",\"\",Simulação!F419)","v":383.20846667226851},{"$f":"IF($C419=\"\",\"\",Simulação!G419)","v":"*"},{"$f":"IF($C419=\"\",\"\",Simulação!H419)","v":388.31982556591038},{"$f":"IF($C419=\"\",\"\",Simulação!I419)","v":375.24999999999983},{"$f":"IF($C419=\"\",\"\",Simulação!J419)","v":388.32055150572182},{"$f":"IF($C419=\"\",\"\",Simulação!K419)","v":"-"},{"$f":"IF($C419=\"\",\"\",Simulação!L419)","v":382.15360015930793},{"$f":"IF($C419=\"\",\"\",Simulação!M419)","v":"-"},{"$f":"IF($C419=\"\",\"\",Simulação!N419)","v":382.37499278381421},{"$f":"IF($C419=\"\",\"\",Simulação!O419)","v":"-"},{"$f":"IF($C419=\"\",\"\",Simulação!P419)","v":367.62763116845247},{"$f":"IF($C419=\"\",\"\",Simulação!Q419)","v":"-"},{"$f":"IF($C419=\"\",\"\",Simulação!R419)","v":364.95040656222085},{"$f":"IF($C419=\"\",\"\",Simulação!S419)","v":"-"},{"$f":"IF($C419=\"\",\"\",Simulação!T419)","v":373.10871158235119},{"$f":"IF($C419=\"\",\"\",Simulação!U419)","v":"-"},{"$f":"IF($C419=\"\",\"\",Simulação!V419)","v":370.26954025570035},{"$f":"IF($C419=\"\",\"\",Simulação!W419)","v":"-"},{"$f":"IF($C419=\"\",\"\",Simulação!X419)","v":367.68091862403844},{"$f":"IF($C419=\"\",\"\",Simulação!Y419)","v":"-"},{"$f":"IF($C419=\"\",\"\",Simulação!Z419)","v":365.56893574815217},{"$f":"IF($C419=\"\",\"\",Simulação!AA419)","v":"-"},{"$f":"IF($C419=\"\",\"\",Simulação!AB419)","v":368.91469898388931},{"$f":"IF($C419=\"\",\"\",Simulação!AC419)","v":"-"},{"$f":"IF($C419=\"\",\"\",Simulação!AD419)","v":364.88314937319393},{"$f":"IF($C419=\"\",\"\",Simulação!AE419)","v":"-"},{"$f":"IF($C419=\"\",\"\",Simulação!AF419)","v":364.61114577325674},{"$f":"IF($C419=\"\",\"\",Simulação!AG419)","v":"-"},{"$f":"IF($C419=\"\",\"\",Simulação!AH419)","v":348.63196013630733},{"$f":"IF($C419=\"\",\"\",Simulação!AI419)","v":"-"},{"$f":"IF($C419=\"\",\"\",Simulação!AJ419)","v":33.045125393740342},{"$f":"IF($C419=\"\",\"\",Simulação!AK419)","v":"-"},{"$f":"IF($C419=\"\",\"\",Simulação!AL419)","v":32.02721881559642},{"$f":"IF($C419=\"\",\"\",Simulação!AM419)","v":"-"},{"$f":"IF($C419=\"\",\"\",Simulação!AN419)","v":32.217563507182206},{"$f":"IF($C419=\"\",\"\",Simulação!AO419)","v":"-"},{"$f":"IF($C419=\"\",\"\",Simulação!AP419)","v":36.406016086434107},{"$f":"IF($C419=\"\",\"\",Simulação!AQ419)","v":"-"},{"$f":"IF($C419=\"\",\"\",Simulação!AR419)","v":0}]
[null,413,{"$f":"IF(Chegadas!J421<=$C$5,Chegadas!J421,\"\")","v":375.62999999999982},{"$f":"IF($C420=\"\",\"\",Simulação!D420)","v":8.0846181250152043},{"$f":"IF($C420=\"\",\"\",Simulação!E420)","v":"*"},{"$f":"IF($C420=\"\",\"\",Simulação!F420)","v":383.20846667226851},{"$f":"IF($C420=\"\",\"\",Simulação!G420)","v":"*"},{"$f":"IF($C420=\"\",\"\",Simulação!H420)","v":388.31982556591038},{"$f":"IF($C420=\"\",\"\",Simulação!I420)","v":"*"},{"$f":"IF($C420=\"\",\"\",Simulação!J420)","v":388.32055150572182},{"$f":"IF($C420=\"\",\"\",Simulação!K420)","v":"*"},{"$f":"IF($C420=\"\",\"\",Simulação!L420)","v":382.15360015930793},{"$f":"IF($C420=\"\",\"\",Simulação!M420)","v":"*"},{"$f":"IF($C420=\"\",\"\",Simulação!N420)","v":382.37499278381421},{"$f":"IF($C420=\"\",\"\",Simulação!O420)","v":375.62999999999982},{"$f":"IF($C420=\"\",\"\",Simulação!P420)","v":383.71461812501502},{"$f":"IF($C420=\"\",\"\",Simulação!Q420)","v":"-"},{"$f":"IF($C420=\"\",\"\",Simulação!R420)","v":364.95040656222085},{"$f":"IF($C420=\"\",\"\",Simulação!S420)","v":"-"},{"$f":"IF($C420=\"\",\"\",Simulação!T420)","v":373.10871158235119},{"$f":"IF($C420=\"\",\"\",Simulação!U420)","v":"-"},{"$f":"IF($C420=\"\",\"\",Simulação!V420)","v":370.26954025570035},{"$f":"IF($C420=\"\",\"\",Simulação!W420)","v":"-"},{"$f":"IF($C420=\"\",\"\",Simulação!X420)","v":367.68091862403844},{"$f":"IF($C420=\"\",\"\",Simulação!Y420)","v":"-"},{"$f":"IF($C420=\"\",\"\",Simulação!Z420)","v":365.56893574815217},{"$f":"IF($C420=\"\",\"\",Simulação!AA420)","v":"-"},{"$f":"IF($C420=\"\",\"\",Simulação!AB420)","v":368.91469898388931},{"$f":"IF($C420=\"\",\"\",Simulação!AC420)","v":"-"},{"$f":"IF($C420=\"\",\"\",Simulação!AD420)","v":364.88314937319393},{"$f":"IF($C420=\"\",\"\",Simulação!AE420)","v":"-"},{"$f":"IF($C420=\"\",\"\",Simulação!AF420)","v":364.61114577325674},{"$f":"IF($C420=\"\",\"\",Simulação!AG420)","v":"-"},{"$f":"IF($C420=\"\",\"\",Simulação!AH420)","v":348.63196013630733},{"$f":"IF($C420=\"\",\"\",Simulação!AI420)","v":"-"},{"$f":"IF($C420=\"\",\"\",Simulação!AJ420)","v":33.045125393740342},{"$f":"IF($C420=\"\",\"\",Simulação!AK420)","v":"-"},{"$f":"IF($C420=\"\",\"\",Simulação!AL420)","v":32.02721881559642},{"$f":"IF($C420=\"\",\"\",Simulação!AM420)","v":"-"},{"$f":"IF($C420=\"\",\"\",Simulação!AN420)","v":32.217563507182206},{"$f":"IF($C420=\"\",\"\",Simulação!AO420)","v":"-"},{"$f":"IF($C420=\"\",\"\",Simulação!AP420)","v":36.406016086434107},{"$f":"IF($C420=\"\",\"\",Simulação!AQ420)","v":"-"},{"$f":"IF($C420=\"\",\"\",Simulação!AR420)","v":0}]
[null,414,{"$f":"IF(Chegadas!J422<=$C$5,Chegadas!J422,\"\")","v":376.37999999999982},{"$f":"IF($C421=\"\",\"\",Simulação!D421)","v":8.1280808169122949},{"$f":"IF($C421=\"\",\"\",Simulação!E421)","v":"*"},{"$f":"IF($C421=\"\",\"\",Simulação!F421)","v":383.20846667226851},{"$f":"IF($C421=\"\",\"\",Simulação!G421)","v":"*"},{"$f":"IF($C421=\"\",\"\",Simulação!H421)","v":388.31982556591038},{"$f":"IF($C421=\"\",\"\",Simulação!I421)","v":"*"},{"$f":"IF($C421=\"\",\"\",Simulação!J421)","v":388.32055150572182},{"$f":"IF($C421=\"\",\"\",Simulação!K421)","v":"*"},{"$f":"IF($C421=\"\",\"\",Simulação!L421)","v":382.15360015930793},{"$f":"IF($C421=\"\",\"\",Simulação!M421)","v":"*"},{"$f":"IF($C421=\"\",\"\",Simulação!N421)","v":382.37499278381421},{"$f":"IF($C421=\"\",\"\",Simulação!O421)","v":"*"},{"$f":"IF($C421=\"\",\"\",Simulação!P421)","v":383.71461812501502},{"$f":"IF($C421=\"\",\"\",Simulação!Q421)","v":376.37999999999982},{"$f":"IF($C421=\"\",\"\",Simulação!R421)","v":384.50808081691213},{"$f":"IF($C421=\"\",\"\",Simulação!S421)","v":"-"},{"$f":"IF($C421=\"\",\"\",Simulação!T421)","v":373.10871158235119},{"$f":"IF($C421=\"\",\"\",Simulação!U421)","v":"-"},{"$f":"IF($C421=\"\",\"\",Simulação!V421)","v":370.26954025570035},{"$f":"IF($C421=\"\",\"\",Simulação!W421)","v":"-"},{"$f":"IF($C421=\"\",\"\",Simulação!X421)","v":367.68091862403844},{"$f":"IF($C421=\"\",\"\",Simulação!Y421)","v":"-"},{"$f":"IF($C421=\"\",\"\",Simulação!Z421)","v":365.56893574815217},{"$f":"IF($C421=\"\",\"\",Simulação!AA421)","v":"-"},{"$f":"IF($C421=\"\",\"\",Simulação!AB421)","v":368.91469898388931},{"$f":"IF($C421=\"\",\"\",Simulação!AC421)","v":"-"},{"$f":"IF($C421=\"\",\"\",Simulação!AD421)","v":364.88314937319393},{"$f":"IF($C421=\"\",\"\",Simulação!AE421)","v":"-"},{"$f":"IF($C421=\"\",\"\",Simulação!AF421)","v":364.61114577325674},{"$f":"IF($C421=\"\",\"\",Simulação!AG421)","v":"-"},{"$f":"IF($C421=\"\",\"\",Simulação!AH421)","v":348.63196013630733},{"$f":"IF($C421=\"\",\"\",Simulação!AI421)","v":"-"},{"$f":"IF($C421=\"\",\"\",Simulação!AJ421)","v":33.045125393740342},{"$f":"IF($C421=\"\",\"\",Simulação!AK421)","v":"-"},{"$f":"IF($C421=\"\",\"\",Simulação!AL421)","v":32.02721881559642},{"$f":"IF($C421=\"\",\"\",Simulação!AM421)","v":"-"},{"$f":"IF($C421=\"\",\"\",Simulação!AN421)","v":32.217563507182206},{"$f":"IF($C421=\"\",\"\",Simulação!AO421)","v":"-"},{"$f":"IF($C421=\"\",\"\",Simulação!AP421)","v":36.406016086434107},{"$f":"IF($C421=\"\",\"\",Simulação!AQ421)","v":"-"},{"$f":"IF($C421=\"\",\"\",Simulação!AR421)","v":0}]
[null,415,{"$f":"IF(Chegadas!J423<=$C$5,Chegadas!J423,\"\")","v":378.47999999999985},{"$f":"IF($C422=\"\",\"\",Simulação!D422)","v":3.2788023634025589},{"$f":"IF($C422=\"\",\"\",Simulação!E422)","v":"*"},{"$f":"IF($C422=\"\",\"\",Simulação!F422)","v":383.20846667226851},{"$f":"IF($C422=\"\",\"\",Simulação!G422)","v":"*"},{"$f":"IF($C422=\"\",\"\",Simulação!H422)","v":388.31982556591038},{"$f":"IF($C422=\"\",\"\",Simulação!I422)","v":"*"},{"$f":"IF($C422=\"\",\"\",Simulação!J422)","v":388.32055150572182},{"$f":"IF($C422=\"\",\"\",Simulação!K422)","v":"*"},{"$f":"IF($C422=\"\",\"\",Simulação!L422)","v":382.15360015930793},{"$f":"IF($C422=\"\",\"\",Simulação!M422)","v":"*"},{"$f":"IF($C422=\"\",\"\",Simulação!N422)","v":382.37499278381421},{"$f":"IF($C422=\"\",\"\",Simulação!O422)","v":"*"},{"$f":"IF($C422=\"\",\"\",Simulação!P422)","v":383.71461812501502},{"$f":"IF($C422=\"\",\"\",Simulação!Q422)","v":"*"},{"$f":"IF($C422=\"\",\"\",Simulação!R422)","v":384.50808081691213},{"$f":"IF($C422=\"\",\"\",Simulação!S422)","v":378.47999999999985},{"$f":"IF($C422=\"\",\"\",Simulação!T422)","v":381.75880236340242},{"$f":"IF($C422=\"\",\"\",Simulação!U422)","v":"-"},{"$f":"IF($C422=\"\",\"\",Simulação!V422)","v":370.26954025570035},{"$f":"IF($C422=\"\",\"\",Simulação!W422)","v":"-"},{"$f":"IF($C422=\"\",\"\",Simulação!X422)","v":367.68091862403844},{"$f":"IF($C422=\"\",\"\",Simulação!Y422)","v":"-"},{"$f":"IF($C422=\"\",\"\",Simulação!Z422)","v":365.56893574815217},{"$f":"IF($C422=\"\",\"\",Simulação!AA422)","v":"-"},{"$f":"IF($C422=\"\",\"\",Simulação!AB422)","v":368.91469898388931},{"$f":"IF($C422=\"\",\"\",Simulação!AC422)","v":"-"},{"$f":"IF($C422=\"\",\"\",Simulação!AD422)","v":364.88314937319393},{"$f":"IF($C422=\"\",\"\",Simulação!AE422)","v":"-"},{"$f":"IF($C422=\"\",\"\",Simulação!AF422)","v":364.61114577325674},{"$f":"IF($C422=\"\",\"\",Simulação!AG422)","v":"-"},{"$f":"IF($C422=\"\",\"\",Simulação!AH422)","v":348.63196013630733},{"$f":"IF($C422=\"\",\"\",Simulação!AI422)","v":"-"},{"$f":"IF($C422=\"\",\"\",Simulação!AJ422)","v":33.045125393740342},{"$f":"IF($C422=\"\",\"\",Simulação!AK422)","v":"-"},{"$f":"IF($C422=\"\",\"\",Simulação!AL422)","v":32.02721881559642},{"$f":"IF($C422=\"\",\"\",Simulação!AM422)","v":"-"},{"$f":"IF($C422=\"\",\"\",Simulação!AN422)","v":32.217563507182206},{"$f":"IF($C422=\"\",\"\",Simulação!AO422)","v":"-"},{"$f":"IF($C422=\"\",\"\",Simulação!AP422)","v":36.406016086434107},{"$f":"IF($C422=\"\",\"\",Simulação!AQ422)","v":"-"},{"$f":"IF($C422=\"\",\"\",Simulação!AR422)","v":0}]
[null,416,{"$f":"IF(Chegadas!J424<=$C$5,Chegadas!J424,\"\")","v":379.11},{"$f":"IF($C423=\"\",\"\",Simulação!D423)","v":0.86870747231415391},{"$f":"IF($C423=\"\",\"\",Simulação!E423)","v":"*"},{"$f":"IF($C423=\"\",\"\",Simulação!F423)","v":383.20846667226851},{"$f":"IF($C423=\"\",\"\",Simulação!G423)","v":"*"},{"$f":"IF($C423=\"\",\"\",Simulação!H423)","v":388.31982556591038},{"$f":"IF($C423=\"\",\"\",Simulação!I423)","v":"*"},{"$f":"IF($C423=\"\",\"\",Simulação!J423)","v":388.32055150572182},{"$f":"IF($C423=\"\",\"\",Simulação!K423)","v":"*"},{"$f":"IF($C423=\"\",\"\",Simulação!L423)","v":382.15360015930793},{"$f":"IF($C423=\"\",\"\",Simulação!M423)","v":"*"},{"$f":"IF($C423=\"\",\"\",Simulação!N423)","v":382.37499278381421},{"$f":"IF($C423=\"\",\"\",Simulação!O423)","v":"*"},{"$f":"IF($C423=\"\",\"\",Simulação!P423)","v":383.71461812501502},{"$f":"IF($C423=\"\",\"\",Simulação!Q423)","v":"*"},{"$f":"IF($C423=\"\",\"\",Simulação!R423)","v":384.50808081691213},{"$f":"IF($C423=\"\",\"\",Simulação!S423)","v":"*"},{"$f":"IF($C423=\"\",\"\",Simulação!T423)","v":381.75880236340242},{"$f":"IF($C423=\"\",\"\",Simulação!U423)","v":379.11},{"$f":"IF($C423=\"\",\"\",Simulação!V423)","v":379.97870747231417},{"$f":"IF($C423=\"\",\"\",Simulação!W423)","v":"-"},{"$f":"IF($C423=\"\",\"\",Simulação!X423)","v":367.68091862403844},{"$f":"IF($C423=\"\",\"\",Simulação!Y423)","v":"-"},{"$f":"IF($C423=\"\",\"\",Simulação!Z423)","v":365.56893574815217},{"$f":"IF($C423=\"\",\"\",Simulação!AA423)","v":"-"},{"$f":"IF($C423=\"\",\"\",Simulação!AB423)","v":368.91469898388931},{"$f":"IF($C423=\"\",\"\",Simulação!AC423)","v":"-"},{"$f":"IF($C423=\"\",\"\",Simulação!AD423)","v":364.88314937319393},{"$f":"IF($C423=\"\",\"\",Simulação!AE423)","v":"-"},{"$f":"IF($C423=\"\",\"\",Simulação!AF423)","v":364.61114577325674},{"$f":"IF($C423=\"\",\"\",Simulação!AG423)","v":"-"},{"$f":"IF($C423=\"\",\"\",Simulação!AH423)","v":348.63196013630733},{"$f":"IF($C423=\"\",\"\",Simulação!AI423)","v":"-"},{"$f":"IF($C423=\"\",\"\",Simulação!AJ423)","v":33.045125393740342},{"$f":"IF($C423=\"\",\"\",Simulação!AK423)","v":"-"},{"$f":"IF($C423=\"\",\"\",Simulação!AL423)","v":32.02721881559642},{"$f":"IF($C423=\"\",\"\",Simulação!AM423)","v":"-"},{"$f":"IF($C423=\"\",\"\",Simulação!AN423)","v":32.217563507182206},{"$f":"IF($C423=\"\",\"\",Simulação!AO423)","v":"-"},{"$f":"IF($C423=\"\",\"\",Simulação!AP423)","v":36.406016086434107},{"$f":"IF($C423=\"\",\"\",Simulação!AQ423)","v":"-"},{"$f":"IF($C423=\"\",\"\",Simulação!AR423)","v":0}]
[null,417,{"$f":"IF(Chegadas!J425<=$C$5,Chegadas!J425,\"\")","v":379.28999999999985},{"$f":"IF($C424=\"\",\"\",Simulação!D424)","v":12.639480608023291},{"$f":"IF($C424=\"\",\"\",Simulação!E424)","v":"*"},{"$f":"IF($C424=\"\",\"\",Simulação!F424)","v":383.20846667226851},{"$f":"IF($C424=\"\",\"\",Simulação!G424)","v":"*"},{"$f":"IF($C424=\"\",\"\",Simulação!H424)","v":388.31982556591038},{"$f":"IF($C424=\"\",\"\",Simulação!I424)","v":"*"},{"$f":"IF($C424=\"\",\"\",Simulação!J424)","v":388.32055150572182},{"$f":"IF($C424=\"\",\"\",Simulação!K424)","v":"*"},{"$f":"IF($C424=\"\",\"\",Simulação!L424)","v":382.15360015930793},{"$f":"IF($C424=\"\",\"\",Simulação!M424)","v":"*"},{"$f":"IF($C424=\"\",\"\",Simulação!N424)","v":382.37499278381421},{"$f":"IF($C424=\"\",\"\",Simulação!O424)","v":"*"},{"$f":"IF($C424=\"\",\"\",Simulação!P424)","v":383.71461812501502},{"$f":"IF($C424=\"\",\"\",Simulação!Q424)","v":"*"},{"$f":"IF($C424=\"\",\"\",Simulação!R424)","v":384.50808081691213},{"$f":"IF($C424=\"\",\"\",Simulação!S424)","v":"*"},{"$f":"IF($C424=\"\",\"\",Simulação!T424)","v":381.75880236340242},{"$f":"IF($C424=\"\",\"\",Simulação!U424)","v":"*"},{"$f":"IF($C424=\"\",\"\",Simulação!V424)","v":379.97870747231417},{"$f":"IF($C424=\"\",\"\",Simulação!W424)","v":379.28999999999985},{"$f":"IF($C424=\"\",\"\",Simulação!X424)","v":391.92948060802314},{"$f":"IF($C424=\"\",\"\",Simulação!Y424)","v":"-"},{"$f":"IF($C424=\"\",\"\",Simulação!Z424)","v":365.56893574815217},{"$f":"IF($C424=\"\",\"\",Simulação!AA424)","v":"-"},{"$f":"IF($C424=\"\",\"\",Simulação!AB424)","v":368.91469898388931},{"$f":"IF($C424=\"\",\"\",Simulação!AC424)","v":"-"},{"$f":"IF($C424=\"\",\"\",Simulação!AD424)","v":364.88314937319393},{"$f":"IF($C424=\"\",\"\",Simulação!AE424)","v":"-"},{"$f":"IF($C424=\"\",\"\",Simulação!AF424)","v":364.61114577325674},{"$f":"IF($C424=\"\",\"\",Simulação!AG424)","v":"-"},{"$f":"IF($C424=\"\",\"\",Simulação!AH424)","v":348.63196013630733},{"$f":"IF($C424=\"\",\"\",Simulação!AI424)","v":"-"},{"$f":"IF($C424=\"\",\"\",Simulação!AJ424)","v":33.045125393740342},{"$f":"IF($C424=\"\",\"\",Simulação!AK424)","v":"-"},{"$f":"IF($C424=\"\",\"\",Simulação!AL424)","v":32.02721881559642},{"$f":"IF($C424=\"\",\"\",Simulação!AM424)","v":"-"},{"$f":"IF($C424=\"\",\"\",Simulação!AN424)","v":32.217563507182206},{"$f":"IF($C424=\"\",\"\",Simulação!AO424)","v":"-"},{"$f":"IF($C424=\"\",\"\",Simulação!AP424)","v":36.406016086434107},{"$f":"IF($C424=\"\",\"\",Simulação!AQ424)","v":"-"},{"$f":"IF($C424=\"\",\"\",Simulação!AR424)","v":0}]
[null,418,{"$f":"IF(Chegadas!J426<=$C$5,Chegadas!J426,\"\")","v":379.59999999999985},{"$f":"IF($C425=\"\",\"\",Simulação!D425)","v":1.997452245837219},{"$f":"IF($C425=\"\",\"\",Simulação!E425)","v":"*"},{"$f":"IF($C425=\"\",\"\",Simulação!F425)","v":383.20846667226851},{"$f":"IF($C425=\"\",\"\",Simulação!G425)","v":"*"},{"$f":"IF($C425=\"\",\"\",Simulação!H425)","v":388.31982556591038},{"$f":"IF($C425=\"\",\"\",Simulação!I425)","v":"*"},{"$f":"IF($C425=\"\",\"\",Simulação!J425)","v":388.32055150572182},{"$f":"IF($C425=\"\",\"\",Simulação!K425)","v":"*"},{"$f":"IF($C425=\"\",\"\",Simulação!L425)","v":382.15360015930793},{"$f":"IF($C425=\"\",\"\",Simulação!M425)","v":"*"},{"$f":"IF($C425=\"\",\"\",Simulação!N425)","v":382.37499278381421},{"$f":"IF($C425=\"\",\"\",Simulação!O425)","v":"*"},{"$f":"IF($C425=\"\",\"\",Simulação!P425)","v":383.71461812501502},{"$f":"IF($C425=\"\",\"\",Simulação!Q425)","v":"*"},{"$f":"IF($C425=\"\",\"\",Simulação!R425)","v":384.50808081691213},{"$f":"IF($C425=\"\",\"\",Simulação!S425)","v":"*"},{"$f":"IF($C425=\"\",\"\",Simulação!T425)","v":381.75880236340242},{"$f":"IF($C425=\"\",\"\",Simulação!U425)","v":"*"},{"$f":"IF($C425=\"\",\"\",Simulação!V425)","v":379.97870747231417},{"$f":"IF($C425=\"\",\"\",Simulação!W425)","v":"*"},{"$f":"IF($C425=\"\",\"\",Simulação!X425)","v":391.92948060802314},{"$f":"IF($C425=\"\",\"\",Simulação!Y425)","v":379.59999999999985},{"$f":"IF($C425=\"\",\"\",Simulação!Z425)","v":381.59745224583708},{"$f":"IF($C425=\"\",\"\",Simulação!AA425)","v":"-"},{"$f":"IF($C425=\"\",\"\",Simulação!AB425)","v":368.91469898388931},{"$f":"IF($C425=\"\",\"\",Simulação!AC425)","v":"-"},{"$f":"IF($C425=\"\",\"\",Simulação!AD425)","v":364.88314937319393},{"$f":"IF($C425=\"\",\"\",Simulação!AE425)","v":"-"},{"$f":"IF($C425=\"\",\"\",Simulação!AF425)","v":364.61114577325674},{"$f":"IF($C425=\"\",\"\",Simulação!AG425)","v":"-"},{"$f":"IF($C425=\"\",\"\",Simulação!AH425)","v":348.63196013630733},{"$f":"IF($C425=\"\",\"\",Simulação!AI425)","v":"-"},{"$f":"IF($C425=\"\",\"\",Simulação!AJ425)","v":33.045125393740342},{"$f":"IF($C425=\"\",\"\",Simulação!AK425)","v":"-"},{"$f":"IF($C425=\"\",\"\",Simulação!AL425)","v":32.02721881559642},{"$f":"IF($C425=\"\",\"\",Simulação!AM425)","v":"-"},{"$f":"IF($C425=\"\",\"\",Simulação!AN425)","v":32.217563507182206},{"$f":"IF($C425=\"\",\"\",Simulação!AO425)","v":"-"},{"$f":"IF($C425=\"\",\"\",Simulação!AP425)","v":36.406016086434107},{"$f":"IF($C425=\"\",\"\",Simulação!AQ425)","v":"-"},{"$f":"IF($C425=\"\",\"\",Simulação!AR425)","v":0}]
[null,419,{"$f":"IF(Chegadas!J427<=$C$5,Chegadas!J427,\"\")","v":380.98},{"$f":"IF($C426=\"\",\"\",Simulação!D426)","v":1.4236105351211878},{"$f":"IF($C426=\"\",\"\",Simulação!E426)","v":"*"},{"$f":"IF($C426=\"\",\"\",Simulação!F426)","v":383.20846667226851},{"$f":"IF($C426=\"\",\"\",Simulação!G426)","v":"*"},{"$f":"IF($C426=\"\",\"\",Simulação!H426)","v":388.31982556591038},{"$f":"IF($C426=\"\",\"\",Simulação!I426)","v":"*"},{"$f":"IF($C426=\"\",\"\",Simulação!J426)","v":388.32055150572182},{"$f":"IF($C426=\"\",\"\",Simulação!K426)","v":"*"},{"$f":"IF($C426=\"\",\"\",Simulação!L426)","v":382.15360015930793},{"$f":"IF($C426=\"\",\"\",Simulação!M426)","v":"*"},{"$f":"IF($C426=\"\",\"\",Simulação!N426)","v":382.37499278381421},{"$f":"IF($C426=\"\",\"\",Simulação!O426)","v":"*"},{"$f":"IF($C426=\"\",\"\",Simulação!P426)","v":383.71461812501502},{"$f":"IF($C426=\"\",\"\",Simulação!Q426)","v":"*"},{"$f":"IF($C426=\"\",\"\",Simulação!R426)","v":384.50808081691213},{"$f":"IF($C426=\"\",\"\",Simulação!S426)","v":"*"},{"$f":"IF($C426=\"\",\"\",Simulação!T426)","v":381.75880236340242},{"$f":"IF($C426=\"\",\"\",Simulação!U426)","v":380.98},{"$f":"IF($C426=\"\",\"\",Simulação!V426)","v":382.40361053512123},{"$f":"IF($C426=\"\",\"\",Simulação!W426)","v":"-"},{"$f":"IF($C426=\"\",\"\",Simulação!X426)","v":391.92948060802314},{"$f":"IF($C426=\"\",\"\",Simulação!Y426)","v":"-"},{"$f":"IF($C426=\"\",\"\",Simulação!Z426)","v":381.59745224583708},{"$f":"IF($C426=\"\",\"\",Simulação!AA426)","v":"-"},{"$f":"IF($C426=\"\",\"\",Simulação!AB426)","v":368.91469898388931},{"$f":"IF($C426=\"\",\"\",Simulação!AC426)","v":"-"},{"$f":"IF($C426=\"\",\"\",Simulação!AD426)","v":364.88314937319393},{"$f":"IF($C426=\"\",\"\",Simulação!AE426)","v":"-"},{"$f":"IF($C426=\"\",\"\",Simulação!AF426)","v":364.61114577325674},{"$f":"IF($C426=\"\",\"\",Simulação!AG426)","v":"-"},{"$f":"IF($C426=\"\",\"\",Simulação!AH426)","v":348.63196013630733},{"$f":"IF($C426=\"\",\"\",Simulação!AI426)","v":"-"},{"$f":"IF($C426=\"\",\"\",Simulação!AJ426)","v":33.045125393740342},{"$f":"IF($C426=\"\",\"\",Simulação!AK426)","v":"-"},{"$f":"IF($C426=\"\",\"\",Simulação!AL426)","v":32.02721881559642},{"$f":"IF($C426=\"\",\"\",Simulação!AM426)","v":"-"},{"$f":"IF($C426=\"\",\"\",Simulação!AN426)","v":32.217563507182206},{"$f":"IF($C426=\"\",\"\",Simulação!AO426)","v":"-"},{"$f":"IF($C426=\"\",\"\",Simulação!AP426)","v":36.406016086434107},{"$f":"IF($C426=\"\",\"\",Simulação!AQ426)","v":"-"},{"$f":"IF($C426=\"\",\"\",Simulação!AR426)","v":0}]
[null,420,{"$f":"IF(Chegadas!J428<=$C$5,Chegadas!J428,\"\")","v":381.49999999999983},{"$f":"IF($C427=\"\",\"\",Simulação!D427)","v":4.7566185683235052},{"$f":"IF($C427=\"\",\"\",Simulação!E427)","v":"*"},{"$f":"IF($C427=\"\",\"\",Simulação!F427)","v":383.20846667226851},{"$f":"IF($C427=\"\",\"\",Simulação!G427)","v":"*"},{"$f":"IF($C427=\"\",\"\",Simulação!H427)","v":388.31982556591038},{"$f":"IF($C427=\"\",\"\",Simulação!I427)","v":"*"},{"$f":"IF($C427=\"\",\"\",Simulação!J427)","v":388.32055150572182},{"$f":"IF($C427=\"\",\"\",Simulação!K427)","v":"*"},{"$f":"IF($C427=\"\",\"\",Simulação!L427)","v":382.15360015930793},{"$f":"IF($C427=\"\",\"\",Simulação!M427)","v":"*"},{"$f":"IF($C427=\"\",\"\",Simulação!N427)","v":382.37499278381421},{"$f":"IF($C427=\"\",\"\",Simulação!O427)","v":"*"},{"$f":"IF($C427=\"\",\"\",Simulação!P427)","v":383.71461812501502},{"$f":"IF($C427=\"\",\"\",Simulação!Q427)","v":"*"},{"$f":"IF($C427=\"\",\"\",Simulação!R427)","v":384.50808081691213},{"$f":"IF($C427=\"\",\"\",Simulação!S427)","v":"*"},{"$f":"IF($C427=\"\",\"\",Simulação!T427)","v":381.75880236340242},{"$f":"IF($C427=\"\",\"\",Simulação!U427)","v":"*"},{"$f":"IF($C427=\"\",\"\",Simulação!V427)","v":382.40361053512123},{"$f":"IF($C427=\"\",\"\",Simulação!W427)","v":"*"},{"$f":"IF($C427=\"\",\"\",Simulação!X427)","v":391.92948060802314},{"$f":"IF($C427=\"\",\"\",Simulação!Y427)","v":"*"},{"$f":"IF($C427=\"\",\"\",Simulação!Z427)","v":381.59745224583708},{"$f":"IF($C427=\"\",\"\",Simulação!AA427)","v":381.49999999999983},{"$f":"IF($C427=\"\",\"\",Simulação!AB427)","v":386.25661856832335},{"$f":"IF($C427=\"\",\"\",Simulação!AC427)","v":"-"},{"$f":"IF($C427=\"\",\"\",Simulação!AD427)","v":364.88314937319393},{"$f":"IF($C427=\"\",\"\",Simulação!AE427)","v":"-"},{"$f":"IF($C427=\"\",\"\",Simulação!AF427)","v":364.61114577325674},{"$f":"IF($C427=\"\",\"\",Simulação!AG427)","v":"-"},{"$f":"IF($C427=\"\",\"\",Simulação!AH427)","v":348.63196013630733},{"$f":"IF($C427=\"\",\"\",Simulação!AI427)","v":"-"},{"$f":"IF($C427=\"\",\"\",Simulação!AJ427)","v":33.045125393740342},{"$f":"IF($C427=\"\",\"\",Simulação!AK427)","v":"-"},{"$f":"IF($C427=\"\",\"\",Simulação!AL427)","v":32.02721881559642},{"$f":"IF($C427=\"\",\"\",Simulação!AM427)","v":"-"},{"$f":"IF($C427=\"\",\"\",Simulação!AN427)","v":32.217563507182206},{"$f":"IF($C427=\"\",\"\",Simulação!AO427)","v":"-"},{"$f":"IF($C427=\"\",\"\",Simulação!AP427)","v":36.406016086434107},{"$f":"IF($C427=\"\",\"\",Simulação!AQ427)","v":"-"},{"$f":"IF($C427=\"\",\"\",Simulação!AR427)","v":0}]
[null,421,{"$f":"IF(Chegadas!J429<=$C$5,Chegadas!J429,\"\")","v":381.5299999999998},{"$f":"IF($C428=\"\",\"\",Simulação!D428)","v":11.250594002883936},{"$f":"IF($C428=\"\",\"\",Simulação!E428)","v":"*"},{"$f":"IF($C428=\"\",\"\",Simulação!F428)","v":383.20846667226851},{"$f":"IF($C428=\"\",\"\",Simulação!G428)","v":"*"},{"$f":"IF($C428=\"\",\"\",Simulação!H428)","v":388.31982556591038},{"$f":"IF($C428=\"\",\"\",Simulação!I428)","v":"*"},{"$f":"IF($C428=\"\",\"\",Simulação!J428)","v":388.32055150572182},{"$f":"IF($C428=\"\",\"\",Simulação!K428)","v":"*"},{"$f":"IF($C428=\"\",\"\",Simulação!L428)","v":382.15360015930793},{"$f":"IF($C428=\"\",\"\",Simulação!M428)","v":"*"},{"$f":"IF($C428=\"\",\"\",Simulação!N428)","v":382.37499278381421},{"$f":"IF($C428=\"\",\"\",Simulação!O428)","v":"*"},{"$f":"IF($C428=\"\",\"\",Simulação!P428)","v":383.71461812501502},{"$f":"IF($C428=\"\",\"\",Simulação!Q428)","v":"*"},{"$f":"IF($C428=\"\",\"\",Simulação!R428)","v":384.50808081691213},{"$f":"IF($C428=\"\",\"\",Simulação!S428)","v":"*"},{"$f":"IF($C428=\"\",\"\",Simulação!T428)","v":381.75880236340242},{"$f":"IF($C428=\"\",\"\",Simulação!U428)","v":"*"},{"$f":"IF($C428=\"\",\"\",Simulação!V428)","v":382.40361053512123},{"$f":"IF($C428=\"\",\"\",Simulação!W428)","v":"*"},{"$f":"IF($C428=\"\",\"\",Simulação!X428)","v":391.92948060802314},{"$f":"IF($C428=\"\",\"\",Simulação!Y428)","v":"*"},{"$f":"IF($C428=\"\",\"\",Simulação!Z428)","v":381.59745224583708},{"$f":"IF($C428=\"\",\"\",Simulação!AA428)","v":"*"},{"$f":"IF($C428=\"\",\"\",Simulação!AB428)","v":386.25661856832335},{"$f":"IF($C428=\"\",\"\",Simulação!AC428)","v":381.5299999999998},{"$f":"IF($C428=\"\",\"\",Simulação!AD428)","v":392.78059400288373},{"$f":"IF($C428=\"\",\"\",Simulação!AE428)","v":"-"},{"$f":"IF($C428=\"\",\"\",Simulação!AF428)","v":364.61114577325674},{"$f":"IF($C428=\"\",\"\",Simulação!AG428)","v":"-"},{"$f":"IF($C428=\"\",\"\",Simulação!AH428)","v":348.63196013630733},{"$f":"IF($C428=\"\",\"\",Simulação!AI428)","v":"-"},{"$f":"IF($C428=\"\",\"\",Simulação!AJ428)","v":33.045125393740342},{"$f":"IF($C428=\"\",\"\",Simulação!AK428)","v":"-"},{"$f":"IF($C428=\"\",\"\",Simulação!AL428)","v":32.02721881559642},{"$f":"IF($C428=\"\",\"\",Simulação!AM428)","v":"-"},{"$f":"IF($C428=\"\",\"\",Simulação!AN428)","v":32.217563507182206},{"$f":"IF($C428=\"\",\"\",Simulação!AO428)","v":"-"},{"$f":"IF($C428=\"\",\"\",Simulação!AP428)","v":36.406016086434107},{"$f":"IF($C428=\"\",\"\",Simulação!AQ428)","v":"-"},{"$f":"IF($C428=\"\",\"\",Simulação!AR428)","v":0}]
[null,422,{"$f":"IF(Chegadas!J430<=$C$5,Chegadas!J430,\"\")","v":382.81999999999982},{"$f":"IF($C429=\"\",\"\",Simulação!D429)","v":6.262313919452307},{"$f":"IF($C429=\"\",\"\",Simulação!E429)","v":"*"},{"$f":"IF($C429=\"\",\"\",Simulação!F429)","v":383.20846667226851},{"$f":"IF($C429=\"\",\"\",Simulação!G429)","v":"*"},{"$f":"IF($C429=\"\",\"\",Simulação!H429)","v":388.31982556591038},{"$f":"IF($C429=\"\",\"\",Simulação!I429)","v":"*"},{"$f":"IF($C429=\"\",\"\",Simulação!J429)","v":388.32055150572182},{"$f":"IF($C429=\"\",\"\",Simulação!K429)","v":382.81999999999982},{"$f":"IF($C429=\"\",\"\",Simulação!L429)","v":389.08231391945213},{"$f":"IF($C429=\"\",\"\",Simulação!M429)","v":"-"},{"$f":"IF($C429=\"\",\"\",Simulação!N429)","v":382.37499278381421},{"$f":"IF($C429=\"\",\"\",Simulação!O429)","v":"-"},{"$f":"IF($C429=\"\",\"\",Simulação!P429)","v":383.71461812501502},{"$f":"IF($C429=\"\",\"\",Simulação!Q429)","v":"-"},{"$f":"IF($C429=\"\",\"\",Simulação!R429)","v":384.50808081691213},{"$f":"IF($C429=\"\",\"\",Simulação!S429)","v":"-"},{"$f":"IF($C429=\"\",\"\",Simulação!T429)","v":381.75880236340242},{"$f":"IF($C429=\"\",\"\",Simulação!U429)","v":"-"},{"$f":"IF($C429=\"\",\"\",Simulação!V429)","v":382.40361053512123},{"$f":"IF($C429=\"\",\"\",Simulação!W429)","v":"-"},{"$f":"IF($C429=\"\",\"\",Simulação!X429)","v":391.92948060802314},{"$f":"IF($C429=\"\",\"\",Simulação!Y429)","v":"-"},{"$f":"IF($C429=\"\",\"\",Simulação!Z429)","v":381.59745224583708},{"$f":"IF($C429=\"\",\"\",Simulação!AA429)","v":"-"},{"$f":"IF($C429=\"\",\"\",Simulação!AB429)","v":386.25661856832335},{"$f":"IF($C429=\"\",\"\",Simulação!AC429)","v":"-"},{"$f":"IF($C429=\"\",\"\",Simulação!AD429)","v":392.78059400288373},{"$f":"IF($C429=\"\",\"\",Simulação!AE429)","v":"-"},{"$f":"IF($C429=\"\",\"\",Simulação!AF429)","v":364.61114577325674},{"$f":"IF($C429=\"\",\"\",Simulação!AG429)","v":"-"},{"$f":"IF($C429=\"\",\"\",Simulação!AH429)","v":348.63196013630733},{"$f":"IF($C429=\"\",\"\",Simulação!AI429)","v":"-"},{"$f":"IF($C429=\"\",\"\",Simulação!AJ429)","v":33.045125393740342},{"$f":"IF($C429=\"\",\"\",Simulação!AK429)","v":"-"},{"$f":"IF($C429=\"\",\"\",Simulação!AL429)","v":32.02721881559642},{"$f":"IF($C429=\"\",\"\",Simulação!AM429)","v":"-"},{"$f":"IF($C429=\"\",\"\",Simulação!AN429)","v":32.217563507182206},{"$f":"IF($C429=\"\",\"\",Simulação!AO429)","v":"-"},{"$f":"IF($C429=\"\",\"\",Simulação!AP429)","v":36.406016086434107},{"$f":"IF($C429=\"\",\"\",Simulação!AQ429)","v":"-"},{"$f":"IF($C429=\"\",\"\",Simulação!AR429)","v":0}]
[null,423,{"$f":"IF(Chegadas!J431<=$C$5,Chegadas!J431,\"\")","v":385.06999999999982},{"$f":"IF($C430=\"\",\"\",Simulação!D430)","v":8.7125445603327254},{"$f":"IF($C430=\"\",\"\",Simulação!E430)","v":385.06999999999982},{"$f":"IF($C430=\"\",\"\",Simulação!F430)","v":393.78254456033255},{"$f":"IF($C430=\"\",\"\",Simulação!G430)","v":"-"},{"$f":"IF($C430=\"\",\"\",Simulação!H430)","v":388.31982556591038},{"$f":"IF($C430=\"\",\"\",Simulação!I430)","v":"-"},{"$f":"IF($C430=\"\",\"\",Simulação!J430)","v":388.32055150572182},{"$f":"IF($C430=\"\",\"\",Simulação!K430)","v":"-"},{"$f":"IF($C430=\"\",\"\",Simulação!L430)","v":389.08231391945213},{"$f":"IF($C430=\"\",\"\",Simulação!M430)","v":"-"},{"$f":"IF($C430=\"\",\"\",Simulação!N430)","v":382.37499278381421},{"$f":"IF($C430=\"\",\"\",Simulação!O430)","v":"-"},{"$f":"IF($C430=\"\",\"\",Simulação!P430)","v":383.71461812501502},{"$f":"IF($C430=\"\",\"\",Simulação!Q430)","v":"-"},{"$f":"IF($C430=\"\",\"\",Simulação!R430)","v":384.50808081691213},{"$f":"IF($C430=\"\",\"\",Simulação!S430)","v":"-"},{"$f":"IF($C430=\"\",\"\",Simulação!T430)","v":381.75880236340242},{"$f":"IF($C430=\"\",\"\",Simulação!U430)","v":"-"},{"$f":"IF($C430=\"\",\"\",Simulação!V430)","v":382.40361053512123},{"$f":"IF($C430=\"\",\"\",Simulação!W430)","v":"-"},{"$f":"IF($C430=\"\",\"\",Simulação!X430)","v":391.92948060802314},{"$f":"IF($C430=\"\",\"\",Simulação!Y430)","v":"-"},{"$f":"IF($C430=\"\",\"\",Simulação!Z430)","v":381.59745224583708},{"$f":"IF($C430=\"\",\"\",Simulação!AA430)","v":"-"},{"$f":"IF($C430=\"\",\"\",Simulação!AB430)","v":386.25661856832335},{"$f":"IF($C430=\"\",\"\",Simulação!AC430)","v":"-"},{"$f":"IF($C430=\"\",\"\",Simulação!AD430)","v":392.78059400288373},{"$f":"IF($C430=\"\",\"\",Simulação!AE430)","v":"-"},{"$f":"IF($C430=\"\",\"\",Simulação!AF430)","v":364.61114577325674},{"$f":"IF($C430=\"\",\"\",Simulação!AG430)","v":"-"},{"$f":"IF($C430=\"\",\"\",Simulação!AH430)","v":348.63196013630733},{"$f":"IF($C430=\"\",\"\",Simulação!AI430)","v":"-"},{"$f":"IF($C430=\"\",\"\",Simulação!AJ430)","v":33.045125393740342},{"$f":"IF($C430=\"\",\"\",Simulação!AK430)","v":"-"},{"$f":"IF($C430=\"\",\"\",Simulação!AL430)","v":32.02721881559642},{"$f":"IF($C430=\"\",\"\",Simulação!AM430)","v":"-"},{"$f":"IF($C430=\"\",\"\",Simulação!AN430)","v":32.217563507182206},{"$f":"IF($C430=\"\",\"\",Simulação!AO430)","v":"-"},{"$f":"IF($C430=\"\",\"\",Simulação!AP430)","v":36.406016086434107},{"$f":"IF($C430=\"\",\"\",Simulação!AQ430)","v":"-"},{"$f":"IF($C430=\"\",\"\",Simulação!AR430)","v":0}]
[null,424,{"$f":"IF(Chegadas!J432<=$C$5,Chegadas!J432,\"\")","v":385.49999999999983},{"$f":"IF($C431=\"\",\"\",Simulação!D431)","v":4.6693246050727435},{"$f":"IF($C431=\"\",\"\",Simulação!E431)","v":"*"},{"$f":"IF($C431=\"\",\"\",Simulação!F431)","v":393.78254456033255},{"$f":"IF($C431=\"\",\"\",Simulação!G431)","v":"*"},{"$f":"IF($C431=\"\",\"\",Simulação!H431)","v":388.31982556591038},{"$f":"IF($C431=\"\",\"\",Simulação!I431)","v":"*"},{"$f":"IF($C431=\"\",\"\",Simulação!J431)","v":388.32055150572182},{"$f":"IF($C431=\"\",\"\",Simulação!K431)","v":"*"},{"$f":"IF($C431=\"\",\"\",Simulação!L431)","v":389.08231391945213},{"$f":"IF($C431=\"\",\"\",Simulação!M431)","v":385.49999999999983},{"$f":"IF($C431=\"\",\"\",Simulação!N431)","v":390.16932460507257},{"$f":"IF($C431=\"\",\"\",Simulação!O431)","v":"-"},{"$f":"IF($C431=\"\",\"\",Simulação!P431)","v":383.71461812501502},{"$f":"IF($C431=\"\",\"\",Simulação!Q431)","v":"-"},{"$f":"IF($C431=\"\",\"\",Simulação!R431)","v":384.50808081691213},{"$f":"IF($C431=\"\",\"\",Simulação!S431)","v":"-"},{"$f":"IF($C431=\"\",\"\",Simulação!T431)","v":381.75880236340242},{"$f":"IF($C431=\"\",\"\",Simulação!U431)","v":"-"},{"$f":"IF($C431=\"\",\"\",Simulação!V431)","v":382.40361053512123},{"$f":"IF($C431=\"\",\"\",Simulação!W431)","v":"-"},{"$f":"IF($C431=\"\",\"\",Simulação!X431)","v":391.92948060802314},{"$f":"IF($C431=\"\",\"\",Simulação!Y431)","v":"-"},{"$f":"IF($C431=\"\",\"\",Simulação!Z431)","v":381.59745224583708},{"$f":"IF($C431=\"\",\"\",Simulação!AA431)","v":"-"},{"$f":"IF($C431=\"\",\"\",Simulação!AB431)","v":386.25661856832335},{"$f":"IF($C431=\"\",\"\",Simulação!AC431)","v":"-"},{"$f":"IF($C431=\"\",\"\",Simulação!AD431)","v":392.78059400288373},{"$f":"IF($C431=\"\",\"\",Simulação!AE431)","v":"-"},{"$f":"IF($C431=\"\",\"\",Simulação!AF431)","v":364.61114577325674},{"$f":"IF($C431=\"\",\"\",Simulação!AG431)","v":"-"},{"$f":"IF($C431=\"\",\"\",Simulação!AH431)","v":348.63196013630733},{"$f":"IF($C431=\"\",\"\",Simulação!AI431)","v":"-"},{"$f":"IF($C431=\"\",\"\",Simulação!AJ431)","v":33.045125393740342},{"$f":"IF($C431=\"\",\"\",Simulação!AK431)","v":"-"},{"$f":"IF($C431=\"\",\"\",Simulação!AL431)","v":32.02721881559642},{"$f":"IF($C431=\"\",\"\",Simulação!AM431)","v":"-"},{"$f":"IF($C431=\"\",\"\",Simulação!AN431)","v":32.217563507182206},{"$f":"IF($C431=\"\",\"\",Simulação!AO431)","v":"-"},{"$f":"IF($C431=\"\",\"\",Simulação!AP431)","v":36.406016086434107},{"$f":"IF($C431=\"\",\"\",Simulação!AQ431)","v":"-"},{"$f":"IF($C431=\"\",\"\",Simulação!AR431)","v":0}]
[null,425,{"$f":"IF(Chegadas!J433<=$C$5,Chegadas!J433,\"\")","v":386.00999999999982},{"$f":"IF($C432=\"\",\"\",Simulação!D432)","v":8.0406086334363405},{"$f":"IF($C432=\"\",\"\",Simulação!E432)","v":"*"},{"$f":"IF($C432=\"\",\"\",Simulação!F432)","v":393.78254456033255},{"$f":"IF($C432=\"\",\"\",Simulação!G432)","v":"*"},{"$f":"IF($C432=\"\",\"\",Simulação!H432)","v":388.31982556591038},{"$f":"IF($C432=\"\",\"\",Simulação!I432)","v":"*"},{"$f":"IF($C432=\"\",\"\",Simulação!J432)","v":388.32055150572182},{"$f":"IF($C432=\"\",\"\",Simulação!K432)","v":"*"},{"$f":"IF($C432=\"\",\"\",Simulação!L432)","v":389.08231391945213},{"$f":"IF($C432=\"\",\"\",Simulação!M432)","v":"*"},{"$f":"IF($C432=\"\",\"\",Simulação!N432)","v":390.16932460507257},{"$f":"IF($C432=\"\",\"\",Simulação!O432)","v":386.00999999999982},{"$f":"IF($C432=\"\",\"\",Simulação!P432)","v":394.05060863343618},{"$f":"IF($C432=\"\",\"\",Simulação!Q432)","v":"-"},{"$f":"IF($C432=\"\",\"\",Simulação!R432)","v":384.50808081691213},{"$f":"IF($C432=\"\",\"\",Simulação!S432)","v":"-"},{"$f":"IF($C432=\"\",\"\",Simulação!T432)","v":381.75880236340242},{"$f":"IF($C432=\"\",\"\",Simulação!U432)","v":"-"},{"$f":"IF($C432=\"\",\"\",Simulação!V432)","v":382.40361053512123},{"$f":"IF($C432=\"\",\"\",Simulação!W432)","v":"-"},{"$f":"IF($C432=\"\",\"\",Simulação!X432)","v":391.92948060802314},{"$f":"IF($C432=\"\",\"\",Simulação!Y432)","v":"-"},{"$f":"IF($C432=\"\",\"\",Simulação!Z432)","v":381.59745224583708},{"$f":"IF($C432=\"\",\"\",Simulação!AA432)","v":"-"},{"$f":"IF($C432=\"\",\"\",Simulação!AB432)","v":386.25661856832335},{"$f":"IF($C432=\"\",\"\",Simulação!AC432)","v":"-"},{"$f":"IF($C432=\"\",\"\",Simulação!AD432)","v":392.78059400288373},{"$f":"IF($C432=\"\",\"\",Simulação!AE432)","v":"-"},{"$f":"IF($C432=\"\",\"\",Simulação!AF432)","v":364.61114577325674},{"$f":"IF($C432=\"\",\"\",Simulação!AG432)","v":"-"},{"$f":"IF($C432=\"\",\"\",Simulação!AH432)","v":348.63196013630733},{"$f":"IF($C432=\"\",\"\",Simulação!AI432)","v":"-"},{"$f":"IF($C432=\"\",\"\",Simulação!AJ432)","v":33.045125393740342},{"$f":"IF($C432=\"\",\"\",Simulação!AK432)","v":"-"},{"$f":"IF($C432=\"\",\"\",Simulação!AL432)","v":32.02721881559642},{"$f":"IF($C432=\"\",\"\",Simulação!AM432)","v":"-"},{"$f":"IF($C432=\"\",\"\",Simulação!AN432)","v":32.217563507182206},{"$f":"IF($C432=\"\",\"\",Simulação!AO432)","v":"-"},{"$f":"IF($C432=\"\",\"\",Simulação!AP432)","v":36.406016086434107},{"$f":"IF($C432=\"\",\"\",Simulação!AQ432)","v":"-"},{"$f":"IF($C432=\"\",\"\",Simulação!AR432)","v":0}]
[null,426,{"$f":"IF(Chegadas!J434<=$C$5,Chegadas!J434,\"\")","v":386.06999999999982},{"$f":"IF($C433=\"\",\"\",Simulação!D433)","v":10.938451807506311},{"$f":"IF($C433=\"\",\"\",Simulação!E433)","v":"*"},{"$f":"IF($C433=\"\",\"\",Simulação!F433)","v":393.78254456033255},{"$f":"IF($C433=\"\",\"\",Simulação!G433)","v":"*"},{"$f":"IF($C433=\"\",\"\",Simulação!H433)","v":388.31982556591038},{"$f":"IF($C433=\"\",\"\",Simulação!I433)","v":"*"},{"$f":"IF($C433=\"\",\"\",Simulação!J433)","v":388.32055150572182},{"$f":"IF($C433=\"\",\"\",Simulação!K433)","v":"*"},{"$f":"IF($C433=\"\",\"\",Simulação!L433)","v":389.08231391945213},{"$f":"IF($C433=\"\",\"\",Simulação!M433)","v":"*"},{"$f":"IF($C433=\"\",\"\",Simulação!N433)","v":390.16932460507257},{"$f":"IF($C433=\"\",\"\",Simulação!O433)","v":"*"},{"$f":"IF($C433=\"\",\"\",Simulação!P433)","v":394.05060863343618},{"$f":"IF($C433=\"\",\"\",Simulação!Q433)","v":386.06999999999982},{"$f":"IF($C433=\"\",\"\",Simulação!R433)","v":397.00845180750616},{"$f":"IF($C433=\"\",\"\",Simulação!S433)","v":"-"},{"$f":"IF($C433=\"\",\"\",Simulação!T433)","v":381.75880236340242},{"$f":"IF($C433=\"\",\"\",Simulação!U433)","v":"-"},{"$f":"IF($C433=\"\",\"\",Simulação!V433)","v":382.40361053512123},{"$f":"IF($C433=\"\",\"\",Simulação!W433)","v":"-"},{"$f":"IF($C433=\"\",\"\",Simulação!X433)","v":391.92948060802314},{"$f":"IF($C433=\"\",\"\",Simulação!Y433)","v":"-"},{"$f":"IF($C433=\"\",\"\",Simulação!Z433)","v":381.59745224583708},{"$f":"IF($C433=\"\",\"\",Simulação!AA433)","v":"-"},{"$f":"IF($C433=\"\",\"\",Simulação!AB433)","v":386.25661856832335},{"$f":"IF($C433=\"\",\"\",Simulação!AC433)","v":"-"},{"$f":"IF($C433=\"\",\"\",Simulação!AD433)","v":392.78059400288373},{"$f":"IF($C433=\"\",\"\",Simulação!AE433)","v":"-"},{"$f":"IF($C433=\"\",\"\",Simulação!AF433)","v":364.61114577325674},{"$f":"IF($C433=\"\",\"\",Simulação!AG433)","v":"-"},{"$f":"IF($C433=\"\",\"\",Simulação!AH433)","v":348.63196013630733},{"$f":"IF($C433=\"\",\"\",Simulação!AI433)","v":"-"},{"$f":"IF($C433=\"\",\"\",Simulação!AJ433)","v":33.045125393740342},{"$f":"IF($C433=\"\",\"\",Simulação!AK433)","v":"-"},{"$f":"IF($C433=\"\",\"\",Simulação!AL433)","v":32.02721881559642},{"$f":"IF($C433=\"\",\"\",Simulação!AM433)","v":"-"},{"$f":"IF($C433=\"\",\"\",Simulação!AN433)","v":32.217563507182206},{"$f":"IF($C433=\"\",\"\",Simulação!AO433)","v":"-"},{"$f":"IF($C433=\"\",\"\",Simulação!AP433)","v":36.406016086434107},{"$f":"IF($C433=\"\",\"\",Simulação!AQ433)","v":"-"},{"$f":"IF($C433=\"\",\"\",Simulação!AR433)","v":0}]
[null,427,{"$f":"IF(Chegadas!J435<=$C$5,Chegadas!J435,\"\")","v":386.5899999999998},{"$f":"IF($C434=\"\",\"\",Simulação!D434)","v":8.190787003993254},{"$f":"IF($C434=\"\",\"\",Simulação!E434)","v":"*"},{"$f":"IF($C434=\"\",\"\",Simulação!F434)","v":393.78254456033255},{"$f":"IF($C434=\"\",\"\",Simulação!G434)","v":"*"},{"$f":"IF($C434=\"\",\"\",Simulação!H434)","v":388.31982556591038},{"$f":"IF($C434=\"\",\"\",Simulação!I434)","v":"*"},{"$f":"IF($C434=\"\",\"\",Simulação!J434)","v":388.32055150572182},{"$f":"IF($C434=\"\",\"\",Simulação!K434)","v":"*"},{"$f":"IF($C434=\"\",\"\",Simulação!L434)","v":389.08231391945213},{"$f":"IF($C434=\"\",\"\",Simulação!M434)","v":"*"},{"$f":"IF($C434=\"\",\"\",Simulação!N434)","v":390.16932460507257},{"$f":"IF($C434=\"\",\"\",Simulação!O434)","v":"*"},{"$f":"IF($C434=\"\",\"\",Simulação!P434)","v":394.05060863343618},{"$f":"IF($C434=\"\",\"\",Simulação!Q434)","v":"*"},{"$f":"IF($C434=\"\",\"\",Simulação!R434)","v":397.00845180750616},{"$f":"IF($C434=\"\",\"\",Simulação!S434)","v":386.5899999999998},{"$f":"IF($C434=\"\",\"\",Simulação!T434)","v":394.78078700399305},{"$f":"IF($C434=\"\",\"\",Simulação!U434)","v":"-"},{"$f":"IF($C434=\"\",\"\",Simulação!V434)","v":382.40361053512123},{"$f":"IF($C434=\"\",\"\",Simulação!W434)","v":"-"},{"$f":"IF($C434=\"\",\"\",Simulação!X434)","v":391.92948060802314},{"$f":"IF($C434=\"\",\"\",Simulação!Y434)","v":"-"},{"$f":"IF($C434=\"\",\"\",Simulação!Z434)","v":381.59745224583708},{"$f":"IF($C434=\"\",\"\",Simulação!AA434)","v":"-"},{"$f":"IF($C434=\"\",\"\",Simulação!AB434)","v":386.25661856832335},{"$f":"IF($C434=\"\",\"\",Simulação!AC434)","v":"-"},{"$f":"IF($C434=\"\",\"\",Simulação!AD434)","v":392.78059400288373},{"$f":"IF($C434=\"\",\"\",Simulação!AE434)","v":"-"},{"$f":"IF($C434=\"\",\"\",Simulação!AF434)","v":364.61114577325674},{"$f":"IF($C434=\"\",\"\",Simulação!AG434)","v":"-"},{"$f":"IF($C434=\"\",\"\",Simulação!AH434)","v":348.63196013630733},{"$f":"IF($C434=\"\",\"\",Simulação!AI434)","v":"-"},{"$f":"IF($C434=\"\",\"\",Simulação!AJ434)","v":33.045125393740342},{"$f":"IF($C434=\"\",\"\",Simulação!AK434)","v":"-"},{"$f":"IF($C434=\"\",\"\",Simulação!AL434)","v":32.02721881559642},{"$f":"IF($C434=\"\",\"\",Simulação!AM434)","v":"-"},{"$f":"IF($C434=\"\",\"\",Simulação!AN434)","v":32.217563507182206},{"$f":"IF($C434=\"\",\"\",Simulação!AO434)","v":"-"},{"$f":"IF($C434=\"\",\"\",Simulação!AP434)","v":36.406016086434107},{"$f":"IF($C434=\"\",\"\",Simulação!AQ434)","v":"-"},{"$f":"IF($C434=\"\",\"\",Simulação!AR434)","v":0}]
[null,428,{"$f":"IF(Chegadas!J436<=$C$5,Chegadas!J436,\"\")","v":387.75999999999982},{"$f":"IF($C435=\"\",\"\",Simulação!D435)","v":8.0041179814686334},{"$f":"IF($C435=\"\",\"\",Simulação!E435)","v":"*"},{"$f":"IF($C435=\"\",\"\",Simulação!F435)","v":393.78254456033255},{"$f":"IF($C435=\"\",\"\",Simulação!G435)","v":"*"},{"$f":"IF($C435=\"\",\"\",Simulação!H435)","v":388.31982556591038},{"$f":"IF($C435=\"\",\"\",Simulação!I435)","v":"*"},{"$f":"IF($C435=\"\",\"\",Simulação!J435)","v":388.32055150572182},{"$f":"IF($C435=\"\",\"\",Simulação!K435)","v":"*"},{"$f":"IF($C435=\"\",\"\",Simulação!L435)","v":389.08231391945213},{"$f":"IF($C435=\"\",\"\",Simulação!M435)","v":"*"},{"$f":"IF($C435=\"\",\"\",Simulação!N435)","v":390.16932460507257},{"$f":"IF($C435=\"\",\"\",Simulação!O435)","v":"*"},{"$f":"IF($C435=\"\",\"\",Simulação!P435)","v":394.05060863343618},{"$f":"IF($C435=\"\",\"\",Simulação!Q435)","v":"*"},{"$f":"IF($C435=\"\",\"\",Simulação!R435)","v":397.00845180750616},{"$f":"IF($C435=\"\",\"\",Simulação!S435)","v":"*"},{"$f":"IF($C435=\"\",\"\",Simulação!T435)","v":394.78078700399305},{"$f":"IF($C435=\"\",\"\",Simulação!U435)","v":387.75999999999982},{"$f":"IF($C435=\"\",\"\",Simulação!V435)","v":395.76411798146847},{"$f":"IF($C435=\"\",\"\",Simulação!W435)","v":"-"},{"$f":"IF($C435=\"\",\"\",Simulação!X435)","v":391.92948060802314},{"$f":"IF($C435=\"\",\"\",Simulação!Y435)","v":"-"},{"$f":"IF($C435=\"\",\"\",Simulação!Z435)","v":381.59745224583708},{"$f":"IF($C435=\"\",\"\",Simulação!AA435)","v":"-"},{"$f":"IF($C435=\"\",\"\",Simulação!AB435)","v":386.25661856832335},{"$f":"IF($C435=\"\",\"\",Simulação!AC435)","v":"-"},{"$f":"IF($C435=\"\",\"\",Simulação!AD435)","v":392.78059400288373},{"$f":"IF($C435=\"\",\"\",Simulação!AE435)","v":"-"},{"$f":"IF($C435=\"\",\"\",Simulação!AF435)","v":364.61114577325674},{"$f":"IF($C435=\"\",\"\",Simulação!AG435)","v":"-"},{"$f":"IF($C435=\"\",\"\",Simulação!AH435)","v":348.63196013630733},{"$f":"IF($C435=\"\",\"\",Simulação!AI435)","v":"-"},{"$f":"IF($C435=\"\",\"\",Simulação!AJ435)","v":33.045125393740342},{"$f":"IF($C435=\"\",\"\",Simulação!AK435)","v":"-"},{"$f":"IF($C435=\"\",\"\",Simulação!AL435)","v":32.02721881559642},{"$f":"IF($C435=\"\",\"\",Simulação!AM435)","v":"-"},{"$f":"IF($C435=\"\",\"\",Simulação!AN435)","v":32.217563507182206},{"$f":"IF($C435=\"\",\"\",Simulação!AO435)","v":"-"},{"$f":"IF($C435=\"\",\"\",Simulação!AP435)","v":36.406016086434107},{"$f":"IF($C435=\"\",\"\",Simulação!AQ435)","v":"-"},{"$f":"IF($C435=\"\",\"\",Simulação!AR435)","v":0}]
[null,429,{"$f":"IF(Chegadas!J437<=$C$5,Chegadas!J437,\"\")","v":388.07999999999981},{"$f":"IF($C436=\"\",\"\",Simulação!D436)","v":6.7813261153037532},{"$f":"IF($C436=\"\",\"\",Simulação!E436)","v":"*"},{"$f":"IF($C436=\"\",\"\",Simulação!F436)","v":393.78254456033255},{"$f":"IF($C436=\"\",\"\",Simulação!G436)","v":"*"},{"$f":"IF($C436=\"\",\"\",Simulação!H436)","v":388.31982556591038},{"$f":"IF($C436=\"\",\"\",Simulação!I436)","v":"*"},{"$f":"IF($C436=\"\",\"\",Simulação!J436)","v":388.32055150572182},{"$f":"IF($C436=\"\",\"\",Simulação!K436)","v":"*"},{"$f":"IF($C436=\"\",\"\",Simulação!L436)","v":389.08231391945213},{"$f":"IF($C436=\"\",\"\",Simulação!M436)","v":"*"},{"$f":"IF($C436=\"\",\"\",Simulação!N436)","v":390.16932460507257},{"$f":"IF($C436=\"\",\"\",Simulação!O436)","v":"*"},{"$f":"IF($C436=\"\",\"\",Simulação!P436)","v":394.05060863343618},{"$f":"IF($C436=\"\",\"\",Simulação!Q436)","v":"*"},{"$f":"IF($C436=\"\",\"\",Simulação!R436)","v":397.00845180750616},{"$f":"IF($C436=\"\",\"\",Simulação!S436)","v":"*"},{"$f":"IF($C436=\"\",\"\",Simulação!T436)","v":394.78078700399305},{"$f":"IF($C436=\"\",\"\",Simulação!U436)","v":"*"},{"$f":"IF($C436=\"\",\"\",Simulação!V436)","v":395.76411798146847},{"$f":"IF($C436=\"\",\"\",Simulação!W436)","v":"*"},{"$f":"IF($C436=\"\",\"\",Simulação!X436)","v":391.92948060802314},{"$f":"IF($C436=\"\",\"\",Simulação!Y436)","v":388.07999999999981},{"$f":"IF($C436=\"\",\"\",Simulação!Z436)","v":394.86132611530354},{"$f":"IF($C436=\"\",\"\",Simulação!AA436)","v":"-"},{"$f":"IF($C436=\"\",\"\",Simulação!AB436)","v":386.25661856832335},{"$f":"IF($C436=\"\",\"\",Simulação!AC436)","v":"-"},{"$f":"IF($C436=\"\",\"\",Simulação!AD436)","v":392.78059400288373},{"$f":"IF($C436=\"\",\"\",Simulação!AE436)","v":"-"},{"$f":"IF($C436=\"\",\"\",Simulação!AF436)","v":364.61114577325674},{"$f":"IF($C436=\"\",\"\",Simulação!AG436)","v":"-"},{"$f":"IF($C436=\"\",\"\",Simulação!AH436)","v":348.63196013630733},{"$f":"IF($C436=\"\",\"\",Simulação!AI436)","v":"-"},{"$f":"IF($C436=\"\",\"\",Simulação!AJ436)","v":33.045125393740342},{"$f":"IF($C436=\"\",\"\",Simulação!AK436)","v":"-"},{"$f":"IF($C436=\"\",\"\",Simulação!AL436)","v":32.02721881559642},{"$f":"IF($C436=\"\",\"\",Simulação!AM436)","v":"-"},{"$f":"IF($C436=\"\",\"\",Simulação!AN436)","v":32.217563507182206},{"$f":"IF($C436=\"\",\"\",Simulação!AO436)","v":"-"},{"$f":"IF($C436=\"\",\"\",Simulação!AP436)","v":36.406016086434107},{"$f":"IF($C436=\"\",\"\",Simulação!AQ436)","v":"-"},{"$f":"IF($C436=\"\",\"\",Simulação!AR436)","v":0}]
[null,430,{"$f":"IF(Chegadas!J438<=$C$5,Chegadas!J438,\"\")","v":388.20999999999981},{"$f":"IF($C437=\"\",\"\",Simulação!D437)","v":10.720042920732823},{"$f":"IF($C437=\"\",\"\",Simulação!E437)","v":"*"},{"$f":"IF($C437=\"\",\"\",Simulação!F437)","v":393.78254456033255},{"$f":"IF($C437=\"\",\"\",Simulação!G437)","v":"*"},{"$f":"IF($C437=\"\",\"\",Simulação!H437)","v":388.31982556591038},{"$f":"IF($C437=\"\",\"\",Simulação!I437)","v":"*"},{"$f":"IF($C437=\"\",\"\",Simulação!J437)","v":388.32055150572182},{"$f":"IF($C437=\"\",\"\",Simulação!K437)","v":"*"},{"$f":"IF($C437=\"\",\"\",Simulação!L437)","v":389.08231391945213},{"$f":"IF($C437=\"\",\"\",Simulação!M437)","v":"*"},{"$f":"IF($C437=\"\",\"\",Simulação!N437)","v":390.16932460507257},{"$f":"IF($C437=\"\",\"\",Simulação!O437)","v":"*"},{"$f":"IF($C437=\"\",\"\",Simulação!P437)","v":394.05060863343618},{"$f":"IF($C437=\"\",\"\",Simulação!Q437)","v":"*"},{"$f":"IF($C437=\"\",\"\",Simulação!R437)","v":397.00845180750616},{"$f":"IF($C437=\"\",\"\",Simulação!S437)","v":"*"},{"$f":"IF($C437=\"\",\"\",Simulação!T437)","v":394.78078700399305},{"$f":"IF($C437=\"\",\"\",Simulação!U437)","v":"*"},{"$f":"IF($C437=\"\",\"\",Simulação!V437)","v":395.76411798146847},{"$f":"IF($C437=\"\",\"\",Simulação!W437)","v":"*"},{"$f":"IF($C437=\"\",\"\",Simulação!X437)","v":391.92948060802314},{"$f":"IF($C437=\"\",\"\",Simulação!Y437)","v":"*"},{"$f":"IF($C437=\"\",\"\",Simulação!Z437)","v":394.86132611530354},{"$f":"IF($C437=\"\",\"\",Simulação!AA437)","v":388.20999999999981},{"$f":"IF($C437=\"\",\"\",Simulação!AB437)","v":398.9300429207326},{"$f":"IF($C437=\"\",\"\",Simulação!AC437)","v":"-"},{"$f":"IF($C437=\"\",\"\",Simulação!AD437)","v":392.78059400288373},{"$f":"IF($C437=\"\",\"\",Simulação!AE437)","v":"-"},{"$f":"IF($C437=\"\",\"\",Simulação!AF437)","v":364.61114577325674},{"$f":"IF($C437=\"\",\"\",Simulação!AG437)","v":"-"},{"$f":"IF($C437=\"\",\"\",Simulação!AH437)","v":348.63196013630733},{"$f":"IF($C437=\"\",\"\",Simulação!AI437)","v":"-"},{"$f":"IF($C437=\"\",\"\",Simulação!AJ437)","v":33.045125393740342},{"$f":"IF($C437=\"\",\"\",Simulação!AK437)","v":"-"},{"$f":"IF($C437=\"\",\"\",Simulação!AL437)","v":32.02721881559642},{"$f":"IF($C437=\"\",\"\",Simulação!AM437)","v":"-"},{"$f":"IF($C437=\"\",\"\",Simulação!AN437)","v":32.217563507182206},{"$f":"IF($C437=\"\",\"\",Simulação!AO437)","v":"-"},{"$f":"IF($C437=\"\",\"\",Simulação!AP437)","v":36.406016086434107},{"$f":"IF($C437=\"\",\"\",Simulação!AQ437)","v":"-"},{"$f":"IF($C437=\"\",\"\",Simulação!AR437)","v":0}]
[null,431,{"$f":"IF(Chegadas!J439<=$C$5,Chegadas!J439,\"\")","v":388.55999999999983},{"$f":"IF($C438=\"\",\"\",Simulação!D438)","v":10.995209147024767},{"$f":"IF($C438=\"\",\"\",Simulação!E438)","v":"*"},{"$f":"IF($C438=\"\",\"\",Simulação!F438)","v":393.78254456033255},{"$f":"IF($C438=\"\",\"\",Simulação!G438)","v":388.55999999999983},{"$f":"IF($C438=\"\",\"\",Simulação!H438)","v":399.55520914702458},{"$f":"IF($C438=\"\",\"\",Simulação!I438)","v":"-"},{"$f":"IF($C438=\"\",\"\",Simulação!J438)","v":388.32055150572182},{"$f":"IF($C438=\"\",\"\",Simulação!K438)","v":"-"},{"$f":"IF($C438=\"\",\"\",Simulação!L438)","v":389.08231391945213},{"$f":"IF($C438=\"\",\"\",Simulação!M438)","v":"-"},{"$f":"IF($C438=\"\",\"\",Simulação!N438)","v":390.16932460507257},{"$f":"IF($C438=\"\",\"\",Simulação!O438)","v":"-"},{"$f":"IF($C438=\"\",\"\",Simulação!P438)","v":394.05060863343618},{"$f":"IF($C438=\"\",\"\",Simulação!Q438)","v":"-"},{"$f":"IF($C438=\"\",\"\",Simulação!R438)","v":397.00845180750616},{"$f":"IF($C438=\"\",\"\",Simulação!S438)","v":"-"},{"$f":"IF($C438=\"\",\"\",Simulação!T438)","v":394.78078700399305},{"$f":"IF($C438=\"\",\"\",Simulação!U438)","v":"-"},{"$f":"IF($C438=\"\",\"\",Simulação!V438)","v":395.76411798146847},{"$f":"IF($C438=\"\",\"\",Simulação!W438)","v":"-"},{"$f":"IF($C438=\"\",\"\",Simulação!X438)","v":391.92948060802314},{"$f":"IF($C438=\"\",\"\",Simulação!Y438)","v":"-"},{"$f":"IF($C438=\"\",\"\",Simulação!Z438)","v":394.86132611530354},{"$f":"IF($C438=\"\",\"\",Simulação!AA438)","v":"-"},{"$f":"IF($C438=\"\",\"\",Simulação!AB438)","v":398.9300429207326},{"$f":"IF($C438=\"\",\"\",Simulação!AC438)","v":"-"},{"$f":"IF($C438=\"\",\"\",Simulação!AD438)","v":392.78059400288373},{"$f":"IF($C438=\"\",\"\",Simulação!AE438)","v":"-"},{"$f":"IF($C438=\"\",\"\",Simulação!AF438)","v":364.61114577325674},{"$f":"IF($C438=\"\",\"\",Simulação!AG438)","v":"-"},{"$f":"IF($C438=\"\",\"\",Simulação!AH438)","v":348.63196013630733},{"$f":"IF($C438=\"\",\"\",Simulação!AI438)","v":"-"},{"$f":"IF($C438=\"\",\"\",Simulação!AJ438)","v":33.045125393740342},{"$f":"IF($C438=\"\",\"\",Simulação!AK438)","v":"-"},{"$f":"IF($C438=\"\",\"\",Simulação!AL438)","v":32.02721881559642},{"$f":"IF($C438=\"\",\"\",Simulação!AM438)","v":"-"},{"$f":"IF($C438=\"\",\"\",Simulação!AN438)","v":32.217563507182206},{"$f":"IF($C438=\"\",\"\",Simulação!AO438)","v":"-"},{"$f":"IF($C438=\"\",\"\",Simulação!AP438)","v":36.406016086434107},{"$f":"IF($C438=\"\",\"\",Simulação!AQ438)","v":"-"},{"$f":"IF($C438=\"\",\"\",Simulação!AR438)","v":0}]
[null,432,{"$f":"IF(Chegadas!J440<=$C$5,Chegadas!J440,\"\")","v":389.17999999999984},{"$f":"IF($C439=\"\",\"\",Simulação!D439)","v":3.1566083688964799},{"$f":"IF($C439=\"\",\"\",Simulação!E439)","v":"*"},{"$f":"IF($C439=\"\",\"\",Simulação!F439)","v":393.78254456033255},{"$f":"IF($C439=\"\",\"\",Simulação!G439)","v":"*"},{"$f":"IF($C439=\"\",\"\",Simulação!H439)","v":399.55520914702458},{"$f":"IF($C439=\"\",\"\",Simulação!I439)","v":389.17999999999984},{"$f":"IF($C439=\"\",\"\",Simulação!J439)","v":392.33660836889629},{"$f":"IF($C439=\"\",\"\",Simulação!K439)","v":"-"},{"$f":"IF($C439=\"\",\"\",Simulação!L439)","v":389.08231391945213},{"$f":"IF($C439=\"\",\"\",Simulação!M439)","v":"-"},{"$f":"IF($C439=\"\",\"\",Simulação!N439)","v":390.16932460507257},{"$f":"IF($C439=\"\",\"\",Simulação!O439)","v":"-"},{"$f":"IF($C439=\"\",\"\",Simulação!P439)","v":394.05060863343618},{"$f":"IF($C439=\"\",\"\",Simulação!Q439)","v":"-"},{"$f":"IF($C439=\"\",\"\",Simulação!R439)","v":397.00845180750616},{"$f":"IF($C439=\"\",\"\",Simulação!S439)","v":"-"},{"$f":"IF($C439=\"\",\"\",Simulação!T439)","v":394.78078700399305},{"$f":"IF($C439=\"\",\"\",Simulação!U439)","v":"-"},{"$f":"IF($C439=\"\",\"\",Simulação!V439)","v":395.76411798146847},{"$f":"IF($C439=\"\",\"\",Simulação!W439)","v":"-"},{"$f":"IF($C439=\"\",\"\",Simulação!X439)","v":391.92948060802314},{"$f":"IF($C439=\"\",\"\",Simulação!Y439)","v":"-"},{"$f":"IF($C439=\"\",\"\",Simulação!Z439)","v":394.86132611530354},{"$f":"IF($C439=\"\",\"\",Simulação!AA439)","v":"-"},{"$f":"IF($C439=\"\",\"\",Simulação!AB439)","v":398.9300429207326},{"$f":"IF($C439=\"\",\"\",Simulação!AC439)","v":"-"},{"$f":"IF($C439=\"\",\"\",Simulação!AD439)","v":392.78059400288373},{"$f":"IF($C439=\"\",\"\",Simulação!AE439)","v":"-"},{"$f":"IF($C439=\"\",\"\",Simulação!AF439)","v":364.61114577325674},{"$f":"IF($C439=\"\",\"\",Simulação!AG439)","v":"-"},{"$f":"IF($C439=\"\",\"\",Simulação!AH439)","v":348.63196013630733},{"$f":"IF($C439=\"\",\"\",Simulação!AI439)","v":"-"},{"$f":"IF($C439=\"\",\"\",Simulação!AJ439)","v":33.045125393740342},{"$f":"IF($C439=\"\",\"\",Simulação!AK439)","v":"-"},{"$f":"IF($C439=\"\",\"\",Simulação!AL439)","v":32.02721881559642},{"$f":"IF($C439=\"\",\"\",Simulação!AM439)","v":"-"},{"$f":"IF($C439=\"\",\"\",Simulação!AN439)","v":32.217563507182206},{"$f":"IF($C439=\"\",\"\",Simulação!AO439)","v":"-"},{"$f":"IF($C439=\"\",\"\",Simulação!AP439)","v":36.406016086434107},{"$f":"IF($C439=\"\",\"\",Simulação!AQ439)","v":"-"},{"$f":"IF($C439=\"\",\"\",Simulação!AR439)","v":0}]
[null,433,{"$f":"IF(Chegadas!J441<=$C$5,Chegadas!J441,\"\")","v":389.70999999999981},{"$f":"IF($C440=\"\",\"\",Simulação!D440)","v":13.280892219722128},{"$f":"IF($C440=\"\",\"\",Simulação!E440)","v":"*"},{"$f":"IF($C440=\"\",\"\",Simulação!F440)","v":393.78254456033255},{"$f":"IF($C440=\"\",\"\",Simulação!G440)","v":"*"},{"$f":"IF($C440=\"\",\"\",Simulação!H440)","v":399.55520914702458},{"$f":"IF($C440=\"\",\"\",Simulação!I440)","v":"*"},{"$f":"IF($C440=\"\",\"\",Simulação!J440)","v":392.33660836889629},{"$f":"IF($C440=\"\",\"\",Simulação!K440)","v":389.70999999999981},{"$f":"IF($C440=\"\",\"\",Simulação!L440)","v":402.99089221972196},{"$f":"IF($C440=\"\",\"\",Simulação!M440)","v":"-"},{"$f":"IF($C440=\"\",\"\",Simulação!N440)","v":390.16932460507257},{"$f":"IF($C440=\"\",\"\",Simulação!O440)","v":"-"},{"$f":"IF($C440=\"\",\"\",Simulação!P440)","v":394.05060863343618},{"$f":"IF($C440=\"\",\"\",Simulação!Q440)","v":"-"},{"$f":"IF($C440=\"\",\"\",Simulação!R440)","v":397.00845180750616},{"$f":"IF($C440=\"\",\"\",Simulação!S440)","v":"-"},{"$f":"IF($C440=\"\",\"\",Simulação!T440)","v":394.78078700399305},{"$f":"IF($C440=\"\",\"\",Simulação!U440)","v":"-"},{"$f":"IF($C440=\"\",\"\",Simulação!V440)","v":395.76411798146847},{"$f":"IF($C440=\"\",\"\",Simulação!W440)","v":"-"},{"$f":"IF($C440=\"\",\"\",Simulação!X440)","v":391.92948060802314},{"$f":"IF($C440=\"\",\"\",Simulação!Y440)","v":"-"},{"$f":"IF($C440=\"\",\"\",Simulação!Z440)","v":394.86132611530354},{"$f":"IF($C440=\"\",\"\",Simulação!AA440)","v":"-"},{"$f":"IF($C440=\"\",\"\",Simulação!AB440)","v":398.9300429207326},{"$f":"IF($C440=\"\",\"\",Simulação!AC440)","v":"-"},{"$f":"IF($C440=\"\",\"\",Simulação!AD440)","v":392.78059400288373},{"$f":"IF($C440=\"\",\"\",Simulação!AE440)","v":"-"},{"$f":"IF($C440=\"\",\"\",Simulação!AF440)","v":364.61114577325674},{"$f":"IF($C440=\"\",\"\",Simulação!AG440)","v":"-"},{"$f":"IF($C440=\"\",\"\",Simulação!AH440)","v":348.63196013630733},{"$f":"IF($C440=\"\",\"\",Simulação!AI440)","v":"-"},{"$f":"IF($C440=\"\",\"\",Simulação!AJ440)","v":33.045125393740342},{"$f":"IF($C440=\"\",\"\",Simulação!AK440)","v":"-"},{"$f":"IF($C440=\"\",\"\",Simulação!AL440)","v":32.02721881559642},{"$f":"IF($C440=\"\",\"\",Simulação!AM440)","v":"-"},{"$f":"IF($C440=\"\",\"\",Simulação!AN440)","v":32.217563507182206},{"$f":"IF($C440=\"\",\"\",Simulação!AO440)","v":"-"},{"$f":"IF($C440=\"\",\"\",Simulação!AP440)","v":36.406016086434107},{"$f":"IF($C440=\"\",\"\",Simulação!AQ440)","v":"-"},{"$f":"IF($C440=\"\",\"\",Simulação!AR440)","v":0}]
[null,434,{"$f":"IF(Chegadas!J442<=$C$5,Chegadas!J442,\"\")","v":390.26999999999981},{"$f":"IF($C441=\"\",\"\",Simulação!D441)","v":6.9720245035771349},{"$f":"IF($C441=\"\",\"\",Simulação!E441)","v":"*"},{"$f":"IF($C441=\"\",\"\",Simulação!F441)","v":393.78254456033255},{"$f":"IF($C441=\"\",\"\",Simulação!G441)","v":"*"},{"$f":"IF($C441=\"\",\"\",Simulação!H441)","v":399.55520914702458},{"$f":"IF($C441=\"\",\"\",Simulação!I441)","v":"*"},{"$f":"IF($C441=\"\",\"\",Simulação!J441)","v":392.33660836889629},{"$f":"IF($C441=\"\",\"\",Simulação!K441)","v":"*"},{"$f":"IF($C441=\"\",\"\",Simulação!L441)","v":402.99089221972196},{"$f":"IF($C441=\"\",\"\",Simulação!M441)","v":390.26999999999981},{"$f":"IF($C441=\"\",\"\",Simulação!N441)","v":397.24202450357694},{"$f":"IF($C441=\"\",\"\",Simulação!O441)","v":"-"},{"$f":"IF($C441=\"\",\"\",Simulação!P441)","v":394.05060863343618},{"$f":"IF($C441=\"\",\"\",Simulação!Q441)","v":"-"},{"$f":"IF($C441=\"\",\"\",Simulação!R441)","v":397.00845180750616},{"$f":"IF($C441=\"\",\"\",Simulação!S441)","v":"-"},{"$f":"IF($C441=\"\",\"\",Simulação!T441)","v":394.78078700399305},{"$f":"IF($C441=\"\",\"\",Simulação!U441)","v":"-"},{"$f":"IF($C441=\"\",\"\",Simulação!V441)","v":395.76411798146847},{"$f":"IF($C441=\"\",\"\",Simulação!W441)","v":"-"},{"$f":"IF($C441=\"\",\"\",Simulação!X441)","v":391.92948060802314},{"$f":"IF($C441=\"\",\"\",Simulação!Y441)","v":"-"},{"$f":"IF($C441=\"\",\"\",Simulação!Z441)","v":394.86132611530354},{"$f":"IF($C441=\"\",\"\",Simulação!AA441)","v":"-"},{"$f":"IF($C441=\"\",\"\",Simulação!AB441)","v":398.9300429207326},{"$f":"IF($C441=\"\",\"\",Simulação!AC441)","v":"-"},{"$f":"IF($C441=\"\",\"\",Simulação!AD441)","v":392.78059400288373},{"$f":"IF($C441=\"\",\"\",Simulação!AE441)","v":"-"},{"$f":"IF($C441=\"\",\"\",Simulação!AF441)","v":364.61114577325674},{"$f":"IF($C441=\"\",\"\",Simulação!AG441)","v":"-"},{"$f":"IF($C441=\"\",\"\",Simulação!AH441)","v":348.63196013630733},{"$f":"IF($C441=\"\",\"\",Simulação!AI441)","v":"-"},{"$f":"IF($C441=\"\",\"\",Simulação!AJ441)","v":33.045125393740342},{"$f":"IF($C441=\"\",\"\",Simulação!AK441)","v":"-"},{"$f":"IF($C441=\"\",\"\",Simulação!AL441)","v":32.02721881559642},{"$f":"IF($C441=\"\",\"\",Simulação!AM441)","v":"-"},{"$f":"IF($C441=\"\",\"\",Simulação!AN441)","v":32.217563507182206},{"$f":"IF($C441=\"\",\"\",Simulação!AO441)","v":"-"},{"$f":"IF($C441=\"\",\"\",Simulação!AP441)","v":36.406016086434107},{"$f":"IF($C441=\"\",\"\",Simulação!AQ441)","v":"-"},{"$f":"IF($C441=\"\",\"\",Simulação!AR441)","v":0}]
[null,435,{"$f":"IF(Chegadas!J443<=$C$5,Chegadas!J443,\"\")","v":390.74},{"$f":"IF($C442=\"\",\"\",Simulação!D442)","v":1.3277795232820162},{"$f":"IF($C442=\"\",\"\",Simulação!E442)","v":"*"},{"$f":"IF($C442=\"\",\"\",Simulação!F442)","v":393.78254456033255},{"$f":"IF($C442=\"\",\"\",Simulação!G442)","v":"*"},{"$f":"IF($C442=\"\",\"\",Simulação!H442)","v":399.55520914702458},{"$f":"IF($C442=\"\",\"\",Simulação!I442)","v":"*"},{"$f":"IF($C442=\"\",\"\",Simulação!J442)","v":392.33660836889629},{"$f":"IF($C442=\"\",\"\",Simulação!K442)","v":"*"},{"$f":"IF($C442=\"\",\"\",Simulação!L442)","v":402.99089221972196},{"$f":"IF($C442=\"\",\"\",Simulação!M442)","v":"*"},{"$f":"IF($C442=\"\",\"\",Simulação!N442)","v":397.24202450357694},{"$f":"IF($C442=\"\",\"\",Simulação!O442)","v":"*"},{"$f":"IF($C442=\"\",\"\",Simulação!P442)","v":394.05060863343618},{"$f":"IF($C442=\"\",\"\",Simulação!Q442)","v":"*"},{"$f":"IF($C442=\"\",\"\",Simulação!R442)","v":397.00845180750616},{"$f":"IF($C442=\"\",\"\",Simulação!S442)","v":"*"},{"$f":"IF($C442=\"\",\"\",Simulação!T442)","v":394.78078700399305},{"$f":"IF($C442=\"\",\"\",Simulação!U442)","v":"*"},{"$f":"IF($C442=\"\",\"\",Simulação!V442)","v":395.76411798146847},{"$f":"IF($C442=\"\",\"\",Simulação!W442)","v":"*"},{"$f":"IF($C442=\"\",\"\",Simulação!X442)","v":391.92948060802314},{"$f":"IF($C442=\"\",\"\",Simulação!Y442)","v":"*"},{"$f":"IF($C442=\"\",\"\",Simulação!Z442)","v":394.86132611530354},{"$f":"IF($C442=\"\",\"\",Simulação!AA442)","v":"*"},{"$f":"IF($C442=\"\",\"\",Simulação!AB442)","v":398.9300429207326},{"$f":"IF($C442=\"\",\"\",Simulação!AC442)","v":"*"},{"$f":"IF($C442=\"\",\"\",Simulação!AD442)","v":392.78059400288373},{"$f":"IF($C442=\"\",\"\",Simulação!AE442)","v":390.74},{"$f":"IF($C442=\"\",\"\",Simulação!AF442)","v":392.06777952328201},{"$f":"IF($C442=\"\",\"\",Simulação!AG442)","v":"-"},{"$f":"IF($C442=\"\",\"\",Simulação!AH442)","v":348.63196013630733},{"$f":"IF($C442=\"\",\"\",Simulação!AI442)","v":"-"},{"$f":"IF($C442=\"\",\"\",Simulação!AJ442)","v":33.045125393740342},{"$f":"IF($C442=\"\",\"\",Simulação!AK442)","v":"-"},{"$f":"IF($C442=\"\",\"\",Simulação!AL442)","v":32.02721881559642},{"$f":"IF($C442=\"\",\"\",Simulação!AM442)","v":"-"},{"$f":"IF($C442=\"\",\"\",Simulação!AN442)","v":32.217563507182206},{"$f":"IF($C442=\"\",\"\",Simulação!AO442)","v":"-"},{"$f":"IF($C442=\"\",\"\",Simulação!AP442)","v":36.406016086434107},{"$f":"IF($C442=\"\",\"\",Simulação!AQ442)","v":"-"},{"$f":"IF($C442=\"\",\"\",Simulação!AR442)","v":0}]
[null,436,{"$f":"IF(Chegadas!J444<=$C$5,Chegadas!J444,\"\")","v":394.22999999999979},{"$f":"IF($C443=\"\",\"\",Simulação!D443)","v":10.07890067695352},{"$f":"IF($C443=\"\",\"\",Simulação!E443)","v":394.22999999999979},{"$f":"IF($C443=\"\",\"\",Simulação!F443)","v":404.30890067695333},{"$f":"IF($C443=\"\",\"\",Simulação!G443)","v":"-"},{"$f":"IF($C443=\"\",\"\",Simulação!H443)","v":399.55520914702458},{"$f":"IF($C443=\"\",\"\",Simulação!I443)","v":"-"},{"$f":"IF($C443=\"\",\"\",Simulação!J443)","v":392.33660836889629},{"$f":"IF($C443=\"\",\"\",Simulação!K443)","v":"-"},{"$f":"IF($C443=\"\",\"\",Simulação!L443)","v":402.99089221972196},{"$f":"IF($C443=\"\",\"\",Simulação!M443)","v":"-"},{"$f":"IF($C443=\"\",\"\",Simulação!N443)","v":397.24202450357694},{"$f":"IF($C443=\"\",\"\",Simulação!O443)","v":"-"},{"$f":"IF($C443=\"\",\"\",Simulação!P443)","v":394.05060863343618},{"$f":"IF($C443=\"\",\"\",Simulação!Q443)","v":"-"},{"$f":"IF($C443=\"\",\"\",Simulação!R443)","v":397.00845180750616},{"$f":"IF($C443=\"\",\"\",Simulação!S443)","v":"-"},{"$f":"IF($C443=\"\",\"\",Simulação!T443)","v":394.78078700399305},{"$f":"IF($C443=\"\",\"\",Simulação!U443)","v":"-"},{"$f":"IF($C443=\"\",\"\",Simulação!V443)","v":395.76411798146847},{"$f":"IF($C443=\"\",\"\",Simulação!W443)","v":"-"},{"$f":"IF($C443=\"\",\"\",Simulação!X443)","v":391.92948060802314},{"$f":"IF($C443=\"\",\"\",Simulação!Y443)","v":"-"},{"$f":"IF($C443=\"\",\"\",Simulação!Z443)","v":394.86132611530354},{"$f":"IF($C443=\"\",\"\",Simulação!AA443)","v":"-"},{"$f":"IF($C443=\"\",\"\",Simulação!AB443)","v":398.9300429207326},{"$f":"IF($C443=\"\",\"\",Simulação!AC443)","v":"-"},{"$f":"IF($C443=\"\",\"\",Simulação!AD443)","v":392.78059400288373},{"$f":"IF($C443=\"\",\"\",Simulação!AE443)","v":"-"},{"$f":"IF($C443=\"\",\"\",Simulação!AF443)","v":392.06777952328201},{"$f":"IF($C443=\"\",\"\",Simulação!AG443)","v":"-"},{"$f":"IF($C443=\"\",\"\",Simulação!AH443)","v":348.63196013630733},{"$f":"IF($C443=\"\",\"\",Simulação!AI443)","v":"-"},{"$f":"IF($C443=\"\",\"\",Simulação!AJ443)","v":33.045125393740342},{"$f":"IF($C443=\"\",\"\",Simulação!AK443)","v":"-"},{"$f":"IF($C443=\"\",\"\",Simulação!AL443)","v":32.02721881559642},{"$f":"IF($C443=\"\",\"\",Simulação!AM443)","v":"-"},{"$f":"IF($C443=\"\",\"\",Simulação!AN443)","v":32.217563507182206},{"$f":"IF($C443=\"\",\"\",Simulação!AO443)","v":"-"},{"$f":"IF($C443=\"\",\"\",Simulação!AP443)","v":36.406016086434107},{"$f":"IF($C443=\"\",\"\",Simulação!AQ443)","v":"-"},{"$f":"IF($C443=\"\",\"\",Simulação!AR443)","v":0}]
[null,437,{"$f":"IF(Chegadas!J445<=$C$5,Chegadas!J445,\"\")","v":396.70999999999981},{"$f":"IF($C444=\"\",\"\",Simulação!D444)","v":4.9113098448907699},{"$f":"IF($C444=\"\",\"\",Simulação!E444)","v":"*"},{"$f":"IF($C444=\"\",\"\",Simulação!F444)","v":404.30890067695333},{"$f":"IF($C444=\"\",\"\",Simulação!G444)","v":"*"},{"$f":"IF($C444=\"\",\"\",Simulação!H444)","v":399.55520914702458},{"$f":"IF($C444=\"\",\"\",Simulação!I444)","v":396.70999999999981},{"$f":"IF($C444=\"\",\"\",Simulação!J444)","v":401.62130984489056},{"$f":"IF($C444=\"\",\"\",Simulação!K444)","v":"-"},{"$f":"IF($C444=\"\",\"\",Simulação!L444)","v":402.99089221972196},{"$f":"IF($C444=\"\",\"\",Simulação!M444)","v":"-"},{"$f":"IF($C444=\"\",\"\",Simulação!N444)","v":397.24202450357694},{"$f":"IF($C444=\"\",\"\",Simulação!O444)","v":"-"},{"$f":"IF($C444=\"\",\"\",Simulação!P444)","v":394.05060863343618},{"$f":"IF($C444=\"\",\"\",Simulação!Q444)","v":"-"},{"$f":"IF($C444=\"\",\"\",Simulação!R444)","v":397.00845180750616},{"$f":"IF($C444=\"\",\"\",Simulação!S444)","v":"-"},{"$f":"IF($C444=\"\",\"\",Simulação!T444)","v":394.78078700399305},{"$f":"IF($C444=\"\",\"\",Simulação!U444)","v":"-"},{"$f":"IF($C444=\"\",\"\",Simulação!V444)","v":395.76411798146847},{"$f":"IF($C444=\"\",\"\",Simulação!W444)","v":"-"},{"$f":"IF($C444=\"\",\"\",Simulação!X444)","v":391.92948060802314},{"$f":"IF($C444=\"\",\"\",Simulação!Y444)","v":"-"},{"$f":"IF($C444=\"\",\"\",Simulação!Z444)","v":394.86132611530354},{"$f":"IF($C444=\"\",\"\",Simulação!AA444)","v":"-"},{"$f":"IF($C444=\"\",\"\",Simulação!AB444)","v":398.9300429207326},{"$f":"IF($C444=\"\",\"\",Simulação!AC444)","v":"-"},{"$f":"IF($C444=\"\",\"\",Simulação!AD444)","v":392.78059400288373},{"$f":"IF($C444=\"\",\"\",Simulação!AE444)","v":"-"},{"$f":"IF($C444=\"\",\"\",Simulação!AF444)","v":392.06777952328201},{"$f":"IF($C444=\"\",\"\",Simulação!AG444)","v":"-"},{"$f":"IF($C444=\"\",\"\",Simulação!AH444)","v":348.63196013630733},{"$f":"IF($C444=\"\",\"\",Simulação!AI444)","v":"-"},{"$f":"IF($C444=\"\",\"\",Simulação!AJ444)","v":33.045125393740342},{"$f":"IF($C444=\"\",\"\",Simulação!AK444)","v":"-"},{"$f":"IF($C444=\"\",\"\",Simulação!AL444)","v":32.02721881559642},{"$f":"IF($C444=\"\",\"\",Simulação!AM444)","v":"-"},{"$f":"IF($C444=\"\",\"\",Simulação!AN444)","v":32.217563507182206},{"$f":"IF($C444=\"\",\"\",Simulação!AO444)","v":"-"},{"$f":"IF($C444=\"\",\"\",Simulação!AP444)","v":36.406016086434107},{"$f":"IF($C444=\"\",\"\",Simulação!AQ444)","v":"-"},{"$f":"IF($C444=\"\",\"\",Simulação!AR444)","v":0}]
[null,438,{"$f":"IF(Chegadas!J446<=$C$5,Chegadas!J446,\"\")","v":396.7199999999998},{"$f":"IF($C445=\"\",\"\",Simulação!D445)","v":9.9223574106244818},{"$f":"IF($C445=\"\",\"\",Simulação!E445)","v":"*"},{"$f":"IF($C445=\"\",\"\",Simulação!F445)","v":404.30890067695333},{"$f":"IF($C445=\"\",\"\",Simulação!G445)","v":"*"},{"$f":"IF($C445=\"\",\"\",Simulação!H445)","v":399.55520914702458},{"$f":"IF($C445=\"\",\"\",Simulação!I445)","v":"*"},{"$f":"IF($C445=\"\",\"\",Simulação!J445)","v":401.62130984489056},{"$f":"IF($C445=\"\",\"\",Simulação!K445)","v":"*"},{"$f":"IF($C445=\"\",\"\",Simulação!L445)","v":402.99089221972196},{"$f":"IF($C445=\"\",\"\",Simulação!M445)","v":"*"},{"$f":"IF($C445=\"\",\"\",Simulação!N445)","v":397.24202450357694},{"$f":"IF($C445=\"\",\"\",Simulação!O445)","v":396.7199999999998},{"$f":"IF($C445=\"\",\"\",Simulação!P445)","v":406.6423574106243},{"$f":"IF($C445=\"\",\"\",Simulação!Q445)","v":"-"},{"$f":"IF($C445=\"\",\"\",Simulação!R445)","v":397.00845180750616},{"$f":"IF($C445=\"\",\"\",Simulação!S445)","v":"-"},{"$f":"IF($C445=\"\",\"\",Simulação!T445)","v":394.78078700399305},{"$f":"IF($C445=\"\",\"\",Simulação!U445)","v":"-"},{"$f":"IF($C445=\"\",\"\",Simulação!V445)","v":395.76411798146847},{"$f":"IF($C445=\"\",\"\",Simulação!W445)","v":"-"},{"$f":"IF($C445=\"\",\"\",Simulação!X445)","v":391.92948060802314},{"$f":"IF($C445=\"\",\"\",Simulação!Y445)","v":"-"},{"$f":"IF($C445=\"\",\"\",Simulação!Z445)","v":394.86132611530354},{"$f":"IF($C445=\"\",\"\",Simulação!AA445)","v":"-"},{"$f":"IF($C445=\"\",\"\",Simulação!AB445)","v":398.9300429207326},{"$f":"IF($C445=\"\",\"\",Simulação!AC445)","v":"-"},{"$f":"IF($C445=\"\",\"\",Simulação!AD445)","v":392.78059400288373},{"$f":"IF($C445=\"\",\"\",Simulação!AE445)","v":"-"},{"$f":"IF($C445=\"\",\"\",Simulação!AF445)","v":392.06777952328201},{"$f":"IF($C445=\"\",\"\",Simulação!AG445)","v":"-"},{"$f":"IF($C445=\"\",\"\",Simulação!AH445)","v":348.63196013630733},{"$f":"IF($C445=\"\",\"\",Simulação!AI445)","v":"-"},{"$f":"IF($C445=\"\",\"\",Simulação!AJ445)","v":33.045125393740342},{"$f":"IF($C445=\"\",\"\",Simulação!AK445)","v":"-"},{"$f":"IF($C445=\"\",\"\",Simulação!AL445)","v":32.02721881559642},{"$f":"IF($C445=\"\",\"\",Simulação!AM445)","v":"-"},{"$f":"IF($C445=\"\",\"\",Simulação!AN445)","v":32.217563507182206},{"$f":"IF($C445=\"\",\"\",Simulação!AO445)","v":"-"},{"$f":"IF($C445=\"\",\"\",Simulação!AP445)","v":36.406016086434107},{"$f":"IF($C445=\"\",\"\",Simulação!AQ445)","v":"-"},{"$f":"IF($C445=\"\",\"\",Simulação!AR445)","v":0}]
[null,439,{"$f":"IF(Chegadas!J447<=$C$5,Chegadas!J447,\"\")","v":396.78999999999979},{"$f":"IF($C446=\"\",\"\",Simulação!D446)","v":8.8790939226632943},{"$f":"IF($C446=\"\",\"\",Simulação!E446)","v":"*"},{"$f":"IF($C446=\"\",\"\",Simulação!F446)","v":404.30890067695333},{"$f":"IF($C446=\"\",\"\",Simulação!G446)","v":"*"},{"$f":"IF($C446=\"\",\"\",Simulação!H446)","v":399.55520914702458},{"$f":"IF($C446=\"\",\"\",Simulação!I446)","v":"*"},{"$f":"IF($C446=\"\",\"\",Simulação!J446)","v":401.62130984489056},{"$f":"IF($C446=\"\",\"\",Simulação!K446)","v":"*"},{"$f":"IF($C446=\"\",\"\",Simulação!L446)","v":402.99089221972196},{"$f":"IF($C446=\"\",\"\",Simulação!M446)","v":"*"},{"$f":"IF($C446=\"\",\"\",Simulação!N446)","v":397.24202450357694},{"$f":"IF($C446=\"\",\"\",Simulação!O446)","v":"*"},{"$f":"IF($C446=\"\",\"\",Simulação!P446)","v":406.6423574106243},{"$f":"IF($C446=\"\",\"\",Simulação!Q446)","v":"*"},{"$f":"IF($C446=\"\",\"\",Simulação!R446)","v":397.00845180750616},{"$f":"IF($C446=\"\",\"\",Simulação!S446)","v":396.78999999999979},{"$f":"IF($C446=\"\",\"\",Simulação!T446)","v":405.66909392266308},{"$f":"IF($C446=\"\",\"\",Simulação!U446)","v":"-"},{"$f":"IF($C446=\"\",\"\",Simulação!V446)","v":395.76411798146847},{"$f":"IF($C446=\"\",\"\",Simulação!W446)","v":"-"},{"$f":"IF($C446=\"\",\"\",Simulação!X446)","v":391.92948060802314},{"$f":"IF($C446=\"\",\"\",Simulação!Y446)","v":"-"},{"$f":"IF($C446=\"\",\"\",Simulação!Z446)","v":394.86132611530354},{"$f":"IF($C446=\"\",\"\",Simulação!AA446)","v":"-"},{"$f":"IF($C446=\"\",\"\",Simulação!AB446)","v":398.9300429207326},{"$f":"IF($C446=\"\",\"\",Simulação!AC446)","v":"-"},{"$f":"IF($C446=\"\",\"\",Simulação!AD446)","v":392.78059400288373},{"$f":"IF($C446=\"\",\"\",Simulação!AE446)","v":"-"},{"$f":"IF($C446=\"\",\"\",Simulação!AF446)","v":392.06777952328201},{"$f":"IF($C446=\"\",\"\",Simulação!AG446)","v":"-"},{"$f":"IF($C446=\"\",\"\",Simulação!AH446)","v":348.63196013630733},{"$f":"IF($C446=\"\",\"\",Simulação!AI446)","v":"-"},{"$f":"IF($C446=\"\",\"\",Simulação!AJ446)","v":33.045125393740342},{"$f":"IF($C446=\"\",\"\",Simulação!AK446)","v":"-"},{"$f":"IF($C446=\"\",\"\",Simulação!AL446)","v":32.02721881559642},{"$f":"IF($C446=\"\",\"\",Simulação!AM446)","v":"-"},{"$f":"IF($C446=\"\",\"\",Simulação!AN446)","v":32.217563507182206},{"$f":"IF($C446=\"\",\"\",Simulação!AO446)","v":"-"},{"$f":"IF($C446=\"\",\"\",Simulação!AP446)","v":36.406016086434107},{"$f":"IF($C446=\"\",\"\",Simulação!AQ446)","v":"-"},{"$f":"IF($C446=\"\",\"\",Simulação!AR446)","v":0}]
[null,440,{"$f":"IF(Chegadas!J448<=$C$5,Chegadas!J448,\"\")","v":399.0999999999998},{"$f":"IF($C447=\"\",\"\",Simulação!D447)","v":5.4606162743392979},{"$f":"IF($C447=\"\",\"\",Simulação!E447)","v":"*"},{"$f":"IF($C447=\"\",\"\",Simulação!F447)","v":404.30890067695333},{"$f":"IF($C447=\"\",\"\",Simulação!G447)","v":"*"},{"$f":"IF($C447=\"\",\"\",Simulação!H447)","v":399.55520914702458},{"$f":"IF($C447=\"\",\"\",Simulação!I447)","v":"*"},{"$f":"IF($C447=\"\",\"\",Simulação!J447)","v":401.62130984489056},{"$f":"IF($C447=\"\",\"\",Simulação!K447)","v":"*"},{"$f":"IF($C447=\"\",\"\",Simulação!L447)","v":402.99089221972196},{"$f":"IF($C447=\"\",\"\",Simulação!M447)","v":399.0999999999998},{"$f":"IF($C447=\"\",\"\",Simulação!N447)","v":404.56061627433911},{"$f":"IF($C447=\"\",\"\",Simulação!O447)","v":"-"},{"$f":"IF($C447=\"\",\"\",Simulação!P447)","v":406.6423574106243},{"$f":"IF($C447=\"\",\"\",Simulação!Q447)","v":"-"},{"$f":"IF($C447=\"\",\"\",Simulação!R447)","v":397.00845180750616},{"$f":"IF($C447=\"\",\"\",Simulação!S447)","v":"-"},{"$f":"IF($C447=\"\",\"\",Simulação!T447)","v":405.66909392266308},{"$f":"IF($C447=\"\",\"\",Simulação!U447)","v":"-"},{"$f":"IF($C447=\"\",\"\",Simulação!V447)","v":395.76411798146847},{"$f":"IF($C447=\"\",\"\",Simulação!W447)","v":"-"},{"$f":"IF($C447=\"\",\"\",Simulação!X447)","v":391.92948060802314},{"$f":"IF($C447=\"\",\"\",Simulação!Y447)","v":"-"},{"$f":"IF($C447=\"\",\"\",Simulação!Z447)","v":394.86132611530354},{"$f":"IF($C447=\"\",\"\",Simulação!AA447)","v":"-"},{"$f":"IF($C447=\"\",\"\",Simulação!AB447)","v":398.9300429207326},{"$f":"IF($C447=\"\",\"\",Simulação!AC447)","v":"-"},{"$f":"IF($C447=\"\",\"\",Simulação!AD447)","v":392.78059400288373},{"$f":"IF($C447=\"\",\"\",Simulação!AE447)","v":"-"},{"$f":"IF($C447=\"\",\"\",Simulação!AF447)","v":392.06777952328201},{"$f":"IF($C447=\"\",\"\",Simulação!AG447)","v":"-"},{"$f":"IF($C447=\"\",\"\",Simulação!AH447)","v":348.63196013630733},{"$f":"IF($C447=\"\",\"\",Simulação!AI447)","v":"-"},{"$f":"IF($C447=\"\",\"\",Simulação!AJ447)","v":33.045125393740342},{"$f":"IF($C447=\"\",\"\",Simulação!AK447)","v":"-"},{"$f":"IF($C447=\"\",\"\",Simulação!AL447)","v":32.02721881559642},{"$f":"IF($C447=\"\",\"\",Simulação!AM447)","v":"-"},{"$f":"IF($C447=\"\",\"\",Simulação!AN447)","v":32.217563507182206},{"$f":"IF($C447=\"\",\"\",Simulação!AO447)","v":"-"},{"$f":"IF($C447=\"\",\"\",Simulação!AP447)","v":36.406016086434107},{"$f":"IF($C447=\"\",\"\",Simulação!AQ447)","v":"-"},{"$f":"IF($C447=\"\",\"\",Simulação!AR447)","v":0}]
[null,441,{"$f":"IF(Chegadas!J449<=$C$5,Chegadas!J449,\"\")","v":399.20999999999981},{"$f":"IF($C448=\"\",\"\",Simulação!D448)","v":6.5015398788207692},{"$f":"IF($C448=\"\",\"\",Simulação!E448)","v":"*"},{"$f":"IF($C448=\"\",\"\",Simulação!F448)","v":404.30890067695333},{"$f":"IF($C448=\"\",\"\",Simulação!G448)","v":"*"},{"$f":"IF($C448=\"\",\"\",Simulação!H448)","v":399.55520914702458},{"$f":"IF($C448=\"\",\"\",Simulação!I448)","v":"*"},{"$f":"IF($C448=\"\",\"\",Simulação!J448)","v":401.62130984489056},{"$f":"IF($C448=\"\",\"\",Simulação!K448)","v":"*"},{"$f":"IF($C448=\"\",\"\",Simulação!L448)","v":402.99089221972196},{"$f":"IF($C448=\"\",\"\",Simulação!M448)","v":"*"},{"$f":"IF($C448=\"\",\"\",Simulação!N448)","v":404.56061627433911},{"$f":"IF($C448=\"\",\"\",Simulação!O448)","v":"*"},{"$f":"IF($C448=\"\",\"\",Simulação!P448)","v":406.6423574106243},{"$f":"IF($C448=\"\",\"\",Simulação!Q448)","v":399.20999999999981},{"$f":"IF($C448=\"\",\"\",Simulação!R448)","v":405.71153987882059},{"$f":"IF($C448=\"\",\"\",Simulação!S448)","v":"-"},{"$f":"IF($C448=\"\",\"\",Simulação!T448)","v":405.66909392266308},{"$f":"IF($C448=\"\",\"\",Simulação!U448)","v":"-"},{"$f":"IF($C448=\"\",\"\",Simulação!V448)","v":395.76411798146847},{"$f":"IF($C448=\"\",\"\",Simulação!W448)","v":"-"},{"$f":"IF($C448=\"\",\"\",Simulação!X448)","v":391.92948060802314},{"$f":"IF($C448=\"\",\"\",Simulação!Y448)","v":"-"},{"$f":"IF($C448=\"\",\"\",Simulação!Z448)","v":394.86132611530354},{"$f":"IF($C448=\"\",\"\",Simulação!AA448)","v":"-"},{"$f":"IF($C448=\"\",\"\",Simulação!AB448)","v":398.9300429207326},{"$f":"IF($C448=\"\",\"\",Simulação!AC448)","v":"-"},{"$f":"IF($C448=\"\",\"\",Simulação!AD448)","v":392.78059400288373},{"$f":"IF($C448=\"\",\"\",Simulação!AE448)","v":"-"},{"$f":"IF($C448=\"\",\"\",Simulação!AF448)","v":392.06777952328201},{"$f":"IF($C448=\"\",\"\",Simulação!AG448)","v":"-"},{"$f":"IF($C448=\"\",\"\",Simulação!AH448)","v":348.63196013630733},{"$f":"IF($C448=\"\",\"\",Simulação!AI448)","v":"-"},{"$f":"IF($C448=\"\",\"\",Simulação!AJ448)","v":33.045125393740342},{"$f":"IF($C448=\"\",\"\",Simulação!AK448)","v":"-"},{"$f":"IF($C448=\"\",\"\",Simulação!AL448)","v":32.02721881559642},{"$f":"IF($C448=\"\",\"\",Simulação!AM448)","v":"-"},{"$f":"IF($C448=\"\",\"\",Simulação!AN448)","v":32.217563507182206},{"$f":"IF($C448=\"\",\"\",Simulação!AO448)","v":"-"},{"$f":"IF($C448=\"\",\"\",Simulação!AP448)","v":36.406016086434107},{"$f":"IF($C448=\"\",\"\",Simulação!AQ448)","v":"-"},{"$f":"IF($C448=\"\",\"\",Simulação!AR448)","v":0}]
[null,442,{"$f":"IF(Chegadas!J450<=$C$5,Chegadas!J450,\"\")","v":399.20999999999981},{"$f":"IF($C449=\"\",\"\",Simulação!D449)","v":6.89034877843575},{"$f":"IF($C449=\"\",\"\",Simulação!E449)","v":"*"},{"$f":"IF($C449=\"\",\"\",Simulação!F449)","v":404.30890067695333},{"$f":"IF($C449=\"\",\"\",Simulação!G449)","v":"*"},{"$f":"IF($C449=\"\",\"\",Simulação!H449)","v":399.55520914702458},{"$f":"IF($C449=\"\",\"\",Simulação!I449)","v":"*"},{"$f":"IF($C449=\"\",\"\",Simulação!J449)","v":401.62130984489056},{"$f":"IF($C449=\"\",\"\",Simulação!K449)","v":"*"},{"$f":"IF($C449=\"\",\"\",Simulação!L449)","v":402.99089221972196},{"$f":"IF($C449=\"\",\"\",Simulação!M449)","v":"*"},{"$f":"IF($C449=\"\",\"\",Simulação!N449)","v":404.56061627433911},{"$f":"IF($C449=\"\",\"\",Simulação!O449)","v":"*"},{"$f":"IF($C449=\"\",\"\",Simulação!P449)","v":406.6423574106243},{"$f":"IF($C449=\"\",\"\",Simulação!Q449)","v":"*"},{"$f":"IF($C449=\"\",\"\",Simulação!R449)","v":405.71153987882059},{"$f":"IF($C449=\"\",\"\",Simulação!S449)","v":"*"},{"$f":"IF($C449=\"\",\"\",Simulação!T449)","v":405.66909392266308},{"$f":"IF($C449=\"\",\"\",Simulação!U449)","v":399.20999999999981},{"$f":"IF($C449=\"\",\"\",Simulação!V449)","v":406.10034877843555},{"$f":"IF($C449=\"\",\"\",Simulação!W449)","v":"-"},{"$f":"IF($C449=\"\",\"\",Simulação!X449)","v":391.92948060802314},{"$f":"IF($C449=\"\",\"\",Simulação!Y449)","v":"-"},{"$f":"IF($C449=\"\",\"\",Simulação!Z449)","v":394.86132611530354},{"$f":"IF($C449=\"\",\"\",Simulação!AA449)","v":"-"},{"$f":"IF($C449=\"\",\"\",Simulação!AB449)","v":398.9300429207326},{"$f":"IF($C449=\"\",\"\",Simulação!AC449)","v":"-"},{"$f":"IF($C449=\"\",\"\",Simulação!AD449)","v":392.78059400288373},{"$f":"IF($C449=\"\",\"\",Simulação!AE449)","v":"-"},{"$f":"IF($C449=\"\",\"\",Simulação!AF449)","v":392.06777952328201},{"$f":"IF($C449=\"\",\"\",Simulação!AG449)","v":"-"},{"$f":"IF($C449=\"\",\"\",Simulação!AH449)","v":348.63196013630733},{"$f":"IF($C449=\"\",\"\",Simulação!AI449)","v":"-"},{"$f":"IF($C449=\"\",\"\",Simulação!AJ449)","v":33.045125393740342},{"$f":"IF($C449=\"\",\"\",Simulação!AK449)","v":"-"},{"$f":"IF($C449=\"\",\"\",Simulação!AL449)","v":32.02721881559642},{"$f":"IF($C449=\"\",\"\",Simulação!AM449)","v":"-"},{"$f":"IF($C449=\"\",\"\",Simulação!AN449)","v":32.217563507182206},{"$f":"IF($C449=\"\",\"\",Simulação!AO449)","v":"-"},{"$f":"IF($C449=\"\",\"\",Simulação!AP449)","v":36.406016086434107},{"$f":"IF($C449=\"\",\"\",Simulação!AQ449)","v":"-"},{"$f":"IF($C449=\"\",\"\",Simulação!AR449)","v":0}]
[null,443,{"$f":"IF(Chegadas!J451<=$C$5,Chegadas!J451,\"\")","v":399.57999999999981},{"$f":"IF($C450=\"\",\"\",Simulação!D450)","v":8.1240073656175955},{"$f":"IF($C450=\"\",\"\",Simulação!E450)","v":"*"},{"$f":"IF($C450=\"\",\"\",Simulação!F450)","v":404.30890067695333},{"$f":"IF($C450=\"\",\"\",Simulação!G450)","v":399.57999999999981},{"$f":"IF($C450=\"\",\"\",Simulação!H450)","v":407.70400736561743},{"$f":"IF($C450=\"\",\"\",Simulação!I450)","v":"-"},{"$f":"IF($C450=\"\",\"\",Simulação!J450)","v":401.62130984489056},{"$f":"IF($C450=\"\",\"\",Simulação!K450)","v":"-"},{"$f":"IF($C450=\"\",\"\",Simulação!L450)","v":402.99089221972196},{"$f":"IF($C450=\"\",\"\",Simulação!M450)","v":"-"},{"$f":"IF($C450=\"\",\"\",Simulação!N450)","v":404.56061627433911},{"$f":"IF($C450=\"\",\"\",Simulação!O450)","v":"-"},{"$f":"IF($C450=\"\",\"\",Simulação!P450)","v":406.6423574106243},{"$f":"IF($C450=\"\",\"\",Simulação!Q450)","v":"-"},{"$f":"IF($C450=\"\",\"\",Simulação!R450)","v":405.71153987882059},{"$f":"IF($C450=\"\",\"\",Simulação!S450)","v":"-"},{"$f":"IF($C450=\"\",\"\",Simulação!T450)","v":405.66909392266308},{"$f":"IF($C450=\"\",\"\",Simulação!U450)","v":"-"},{"$f":"IF($C450=\"\",\"\",Simulação!V450)","v":406.10034877843555},{"$f":"IF($C450=\"\",\"\",Simulação!W450)","v":"-"},{"$f":"IF($C450=\"\",\"\",Simulação!X450)","v":391.92948060802314},{"$f":"IF($C450=\"\",\"\",Simulação!Y450)","v":"-"},{"$f":"IF($C450=\"\",\"\",Simulação!Z450)","v":394.86132611530354},{"$f":"IF($C450=\"\",\"\",Simulação!AA450)","v":"-"},{"$f":"IF($C450=\"\",\"\",Simulação!AB450)","v":398.9300429207326},{"$f":"IF($C450=\"\",\"\",Simulação!AC450)","v":"-"},{"$f":"IF($C450=\"\",\"\",Simulação!AD450)","v":392.78059400288373},{"$f":"IF($C450=\"\",\"\",Simulação!AE450)","v":"-"},{"$f":"IF($C450=\"\",\"\",Simulação!AF450)","v":392.06777952328201},{"$f":"IF($C450=\"\",\"\",Simulação!AG450)","v":"-"},{"$f":"IF($C450=\"\",\"\",Simulação!AH450)","v":348.63196013630733},{"$f":"IF($C450=\"\",\"\",Simulação!AI450)","v":"-"},{"$f":"IF($C450=\"\",\"\",Simulação!AJ450)","v":33.045125393740342},{"$f":"IF($C450=\"\",\"\",Simulação!AK450)","v":"-"},{"$f":"IF($C450=\"\",\"\",Simulação!AL450)","v":32.02721881559642},{"$f":"IF($C450=\"\",\"\",Simulação!AM450)","v":"-"},{"$f":"IF($C450=\"\",\"\",Simulação!AN450)","v":32.217563507182206},{"$f":"IF($C450=\"\",\"\",Simulação!AO450)","v":"-"},{"$f":"IF($C450=\"\",\"\",Simulação!AP450)","v":36.406016086434107},{"$f":"IF($C450=\"\",\"\",Simulação!AQ450)","v":"-"},{"$f":"IF($C450=\"\",\"\",Simulação!AR450)","v":0}]
[null,444,{"$f":"IF(Chegadas!J452<=$C$5,Chegadas!J452,\"\")","v":400.3499999999998},{"$f":"IF($C451=\"\",\"\",Simulação!D451)","v":10.525416773763189},{"$f":"IF($C451=\"\",\"\",Simulação!E451)","v":"*"},{"$f":"IF($C451=\"\",\"\",Simulação!F451)","v":404.30890067695333},{"$f":"IF($C451=\"\",\"\",Simulação!G451)","v":"*"},{"$f":"IF($C451=\"\",\"\",Simulação!H451)","v":407.70400736561743},{"$f":"IF($C451=\"\",\"\",Simulação!I451)","v":"*"},{"$f":"IF($C451=\"\",\"\",Simulação!J451)","v":401.62130984489056},{"$f":"IF($C451=\"\",\"\",Simulação!K451)","v":"*"},{"$f":"IF($C451=\"\",\"\",Simulação!L451)","v":402.99089221972196},{"$f":"IF($C451=\"\",\"\",Simulação!M451)","v":"*"},{"$f":"IF($C451=\"\",\"\",Simulação!N451)","v":404.56061627433911},{"$f":"IF($C451=\"\",\"\",Simulação!O451)","v":"*"},{"$f":"IF($C451=\"\",\"\",Simulação!P451)","v":406.6423574106243},{"$f":"IF($C451=\"\",\"\",Simulação!Q451)","v":"*"},{"$f":"IF($C451=\"\",\"\",Simulação!R451)","v":405.71153987882059},{"$f":"IF($C451=\"\",\"\",Simulação!S451)","v":"*"},{"$f":"IF($C451=\"\",\"\",Simulação!T451)","v":405.66909392266308},{"$f":"IF($C451=\"\",\"\",Simulação!U451)","v":"*"},{"$f":"IF($C451=\"\",\"\",Simulação!V451)","v":406.10034877843555},{"$f":"IF($C451=\"\",\"\",Simulação!W451)","v":400.3499999999998},{"$f":"IF($C451=\"\",\"\",Simulação!X451)","v":410.87541677376299},{"$f":"IF($C451=\"\",\"\",Simulação!Y451)","v":"-"},{"$f":"IF($C451=\"\",\"\",Simulação!Z451)","v":394.86132611530354},{"$f":"IF($C451=\"\",\"\",Simulação!AA451)","v":"-"},{"$f":"IF($C451=\"\",\"\",Simulação!AB451)","v":398.9300429207326},{"$f":"IF($C451=\"\",\"\",Simulação!AC451)","v":"-"},{"$f":"IF($C451=\"\",\"\",Simulação!AD451)","v":392.78059400288373},{"$f":"IF($C451=\"\",\"\",Simulação!AE451)","v":"-"},{"$f":"IF($C451=\"\",\"\",Simulação!AF451)","v":392.06777952328201},{"$f":"IF($C451=\"\",\"\",Simulação!AG451)","v":"-"},{"$f":"IF($C451=\"\",\"\",Simulação!AH451)","v":348.63196013630733},{"$f":"IF($C451=\"\",\"\",Simulação!AI451)","v":"-"},{"$f":"IF($C451=\"\",\"\",Simulação!AJ451)","v":33.045125393740342},{"$f":"IF($C451=\"\",\"\",Simulação!AK451)","v":"-"},{"$f":"IF($C451=\"\",\"\",Simulação!AL451)","v":32.02721881559642},{"$f":"IF($C451=\"\",\"\",Simulação!AM451)","v":"-"},{"$f":"IF($C451=\"\",\"\",Simulação!AN451)","v":32.217563507182206},{"$f":"IF($C451=\"\",\"\",Simulação!AO451)","v":"-"},{"$f":"IF($C451=\"\",\"\",Simulação!AP451)","v":36.406016086434107},{"$f":"IF($C451=\"\",\"\",Simulação!AQ451)","v":"-"},{"$f":"IF($C451=\"\",\"\",Simulação!AR451)","v":0}]
[null,445,{"$f":"IF(Chegadas!J453<=$C$5,Chegadas!J453,\"\")","v":400.90000000000003},{"$f":"IF($C452=\"\",\"\",Simulação!D452)","v":1.1577774608456111},{"$f":"IF($C452=\"\",\"\",Simulação!E452)","v":"*"},{"$f":"IF($C452=\"\",\"\",Simulação!F452)","v":404.30890067695333},{"$f":"IF($C452=\"\",\"\",Simulação!G452)","v":"*"},{"$f":"IF($C452=\"\",\"\",Simulação!H452)","v":407.70400736561743},{"$f":"IF($C452=\"\",\"\",Simulação!I452)","v":"*"},{"$f":"IF($C452=\"\",\"\",Simulação!J452)","v":401.62130984489056},{"$f":"IF($C452=\"\",\"\",Simulação!K452)","v":"*"},{"$f":"IF($C452=\"\",\"\",Simulação!L452)","v":402.99089221972196},{"$f":"IF($C452=\"\",\"\",Simulação!M452)","v":"*"},{"$f":"IF($C452=\"\",\"\",Simulação!N452)","v":404.56061627433911},{"$f":"IF($C452=\"\",\"\",Simulação!O452)","v":"*"},{"$f":"IF($C452=\"\",\"\",Simulação!P452)","v":406.6423574106243},{"$f":"IF($C452=\"\",\"\",Simulação!Q452)","v":"*"},{"$f":"IF($C452=\"\",\"\",Simulação!R452)","v":405.71153987882059},{"$f":"IF($C452=\"\",\"\",Simulação!S452)","v":"*"},{"$f":"IF($C452=\"\",\"\",Simulação!T452)","v":405.66909392266308},{"$f":"IF($C452=\"\",\"\",Simulação!U452)","v":"*"},{"$f":"IF($C452=\"\",\"\",Simulação!V452)","v":406.10034877843555},{"$f":"IF($C452=\"\",\"\",Simulação!W452)","v":"*"},{"$f":"IF($C452=\"\",\"\",Simulação!X452)","v":410.87541677376299},{"$f":"IF($C452=\"\",\"\",Simulação!Y452)","v":400.90000000000003},{"$f":"IF($C452=\"\",\"\",Simulação!Z452)","v":402.05777746084567},{"$f":"IF($C452=\"\",\"\",Simulação!AA452)","v":"-"},{"$f":"IF($C452=\"\",\"\",Simulação!AB452)","v":398.9300429207326},{"$f":"IF($C452=\"\",\"\",Simulação!AC452)","v":"-"},{"$f":"IF($C452=\"\",\"\",Simulação!AD452)","v":392.78059400288373},{"$f":"IF($C452=\"\",\"\",Simulação!AE452)","v":"-"},{"$f":"IF($C452=\"\",\"\",Simulação!AF452)","v":392.06777952328201},{"$f":"IF($C452=\"\",\"\",Simulação!AG452)","v":"-"},{"$f":"IF($C452=\"\",\"\",Simulação!AH452)","v":348.63196013630733},{"$f":"IF($C452=\"\",\"\",Simulação!AI452)","v":"-"},{"$f":"IF($C452=\"\",\"\",Simulação!AJ452)","v":33.045125393740342},{"$f":"IF($C452=\"\",\"\",Simulação!AK452)","v":"-"},{"$f":"IF($C452=\"\",\"\",Simulação!AL452)","v":32.02721881559642},{"$f":"IF($C452=\"\",\"\",Simulação!AM452)","v":"-"},{"$f":"IF($C452=\"\",\"\",Simulação!AN452)","v":32.217563507182206},{"$f":"IF($C452=\"\",\"\",Simulação!AO452)","v":"-"},{"$f":"IF($C452=\"\",\"\",Simulação!AP452)","v":36.406016086434107},{"$f":"IF($C452=\"\",\"\",Simulação!AQ452)","v":"-"},{"$f":"IF($C452=\"\",\"\",Simulação!AR452)","v":0}]
[null,446,{"$f":"IF(Chegadas!J454<=$C$5,Chegadas!J454,\"\")","v":402.0999999999998},{"$f":"IF($C453=\"\",\"\",Simulação!D453)","v":9.5041800280241873},{"$f":"IF($C453=\"\",\"\",Simulação!E453)","v":"*"},{"$f":"IF($C453=\"\",\"\",Simulação!F453)","v":404.30890067695333},{"$f":"IF($C453=\"\",\"\",Simulação!G453)","v":"*"},{"$f":"IF($C453=\"\",\"\",Simulação!H453)","v":407.70400736561743},{"$f":"IF($C453=\"\",\"\",Simulação!I453)","v":402.0999999999998},{"$f":"IF($C453=\"\",\"\",Simulação!J453)","v":411.60418002802396},{"$f":"IF($C453=\"\",\"\",Simulação!K453)","v":"-"},{"$f":"IF($C453=\"\",\"\",Simulação!L453)","v":402.99089221972196},{"$f":"IF($C453=\"\",\"\",Simulação!M453)","v":"-"},{"$f":"IF($C453=\"\",\"\",Simulação!N453)","v":404.56061627433911},{"$f":"IF($C453=\"\",\"\",Simulação!O453)","v":"-"},{"$f":"IF($C453=\"\",\"\",Simulação!P453)","v":406.6423574106243},{"$f":"IF($C453=\"\",\"\",Simulação!Q453)","v":"-"},{"$f":"IF($C453=\"\",\"\",Simulação!R453)","v":405.71153987882059},{"$f":"IF($C453=\"\",\"\",Simulação!S453)","v":"-"},{"$f":"IF($C453=\"\",\"\",Simulação!T453)","v":405.66909392266308},{"$f":"IF($C453=\"\",\"\",Simulação!U453)","v":"-"},{"$f":"IF($C453=\"\",\"\",Simulação!V453)","v":406.10034877843555},{"$f":"IF($C453=\"\",\"\",Simulação!W453)","v":"-"},{"$f":"IF($C453=\"\",\"\",Simulação!X453)","v":410.87541677376299},{"$f":"IF($C453=\"\",\"\",Simulação!Y453)","v":"-"},{"$f":"IF($C453=\"\",\"\",Simulação!Z453)","v":402.05777746084567},{"$f":"IF($C453=\"\",\"\",Simulação!AA453)","v":"-"},{"$f":"IF($C453=\"\",\"\",Simulação!AB453)","v":398.9300429207326},{"$f":"IF($C453=\"\",\"\",Simulação!AC453)","v":"-"},{"$f":"IF($C453=\"\",\"\",Simulação!AD453)","v":392.78059400288373},{"$f":"IF($C453=\"\",\"\",Simulação!AE453)","v":"-"},{"$f":"IF($C453=\"\",\"\",Simulação!AF453)","v":392.06777952328201},{"$f":"IF($C453=\"\",\"\",Simulação!AG453)","v":"-"},{"$f":"IF($C453=\"\",\"\",Simulação!AH453)","v":348.63196013630733},{"$f":"IF($C453=\"\",\"\",Simulação!AI453)","v":"-"},{"$f":"IF($C453=\"\",\"\",Simulação!AJ453)","v":33.045125393740342},{"$f":"IF($C453=\"\",\"\",Simulação!AK453)","v":"-"},{"$f":"IF($C453=\"\",\"\",Simulação!AL453)","v":32.02721881559642},{"$f":"IF($C453=\"\",\"\",Simulação!AM453)","v":"-"},{"$f":"IF($C453=\"\",\"\",Simulação!AN453)","v":32.217563507182206},{"$f":"IF($C453=\"\",\"\",Simulação!AO453)","v":"-"},{"$f":"IF($C453=\"\",\"\",Simulação!AP453)","v":36.406016086434107},{"$f":"IF($C453=\"\",\"\",Simulação!AQ453)","v":"-"},{"$f":"IF($C453=\"\",\"\",Simulação!AR453)","v":0}]
[null,447,{"$f":"IF(Chegadas!J455<=$C$5,Chegadas!J455,\"\")","v":402.11999999999978},{"$f":"IF($C454=\"\",\"\",Simulação!D454)","v":7.3983911297514195},{"$f":"IF($C454=\"\",\"\",Simulação!E454)","v":"*"},{"$f":"IF($C454=\"\",\"\",Simulação!F454)","v":404.30890067695333},{"$f":"IF($C454=\"\",\"\",Simulação!G454)","v":"*"},{"$f":"IF($C454=\"\",\"\",Simulação!H454)","v":407.70400736561743},{"$f":"IF($C454=\"\",\"\",Simulação!I454)","v":"*"},{"$f":"IF($C454=\"\",\"\",Simulação!J454)","v":411.60418002802396},{"$f":"IF($C454=\"\",\"\",Simulação!K454)","v":"*"},{"$f":"IF($C454=\"\",\"\",Simulação!L454)","v":402.99089221972196},{"$f":"IF($C454=\"\",\"\",Simulação!M454)","v":"*"},{"$f":"IF($C454=\"\",\"\",Simulação!N454)","v":404.56061627433911},{"$f":"IF($C454=\"\",\"\",Simulação!O454)","v":"*"},{"$f":"IF($C454=\"\",\"\",Simulação!P454)","v":406.6423574106243},{"$f":"IF($C454=\"\",\"\",Simulação!Q454)","v":"*"},{"$f":"IF($C454=\"\",\"\",Simulação!R454)","v":405.71153987882059},{"$f":"IF($C454=\"\",\"\",Simulação!S454)","v":"*"},{"$f":"IF($C454=\"\",\"\",Simulação!T454)","v":405.66909392266308},{"$f":"IF($C454=\"\",\"\",Simulação!U454)","v":"*"},{"$f":"IF($C454=\"\",\"\",Simulação!V454)","v":406.10034877843555},{"$f":"IF($C454=\"\",\"\",Simulação!W454)","v":"*"},{"$f":"IF($C454=\"\",\"\",Simulação!X454)","v":410.87541677376299},{"$f":"IF($C454=\"\",\"\",Simulação!Y454)","v":402.11999999999978},{"$f":"IF($C454=\"\",\"\",Simulação!Z454)","v":409.51839112975119},{"$f":"IF($C454=\"\",\"\",Simulação!AA454)","v":"-"},{"$f":"IF($C454=\"\",\"\",Simulação!AB454)","v":398.9300429207326},{"$f":"IF($C454=\"\",\"\",Simulação!AC454)","v":"-"},{"$f":"IF($C454=\"\",\"\",Simulação!AD454)","v":392.78059400288373},{"$f":"IF($C454=\"\",\"\",Simulação!AE454)","v":"-"},{"$f":"IF($C454=\"\",\"\",Simulação!AF454)","v":392.06777952328201},{"$f":"IF($C454=\"\",\"\",Simulação!AG454)","v":"-"},{"$f":"IF($C454=\"\",\"\",Simulação!AH454)","v":348.63196013630733},{"$f":"IF($C454=\"\",\"\",Simulação!AI454)","v":"-"},{"$f":"IF($C454=\"\",\"\",Simulação!AJ454)","v":33.045125393740342},{"$f":"IF($C454=\"\",\"\",Simulação!AK454)","v":"-"},{"$f":"IF($C454=\"\",\"\",Simulação!AL454)","v":32.02721881559642},{"$f":"IF($C454=\"\",\"\",Simulação!AM454)","v":"-"},{"$f":"IF($C454=\"\",\"\",Simulação!AN454)","v":32.217563507182206},{"$f":"IF($C454=\"\",\"\",Simulação!AO454)","v":"-"},{"$f":"IF($C454=\"\",\"\",Simulação!AP454)","v":36.406016086434107},{"$f":"IF($C454=\"\",\"\",Simulação!AQ454)","v":"-"},{"$f":"IF($C454=\"\",\"\",Simulação!AR454)","v":0}]
[null,448,{"$f":"IF(Chegadas!J456<=$C$5,Chegadas!J456,\"\")","v":403.22999999999979},{"$f":"IF($C455=\"\",\"\",Simulação!D455)","v":5.0177885938178024},{"$f":"IF($C455=\"\",\"\",Simulação!E455)","v":"*"},{"$f":"IF($C455=\"\",\"\",Simulação!F455)","v":404.30890067695333},{"$f":"IF($C455=\"\",\"\",Simulação!G455)","v":"*"},{"$f":"IF($C455=\"\",\"\",Simulação!H455)","v":407.70400736561743},{"$f":"IF($C455=\"\",\"\",Simulação!I455)","v":"*"},{"$f":"IF($C455=\"\",\"\",Simulação!J455)","v":411.60418002802396},{"$f":"IF($C455=\"\",\"\",Simulação!K455)","v":403.22999999999979},{"$f":"IF($C455=\"\",\"\",Simulação!L455)","v":408.24778859381757},{"$f":"IF($C455=\"\",\"\",Simulação!M455)","v":"-"},{"$f":"IF($C455=\"\",\"\",Simulação!N455)","v":404.56061627433911},{"$f":"IF($C455=\"\",\"\",Simulação!O455)","v":"-"},{"$f":"IF($C455=\"\",\"\",Simulação!P455)","v":406.6423574106243},{"$f":"IF($C455=\"\",\"\",Simulação!Q455)","v":"-"},{"$f":"IF($C455=\"\",\"\",Simulação!R455)","v":405.71153987882059},{"$f":"IF($C455=\"\",\"\",Simulação!S455)","v":"-"},{"$f":"IF($C455=\"\",\"\",Simulação!T455)","v":405.66909392266308},{"$f":"IF($C455=\"\",\"\",Simulação!U455)","v":"-"},{"$f":"IF($C455=\"\",\"\",Simulação!V455)","v":406.10034877843555},{"$f":"IF($C455=\"\",\"\",Simulação!W455)","v":"-"},{"$f":"IF($C455=\"\",\"\",Simulação!X455)","v":410.87541677376299},{"$f":"IF($C455=\"\",\"\",Simulação!Y455)","v":"-"},{"$f":"IF($C455=\"\",\"\",Simulação!Z455)","v":409.51839112975119},{"$f":"IF($C455=\"\",\"\",Simulação!AA455)","v":"-"},{"$f":"IF($C455=\"\",\"\",Simulação!AB455)","v":398.9300429207326},{"$f":"IF($C455=\"\",\"\",Simulação!AC455)","v":"-"},{"$f":"IF($C455=\"\",\"\",Simulação!AD455)","v":392.78059400288373},{"$f":"IF($C455=\"\",\"\",Simulação!AE455)","v":"-"},{"$f":"IF($C455=\"\",\"\",Simulação!AF455)","v":392.06777952328201},{"$f":"IF($C455=\"\",\"\",Simulação!AG455)","v":"-"},{"$f":"IF($C455=\"\",\"\",Simulação!AH455)","v":348.63196013630733},{"$f":"IF($C455=\"\",\"\",Simulação!AI455)","v":"-"},{"$f":"IF($C455=\"\",\"\",Simulação!AJ455)","v":33.045125393740342},{"$f":"IF($C455=\"\",\"\",Simulação!AK455)","v":"-"},{"$f":"IF($C455=\"\",\"\",Simulação!AL455)","v":32.02721881559642},{"$f":"IF($C455=\"\",\"\",Simulação!AM455)","v":"-"},{"$f":"IF($C455=\"\",\"\",Simulação!AN455)","v":32.217563507182206},{"$f":"IF($C455=\"\",\"\",Simulação!AO455)","v":"-"},{"$f":"IF($C455=\"\",\"\",Simulação!AP455)","v":36.406016086434107},{"$f":"IF($C455=\"\",\"\",Simulação!AQ455)","v":"-"},{"$f":"IF($C455=\"\",\"\",Simulação!AR455)","v":0}]
[null,449,{"$f":"IF(Chegadas!J457<=$C$5,Chegadas!J457,\"\")","v":403.64999999999981},{"$f":"IF($C456=\"\",\"\",Simulação!D456)","v":11.447004090303702},{"$f":"IF($C456=\"\",\"\",Simulação!E456)","v":"*"},{"$f":"IF($C456=\"\",\"\",Simulação!F456)","v":404.30890067695333},{"$f":"IF($C456=\"\",\"\",Simulação!G456)","v":"*"},{"$f":"IF($C456=\"\",\"\",Simulação!H456)","v":407.70400736561743},{"$f":"IF($C456=\"\",\"\",Simulação!I456)","v":"*"},{"$f":"IF($C456=\"\",\"\",Simulação!J456)","v":411.60418002802396},{"$f":"IF($C456=\"\",\"\",Simulação!K456)","v":"*"},{"$f":"IF($C456=\"\",\"\",Simulação!L456)","v":408.24778859381757},{"$f":"IF($C456=\"\",\"\",Simulação!M456)","v":"*"},{"$f":"IF($C456=\"\",\"\",Simulação!N456)","v":404.56061627433911},{"$f":"IF($C456=\"\",\"\",Simulação!O456)","v":"*"},{"$f":"IF($C456=\"\",\"\",Simulação!P456)","v":406.6423574106243},{"$f":"IF($C456=\"\",\"\",Simulação!Q456)","v":"*"},{"$f":"IF($C456=\"\",\"\",Simulação!R456)","v":405.71153987882059},{"$f":"IF($C456=\"\",\"\",Simulação!S456)","v":"*"},{"$f":"IF($C456=\"\",\"\",Simulação!T456)","v":405.66909392266308},{"$f":"IF($C456=\"\",\"\",Simulação!U456)","v":"*"},{"$f":"IF($C456=\"\",\"\",Simulação!V456)","v":406.10034877843555},{"$f":"IF($C456=\"\",\"\",Simulação!W456)","v":"*"},{"$f":"IF($C456=\"\",\"\",Simulação!X456)","v":410.87541677376299},{"$f":"IF($C456=\"\",\"\",Simulação!Y456)","v":"*"},{"$f":"IF($C456=\"\",\"\",Simulação!Z456)","v":409.51839112975119},{"$f":"IF($C456=\"\",\"\",Simulação!AA456)","v":403.64999999999981},{"$f":"IF($C456=\"\",\"\",Simulação!AB456)","v":415.09700409030353},{"$f":"IF($C456=\"\",\"\",Simulação!AC456)","v":"-"},{"$f":"IF($C456=\"\",\"\",Simulação!AD456)","v":392.78059400288373},{"$f":"IF($C456=\"\",\"\",Simulação!AE456)","v":"-"},{"$f":"IF($C456=\"\",\"\",Simulação!AF456)","v":392.06777952328201},{"$f":"IF($C456=\"\",\"\",Simulação!AG456)","v":"-"},{"$f":"IF($C456=\"\",\"\",Simulação!AH456)","v":348.63196013630733},{"$f":"IF($C456=\"\",\"\",Simulação!AI456)","v":"-"},{"$f":"IF($C456=\"\",\"\",Simulação!AJ456)","v":33.045125393740342},{"$f":"IF($C456=\"\",\"\",Simulação!AK456)","v":"-"},{"$f":"IF($C456=\"\",\"\",Simulação!AL456)","v":32.02721881559642},{"$f":"IF($C456=\"\",\"\",Simulação!AM456)","v":"-"},{"$f":"IF($C456=\"\",\"\",Simulação!AN456)","v":32.217563507182206},{"$f":"IF($C456=\"\",\"\",Simulação!AO456)","v":"-"},{"$f":"IF($C456=\"\",\"\",Simulação!AP456)","v":36.406016086434107},{"$f":"IF($C456=\"\",\"\",Simulação!AQ456)","v":"-"},{"$f":"IF($C456=\"\",\"\",Simulação!AR456)","v":0}]
[null,450,{"$f":"IF(Chegadas!J458<=$C$5,Chegadas!J458,\"\")","v":405.19999999999982},{"$f":"IF($C457=\"\",\"\",Simulação!D457)","v":8.0593295358433465},{"$f":"IF($C457=\"\",\"\",Simulação!E457)","v":405.19999999999982},{"$f":"IF($C457=\"\",\"\",Simulação!F457)","v":413.25932953584316},{"$f":"IF($C457=\"\",\"\",Simulação!G457)","v":"-"},{"$f":"IF($C457=\"\",\"\",Simulação!H457)","v":407.70400736561743},{"$f":"IF($C457=\"\",\"\",Simulação!I457)","v":"-"},{"$f":"IF($C457=\"\",\"\",Simulação!J457)","v":411.60418002802396},{"$f":"IF($C457=\"\",\"\",Simulação!K457)","v":"-"},{"$f":"IF($C457=\"\",\"\",Simulação!L457)","v":408.24778859381757},{"$f":"IF($C457=\"\",\"\",Simulação!M457)","v":"-"},{"$f":"IF($C457=\"\",\"\",Simulação!N457)","v":404.56061627433911},{"$f":"IF($C457=\"\",\"\",Simulação!O457)","v":"-"},{"$f":"IF($C457=\"\",\"\",Simulação!P457)","v":406.6423574106243},{"$f":"IF($C457=\"\",\"\",Simulação!Q457)","v":"-"},{"$f":"IF($C457=\"\",\"\",Simulação!R457)","v":405.71153987882059},{"$f":"IF($C457=\"\",\"\",Simulação!S457)","v":"-"},{"$f":"IF($C457=\"\",\"\",Simulação!T457)","v":405.66909392266308},{"$f":"IF($C457=\"\",\"\",Simulação!U457)","v":"-"},{"$f":"IF($C457=\"\",\"\",Simulação!V457)","v":406.10034877843555},{"$f":"IF($C457=\"\",\"\",Simulação!W457)","v":"-"},{"$f":"IF($C457=\"\",\"\",Simulação!X457)","v":410.87541677376299},{"$f":"IF($C457=\"\",\"\",Simulação!Y457)","v":"-"},{"$f":"IF($C457=\"\",\"\",Simulação!Z457)","v":409.51839112975119},{"$f":"IF($C457=\"\",\"\",Simulação!AA457)","v":"-"},{"$f":"IF($C457=\"\",\"\",Simulação!AB457)","v":415.09700409030353},{"$f":"IF($C457=\"\",\"\",Simulação!AC457)","v":"-"},{"$f":"IF($C457=\"\",\"\",Simulação!AD457)","v":392.78059400288373},{"$f":"IF($C457=\"\",\"\",Simulação!AE457)","v":"-"},{"$f":"IF($C457=\"\",\"\",Simulação!AF457)","v":392.06777952328201},{"$f":"IF($C457=\"\",\"\",Simulação!AG457)","v":"-"},{"$f":"IF($C457=\"\",\"\",Simulação!AH457)","v":348.63196013630733},{"$f":"IF($C457=\"\",\"\",Simulação!AI457)","v":"-"},{"$f":"IF($C457=\"\",\"\",Simulação!AJ457)","v":33.045125393740342},{"$f":"IF($C457=\"\",\"\",Simulação!AK457)","v":"-"},{"$f":"IF($C457=\"\",\"\",Simulação!AL457)","v":32.02721881559642},{"$f":"IF($C457=\"\",\"\",Simulação!AM457)","v":"-"},{"$f":"IF($C457=\"\",\"\",Simulação!AN457)","v":32.217563507182206},{"$f":"IF($C457=\"\",\"\",Simulação!AO457)","v":"-"},{"$f":"IF($C457=\"\",\"\",Simulação!AP457)","v":36.406016086434107},{"$f":"IF($C457=\"\",\"\",Simulação!AQ457)","v":"-"},{"$f":"IF($C457=\"\",\"\",Simulação!AR457)","v":0}]
[null,451,{"$f":"IF(Chegadas!J459<=$C$5,Chegadas!J459,\"\")","v":406.45999999999981},{"$f":"IF($C458=\"\",\"\",Simulação!D458)","v":7.5475697331323897},{"$f":"IF($C458=\"\",\"\",Simulação!E458)","v":"*"},{"$f":"IF($C458=\"\",\"\",Simulação!F458)","v":413.25932953584316},{"$f":"IF($C458=\"\",\"\",Simulação!G458)","v":"*"},{"$f":"IF($C458=\"\",\"\",Simulação!H458)","v":407.70400736561743},{"$f":"IF($C458=\"\",\"\",Simulação!I458)","v":"*"},{"$f":"IF($C458=\"\",\"\",Simulação!J458)","v":411.60418002802396},{"$f":"IF($C458=\"\",\"\",Simulação!K458)","v":"*"},{"$f":"IF($C458=\"\",\"\",Simulação!L458)","v":408.24778859381757},{"$f":"IF($C458=\"\",\"\",Simulação!M458)","v":406.45999999999981},{"$f":"IF($C458=\"\",\"\",Simulação!N458)","v":414.00756973313219},{"$f":"IF($C458=\"\",\"\",Simulação!O458)","v":"-"},{"$f":"IF($C458=\"\",\"\",Simulação!P458)","v":406.6423574106243},{"$f":"IF($C458=\"\",\"\",Simulação!Q458)","v":"-"},{"$f":"IF($C458=\"\",\"\",Simulação!R458)","v":405.71153987882059},{"$f":"IF($C458=\"\",\"\",Simulação!S458)","v":"-"},{"$f":"IF($C458=\"\",\"\",Simulação!T458)","v":405.66909392266308},{"$f":"IF($C458=\"\",\"\",Simulação!U458)","v":"-"},{"$f":"IF($C458=\"\",\"\",Simulação!V458)","v":406.10034877843555},{"$f":"IF($C458=\"\",\"\",Simulação!W458)","v":"-"},{"$f":"IF($C458=\"\",\"\",Simulação!X458)","v":410.87541677376299},{"$f":"IF($C458=\"\",\"\",Simulação!Y458)","v":"-"},{"$f":"IF($C458=\"\",\"\",Simulação!Z458)","v":409.51839112975119},{"$f":"IF($C458=\"\",\"\",Simulação!AA458)","v":"-"},{"$f":"IF($C458=\"\",\"\",Simulação!AB458)","v":415.09700409030353},{"$f":"IF($C458=\"\",\"\",Simulação!AC458)","v":"-"},{"$f":"IF($C458=\"\",\"\",Simulação!AD458)","v":392.78059400288373},{"$f":"IF($C458=\"\",\"\",Simulação!AE458)","v":"-"},{"$f":"IF($C458=\"\",\"\",Simulação!AF458)","v":392.06777952328201},{"$f":"IF($C458=\"\",\"\",Simulação!AG458)","v":"-"},{"$f":"IF($C458=\"\",\"\",Simulação!AH458)","v":348.63196013630733},{"$f":"IF($C458=\"\",\"\",Simulação!AI458)","v":"-"},{"$f":"IF($C458=\"\",\"\",Simulação!AJ458)","v":33.045125393740342},{"$f":"IF($C458=\"\",\"\",Simulação!AK458)","v":"-"},{"$f":"IF($C458=\"\",\"\",Simulação!AL458)","v":32.02721881559642},{"$f":"IF($C458=\"\",\"\",Simulação!AM458)","v":"-"},{"$f":"IF($C458=\"\",\"\",Simulação!AN458)","v":32.217563507182206},{"$f":"IF($C458=\"\",\"\",Simulação!AO458)","v":"-"},{"$f":"IF($C458=\"\",\"\",Simulação!AP458)","v":36.406016086434107},{"$f":"IF($C458=\"\",\"\",Simulação!AQ458)","v":"-"},{"$f":"IF($C458=\"\",\"\",Simulação!AR458)","v":0}]
[null,452,{"$f":"IF(Chegadas!J460<=$C$5,Chegadas!J460,\"\")","v":407.9699999999998},{"$f":"IF($C459=\"\",\"\",Simulação!D459)","v":13.791269684282646},{"$f":"IF($C459=\"\",\"\",Simulação!E459)","v":"*"},{"$f":"IF($C459=\"\",\"\",Simulação!F459)","v":413.25932953584316},{"$f":"IF($C459=\"\",\"\",Simulação!G459)","v":407.9699999999998},{"$f":"IF($C459=\"\",\"\",Simulação!H459)","v":421.76126968428247},{"$f":"IF($C459=\"\",\"\",Simulação!I459)","v":"-"},{"$f":"IF($C459=\"\",\"\",Simulação!J459)","v":411.60418002802396},{"$f":"IF($C459=\"\",\"\",Simulação!K459)","v":"-"},{"$f":"IF($C459=\"\",\"\",Simulação!L459)","v":408.24778859381757},{"$f":"IF($C459=\"\",\"\",Simulação!M459)","v":"-"},{"$f":"IF($C459=\"\",\"\",Simulação!N459)","v":414.00756973313219},{"$f":"IF($C459=\"\",\"\",Simulação!O459)","v":"-"},{"$f":"IF($C459=\"\",\"\",Simulação!P459)","v":406.6423574106243},{"$f":"IF($C459=\"\",\"\",Simulação!Q459)","v":"-"},{"$f":"IF($C459=\"\",\"\",Simulação!R459)","v":405.71153987882059},{"$f":"IF($C459=\"\",\"\",Simulação!S459)","v":"-"},{"$f":"IF($C459=\"\",\"\",Simulação!T459)","v":405.66909392266308},{"$f":"IF($C459=\"\",\"\",Simulação!U459)","v":"-"},{"$f":"IF($C459=\"\",\"\",Simulação!V459)","v":406.10034877843555},{"$f":"IF($C459=\"\",\"\",Simulação!W459)","v":"-"},{"$f":"IF($C459=\"\",\"\",Simulação!X459)","v":410.87541677376299},{"$f":"IF($C459=\"\",\"\",Simulação!Y459)","v":"-"},{"$f":"IF($C459=\"\",\"\",Simulação!Z459)","v":409.51839112975119},{"$f":"IF($C459=\"\",\"\",Simulação!AA459)","v":"-"},{"$f":"IF($C459=\"\",\"\",Simulação!AB459)","v":415.09700409030353},{"$f":"IF($C459=\"\",\"\",Simulação!AC459)","v":"-"},{"$f":"IF($C459=\"\",\"\",Simulação!AD459)","v":392.78059400288373},{"$f":"IF($C459=\"\",\"\",Simulação!AE459)","v":"-"},{"$f":"IF($C459=\"\",\"\",Simulação!AF459)","v":392.06777952328201},{"$f":"IF($C459=\"\",\"\",Simulação!AG459)","v":"-"},{"$f":"IF($C459=\"\",\"\",Simulação!AH459)","v":348.63196013630733},{"$f":"IF($C459=\"\",\"\",Simulação!AI459)","v":"-"},{"$f":"IF($C459=\"\",\"\",Simulação!AJ459)","v":33.045125393740342},{"$f":"IF($C459=\"\",\"\",Simulação!AK459)","v":"-"},{"$f":"IF($C459=\"\",\"\",Simulação!AL459)","v":32.02721881559642},{"$f":"IF($C459=\"\",\"\",Simulação!AM459)","v":"-"},{"$f":"IF($C459=\"\",\"\",Simulação!AN459)","v":32.217563507182206},{"$f":"IF($C459=\"\",\"\",Simulação!AO459)","v":"-"},{"$f":"IF($C459=\"\",\"\",Simulação!AP459)","v":36.406016086434107},{"$f":"IF($C459=\"\",\"\",Simulação!AQ459)","v":"-"},{"$f":"IF($C459=\"\",\"\",Simulação!AR459)","v":0}]
[null,453,{"$f":"IF(Chegadas!J461<=$C$5,Chegadas!J461,\"\")","v":409.86999999999978},{"$f":"IF($C460=\"\",\"\",Simulação!D460)","v":14.17950372964351},{"$f":"IF($C460=\"\",\"\",Simulação!E460)","v":"*"},{"$f":"IF($C460=\"\",\"\",Simulação!F460)","v":413.25932953584316},{"$f":"IF($C460=\"\",\"\",Simulação!G460)","v":"*"},{"$f":"IF($C460=\"\",\"\",Simulação!H460)","v":421.76126968428247},{"$f":"IF($C460=\"\",\"\",Simulação!I460)","v":"*"},{"$f":"IF($C460=\"\",\"\",Simulação!J460)","v":411.60418002802396},{"$f":"IF($C460=\"\",\"\",Simulação!K460)","v":409.86999999999978},{"$f":"IF($C460=\"\",\"\",Simulação!L460)","v":424.04950372964328},{"$f":"IF($C460=\"\",\"\",Simulação!M460)","v":"-"},{"$f":"IF($C460=\"\",\"\",Simulação!N460)","v":414.00756973313219},{"$f":"IF($C460=\"\",\"\",Simulação!O460)","v":"-"},{"$f":"IF($C460=\"\",\"\",Simulação!P460)","v":406.6423574106243},{"$f":"IF($C460=\"\",\"\",Simulação!Q460)","v":"-"},{"$f":"IF($C460=\"\",\"\",Simulação!R460)","v":405.71153987882059},{"$f":"IF($C460=\"\",\"\",Simulação!S460)","v":"-"},{"$f":"IF($C460=\"\",\"\",Simulação!T460)","v":405.66909392266308},{"$f":"IF($C460=\"\",\"\",Simulação!U460)","v":"-"},{"$f":"IF($C460=\"\",\"\",Simulação!V460)","v":406.10034877843555},{"$f":"IF($C460=\"\",\"\",Simulação!W460)","v":"-"},{"$f":"IF($C460=\"\",\"\",Simulação!X460)","v":410.87541677376299},{"$f":"IF($C460=\"\",\"\",Simulação!Y460)","v":"-"},{"$f":"IF($C460=\"\",\"\",Simulação!Z460)","v":409.51839112975119},{"$f":"IF($C460=\"\",\"\",Simulação!AA460)","v":"-"},{"$f":"IF($C460=\"\",\"\",Simulação!AB460)","v":415.09700409030353},{"$f":"IF($C460=\"\",\"\",Simulação!AC460)","v":"-"},{"$f":"IF($C460=\"\",\"\",Simulação!AD460)","v":392.78059400288373},{"$f":"IF($C460=\"\",\"\",Simulação!AE460)","v":"-"},{"$f":"IF($C460=\"\",\"\",Simulação!AF460)","v":392.06777952328201},{"$f":"IF($C460=\"\",\"\",Simulação!AG460)","v":"-"},{"$f":"IF($C460=\"\",\"\",Simulação!AH460)","v":348.63196013630733},{"$f":"IF($C460=\"\",\"\",Simulação!AI460)","v":"-"},{"$f":"IF($C460=\"\",\"\",Simulação!AJ460)","v":33.045125393740342},{"$f":"IF($C460=\"\",\"\",Simulação!AK460)","v":"-"},{"$f":"IF($C460=\"\",\"\",Simulação!AL460)","v":32.02721881559642},{"$f":"IF($C460=\"\",\"\",Simulação!AM460)","v":"-"},{"$f":"IF($C460=\"\",\"\",Simulação!AN460)","v":32.217563507182206},{"$f":"IF($C460=\"\",\"\",Simulação!AO460)","v":"-"},{"$f":"IF($C460=\"\",\"\",Simulação!AP460)","v":36.406016086434107},{"$f":"IF($C460=\"\",\"\",Simulação!AQ460)","v":"-"},{"$f":"IF($C460=\"\",\"\",Simulação!AR460)","v":0}]
[null,454,{"$f":"IF(Chegadas!J462<=$C$5,Chegadas!J462,\"\")","v":410.20999999999975},{"$f":"IF($C461=\"\",\"\",Simulação!D461)","v":7.9041942974026522},{"$f":"IF($C461=\"\",\"\",Simulação!E461)","v":"*"},{"$f":"IF($C461=\"\",\"\",Simulação!F461)","v":413.25932953584316},{"$f":"IF($C461=\"\",\"\",Simulação!G461)","v":"*"},{"$f":"IF($C461=\"\",\"\",Simulação!H461)","v":421.76126968428247},{"$f":"IF($C461=\"\",\"\",Simulação!I461)","v":"*"},{"$f":"IF($C461=\"\",\"\",Simulação!J461)","v":411.60418002802396},{"$f":"IF($C461=\"\",\"\",Simulação!K461)","v":"*"},{"$f":"IF($C461=\"\",\"\",Simulação!L461)","v":424.04950372964328},{"$f":"IF($C461=\"\",\"\",Simulação!M461)","v":"*"},{"$f":"IF($C461=\"\",\"\",Simulação!N461)","v":414.00756973313219},{"$f":"IF($C461=\"\",\"\",Simulação!O461)","v":410.20999999999975},{"$f":"IF($C461=\"\",\"\",Simulação!P461)","v":418.11419429740238},{"$f":"IF($C461=\"\",\"\",Simulação!Q461)","v":"-"},{"$f":"IF($C461=\"\",\"\",Simulação!R461)","v":405.71153987882059},{"$f":"IF($C461=\"\",\"\",Simulação!S461)","v":"-"},{"$f":"IF($C461=\"\",\"\",Simulação!T461)","v":405.66909392266308},{"$f":"IF($C461=\"\",\"\",Simulação!U461)","v":"-"},{"$f":"IF($C461=\"\",\"\",Simulação!V461)","v":406.10034877843555},{"$f":"IF($C461=\"\",\"\",Simulação!W461)","v":"-"},{"$f":"IF($C461=\"\",\"\",Simulação!X461)","v":410.87541677376299},{"$f":"IF($C461=\"\",\"\",Simulação!Y461)","v":"-"},{"$f":"IF($C461=\"\",\"\",Simulação!Z461)","v":409.51839112975119},{"$f":"IF($C461=\"\",\"\",Simulação!AA461)","v":"-"},{"$f":"IF($C461=\"\",\"\",Simulação!AB461)","v":415.09700409030353},{"$f":"IF($C461=\"\",\"\",Simulação!AC461)","v":"-"},{"$f":"IF($C461=\"\",\"\",Simulação!AD461)","v":392.78059400288373},{"$f":"IF($C461=\"\",\"\",Simulação!AE461)","v":"-"},{"$f":"IF($C461=\"\",\"\",Simulação!AF461)","v":392.06777952328201},{"$f":"IF($C461=\"\",\"\",Simulação!AG461)","v":"-"},{"$f":"IF($C461=\"\",\"\",Simulação!AH461)","v":348.63196013630733},{"$f":"IF($C461=\"\",\"\",Simulação!AI461)","v":"-"},{"$f":"IF($C461=\"\",\"\",Simulação!AJ461)","v":33.045125393740342},{"$f":"IF($C461=\"\",\"\",Simulação!AK461)","v":"-"},{"$f":"IF($C461=\"\",\"\",Simulação!AL461)","v":32.02721881559642},{"$f":"IF($C461=\"\",\"\",Simulação!AM461)","v":"-"},{"$f":"IF($C461=\"\",\"\",Simulação!AN461)","v":32.217563507182206},{"$f":"IF($C461=\"\",\"\",Simulação!AO461)","v":"-"},{"$f":"IF($C461=\"\",\"\",Simulação!AP461)","v":36.406016086434107},{"$f":"IF($C461=\"\",\"\",Simulação!AQ461)","v":"-"},{"$f":"IF($C461=\"\",\"\",Simulação!AR461)","v":0}]
[null,455,{"$f":"IF(Chegadas!J463<=$C$5,Chegadas!J463,\"\")","v":410.24999999999977},{"$f":"IF($C462=\"\",\"\",Simulação!D462)","v":2.663630462419269},{"$f":"IF($C462=\"\",\"\",Simulação!E462)","v":"*"},{"$f":"IF($C462=\"\",\"\",Simulação!F462)","v":413.25932953584316},{"$f":"IF($C462=\"\",\"\",Simulação!G462)","v":"*"},{"$f":"IF($C462=\"\",\"\",Simulação!H462)","v":421.76126968428247},{"$f":"IF($C462=\"\",\"\",Simulação!I462)","v":"*"},{"$f":"IF($C462=\"\",\"\",Simulação!J462)","v":411.60418002802396},{"$f":"IF($C462=\"\",\"\",Simulação!K462)","v":"*"},{"$f":"IF($C462=\"\",\"\",Simulação!L462)","v":424.04950372964328},{"$f":"IF($C462=\"\",\"\",Simulação!M462)","v":"*"},{"$f":"IF($C462=\"\",\"\",Simulação!N462)","v":414.00756973313219},{"$f":"IF($C462=\"\",\"\",Simulação!O462)","v":"*"},{"$f":"IF($C462=\"\",\"\",Simulação!P462)","v":418.11419429740238},{"$f":"IF($C462=\"\",\"\",Simulação!Q462)","v":410.24999999999977},{"$f":"IF($C462=\"\",\"\",Simulação!R462)","v":412.91363046241906},{"$f":"IF($C462=\"\",\"\",Simulação!S462)","v":"-"},{"$f":"IF($C462=\"\",\"\",Simulação!T462)","v":405.66909392266308},{"$f":"IF($C462=\"\",\"\",Simulação!U462)","v":"-"},{"$f":"IF($C462=\"\",\"\",Simulação!V462)","v":406.10034877843555},{"$f":"IF($C462=\"\",\"\",Simulação!W462)","v":"-"},{"$f":"IF($C462=\"\",\"\",Simulação!X462)","v":410.87541677376299},{"$f":"IF($C462=\"\",\"\",Simulação!Y462)","v":"-"},{"$f":"IF($C462=\"\",\"\",Simulação!Z462)","v":409.51839112975119},{"$f":"IF($C462=\"\",\"\",Simulação!AA462)","v":"-"},{"$f":"IF($C462=\"\",\"\",Simulação!AB462)","v":415.09700409030353},{"$f":"IF($C462=\"\",\"\",Simulação!AC462)","v":"-"},{"$f":"IF($C462=\"\",\"\",Simulação!AD462)","v":392.78059400288373},{"$f":"IF($C462=\"\",\"\",Simulação!AE462)","v":"-"},{"$f":"IF($C462=\"\",\"\",Simulação!AF462)","v":392.06777952328201},{"$f":"IF($C462=\"\",\"\",Simulação!AG462)","v":"-"},{"$f":"IF($C462=\"\",\"\",Simulação!AH462)","v":348.63196013630733},{"$f":"IF($C462=\"\",\"\",Simulação!AI462)","v":"-"},{"$f":"IF($C462=\"\",\"\",Simulação!AJ462)","v":33.045125393740342},{"$f":"IF($C462=\"\",\"\",Simulação!AK462)","v":"-"},{"$f":"IF($C462=\"\",\"\",Simulação!AL462)","v":32.02721881559642},{"$f":"IF($C462=\"\",\"\",Simulação!AM462)","v":"-"},{"$f":"IF($C462=\"\",\"\",Simulação!AN462)","v":32.217563507182206},{"$f":"IF($C462=\"\",\"\",Simulação!AO462)","v":"-"},{"$f":"IF($C462=\"\",\"\",Simulação!AP462)","v":36.406016086434107},{"$f":"IF($C462=\"\",\"\",Simulação!AQ462)","v":"-"},{"$f":"IF($C462=\"\",\"\",Simulação!AR462)","v":0}]
[null,456,{"$f":"IF(Chegadas!J464<=$C$5,Chegadas!J464,\"\")","v":411.31999999999977},{"$f":"IF($C463=\"\",\"\",Simulação!D463)","v":9.3707248570323287},{"$f":"IF($C463=\"\",\"\",Simulação!E463)","v":"*"},{"$f":"IF($C463=\"\",\"\",Simulação!F463)","v":413.25932953584316},{"$f":"IF($C463=\"\",\"\",Simulação!G463)","v":"*"},{"$f":"IF($C463=\"\",\"\",Simulação!H463)","v":421.76126968428247},{"$f":"IF($C463=\"\",\"\",Simulação!I463)","v":"*"},{"$f":"IF($C463=\"\",\"\",Simulação!J463)","v":411.60418002802396},{"$f":"IF($C463=\"\",\"\",Simulação!K463)","v":"*"},{"$f":"IF($C463=\"\",\"\",Simulação!L463)","v":424.04950372964328},{"$f":"IF($C463=\"\",\"\",Simulação!M463)","v":"*"},{"$f":"IF($C463=\"\",\"\",Simulação!N463)","v":414.00756973313219},{"$f":"IF($C463=\"\",\"\",Simulação!O463)","v":"*"},{"$f":"IF($C463=\"\",\"\",Simulação!P463)","v":418.11419429740238},{"$f":"IF($C463=\"\",\"\",Simulação!Q463)","v":"*"},{"$f":"IF($C463=\"\",\"\",Simulação!R463)","v":412.91363046241906},{"$f":"IF($C463=\"\",\"\",Simulação!S463)","v":411.31999999999977},{"$f":"IF($C463=\"\",\"\",Simulação!T463)","v":420.69072485703208},{"$f":"IF($C463=\"\",\"\",Simulação!U463)","v":"-"},{"$f":"IF($C463=\"\",\"\",Simulação!V463)","v":406.10034877843555},{"$f":"IF($C463=\"\",\"\",Simulação!W463)","v":"-"},{"$f":"IF($C463=\"\",\"\",Simulação!X463)","v":410.87541677376299},{"$f":"IF($C463=\"\",\"\",Simulação!Y463)","v":"-"},{"$f":"IF($C463=\"\",\"\",Simulação!Z463)","v":409.51839112975119},{"$f":"IF($C463=\"\",\"\",Simulação!AA463)","v":"-"},{"$f":"IF($C463=\"\",\"\",Simulação!AB463)","v":415.09700409030353},{"$f":"IF($C463=\"\",\"\",Simulação!AC463)","v":"-"},{"$f":"IF($C463=\"\",\"\",Simulação!AD463)","v":392.78059400288373},{"$f":"IF($C463=\"\",\"\",Simulação!AE463)","v":"-"},{"$f":"IF($C463=\"\",\"\",Simulação!AF463)","v":392.06777952328201},{"$f":"IF($C463=\"\",\"\",Simulação!AG463)","v":"-"},{"$f":"IF($C463=\"\",\"\",Simulação!AH463)","v":348.63196013630733},{"$f":"IF($C463=\"\",\"\",Simulação!AI463)","v":"-"},{"$f":"IF($C463=\"\",\"\",Simulação!AJ463)","v":33.045125393740342},{"$f":"IF($C463=\"\",\"\",Simulação!AK463)","v":"-"},{"$f":"IF($C463=\"\",\"\",Simulação!AL463)","v":32.02721881559642},{"$f":"IF($C463=\"\",\"\",Simulação!AM463)","v":"-"},{"$f":"IF($C463=\"\",\"\",Simulação!AN463)","v":32.217563507182206},{"$f":"IF($C463=\"\",\"\",Simulação!AO463)","v":"-"},{"$f":"IF($C463=\"\",\"\",Simulação!AP463)","v":36.406016086434107},{"$f":"IF($C463=\"\",\"\",Simulação!AQ463)","v":"-"},{"$f":"IF($C463=\"\",\"\",Simulação!AR463)","v":0}]
[null,457,{"$f":"IF(Chegadas!J465<=$C$5,Chegadas!J465,\"\")","v":412.18},{"$f":"IF($C464=\"\",\"\",Simulação!D464)","v":0.75317945664986441},{"$f":"IF($C464=\"\",\"\",Simulação!E464)","v":"*"},{"$f":"IF($C464=\"\",\"\",Simulação!F464)","v":413.25932953584316},{"$f":"IF($C464=\"\",\"\",Simulação!G464)","v":"*"},{"$f":"IF($C464=\"\",\"\",Simulação!H464)","v":421.76126968428247},{"$f":"IF($C464=\"\",\"\",Simulação!I464)","v":412.18},{"$f":"IF($C464=\"\",\"\",Simulação!J464)","v":412.9331794566499},{"$f":"IF($C464=\"\",\"\",Simulação!K464)","v":"-"},{"$f":"IF($C464=\"\",\"\",Simulação!L464)","v":424.04950372964328},{"$f":"IF($C464=\"\",\"\",Simulação!M464)","v":"-"},{"$f":"IF($C464=\"\",\"\",Simulação!N464)","v":414.00756973313219},{"$f":"IF($C464=\"\",\"\",Simulação!O464)","v":"-"},{"$f":"IF($C464=\"\",\"\",Simulação!P464)","v":418.11419429740238},{"$f":"IF($C464=\"\",\"\",Simulação!Q464)","v":"-"},{"$f":"IF($C464=\"\",\"\",Simulação!R464)","v":412.91363046241906},{"$f":"IF($C464=\"\",\"\",Simulação!S464)","v":"-"},{"$f":"IF($C464=\"\",\"\",Simulação!T464)","v":420.69072485703208},{"$f":"IF($C464=\"\",\"\",Simulação!U464)","v":"-"},{"$f":"IF($C464=\"\",\"\",Simulação!V464)","v":406.10034877843555},{"$f":"IF($C464=\"\",\"\",Simulação!W464)","v":"-"},{"$f":"IF($C464=\"\",\"\",Simulação!X464)","v":410.87541677376299},{"$f":"IF($C464=\"\",\"\",Simulação!Y464)","v":"-"},{"$f":"IF($C464=\"\",\"\",Simulação!Z464)","v":409.51839112975119},{"$f":"IF($C464=\"\",\"\",Simulação!AA464)","v":"-"},{"$f":"IF($C464=\"\",\"\",Simulação!AB464)","v":415.09700409030353},{"$f":"IF($C464=\"\",\"\",Simulação!AC464)","v":"-"},{"$f":"IF($C464=\"\",\"\",Simulação!AD464)","v":392.78059400288373},{"$f":"IF($C464=\"\",\"\",Simulação!AE464)","v":"-"},{"$f":"IF($C464=\"\",\"\",Simulação!AF464)","v":392.06777952328201},{"$f":"IF($C464=\"\",\"\",Simulação!AG464)","v":"-"},{"$f":"IF($C464=\"\",\"\",Simulação!AH464)","v":348.63196013630733},{"$f":"IF($C464=\"\",\"\",Simulação!AI464)","v":"-"},{"$f":"IF($C464=\"\",\"\",Simulação!AJ464)","v":33.045125393740342},{"$f":"IF($C464=\"\",\"\",Simulação!AK464)","v":"-"},{"$f":"IF($C464=\"\",\"\",Simulação!AL464)","v":32.02721881559642},{"$f":"IF($C464=\"\",\"\",Simulação!AM464)","v":"-"},{"$f":"IF($C464=\"\",\"\",Simulação!AN464)","v":32.217563507182206},{"$f":"IF($C464=\"\",\"\",Simulação!AO464)","v":"-"},{"$f":"IF($C464=\"\",\"\",Simulação!AP464)","v":36.406016086434107},{"$f":"IF($C464=\"\",\"\",Simulação!AQ464)","v":"-"},{"$f":"IF($C464=\"\",\"\",Simulação!AR464)","v":0}]
[null,458,{"$f":"IF(Chegadas!J466<=$C$5,Chegadas!J466,\"\")","v":413.25},{"$f":"IF($C465=\"\",\"\",Simulação!D465)","v":1.2073167074507003},{"$f":"IF($C465=\"\",\"\",Simulação!E465)","v":"*"},{"$f":"IF($C465=\"\",\"\",Simulação!F465)","v":413.25932953584316},{"$f":"IF($C465=\"\",\"\",Simulação!G465)","v":"*"},{"$f":"IF($C465=\"\",\"\",Simulação!H465)","v":421.76126968428247},{"$f":"IF($C465=\"\",\"\",Simulação!I465)","v":413.25},{"$f":"IF($C465=\"\",\"\",Simulação!J465)","v":414.45731670745067},{"$f":"IF($C465=\"\",\"\",Simulação!K465)","v":"-"},{"$f":"IF($C465=\"\",\"\",Simulação!L465)","v":424.04950372964328},{"$f":"IF($C465=\"\",\"\",Simulação!M465)","v":"-"},{"$f":"IF($C465=\"\",\"\",Simulação!N465)","v":414.00756973313219},{"$f":"IF($C465=\"\",\"\",Simulação!O465)","v":"-"},{"$f":"IF($C465=\"\",\"\",Simulação!P465)","v":418.11419429740238},{"$f":"IF($C465=\"\",\"\",Simulação!Q465)","v":"-"},{"$f":"IF($C465=\"\",\"\",Simulação!R465)","v":412.91363046241906},{"$f":"IF($C465=\"\",\"\",Simulação!S465)","v":"-"},{"$f":"IF($C465=\"\",\"\",Simulação!T465)","v":420.69072485703208},{"$f":"IF($C465=\"\",\"\",Simulação!U465)","v":"-"},{"$f":"IF($C465=\"\",\"\",Simulação!V465)","v":406.10034877843555},{"$f":"IF($C465=\"\",\"\",Simulação!W465)","v":"-"},{"$f":"IF($C465=\"\",\"\",Simulação!X465)","v":410.87541677376299},{"$f":"IF($C465=\"\",\"\",Simulação!Y465)","v":"-"},{"$f":"IF($C465=\"\",\"\",Simulação!Z465)","v":409.51839112975119},{"$f":"IF($C465=\"\",\"\",Simulação!AA465)","v":"-"},{"$f":"IF($C465=\"\",\"\",Simulação!AB465)","v":415.09700409030353},{"$f":"IF($C465=\"\",\"\",Simulação!AC465)","v":"-"},{"$f":"IF($C465=\"\",\"\",Simulação!AD465)","v":392.78059400288373},{"$f":"IF($C465=\"\",\"\",Simulação!AE465)","v":"-"},{"$f":"IF($C465=\"\",\"\",Simulação!AF465)","v":392.06777952328201},{"$f":"IF($C465=\"\",\"\",Simulação!AG465)","v":"-"},{"$f":"IF($C465=\"\",\"\",Simulação!AH465)","v":348.63196013630733},{"$f":"IF($C465=\"\",\"\",Simulação!AI465)","v":"-"},{"$f":"IF($C465=\"\",\"\",Simulação!AJ465)","v":33.045125393740342},{"$f":"IF($C465=\"\",\"\",Simulação!AK465)","v":"-"},{"$f":"IF($C465=\"\",\"\",Simulação!AL465)","v":32.02721881559642},{"$f":"IF($C465=\"\",\"\",Simulação!AM465)","v":"-"},{"$f":"IF($C465=\"\",\"\",Simulação!AN465)","v":32.217563507182206},{"$f":"IF($C465=\"\",\"\",Simulação!AO465)","v":"-"},{"$f":"IF($C465=\"\",\"\",Simulação!AP465)","v":36.406016086434107},{"$f":"IF($C465=\"\",\"\",Simulação!AQ465)","v":"-"},{"$f":"IF($C465=\"\",\"\",Simulação!AR465)","v":0}]
[null,459,{"$f":"IF(Chegadas!J467<=$C$5,Chegadas!J467,\"\")","v":414.10999999999979},{"$f":"IF($C466=\"\",\"\",Simulação!D466)","v":9.6556847958739702},{"$f":"IF($C466=\"\",\"\",Simulação!E466)","v":414.10999999999979},{"$f":"IF($C466=\"\",\"\",Simulação!F466)","v":423.76568479587377},{"$f":"IF($C466=\"\",\"\",Simulação!G466)","v":"-"},{"$f":"IF($C466=\"\",\"\",Simulação!H466)","v":421.76126968428247},{"$f":"IF($C466=\"\",\"\",Simulação!I466)","v":"-"},{"$f":"IF($C466=\"\",\"\",Simulação!J466)","v":414.45731670745067},{"$f":"IF($C466=\"\",\"\",Simulação!K466)","v":"-"},{"$f":"IF($C466=\"\",\"\",Simulação!L466)","v":424.04950372964328},{"$f":"IF($C466=\"\",\"\",Simulação!M466)","v":"-"},{"$f":"IF($C466=\"\",\"\",Simulação!N466)","v":414.00756973313219},{"$f":"IF($C466=\"\",\"\",Simulação!O466)","v":"-"},{"$f":"IF($C466=\"\",\"\",Simulação!P466)","v":418.11419429740238},{"$f":"IF($C466=\"\",\"\",Simulação!Q466)","v":"-"},{"$f":"IF($C466=\"\",\"\",Simulação!R466)","v":412.91363046241906},{"$f":"IF($C466=\"\",\"\",Simulação!S466)","v":"-"},{"$f":"IF($C466=\"\",\"\",Simulação!T466)","v":420.69072485703208},{"$f":"IF($C466=\"\",\"\",Simulação!U466)","v":"-"},{"$f":"IF($C466=\"\",\"\",Simulação!V466)","v":406.10034877843555},{"$f":"IF($C466=\"\",\"\",Simulação!W466)","v":"-"},{"$f":"IF($C466=\"\",\"\",Simulação!X466)","v":410.87541677376299},{"$f":"IF($C466=\"\",\"\",Simulação!Y466)","v":"-"},{"$f":"IF($C466=\"\",\"\",Simulação!Z466)","v":409.51839112975119},{"$f":"IF($C466=\"\",\"\",Simulação!AA466)","v":"-"},{"$f":"IF($C466=\"\",\"\",Simulação!AB466)","v":415.09700409030353},{"$f":"IF($C466=\"\",\"\",Simulação!AC466)","v":"-"},{"$f":"IF($C466=\"\",\"\",Simulação!AD466)","v":392.78059400288373},{"$f":"IF($C466=\"\",\"\",Simulação!AE466)","v":"-"},{"$f":"IF($C466=\"\",\"\",Simulação!AF466)","v":392.06777952328201},{"$f":"IF($C466=\"\",\"\",Simulação!AG466)","v":"-"},{"$f":"IF($C466=\"\",\"\",Simulação!AH466)","v":348.63196013630733},{"$f":"IF($C466=\"\",\"\",Simulação!AI466)","v":"-"},{"$f":"IF($C466=\"\",\"\",Simulação!AJ466)","v":33.045125393740342},{"$f":"IF($C466=\"\",\"\",Simulação!AK466)","v":"-"},{"$f":"IF($C466=\"\",\"\",Simulação!AL466)","v":32.02721881559642},{"$f":"IF($C466=\"\",\"\",Simulação!AM466)","v":"-"},{"$f":"IF($C466=\"\",\"\",Simulação!AN466)","v":32.217563507182206},{"$f":"IF($C466=\"\",\"\",Simulação!AO466)","v":"-"},{"$f":"IF($C466=\"\",\"\",Simulação!AP466)","v":36.406016086434107},{"$f":"IF($C466=\"\",\"\",Simulação!AQ466)","v":"-"},{"$f":"IF($C466=\"\",\"\",Simulação!AR466)","v":0}]
[null,460,{"$f":"IF(Chegadas!J468<=$C$5,Chegadas!J468,\"\")","v":414.51999999999981},{"$f":"IF($C467=\"\",\"\",Simulação!D467)","v":2.9866938586249119},{"$f":"IF($C467=\"\",\"\",Simulação!E467)","v":"*"},{"$f":"IF($C467=\"\",\"\",Simulação!F467)","v":423.76568479587377},{"$f":"IF($C467=\"\",\"\",Simulação!G467)","v":"*"},{"$f":"IF($C467=\"\",\"\",Simulação!H467)","v":421.76126968428247},{"$f":"IF($C467=\"\",\"\",Simulação!I467)","v":414.51999999999981},{"$f":"IF($C467=\"\",\"\",Simulação!J467)","v":417.50669385862471},{"$f":"IF($C467=\"\",\"\",Simulação!K467)","v":"-"},{"$f":"IF($C467=\"\",\"\",Simulação!L467)","v":424.04950372964328},{"$f":"IF($C467=\"\",\"\",Simulação!M467)","v":"-"},{"$f":"IF($C467=\"\",\"\",Simulação!N467)","v":414.00756973313219},{"$f":"IF($C467=\"\",\"\",Simulação!O467)","v":"-"},{"$f":"IF($C467=\"\",\"\",Simulação!P467)","v":418.11419429740238},{"$f":"IF($C467=\"\",\"\",Simulação!Q467)","v":"-"},{"$f":"IF($C467=\"\",\"\",Simulação!R467)","v":412.91363046241906},{"$f":"IF($C467=\"\",\"\",Simulação!S467)","v":"-"},{"$f":"IF($C467=\"\",\"\",Simulação!T467)","v":420.69072485703208},{"$f":"IF($C467=\"\",\"\",Simulação!U467)","v":"-"},{"$f":"IF($C467=\"\",\"\",Simulação!V467)","v":406.10034877843555},{"$f":"IF($C467=\"\",\"\",Simulação!W467)","v":"-"},{"$f":"IF($C467=\"\",\"\",Simulação!X467)","v":410.87541677376299},{"$f":"IF($C467=\"\",\"\",Simulação!Y467)","v":"-"},{"$f":"IF($C467=\"\",\"\",Simulação!Z467)","v":409.51839112975119},{"$f":"IF($C467=\"\",\"\",Simulação!AA467)","v":"-"},{"$f":"IF($C467=\"\",\"\",Simulação!AB467)","v":415.09700409030353},{"$f":"IF($C467=\"\",\"\",Simulação!AC467)","v":"-"},{"$f":"IF($C467=\"\",\"\",Simulação!AD467)","v":392.78059400288373},{"$f":"IF($C467=\"\",\"\",Simulação!AE467)","v":"-"},{"$f":"IF($C467=\"\",\"\",Simulação!AF467)","v":392.06777952328201},{"$f":"IF($C467=\"\",\"\",Simulação!AG467)","v":"-"},{"$f":"IF($C467=\"\",\"\",Simulação!AH467)","v":348.63196013630733},{"$f":"IF($C467=\"\",\"\",Simulação!AI467)","v":"-"},{"$f":"IF($C467=\"\",\"\",Simulação!AJ467)","v":33.045125393740342},{"$f":"IF($C467=\"\",\"\",Simulação!AK467)","v":"-"},{"$f":"IF($C467=\"\",\"\",Simulação!AL467)","v":32.02721881559642},{"$f":"IF($C467=\"\",\"\",Simulação!AM467)","v":"-"},{"$f":"IF($C467=\"\",\"\",Simulação!AN467)","v":32.217563507182206},{"$f":"IF($C467=\"\",\"\",Simulação!AO467)","v":"-"},{"$f":"IF($C467=\"\",\"\",Simulação!AP467)","v":36.406016086434107},{"$f":"IF($C467=\"\",\"\",Simulação!AQ467)","v":"-"},{"$f":"IF($C467=\"\",\"\",Simulação!AR467)","v":0}]
[null,461,{"$f":"IF(Chegadas!J469<=$C$5,Chegadas!J469,\"\")","v":415.92999999999984},{"$f":"IF($C468=\"\",\"\",Simulação!D468)","v":7.5525531429208943},{"$f":"IF($C468=\"\",\"\",Simulação!E468)","v":"*"},{"$f":"IF($C468=\"\",\"\",Simulação!F468)","v":423.76568479587377},{"$f":"IF($C468=\"\",\"\",Simulação!G468)","v":"*"},{"$f":"IF($C468=\"\",\"\",Simulação!H468)","v":421.76126968428247},{"$f":"IF($C468=\"\",\"\",Simulação!I468)","v":"*"},{"$f":"IF($C468=\"\",\"\",Simulação!J468)","v":417.50669385862471},{"$f":"IF($C468=\"\",\"\",Simulação!K468)","v":"*"},{"$f":"IF($C468=\"\",\"\",Simulação!L468)","v":424.04950372964328},{"$f":"IF($C468=\"\",\"\",Simulação!M468)","v":415.92999999999984},{"$f":"IF($C468=\"\",\"\",Simulação!N468)","v":423.48255314292072},{"$f":"IF($C468=\"\",\"\",Simulação!O468)","v":"-"},{"$f":"IF($C468=\"\",\"\",Simulação!P468)","v":418.11419429740238},{"$f":"IF($C468=\"\",\"\",Simulação!Q468)","v":"-"},{"$f":"IF($C468=\"\",\"\",Simulação!R468)","v":412.91363046241906},{"$f":"IF($C468=\"\",\"\",Simulação!S468)","v":"-"},{"$f":"IF($C468=\"\",\"\",Simulação!T468)","v":420.69072485703208},{"$f":"IF($C468=\"\",\"\",Simulação!U468)","v":"-"},{"$f":"IF($C468=\"\",\"\",Simulação!V468)","v":406.10034877843555},{"$f":"IF($C468=\"\",\"\",Simulação!W468)","v":"-"},{"$f":"IF($C468=\"\",\"\",Simulação!X468)","v":410.87541677376299},{"$f":"IF($C468=\"\",\"\",Simulação!Y468)","v":"-"},{"$f":"IF($C468=\"\",\"\",Simulação!Z468)","v":409.51839112975119},{"$f":"IF($C468=\"\",\"\",Simulação!AA468)","v":"-"},{"$f":"IF($C468=\"\",\"\",Simulação!AB468)","v":415.09700409030353},{"$f":"IF($C468=\"\",\"\",Simulação!AC468)","v":"-"},{"$f":"IF($C468=\"\",\"\",Simulação!AD468)","v":392.78059400288373},{"$f":"IF($C468=\"\",\"\",Simulação!AE468)","v":"-"},{"$f":"IF($C468=\"\",\"\",Simulação!AF468)","v":392.06777952328201},{"$f":"IF($C468=\"\",\"\",Simulação!AG468)","v":"-"},{"$f":"IF($C468=\"\",\"\",Simulação!AH468)","v":348.63196013630733},{"$f":"IF($C468=\"\",\"\",Simulação!AI468)","v":"-"},{"$f":"IF($C468=\"\",\"\",Simulação!AJ468)","v":33.045125393740342},{"$f":"IF($C468=\"\",\"\",Simulação!AK468)","v":"-"},{"$f":"IF($C468=\"\",\"\",Simulação!AL468)","v":32.02721881559642},{"$f":"IF($C468=\"\",\"\",Simulação!AM468)","v":"-"},{"$f":"IF($C468=\"\",\"\",Simulação!AN468)","v":32.217563507182206},{"$f":"IF($C468=\"\",\"\",Simulação!AO468)","v":"-"},{"$f":"IF($C468=\"\",\"\",Simulação!AP468)","v":36.406016086434107},{"$f":"IF($C468=\"\",\"\",Simulação!AQ468)","v":"-"},{"$f":"IF($C468=\"\",\"\",Simulação!AR468)","v":0}]
[null,462,{"$f":"IF(Chegadas!J470<=$C$5,Chegadas!J470,\"\")","v":416.08999999999986},{"$f":"IF($C469=\"\",\"\",Simulação!D469)","v":9.7405657652967221},{"$f":"IF($C469=\"\",\"\",Simulação!E469)","v":"*"},{"$f":"IF($C469=\"\",\"\",Simulação!F469)","v":423.76568479587377},{"$f":"IF($C469=\"\",\"\",Simulação!G469)","v":"*"},{"$f":"IF($C469=\"\",\"\",Simulação!H469)","v":421.76126968428247},{"$f":"IF($C469=\"\",\"\",Simulação!I469)","v":"*"},{"$f":"IF($C469=\"\",\"\",Simulação!J469)","v":417.50669385862471},{"$f":"IF($C469=\"\",\"\",Simulação!K469)","v":"*"},{"$f":"IF($C469=\"\",\"\",Simulação!L469)","v":424.04950372964328},{"$f":"IF($C469=\"\",\"\",Simulação!M469)","v":"*"},{"$f":"IF($C469=\"\",\"\",Simulação!N469)","v":423.48255314292072},{"$f":"IF($C469=\"\",\"\",Simulação!O469)","v":"*"},{"$f":"IF($C469=\"\",\"\",Simulação!P469)","v":418.11419429740238},{"$f":"IF($C469=\"\",\"\",Simulação!Q469)","v":416.08999999999986},{"$f":"IF($C469=\"\",\"\",Simulação!R469)","v":425.83056576529657},{"$f":"IF($C469=\"\",\"\",Simulação!S469)","v":"-"},{"$f":"IF($C469=\"\",\"\",Simulação!T469)","v":420.69072485703208},{"$f":"IF($C469=\"\",\"\",Simulação!U469)","v":"-"},{"$f":"IF($C469=\"\",\"\",Simulação!V469)","v":406.10034877843555},{"$f":"IF($C469=\"\",\"\",Simulação!W469)","v":"-"},{"$f":"IF($C469=\"\",\"\",Simulação!X469)","v":410.87541677376299},{"$f":"IF($C469=\"\",\"\",Simulação!Y469)","v":"-"},{"$f":"IF($C469=\"\",\"\",Simulação!Z469)","v":409.51839112975119},{"$f":"IF($C469=\"\",\"\",Simulação!AA469)","v":"-"},{"$f":"IF($C469=\"\",\"\",Simulação!AB469)","v":415.09700409030353},{"$f":"IF($C469=\"\",\"\",Simulação!AC469)","v":"-"},{"$f":"IF($C469=\"\",\"\",Simulação!AD469)","v":392.78059400288373},{"$f":"IF($C469=\"\",\"\",Simulação!AE469)","v":"-"},{"$f":"IF($C469=\"\",\"\",Simulação!AF469)","v":392.06777952328201},{"$f":"IF($C469=\"\",\"\",Simulação!AG469)","v":"-"},{"$f":"IF($C469=\"\",\"\",Simulação!AH469)","v":348.63196013630733},{"$f":"IF($C469=\"\",\"\",Simulação!AI469)","v":"-"},{"$f":"IF($C469=\"\",\"\",Simulação!AJ469)","v":33.045125393740342},{"$f":"IF($C469=\"\",\"\",Simulação!AK469)","v":"-"},{"$f":"IF($C469=\"\",\"\",Simulação!AL469)","v":32.02721881559642},{"$f":"IF($C469=\"\",\"\",Simulação!AM469)","v":"-"},{"$f":"IF($C469=\"\",\"\",Simulação!AN469)","v":32.217563507182206},{"$f":"IF($C469=\"\",\"\",Simulação!AO469)","v":"-"},{"$f":"IF($C469=\"\",\"\",Simulação!AP469)","v":36.406016086434107},{"$f":"IF($C469=\"\",\"\",Simulação!AQ469)","v":"-"},{"$f":"IF($C469=\"\",\"\",Simulação!AR469)","v":0}]
[null,463,{"$f":"IF(Chegadas!J471<=$C$5,Chegadas!J471,\"\")","v":416.69999999999987},{"$f":"IF($C470=\"\",\"\",Simulação!D470)","v":6.588979326808202},{"$f":"IF($C470=\"\",\"\",Simulação!E470)","v":"*"},{"$f":"IF($C470=\"\",\"\",Simulação!F470)","v":423.76568479587377},{"$f":"IF($C470=\"\",\"\",Simulação!G470)","v":"*"},{"$f":"IF($C470=\"\",\"\",Simulação!H470)","v":421.76126968428247},{"$f":"IF($C470=\"\",\"\",Simulação!I470)","v":"*"},{"$f":"IF($C470=\"\",\"\",Simulação!J470)","v":417.50669385862471},{"$f":"IF($C470=\"\",\"\",Simulação!K470)","v":"*"},{"$f":"IF($C470=\"\",\"\",Simulação!L470)","v":424.04950372964328},{"$f":"IF($C470=\"\",\"\",Simulação!M470)","v":"*"},{"$f":"IF($C470=\"\",\"\",Simulação!N470)","v":423.48255314292072},{"$f":"IF($C470=\"\",\"\",Simulação!O470)","v":"*"},{"$f":"IF($C470=\"\",\"\",Simulação!P470)","v":418.11419429740238},{"$f":"IF($C470=\"\",\"\",Simulação!Q470)","v":"*"},{"$f":"IF($C470=\"\",\"\",Simulação!R470)","v":425.83056576529657},{"$f":"IF($C470=\"\",\"\",Simulação!S470)","v":"*"},{"$f":"IF($C470=\"\",\"\",Simulação!T470)","v":420.69072485703208},{"$f":"IF($C470=\"\",\"\",Simulação!U470)","v":416.69999999999987},{"$f":"IF($C470=\"\",\"\",Simulação!V470)","v":423.28897932680809},{"$f":"IF($C470=\"\",\"\",Simulação!W470)","v":"-"},{"$f":"IF($C470=\"\",\"\",Simulação!X470)","v":410.87541677376299},{"$f":"IF($C470=\"\",\"\",Simulação!Y470)","v":"-"},{"$f":"IF($C470=\"\",\"\",Simulação!Z470)","v":409.51839112975119},{"$f":"IF($C470=\"\",\"\",Simulação!AA470)","v":"-"},{"$f":"IF($C470=\"\",\"\",Simulação!AB470)","v":415.09700409030353},{"$f":"IF($C470=\"\",\"\",Simulação!AC470)","v":"-"},{"$f":"IF($C470=\"\",\"\",Simulação!AD470)","v":392.78059400288373},{"$f":"IF($C470=\"\",\"\",Simulação!AE470)","v":"-"},{"$f":"IF($C470=\"\",\"\",Simulação!AF470)","v":392.06777952328201},{"$f":"IF($C470=\"\",\"\",Simulação!AG470)","v":"-"},{"$f":"IF($C470=\"\",\"\",Simulação!AH470)","v":348.63196013630733},{"$f":"IF($C470=\"\",\"\",Simulação!AI470)","v":"-"},{"$f":"IF($C470=\"\",\"\",Simulação!AJ470)","v":33.045125393740342},{"$f":"IF($C470=\"\",\"\",Simulação!AK470)","v":"-"},{"$f":"IF($C470=\"\",\"\",Simulação!AL470)","v":32.02721881559642},{"$f":"IF($C470=\"\",\"\",Simulação!AM470)","v":"-"},{"$f":"IF($C470=\"\",\"\",Simulação!AN470)","v":32.217563507182206},{"$f":"IF($C470=\"\",\"\",Simulação!AO470)","v":"-"},{"$f":"IF($C470=\"\",\"\",Simulação!AP470)","v":36.406016086434107},{"$f":"IF($C470=\"\",\"\",Simulação!AQ470)","v":"-"},{"$f":"IF($C470=\"\",\"\",Simulação!AR470)","v":0}]
[null,464,{"$f":"IF(Chegadas!J472<=$C$5,Chegadas!J472,\"\")","v":418.2999999999999},{"$f":"IF($C471=\"\",\"\",Simulação!D471)","v":3.6712763191536992},{"$f":"IF($C471=\"\",\"\",Simulação!E471)","v":"*"},{"$f":"IF($C471=\"\",\"\",Simulação!F471)","v":423.76568479587377},{"$f":"IF($C471=\"\",\"\",Simulação!G471)","v":"*"},{"$f":"IF($C471=\"\",\"\",Simulação!H471)","v":421.76126968428247},{"$f":"IF($C471=\"\",\"\",Simulação!I471)","v":418.2999999999999},{"$f":"IF($C471=\"\",\"\",Simulação!J471)","v":421.97127631915362},{"$f":"IF($C471=\"\",\"\",Simulação!K471)","v":"-"},{"$f":"IF($C471=\"\",\"\",Simulação!L471)","v":424.04950372964328},{"$f":"IF($C471=\"\",\"\",Simulação!M471)","v":"-"},{"$f":"IF($C471=\"\",\"\",Simulação!N471)","v":423.48255314292072},{"$f":"IF($C471=\"\",\"\",Simulação!O471)","v":"-"},{"$f":"IF($C471=\"\",\"\",Simulação!P471)","v":418.11419429740238},{"$f":"IF($C471=\"\",\"\",Simulação!Q471)","v":"-"},{"$f":"IF($C471=\"\",\"\",Simulação!R471)","v":425.83056576529657},{"$f":"IF($C471=\"\",\"\",Simulação!S471)","v":"-"},{"$f":"IF($C471=\"\",\"\",Simulação!T471)","v":420.69072485703208},{"$f":"IF($C471=\"\",\"\",Simulação!U471)","v":"-"},{"$f":"IF($C471=\"\",\"\",Simulação!V471)","v":423.28897932680809},{"$f":"IF($C471=\"\",\"\",Simulação!W471)","v":"-"},{"$f":"IF($C471=\"\",\"\",Simulação!X471)","v":410.87541677376299},{"$f":"IF($C471=\"\",\"\",Simulação!Y471)","v":"-"},{"$f":"IF($C471=\"\",\"\",Simulação!Z471)","v":409.51839112975119},{"$f":"IF($C471=\"\",\"\",Simulação!AA471)","v":"-"},{"$f":"IF($C471=\"\",\"\",Simulação!AB471)","v":415.09700409030353},{"$f":"IF($C471=\"\",\"\",Simulação!AC471)","v":"-"},{"$f":"IF($C471=\"\",\"\",Simulação!AD471)","v":392.78059400288373},{"$f":"IF($C471=\"\",\"\",Simulação!AE471)","v":"-"},{"$f":"IF($C471=\"\",\"\",Simulação!AF471)","v":392.06777952328201},{"$f":"IF($C471=\"\",\"\",Simulação!AG471)","v":"-"},{"$f":"IF($C471=\"\",\"\",Simulação!AH471)","v":348.63196013630733},{"$f":"IF($C471=\"\",\"\",Simulação!AI471)","v":"-"},{"$f":"IF($C471=\"\",\"\",Simulação!AJ471)","v":33.045125393740342},{"$f":"IF($C471=\"\",\"\",Simulação!AK471)","v":"-"},{"$f":"IF($C471=\"\",\"\",Simulação!AL471)","v":32.02721881559642},{"$f":"IF($C471=\"\",\"\",Simulação!AM471)","v":"-"},{"$f":"IF($C471=\"\",\"\",Simulação!AN471)","v":32.217563507182206},{"$f":"IF($C471=\"\",\"\",Simulação!AO471)","v":"-"},{"$f":"IF($C471=\"\",\"\",Simulação!AP471)","v":36.406016086434107},{"$f":"IF($C471=\"\",\"\",Simulação!AQ471)","v":"-"},{"$f":"IF($C471=\"\",\"\",Simulação!AR471)","v":0}]
[null,465,{"$f":"IF(Chegadas!J473<=$C$5,Chegadas!J473,\"\")","v":420.1099999999999},{"$f":"IF($C472=\"\",\"\",Simulação!D472)","v":5.0003400051190905},{"$f":"IF($C472=\"\",\"\",Simulação!E472)","v":"*"},{"$f":"IF($C472=\"\",\"\",Simulação!F472)","v":423.76568479587377},{"$f":"IF($C472=\"\",\"\",Simulação!G472)","v":"*"},{"$f":"IF($C472=\"\",\"\",Simulação!H472)","v":421.76126968428247},{"$f":"IF($C472=\"\",\"\",Simulação!I472)","v":"*"},{"$f":"IF($C472=\"\",\"\",Simulação!J472)","v":421.97127631915362},{"$f":"IF($C472=\"\",\"\",Simulação!K472)","v":"*"},{"$f":"IF($C472=\"\",\"\",Simulação!L472)","v":424.04950372964328},{"$f":"IF($C472=\"\",\"\",Simulação!M472)","v":"*"},{"$f":"IF($C472=\"\",\"\",Simulação!N472)","v":423.48255314292072},{"$f":"IF($C472=\"\",\"\",Simulação!O472)","v":420.1099999999999},{"$f":"IF($C472=\"\",\"\",Simulação!P472)","v":425.11034000511899},{"$f":"IF($C472=\"\",\"\",Simulação!Q472)","v":"-"},{"$f":"IF($C472=\"\",\"\",Simulação!R472)","v":425.83056576529657},{"$f":"IF($C472=\"\",\"\",Simulação!S472)","v":"-"},{"$f":"IF($C472=\"\",\"\",Simulação!T472)","v":420.69072485703208},{"$f":"IF($C472=\"\",\"\",Simulação!U472)","v":"-"},{"$f":"IF($C472=\"\",\"\",Simulação!V472)","v":423.28897932680809},{"$f":"IF($C472=\"\",\"\",Simulação!W472)","v":"-"},{"$f":"IF($C472=\"\",\"\",Simulação!X472)","v":410.87541677376299},{"$f":"IF($C472=\"\",\"\",Simulação!Y472)","v":"-"},{"$f":"IF($C472=\"\",\"\",Simulação!Z472)","v":409.51839112975119},{"$f":"IF($C472=\"\",\"\",Simulação!AA472)","v":"-"},{"$f":"IF($C472=\"\",\"\",Simulação!AB472)","v":415.09700409030353},{"$f":"IF($C472=\"\",\"\",Simulação!AC472)","v":"-"},{"$f":"IF($C472=\"\",\"\",Simulação!AD472)","v":392.78059400288373},{"$f":"IF($C472=\"\",\"\",Simulação!AE472)","v":"-"},{"$f":"IF($C472=\"\",\"\",Simulação!AF472)","v":392.06777952328201},{"$f":"IF($C472=\"\",\"\",Simulação!AG472)","v":"-"},{"$f":"IF($C472=\"\",\"\",Simulação!AH472)","v":348.63196013630733},{"$f":"IF($C472=\"\",\"\",Simulação!AI472)","v":"-"},{"$f":"IF($C472=\"\",\"\",Simulação!AJ472)","v":33.045125393740342},{"$f":"IF($C472=\"\",\"\",Simulação!AK472)","v":"-"},{"$f":"IF($C472=\"\",\"\",Simulação!AL472)","v":32.02721881559642},{"$f":"IF($C472=\"\",\"\",Simulação!AM472)","v":"-"},{"$f":"IF($C472=\"\",\"\",Simulação!AN472)","v":32.217563507182206},{"$f":"IF($C472=\"\",\"\",Simulação!AO472)","v":"-"},{"$f":"IF($C472=\"\",\"\",Simulação!AP472)","v":36.406016086434107},{"$f":"IF($C472=\"\",\"\",Simulação!AQ472)","v":"-"},{"$f":"IF($C472=\"\",\"\",Simulação!AR472)","v":0}]
[null,466,{"$f":"IF(Chegadas!J474<=$C$5,Chegadas!J474,\"\")","v":420.81999999999988},{"$f":"IF($C473=\"\",\"\",Simulação!D473)","v":1.7388629976393544},{"$f":"IF($C473=\"\",\"\",Simulação!E473)","v":"*"},{"$f":"IF($C473=\"\",\"\",Simulação!F473)","v":423.76568479587377},{"$f":"IF($C473=\"\",\"\",Simulação!G473)","v":"*"},{"$f":"IF($C473=\"\",\"\",Simulação!H473)","v":421.76126968428247},{"$f":"IF($C473=\"\",\"\",Simulação!I473)","v":"*"},{"$f":"IF($C473=\"\",\"\",Simulação!J473)","v":421.97127631915362},{"$f":"IF($C473=\"\",\"\",Simulação!K473)","v":"*"},{"$f":"IF($C473=\"\",\"\",Simulação!L473)","v":424.04950372964328},{"$f":"IF($C473=\"\",\"\",Simulação!M473)","v":"*"},{"$f":"IF($C473=\"\",\"\",Simulação!N473)","v":423.48255314292072},{"$f":"IF($C473=\"\",\"\",Simulação!O473)","v":"*"},{"$f":"IF($C473=\"\",\"\",Simulação!P473)","v":425.11034000511899},{"$f":"IF($C473=\"\",\"\",Simulação!Q473)","v":"*"},{"$f":"IF($C473=\"\",\"\",Simulação!R473)","v":425.83056576529657},{"$f":"IF($C473=\"\",\"\",Simulação!S473)","v":420.81999999999988},{"$f":"IF($C473=\"\",\"\",Simulação!T473)","v":422.55886299763921},{"$f":"IF($C473=\"\",\"\",Simulação!U473)","v":"-"},{"$f":"IF($C473=\"\",\"\",Simulação!V473)","v":423.28897932680809},{"$f":"IF($C473=\"\",\"\",Simulação!W473)","v":"-"},{"$f":"IF($C473=\"\",\"\",Simulação!X473)","v":410.87541677376299},{"$f":"IF($C473=\"\",\"\",Simulação!Y473)","v":"-"},{"$f":"IF($C473=\"\",\"\",Simulação!Z473)","v":409.51839112975119},{"$f":"IF($C473=\"\",\"\",Simulação!AA473)","v":"-"},{"$f":"IF($C473=\"\",\"\",Simulação!AB473)","v":415.09700409030353},{"$f":"IF($C473=\"\",\"\",Simulação!AC473)","v":"-"},{"$f":"IF($C473=\"\",\"\",Simulação!AD473)","v":392.78059400288373},{"$f":"IF($C473=\"\",\"\",Simulação!AE473)","v":"-"},{"$f":"IF($C473=\"\",\"\",Simulação!AF473)","v":392.06777952328201},{"$f":"IF($C473=\"\",\"\",Simulação!AG473)","v":"-"},{"$f":"IF($C473=\"\",\"\",Simulação!AH473)","v":348.63196013630733},{"$f":"IF($C473=\"\",\"\",Simulação!AI473)","v":"-"},{"$f":"IF($C473=\"\",\"\",Simulação!AJ473)","v":33.045125393740342},{"$f":"IF($C473=\"\",\"\",Simulação!AK473)","v":"-"},{"$f":"IF($C473=\"\",\"\",Simulação!AL473)","v":32.02721881559642},{"$f":"IF($C473=\"\",\"\",Simulação!AM473)","v":"-"},{"$f":"IF($C473=\"\",\"\",Simulação!AN473)","v":32.217563507182206},{"$f":"IF($C473=\"\",\"\",Simulação!AO473)","v":"-"},{"$f":"IF($C473=\"\",\"\",Simulação!AP473)","v":36.406016086434107},{"$f":"IF($C473=\"\",\"\",Simulação!AQ473)","v":"-"},{"$f":"IF($C473=\"\",\"\",Simulação!AR473)","v":0}]
[null,467,{"$f":"IF(Chegadas!J475<=$C$5,Chegadas!J475,\"\")","v":421.5499999999999},{"$f":"IF($C474=\"\",\"\",Simulação!D474)","v":4.2734171482426557},{"$f":"IF($C474=\"\",\"\",Simulação!E474)","v":"*"},{"$f":"IF($C474=\"\",\"\",Simulação!F474)","v":423.76568479587377},{"$f":"IF($C474=\"\",\"\",Simulação!G474)","v":"*"},{"$f":"IF($C474=\"\",\"\",Simulação!H474)","v":421.76126968428247},{"$f":"IF($C474=\"\",\"\",Simulação!I474)","v":"*"},{"$f":"IF($C474=\"\",\"\",Simulação!J474)","v":421.97127631915362},{"$f":"IF($C474=\"\",\"\",Simulação!K474)","v":"*"},{"$f":"IF($C474=\"\",\"\",Simulação!L474)","v":424.04950372964328},{"$f":"IF($C474=\"\",\"\",Simulação!M474)","v":"*"},{"$f":"IF($C474=\"\",\"\",Simulação!N474)","v":423.48255314292072},{"$f":"IF($C474=\"\",\"\",Simulação!O474)","v":"*"},{"$f":"IF($C474=\"\",\"\",Simulação!P474)","v":425.11034000511899},{"$f":"IF($C474=\"\",\"\",Simulação!Q474)","v":"*"},{"$f":"IF($C474=\"\",\"\",Simulação!R474)","v":425.83056576529657},{"$f":"IF($C474=\"\",\"\",Simulação!S474)","v":"*"},{"$f":"IF($C474=\"\",\"\",Simulação!T474)","v":422.55886299763921},{"$f":"IF($C474=\"\",\"\",Simulação!U474)","v":"*"},{"$f":"IF($C474=\"\",\"\",Simulação!V474)","v":423.28897932680809},{"$f":"IF($C474=\"\",\"\",Simulação!W474)","v":421.5499999999999},{"$f":"IF($C474=\"\",\"\",Simulação!X474)","v":425.82341714824253},{"$f":"IF($C474=\"\",\"\",Simulação!Y474)","v":"-"},{"$f":"IF($C474=\"\",\"\",Simulação!Z474)","v":409.51839112975119},{"$f":"IF($C474=\"\",\"\",Simulação!AA474)","v":"-"},{"$f":"IF($C474=\"\",\"\",Simulação!AB474)","v":415.09700409030353},{"$f":"IF($C474=\"\",\"\",Simulação!AC474)","v":"-"},{"$f":"IF($C474=\"\",\"\",Simulação!AD474)","v":392.78059400288373},{"$f":"IF($C474=\"\",\"\",Simulação!AE474)","v":"-"},{"$f":"IF($C474=\"\",\"\",Simulação!AF474)","v":392.06777952328201},{"$f":"IF($C474=\"\",\"\",Simulação!AG474)","v":"-"},{"$f":"IF($C474=\"\",\"\",Simulação!AH474)","v":348.63196013630733},{"$f":"IF($C474=\"\",\"\",Simulação!AI474)","v":"-"},{"$f":"IF($C474=\"\",\"\",Simulação!AJ474)","v":33.045125393740342},{"$f":"IF($C474=\"\",\"\",Simulação!AK474)","v":"-"},{"$f":"IF($C474=\"\",\"\",Simulação!AL474)","v":32.02721881559642},{"$f":"IF($C474=\"\",\"\",Simulação!AM474)","v":"-"},{"$f":"IF($C474=\"\",\"\",Simulação!AN474)","v":32.217563507182206},{"$f":"IF($C474=\"\",\"\",Simulação!AO474)","v":"-"},{"$f":"IF($C474=\"\",\"\",Simulação!AP474)","v":36.406016086434107},{"$f":"IF($C474=\"\",\"\",Simulação!AQ474)","v":"-"},{"$f":"IF($C474=\"\",\"\",Simulação!AR474)","v":0}]
[null,468,{"$f":"IF(Chegadas!J476<=$C$5,Chegadas!J476,\"\")","v":421.68999999999988},{"$f":"IF($C475=\"\",\"\",Simulação!D475)","v":4.5547225932459572},{"$f":"IF($C475=\"\",\"\",Simulação!E475)","v":"*"},{"$f":"IF($C475=\"\",\"\",Simulação!F475)","v":423.76568479587377},{"$f":"IF($C475=\"\",\"\",Simulação!G475)","v":"*"},{"$f":"IF($C475=\"\",\"\",Simulação!H475)","v":421.76126968428247},{"$f":"IF($C475=\"\",\"\",Simulação!I475)","v":"*"},{"$f":"IF($C475=\"\",\"\",Simulação!J475)","v":421.97127631915362},{"$f":"IF($C475=\"\",\"\",Simulação!K475)","v":"*"},{"$f":"IF($C475=\"\",\"\",Simulação!L475)","v":424.04950372964328},{"$f":"IF($C475=\"\",\"\",Simulação!M475)","v":"*"},{"$f":"IF($C475=\"\",\"\",Simulação!N475)","v":423.48255314292072},{"$f":"IF($C475=\"\",\"\",Simulação!O475)","v":"*"},{"$f":"IF($C475=\"\",\"\",Simulação!P475)","v":425.11034000511899},{"$f":"IF($C475=\"\",\"\",Simulação!Q475)","v":"*"},{"$f":"IF($C475=\"\",\"\",Simulação!R475)","v":425.83056576529657},{"$f":"IF($C475=\"\",\"\",Simulação!S475)","v":"*"},{"$f":"IF($C475=\"\",\"\",Simulação!T475)","v":422.55886299763921},{"$f":"IF($C475=\"\",\"\",Simulação!U475)","v":"*"},{"$f":"IF($C475=\"\",\"\",Simulação!V475)","v":423.28897932680809},{"$f":"IF($C475=\"\",\"\",Simulação!W475)","v":"*"},{"$f":"IF($C475=\"\",\"\",Simulação!X475)","v":425.82341714824253},{"$f":"IF($C475=\"\",\"\",Simulação!Y475)","v":421.68999999999988},{"$f":"IF($C475=\"\",\"\",Simulação!Z475)","v":426.24472259324585},{"$f":"IF($C475=\"\",\"\",Simulação!AA475)","v":"-"},{"$f":"IF($C475=\"\",\"\",Simulação!AB475)","v":415.09700409030353},{"$f":"IF($C475=\"\",\"\",Simulação!AC475)","v":"-"},{"$f":"IF($C475=\"\",\"\",Simulação!AD475)","v":392.78059400288373},{"$f":"IF($C475=\"\",\"\",Simulação!AE475)","v":"-"},{"$f":"IF($C475=\"\",\"\",Simulação!AF475)","v":392.06777952328201},{"$f":"IF($C475=\"\",\"\",Simulação!AG475)","v":"-"},{"$f":"IF($C475=\"\",\"\",Simulação!AH475)","v":348.63196013630733},{"$f":"IF($C475=\"\",\"\",Simulação!AI475)","v":"-"},{"$f":"IF($C475=\"\",\"\",Simulação!AJ475)","v":33.045125393740342},{"$f":"IF($C475=\"\",\"\",Simulação!AK475)","v":"-"},{"$f":"IF($C475=\"\",\"\",Simulação!AL475)","v":32.02721881559642},{"$f":"IF($C475=\"\",\"\",Simulação!AM475)","v":"-"},{"$f":"IF($C475=\"\",\"\",Simulação!AN475)","v":32.217563507182206},{"$f":"IF($C475=\"\",\"\",Simulação!AO475)","v":"-"},{"$f":"IF($C475=\"\",\"\",Simulação!AP475)","v":36.406016086434107},{"$f":"IF($C475=\"\",\"\",Simulação!AQ475)","v":"-"},{"$f":"IF($C475=\"\",\"\",Simulação!AR475)","v":0}]
[null,469,{"$f":"IF(Chegadas!J477<=$C$5,Chegadas!J477,\"\")","v":421.7299999999999},{"$f":"IF($C476=\"\",\"\",Simulação!D476)","v":3.039142654211608},{"$f":"IF($C476=\"\",\"\",Simulação!E476)","v":"*"},{"$f":"IF($C476=\"\",\"\",Simulação!F476)","v":423.76568479587377},{"$f":"IF($C476=\"\",\"\",Simulação!G476)","v":"*"},{"$f":"IF($C476=\"\",\"\",Simulação!H476)","v":421.76126968428247},{"$f":"IF($C476=\"\",\"\",Simulação!I476)","v":"*"},{"$f":"IF($C476=\"\",\"\",Simulação!J476)","v":421.97127631915362},{"$f":"IF($C476=\"\",\"\",Simulação!K476)","v":"*"},{"$f":"IF($C476=\"\",\"\",Simulação!L476)","v":424.04950372964328},{"$f":"IF($C476=\"\",\"\",Simulação!M476)","v":"*"},{"$f":"IF($C476=\"\",\"\",Simulação!N476)","v":423.48255314292072},{"$f":"IF($C476=\"\",\"\",Simulação!O476)","v":"*"},{"$f":"IF($C476=\"\",\"\",Simulação!P476)","v":425.11034000511899},{"$f":"IF($C476=\"\",\"\",Simulação!Q476)","v":"*"},{"$f":"IF($C476=\"\",\"\",Simulação!R476)","v":425.83056576529657},{"$f":"IF($C476=\"\",\"\",Simulação!S476)","v":"*"},{"$f":"IF($C476=\"\",\"\",Simulação!T476)","v":422.55886299763921},{"$f":"IF($C476=\"\",\"\",Simulação!U476)","v":"*"},{"$f":"IF($C476=\"\",\"\",Simulação!V476)","v":423.28897932680809},{"$f":"IF($C476=\"\",\"\",Simulação!W476)","v":"*"},{"$f":"IF($C476=\"\",\"\",Simulação!X476)","v":425.82341714824253},{"$f":"IF($C476=\"\",\"\",Simulação!Y476)","v":"*"},{"$f":"IF($C476=\"\",\"\",Simulação!Z476)","v":426.24472259324585},{"$f":"IF($C476=\"\",\"\",Simulação!AA476)","v":421.7299999999999},{"$f":"IF($C476=\"\",\"\",Simulação!AB476)","v":424.76914265421152},{"$f":"IF($C476=\"\",\"\",Simulação!AC476)","v":"-"},{"$f":"IF($C476=\"\",\"\",Simulação!AD476)","v":392.78059400288373},{"$f":"IF($C476=\"\",\"\",Simulação!AE476)","v":"-"},{"$f":"IF($C476=\"\",\"\",Simulação!AF476)","v":392.06777952328201},{"$f":"IF($C476=\"\",\"\",Simulação!AG476)","v":"-"},{"$f":"IF($C476=\"\",\"\",Simulação!AH476)","v":348.63196013630733},{"$f":"IF($C476=\"\",\"\",Simulação!AI476)","v":"-"},{"$f":"IF($C476=\"\",\"\",Simulação!AJ476)","v":33.045125393740342},{"$f":"IF($C476=\"\",\"\",Simulação!AK476)","v":"-"},{"$f":"IF($C476=\"\",\"\",Simulação!AL476)","v":32.02721881559642},{"$f":"IF($C476=\"\",\"\",Simulação!AM476)","v":"-"},{"$f":"IF($C476=\"\",\"\",Simulação!AN476)","v":32.217563507182206},{"$f":"IF($C476=\"\",\"\",Simulação!AO476)","v":"-"},{"$f":"IF($C476=\"\",\"\",Simulação!AP476)","v":36.406016086434107},{"$f":"IF($C476=\"\",\"\",Simulação!AQ476)","v":"-"},{"$f":"IF($C476=\"\",\"\",Simulação!AR476)","v":0}]
[null,470,{"$f":"IF(Chegadas!J478<=$C$5,Chegadas!J478,\"\")","v":421.83999999999992},{"$f":"IF($C477=\"\",\"\",Simulação!D477)","v":10.920959624246169},{"$f":"IF($C477=\"\",\"\",Simulação!E477)","v":"*"},{"$f":"IF($C477=\"\",\"\",Simulação!F477)","v":423.76568479587377},{"$f":"IF($C477=\"\",\"\",Simulação!G477)","v":421.83999999999992},{"$f":"IF($C477=\"\",\"\",Simulação!H477)","v":432.76095962424608},{"$f":"IF($C477=\"\",\"\",Simulação!I477)","v":"-"},{"$f":"IF($C477=\"\",\"\",Simulação!J477)","v":421.97127631915362},{"$f":"IF($C477=\"\",\"\",Simulação!K477)","v":"-"},{"$f":"IF($C477=\"\",\"\",Simulação!L477)","v":424.04950372964328},{"$f":"IF($C477=\"\",\"\",Simulação!M477)","v":"-"},{"$f":"IF($C477=\"\",\"\",Simulação!N477)","v":423.48255314292072},{"$f":"IF($C477=\"\",\"\",Simulação!O477)","v":"-"},{"$f":"IF($C477=\"\",\"\",Simulação!P477)","v":425.11034000511899},{"$f":"IF($C477=\"\",\"\",Simulação!Q477)","v":"-"},{"$f":"IF($C477=\"\",\"\",Simulação!R477)","v":425.83056576529657},{"$f":"IF($C477=\"\",\"\",Simulação!S477)","v":"-"},{"$f":"IF($C477=\"\",\"\",Simulação!T477)","v":422.55886299763921},{"$f":"IF($C477=\"\",\"\",Simulação!U477)","v":"-"},{"$f":"IF($C477=\"\",\"\",Simulação!V477)","v":423.28897932680809},{"$f":"IF($C477=\"\",\"\",Simulação!W477)","v":"-"},{"$f":"IF($C477=\"\",\"\",Simulação!X477)","v":425.82341714824253},{"$f":"IF($C477=\"\",\"\",Simulação!Y477)","v":"-"},{"$f":"IF($C477=\"\",\"\",Simulação!Z477)","v":426.24472259324585},{"$f":"IF($C477=\"\",\"\",Simulação!AA477)","v":"-"},{"$f":"IF($C477=\"\",\"\",Simulação!AB477)","v":424.76914265421152},{"$f":"IF($C477=\"\",\"\",Simulação!AC477)","v":"-"},{"$f":"IF($C477=\"\",\"\",Simulação!AD477)","v":392.78059400288373},{"$f":"IF($C477=\"\",\"\",Simulação!AE477)","v":"-"},{"$f":"IF($C477=\"\",\"\",Simulação!AF477)","v":392.06777952328201},{"$f":"IF($C477=\"\",\"\",Simulação!AG477)","v":"-"},{"$f":"IF($C477=\"\",\"\",Simulação!AH477)","v":348.63196013630733},{"$f":"IF($C477=\"\",\"\",Simulação!AI477)","v":"-"},{"$f":"IF($C477=\"\",\"\",Simulação!AJ477)","v":33.045125393740342},{"$f":"IF($C477=\"\",\"\",Simulação!AK477)","v":"-"},{"$f":"IF($C477=\"\",\"\",Simulação!AL477)","v":32.02721881559642},{"$f":"IF($C477=\"\",\"\",Simulação!AM477)","v":"-"},{"$f":"IF($C477=\"\",\"\",Simulação!AN477)","v":32.217563507182206},{"$f":"IF($C477=\"\",\"\",Simulação!AO477)","v":"-"},{"$f":"IF($C477=\"\",\"\",Simulação!AP477)","v":36.406016086434107},{"$f":"IF($C477=\"\",\"\",Simulação!AQ477)","v":"-"},{"$f":"IF($C477=\"\",\"\",Simulação!AR477)","v":0}]
[null,471,{"$f":"IF(Chegadas!J479<=$C$5,Chegadas!J479,\"\")","v":421.95999999999992},{"$f":"IF($C478=\"\",\"\",Simulação!D478)","v":5.8011025505678466},{"$f":"IF($C478=\"\",\"\",Simulação!E478)","v":"*"},{"$f":"IF($C478=\"\",\"\",Simulação!F478)","v":423.76568479587377},{"$f":"IF($C478=\"\",\"\",Simulação!G478)","v":"*"},{"$f":"IF($C478=\"\",\"\",Simulação!H478)","v":432.76095962424608},{"$f":"IF($C478=\"\",\"\",Simulação!I478)","v":"*"},{"$f":"IF($C478=\"\",\"\",Simulação!J478)","v":421.97127631915362},{"$f":"IF($C478=\"\",\"\",Simulação!K478)","v":"*"},{"$f":"IF($C478=\"\",\"\",Simulação!L478)","v":424.04950372964328},{"$f":"IF($C478=\"\",\"\",Simulação!M478)","v":"*"},{"$f":"IF($C478=\"\",\"\",Simulação!N478)","v":423.48255314292072},{"$f":"IF($C478=\"\",\"\",Simulação!O478)","v":"*"},{"$f":"IF($C478=\"\",\"\",Simulação!P478)","v":425.11034000511899},{"$f":"IF($C478=\"\",\"\",Simulação!Q478)","v":"*"},{"$f":"IF($C478=\"\",\"\",Simulação!R478)","v":425.83056576529657},{"$f":"IF($C478=\"\",\"\",Simulação!S478)","v":"*"},{"$f":"IF($C478=\"\",\"\",Simulação!T478)","v":422.55886299763921},{"$f":"IF($C478=\"\",\"\",Simulação!U478)","v":"*"},{"$f":"IF($C478=\"\",\"\",Simulação!V478)","v":423.28897932680809},{"$f":"IF($C478=\"\",\"\",Simulação!W478)","v":"*"},{"$f":"IF($C478=\"\",\"\",Simulação!X478)","v":425.82341714824253},{"$f":"IF($C478=\"\",\"\",Simulação!Y478)","v":"*"},{"$f":"IF($C478=\"\",\"\",Simulação!Z478)","v":426.24472259324585},{"$f":"IF($C478=\"\",\"\",Simulação!AA478)","v":"*"},{"$f":"IF($C478=\"\",\"\",Simulação!AB478)","v":424.76914265421152},{"$f":"IF($C478=\"\",\"\",Simulação!AC478)","v":421.95999999999992},{"$f":"IF($C478=\"\",\"\",Simulação!AD478)","v":427.76110255056778},{"$f":"IF($C478=\"\",\"\",Simulação!AE478)","v":"-"},{"$f":"IF($C478=\"\",\"\",Simulação!AF478)","v":392.06777952328201},{"$f":"IF($C478=\"\",\"\",Simulação!AG478)","v":"-"},{"$f":"IF($C478=\"\",\"\",Simulação!AH478)","v":348.63196013630733},{"$f":"IF($C478=\"\",\"\",Simulação!AI478)","v":"-"},{"$f":"IF($C478=\"\",\"\",Simulação!AJ478)","v":33.045125393740342},{"$f":"IF($C478=\"\",\"\",Simulação!AK478)","v":"-"},{"$f":"IF($C478=\"\",\"\",Simulação!AL478)","v":32.02721881559642},{"$f":"IF($C478=\"\",\"\",Simulação!AM478)","v":"-"},{"$f":"IF($C478=\"\",\"\",Simulação!AN478)","v":32.217563507182206},{"$f":"IF($C478=\"\",\"\",Simulação!AO478)","v":"-"},{"$f":"IF($C478=\"\",\"\",Simulação!AP478)","v":36.406016086434107},{"$f":"IF($C478=\"\",\"\",Simulação!AQ478)","v":"-"},{"$f":"IF($C478=\"\",\"\",Simulação!AR478)","v":0}]
[null,472,{"$f":"IF(Chegadas!J480<=$C$5,Chegadas!J480,\"\")","v":422.12999999999994},{"$f":"IF($C479=\"\",\"\",Simulação!D479)","v":9.0910390620399308},{"$f":"IF($C479=\"\",\"\",Simulação!E479)","v":"*"},{"$f":"IF($C479=\"\",\"\",Simulação!F479)","v":423.76568479587377},{"$f":"IF($C479=\"\",\"\",Simulação!G479)","v":"*"},{"$f":"IF($C479=\"\",\"\",Simulação!H479)","v":432.76095962424608},{"$f":"IF($C479=\"\",\"\",Simulação!I479)","v":422.12999999999994},{"$f":"IF($C479=\"\",\"\",Simulação!J479)","v":431.22103906203989},{"$f":"IF($C479=\"\",\"\",Simulação!K479)","v":"-"},{"$f":"IF($C479=\"\",\"\",Simulação!L479)","v":424.04950372964328},{"$f":"IF($C479=\"\",\"\",Simulação!M479)","v":"-"},{"$f":"IF($C479=\"\",\"\",Simulação!N479)","v":423.48255314292072},{"$f":"IF($C479=\"\",\"\",Simulação!O479)","v":"-"},{"$f":"IF($C479=\"\",\"\",Simulação!P479)","v":425.11034000511899},{"$f":"IF($C479=\"\",\"\",Simulação!Q479)","v":"-"},{"$f":"IF($C479=\"\",\"\",Simulação!R479)","v":425.83056576529657},{"$f":"IF($C479=\"\",\"\",Simulação!S479)","v":"-"},{"$f":"IF($C479=\"\",\"\",Simulação!T479)","v":422.55886299763921},{"$f":"IF($C479=\"\",\"\",Simulação!U479)","v":"-"},{"$f":"IF($C479=\"\",\"\",Simulação!V479)","v":423.28897932680809},{"$f":"IF($C479=\"\",\"\",Simulação!W479)","v":"-"},{"$f":"IF($C479=\"\",\"\",Simulação!X479)","v":425.82341714824253},{"$f":"IF($C479=\"\",\"\",Simulação!Y479)","v":"-"},{"$f":"IF($C479=\"\",\"\",Simulação!Z479)","v":426.24472259324585},{"$f":"IF($C479=\"\",\"\",Simulação!AA479)","v":"-"},{"$f":"IF($C479=\"\",\"\",Simulação!AB479)","v":424.76914265421152},{"$f":"IF($C479=\"\",\"\",Simulação!AC479)","v":"-"},{"$f":"IF($C479=\"\",\"\",Simulação!AD479)","v":427.76110255056778},{"$f":"IF($C479=\"\",\"\",Simulação!AE479)","v":"-"},{"$f":"IF($C479=\"\",\"\",Simulação!AF479)","v":392.06777952328201},{"$f":"IF($C479=\"\",\"\",Simulação!AG479)","v":"-"},{"$f":"IF($C479=\"\",\"\",Simulação!AH479)","v":348.63196013630733},{"$f":"IF($C479=\"\",\"\",Simulação!AI479)","v":"-"},{"$f":"IF($C479=\"\",\"\",Simulação!AJ479)","v":33.045125393740342},{"$f":"IF($C479=\"\",\"\",Simulação!AK479)","v":"-"},{"$f":"IF($C479=\"\",\"\",Simulação!AL479)","v":32.02721881559642},{"$f":"IF($C479=\"\",\"\",Simulação!AM479)","v":"-"},{"$f":"IF($C479=\"\",\"\",Simulação!AN479)","v":32.217563507182206},{"$f":"IF($C479=\"\",\"\",Simulação!AO479)","v":"-"},{"$f":"IF($C479=\"\",\"\",Simulação!AP479)","v":36.406016086434107},{"$f":"IF($C479=\"\",\"\",Simulação!AQ479)","v":"-"},{"$f":"IF($C479=\"\",\"\",Simulação!AR479)","v":0}]
[null,473,{"$f":"IF(Chegadas!J481<=$C$5,Chegadas!J481,\"\")","v":423.23999999999995},{"$f":"IF($C480=\"\",\"\",Simulação!D480)","v":6.6168942986792567},{"$f":"IF($C480=\"\",\"\",Simulação!E480)","v":"*"},{"$f":"IF($C480=\"\",\"\",Simulação!F480)","v":423.76568479587377},{"$f":"IF($C480=\"\",\"\",Simulação!G480)","v":"*"},{"$f":"IF($C480=\"\",\"\",Simulação!H480)","v":432.76095962424608},{"$f":"IF($C480=\"\",\"\",Simulação!I480)","v":"*"},{"$f":"IF($C480=\"\",\"\",Simulação!J480)","v":431.22103906203989},{"$f":"IF($C480=\"\",\"\",Simulação!K480)","v":"*"},{"$f":"IF($C480=\"\",\"\",Simulação!L480)","v":424.04950372964328},{"$f":"IF($C480=\"\",\"\",Simulação!M480)","v":"*"},{"$f":"IF($C480=\"\",\"\",Simulação!N480)","v":423.48255314292072},{"$f":"IF($C480=\"\",\"\",Simulação!O480)","v":"*"},{"$f":"IF($C480=\"\",\"\",Simulação!P480)","v":425.11034000511899},{"$f":"IF($C480=\"\",\"\",Simulação!Q480)","v":"*"},{"$f":"IF($C480=\"\",\"\",Simulação!R480)","v":425.83056576529657},{"$f":"IF($C480=\"\",\"\",Simulação!S480)","v":423.23999999999995},{"$f":"IF($C480=\"\",\"\",Simulação!T480)","v":429.85689429867921},{"$f":"IF($C480=\"\",\"\",Simulação!U480)","v":"-"},{"$f":"IF($C480=\"\",\"\",Simulação!V480)","v":423.28897932680809},{"$f":"IF($C480=\"\",\"\",Simulação!W480)","v":"-"},{"$f":"IF($C480=\"\",\"\",Simulação!X480)","v":425.82341714824253},{"$f":"IF($C480=\"\",\"\",Simulação!Y480)","v":"-"},{"$f":"IF($C480=\"\",\"\",Simulação!Z480)","v":426.24472259324585},{"$f":"IF($C480=\"\",\"\",Simulação!AA480)","v":"-"},{"$f":"IF($C480=\"\",\"\",Simulação!AB480)","v":424.76914265421152},{"$f":"IF($C480=\"\",\"\",Simulação!AC480)","v":"-"},{"$f":"IF($C480=\"\",\"\",Simulação!AD480)","v":427.76110255056778},{"$f":"IF($C480=\"\",\"\",Simulação!AE480)","v":"-"},{"$f":"IF($C480=\"\",\"\",Simulação!AF480)","v":392.06777952328201},{"$f":"IF($C480=\"\",\"\",Simulação!AG480)","v":"-"},{"$f":"IF($C480=\"\",\"\",Simulação!AH480)","v":348.63196013630733},{"$f":"IF($C480=\"\",\"\",Simulação!AI480)","v":"-"},{"$f":"IF($C480=\"\",\"\",Simulação!AJ480)","v":33.045125393740342},{"$f":"IF($C480=\"\",\"\",Simulação!AK480)","v":"-"},{"$f":"IF($C480=\"\",\"\",Simulação!AL480)","v":32.02721881559642},{"$f":"IF($C480=\"\",\"\",Simulação!AM480)","v":"-"},{"$f":"IF($C480=\"\",\"\",Simulação!AN480)","v":32.217563507182206},{"$f":"IF($C480=\"\",\"\",Simulação!AO480)","v":"-"},{"$f":"IF($C480=\"\",\"\",Simulação!AP480)","v":36.406016086434107},{"$f":"IF($C480=\"\",\"\",Simulação!AQ480)","v":"-"},{"$f":"IF($C480=\"\",\"\",Simulação!AR480)","v":0}]
[null,474,{"$f":"IF(Chegadas!J482<=$C$5,Chegadas!J482,\"\")","v":423.74},{"$f":"IF($C481=\"\",\"\",Simulação!D481)","v":1.0918193981511606},{"$f":"IF($C481=\"\",\"\",Simulação!E481)","v":"*"},{"$f":"IF($C481=\"\",\"\",Simulação!F481)","v":423.76568479587377},{"$f":"IF($C481=\"\",\"\",Simulação!G481)","v":"*"},{"$f":"IF($C481=\"\",\"\",Simulação!H481)","v":432.76095962424608},{"$f":"IF($C481=\"\",\"\",Simulação!I481)","v":"*"},{"$f":"IF($C481=\"\",\"\",Simulação!J481)","v":431.22103906203989},{"$f":"IF($C481=\"\",\"\",Simulação!K481)","v":"*"},{"$f":"IF($C481=\"\",\"\",Simulação!L481)","v":424.04950372964328},{"$f":"IF($C481=\"\",\"\",Simulação!M481)","v":423.74},{"$f":"IF($C481=\"\",\"\",Simulação!N481)","v":424.8318193981512},{"$f":"IF($C481=\"\",\"\",Simulação!O481)","v":"-"},{"$f":"IF($C481=\"\",\"\",Simulação!P481)","v":425.11034000511899},{"$f":"IF($C481=\"\",\"\",Simulação!Q481)","v":"-"},{"$f":"IF($C481=\"\",\"\",Simulação!R481)","v":425.83056576529657},{"$f":"IF($C481=\"\",\"\",Simulação!S481)","v":"-"},{"$f":"IF($C481=\"\",\"\",Simulação!T481)","v":429.85689429867921},{"$f":"IF($C481=\"\",\"\",Simulação!U481)","v":"-"},{"$f":"IF($C481=\"\",\"\",Simulação!V481)","v":423.28897932680809},{"$f":"IF($C481=\"\",\"\",Simulação!W481)","v":"-"},{"$f":"IF($C481=\"\",\"\",Simulação!X481)","v":425.82341714824253},{"$f":"IF($C481=\"\",\"\",Simulação!Y481)","v":"-"},{"$f":"IF($C481=\"\",\"\",Simulação!Z481)","v":426.24472259324585},{"$f":"IF($C481=\"\",\"\",Simulação!AA481)","v":"-"},{"$f":"IF($C481=\"\",\"\",Simulação!AB481)","v":424.76914265421152},{"$f":"IF($C481=\"\",\"\",Simulação!AC481)","v":"-"},{"$f":"IF($C481=\"\",\"\",Simulação!AD481)","v":427.76110255056778},{"$f":"IF($C481=\"\",\"\",Simulação!AE481)","v":"-"},{"$f":"IF($C481=\"\",\"\",Simulação!AF481)","v":392.06777952328201},{"$f":"IF($C481=\"\",\"\",Simulação!AG481)","v":"-"},{"$f":"IF($C481=\"\",\"\",Simulação!AH481)","v":348.63196013630733},{"$f":"IF($C481=\"\",\"\",Simulação!AI481)","v":"-"},{"$f":"IF($C481=\"\",\"\",Simulação!AJ481)","v":33.045125393740342},{"$f":"IF($C481=\"\",\"\",Simulação!AK481)","v":"-"},{"$f":"IF($C481=\"\",\"\",Simulação!AL481)","v":32.02721881559642},{"$f":"IF($C481=\"\",\"\",Simulação!AM481)","v":"-"},{"$f":"IF($C481=\"\",\"\",Simulação!AN481)","v":32.217563507182206},{"$f":"IF($C481=\"\",\"\",Simulação!AO481)","v":"-"},{"$f":"IF($C481=\"\",\"\",Simulação!AP481)","v":36.406016086434107},{"$f":"IF($C481=\"\",\"\",Simulação!AQ481)","v":"-"},{"$f":"IF($C481=\"\",\"\",Simulação!AR481)","v":0}]
[null,475,{"$f":"IF(Chegadas!J483<=$C$5,Chegadas!J483,\"\")","v":425.07999999999993},{"$f":"IF($C482=\"\",\"\",Simulação!D482)","v":8.0379402717428903},{"$f":"IF($C482=\"\",\"\",Simulação!E482)","v":425.07999999999993},{"$f":"IF($C482=\"\",\"\",Simulação!F482)","v":433.11794027174284},{"$f":"IF($C482=\"\",\"\",Simulação!G482)","v":"-"},{"$f":"IF($C482=\"\",\"\",Simulação!H482)","v":432.76095962424608},{"$f":"IF($C482=\"\",\"\",Simulação!I482)","v":"-"},{"$f":"IF($C482=\"\",\"\",Simulação!J482)","v":431.22103906203989},{"$f":"IF($C482=\"\",\"\",Simulação!K482)","v":"-"},{"$f":"IF($C482=\"\",\"\",Simulação!L482)","v":424.04950372964328},{"$f":"IF($C482=\"\",\"\",Simulação!M482)","v":"-"},{"$f":"IF($C482=\"\",\"\",Simulação!N482)","v":424.8318193981512},{"$f":"IF($C482=\"\",\"\",Simulação!O482)","v":"-"},{"$f":"IF($C482=\"\",\"\",Simulação!P482)","v":425.11034000511899},{"$f":"IF($C482=\"\",\"\",Simulação!Q482)","v":"-"},{"$f":"IF($C482=\"\",\"\",Simulação!R482)","v":425.83056576529657},{"$f":"IF($C482=\"\",\"\",Simulação!S482)","v":"-"},{"$f":"IF($C482=\"\",\"\",Simulação!T482)","v":429.85689429867921},{"$f":"IF($C482=\"\",\"\",Simulação!U482)","v":"-"},{"$f":"IF($C482=\"\",\"\",Simulação!V482)","v":423.28897932680809},{"$f":"IF($C482=\"\",\"\",Simulação!W482)","v":"-"},{"$f":"IF($C482=\"\",\"\",Simulação!X482)","v":425.82341714824253},{"$f":"IF($C482=\"\",\"\",Simulação!Y482)","v":"-"},{"$f":"IF($C482=\"\",\"\",Simulação!Z482)","v":426.24472259324585},{"$f":"IF($C482=\"\",\"\",Simulação!AA482)","v":"-"},{"$f":"IF($C482=\"\",\"\",Simulação!AB482)","v":424.76914265421152},{"$f":"IF($C482=\"\",\"\",Simulação!AC482)","v":"-"},{"$f":"IF($C482=\"\",\"\",Simulação!AD482)","v":427.76110255056778},{"$f":"IF($C482=\"\",\"\",Simulação!AE482)","v":"-"},{"$f":"IF($C482=\"\",\"\",Simulação!AF482)","v":392.06777952328201},{"$f":"IF($C482=\"\",\"\",Simulação!AG482)","v":"-"},{"$f":"IF($C482=\"\",\"\",Simulação!AH482)","v":348.63196013630733},{"$f":"IF($C482=\"\",\"\",Simulação!AI482)","v":"-"},{"$f":"IF($C482=\"\",\"\",Simulação!AJ482)","v":33.045125393740342},{"$f":"IF($C482=\"\",\"\",Simulação!AK482)","v":"-"},{"$f":"IF($C482=\"\",\"\",Simulação!AL482)","v":32.02721881559642},{"$f":"IF($C482=\"\",\"\",Simulação!AM482)","v":"-"},{"$f":"IF($C482=\"\",\"\",Simulação!AN482)","v":32.217563507182206},{"$f":"IF($C482=\"\",\"\",Simulação!AO482)","v":"-"},{"$f":"IF($C482=\"\",\"\",Simulação!AP482)","v":36.406016086434107},{"$f":"IF($C482=\"\",\"\",Simulação!AQ482)","v":"-"},{"$f":"IF($C482=\"\",\"\",Simulação!AR482)","v":0}]
[null,476,{"$f":"IF(Chegadas!J484<=$C$5,Chegadas!J484,\"\")","v":426.06999999999994},{"$f":"IF($C483=\"\",\"\",Simulação!D483)","v":4.4032769978852482},{"$f":"IF($C483=\"\",\"\",Simulação!E483)","v":"*"},{"$f":"IF($C483=\"\",\"\",Simulação!F483)","v":433.11794027174284},{"$f":"IF($C483=\"\",\"\",Simulação!G483)","v":"*"},{"$f":"IF($C483=\"\",\"\",Simulação!H483)","v":432.76095962424608},{"$f":"IF($C483=\"\",\"\",Simulação!I483)","v":"*"},{"$f":"IF($C483=\"\",\"\",Simulação!J483)","v":431.22103906203989},{"$f":"IF($C483=\"\",\"\",Simulação!K483)","v":426.06999999999994},{"$f":"IF($C483=\"\",\"\",Simulação!L483)","v":430.47327699788519},{"$f":"IF($C483=\"\",\"\",Simulação!M483)","v":"-"},{"$f":"IF($C483=\"\",\"\",Simulação!N483)","v":424.8318193981512},{"$f":"IF($C483=\"\",\"\",Simulação!O483)","v":"-"},{"$f":"IF($C483=\"\",\"\",Simulação!P483)","v":425.11034000511899},{"$f":"IF($C483=\"\",\"\",Simulação!Q483)","v":"-"},{"$f":"IF($C483=\"\",\"\",Simulação!R483)","v":425.83056576529657},{"$f":"IF($C483=\"\",\"\",Simulação!S483)","v":"-"},{"$f":"IF($C483=\"\",\"\",Simulação!T483)","v":429.85689429867921},{"$f":"IF($C483=\"\",\"\",Simulação!U483)","v":"-"},{"$f":"IF($C483=\"\",\"\",Simulação!V483)","v":423.28897932680809},{"$f":"IF($C483=\"\",\"\",Simulação!W483)","v":"-"},{"$f":"IF($C483=\"\",\"\",Simulação!X483)","v":425.82341714824253},{"$f":"IF($C483=\"\",\"\",Simulação!Y483)","v":"-"},{"$f":"IF($C483=\"\",\"\",Simulação!Z483)","v":426.24472259324585},{"$f":"IF($C483=\"\",\"\",Simulação!AA483)","v":"-"},{"$f":"IF($C483=\"\",\"\",Simulação!AB483)","v":424.76914265421152},{"$f":"IF($C483=\"\",\"\",Simulação!AC483)","v":"-"},{"$f":"IF($C483=\"\",\"\",Simulação!AD483)","v":427.76110255056778},{"$f":"IF($C483=\"\",\"\",Simulação!AE483)","v":"-"},{"$f":"IF($C483=\"\",\"\",Simulação!AF483)","v":392.06777952328201},{"$f":"IF($C483=\"\",\"\",Simulação!AG483)","v":"-"},{"$f":"IF($C483=\"\",\"\",Simulação!AH483)","v":348.63196013630733},{"$f":"IF($C483=\"\",\"\",Simulação!AI483)","v":"-"},{"$f":"IF($C483=\"\",\"\",Simulação!AJ483)","v":33.045125393740342},{"$f":"IF($C483=\"\",\"\",Simulação!AK483)","v":"-"},{"$f":"IF($C483=\"\",\"\",Simulação!AL483)","v":32.02721881559642},{"$f":"IF($C483=\"\",\"\",Simulação!AM483)","v":"-"},{"$f":"IF($C483=\"\",\"\",Simulação!AN483)","v":32.217563507182206},{"$f":"IF($C483=\"\",\"\",Simulação!AO483)","v":"-"},{"$f":"IF($C483=\"\",\"\",Simulação!AP483)","v":36.406016086434107},{"$f":"IF($C483=\"\",\"\",Simulação!AQ483)","v":"-"},{"$f":"IF($C483=\"\",\"\",Simulação!AR483)","v":0}]
[null,477,{"$f":"IF(Chegadas!J485<=$C$5,Chegadas!J485,\"\")","v":428.95999999999992},{"$f":"IF($C484=\"\",\"\",Simulação!D484)","v":5.2955528164668291},{"$f":"IF($C484=\"\",\"\",Simulação!E484)","v":"*"},{"$f":"IF($C484=\"\",\"\",Simulação!F484)","v":433.11794027174284},{"$f":"IF($C484=\"\",\"\",Simulação!G484)","v":"*"},{"$f":"IF($C484=\"\",\"\",Simulação!H484)","v":432.76095962424608},{"$f":"IF($C484=\"\",\"\",Simulação!I484)","v":"*"},{"$f":"IF($C484=\"\",\"\",Simulação!J484)","v":431.22103906203989},{"$f":"IF($C484=\"\",\"\",Simulação!K484)","v":"*"},{"$f":"IF($C484=\"\",\"\",Simulação!L484)","v":430.47327699788519},{"$f":"IF($C484=\"\",\"\",Simulação!M484)","v":428.95999999999992},{"$f":"IF($C484=\"\",\"\",Simulação!N484)","v":434.25555281646677},{"$f":"IF($C484=\"\",\"\",Simulação!O484)","v":"-"},{"$f":"IF($C484=\"\",\"\",Simulação!P484)","v":425.11034000511899},{"$f":"IF($C484=\"\",\"\",Simulação!Q484)","v":"-"},{"$f":"IF($C484=\"\",\"\",Simulação!R484)","v":425.83056576529657},{"$f":"IF($C484=\"\",\"\",Simulação!S484)","v":"-"},{"$f":"IF($C484=\"\",\"\",Simulação!T484)","v":429.85689429867921},{"$f":"IF($C484=\"\",\"\",Simulação!U484)","v":"-"},{"$f":"IF($C484=\"\",\"\",Simulação!V484)","v":423.28897932680809},{"$f":"IF($C484=\"\",\"\",Simulação!W484)","v":"-"},{"$f":"IF($C484=\"\",\"\",Simulação!X484)","v":425.82341714824253},{"$f":"IF($C484=\"\",\"\",Simulação!Y484)","v":"-"},{"$f":"IF($C484=\"\",\"\",Simulação!Z484)","v":426.24472259324585},{"$f":"IF($C484=\"\",\"\",Simulação!AA484)","v":"-"},{"$f":"IF($C484=\"\",\"\",Simulação!AB484)","v":424.76914265421152},{"$f":"IF($C484=\"\",\"\",Simulação!AC484)","v":"-"},{"$f":"IF($C484=\"\",\"\",Simulação!AD484)","v":427.76110255056778},{"$f":"IF($C484=\"\",\"\",Simulação!AE484)","v":"-"},{"$f":"IF($C484=\"\",\"\",Simulação!AF484)","v":392.06777952328201},{"$f":"IF($C484=\"\",\"\",Simulação!AG484)","v":"-"},{"$f":"IF($C484=\"\",\"\",Simulação!AH484)","v":348.63196013630733},{"$f":"IF($C484=\"\",\"\",Simulação!AI484)","v":"-"},{"$f":"IF($C484=\"\",\"\",Simulação!AJ484)","v":33.045125393740342},{"$f":"IF($C484=\"\",\"\",Simulação!AK484)","v":"-"},{"$f":"IF($C484=\"\",\"\",Simulação!AL484)","v":32.02721881559642},{"$f":"IF($C484=\"\",\"\",Simulação!AM484)","v":"-"},{"$f":"IF($C484=\"\",\"\",Simulação!AN484)","v":32.217563507182206},{"$f":"IF($C484=\"\",\"\",Simulação!AO484)","v":"-"},{"$f":"IF($C484=\"\",\"\",Simulação!AP484)","v":36.406016086434107},{"$f":"IF($C484=\"\",\"\",Simulação!AQ484)","v":"-"},{"$f":"IF($C484=\"\",\"\",Simulação!AR484)","v":0}]
[null,478,{"$f":"IF(Chegadas!J486<=$C$5,Chegadas!J486,\"\")","v":429.9199999999999},{"$f":"IF($C485=\"\",\"\",Simulação!D485)","v":9.2379911340743828},{"$f":"IF($C485=\"\",\"\",Simulação!E485)","v":"*"},{"$f":"IF($C485=\"\",\"\",Simulação!F485)","v":433.11794027174284},{"$f":"IF($C485=\"\",\"\",Simulação!G485)","v":"*"},{"$f":"IF($C485=\"\",\"\",Simulação!H485)","v":432.76095962424608},{"$f":"IF($C485=\"\",\"\",Simulação!I485)","v":"*"},{"$f":"IF($C485=\"\",\"\",Simulação!J485)","v":431.22103906203989},{"$f":"IF($C485=\"\",\"\",Simulação!K485)","v":"*"},{"$f":"IF($C485=\"\",\"\",Simulação!L485)","v":430.47327699788519},{"$f":"IF($C485=\"\",\"\",Simulação!M485)","v":"*"},{"$f":"IF($C485=\"\",\"\",Simulação!N485)","v":434.25555281646677},{"$f":"IF($C485=\"\",\"\",Simulação!O485)","v":429.9199999999999},{"$f":"IF($C485=\"\",\"\",Simulação!P485)","v":439.15799113407428},{"$f":"IF($C485=\"\",\"\",Simulação!Q485)","v":"-"},{"$f":"IF($C485=\"\",\"\",Simulação!R485)","v":425.83056576529657},{"$f":"IF($C485=\"\",\"\",Simulação!S485)","v":"-"},{"$f":"IF($C485=\"\",\"\",Simulação!T485)","v":429.85689429867921},{"$f":"IF($C485=\"\",\"\",Simulação!U485)","v":"-"},{"$f":"IF($C485=\"\",\"\",Simulação!V485)","v":423.28897932680809},{"$f":"IF($C485=\"\",\"\",Simulação!W485)","v":"-"},{"$f":"IF($C485=\"\",\"\",Simulação!X485)","v":425.82341714824253},{"$f":"IF($C485=\"\",\"\",Simulação!Y485)","v":"-"},{"$f":"IF($C485=\"\",\"\",Simulação!Z485)","v":426.24472259324585},{"$f":"IF($C485=\"\",\"\",Simulação!AA485)","v":"-"},{"$f":"IF($C485=\"\",\"\",Simulação!AB485)","v":424.76914265421152},{"$f":"IF($C485=\"\",\"\",Simulação!AC485)","v":"-"},{"$f":"IF($C485=\"\",\"\",Simulação!AD485)","v":427.76110255056778},{"$f":"IF($C485=\"\",\"\",Simulação!AE485)","v":"-"},{"$f":"IF($C485=\"\",\"\",Simulação!AF485)","v":392.06777952328201},{"$f":"IF($C485=\"\",\"\",Simulação!AG485)","v":"-"},{"$f":"IF($C485=\"\",\"\",Simulação!AH485)","v":348.63196013630733},{"$f":"IF($C485=\"\",\"\",Simulação!AI485)","v":"-"},{"$f":"IF($C485=\"\",\"\",Simulação!AJ485)","v":33.045125393740342},{"$f":"IF($C485=\"\",\"\",Simulação!AK485)","v":"-"},{"$f":"IF($C485=\"\",\"\",Simulação!AL485)","v":32.02721881559642},{"$f":"IF($C485=\"\",\"\",Simulação!AM485)","v":"-"},{"$f":"IF($C485=\"\",\"\",Simulação!AN485)","v":32.217563507182206},{"$f":"IF($C485=\"\",\"\",Simulação!AO485)","v":"-"},{"$f":"IF($C485=\"\",\"\",Simulação!AP485)","v":36.406016086434107},{"$f":"IF($C485=\"\",\"\",Simulação!AQ485)","v":"-"},{"$f":"IF($C485=\"\",\"\",Simulação!AR485)","v":0}]
[null,479,{"$f":"IF(Chegadas!J487<=$C$5,Chegadas!J487,\"\")","v":429.9199999999999},{"$f":"IF($C486=\"\",\"\",Simulação!D486)","v":2.1424615157777946},{"$f":"IF($C486=\"\",\"\",Simulação!E486)","v":"*"},{"$f":"IF($C486=\"\",\"\",Simulação!F486)","v":433.11794027174284},{"$f":"IF($C486=\"\",\"\",Simulação!G486)","v":"*"},{"$f":"IF($C486=\"\",\"\",Simulação!H486)","v":432.76095962424608},{"$f":"IF($C486=\"\",\"\",Simulação!I486)","v":"*"},{"$f":"IF($C486=\"\",\"\",Simulação!J486)","v":431.22103906203989},{"$f":"IF($C486=\"\",\"\",Simulação!K486)","v":"*"},{"$f":"IF($C486=\"\",\"\",Simulação!L486)","v":430.47327699788519},{"$f":"IF($C486=\"\",\"\",Simulação!M486)","v":"*"},{"$f":"IF($C486=\"\",\"\",Simulação!N486)","v":434.25555281646677},{"$f":"IF($C486=\"\",\"\",Simulação!O486)","v":"*"},{"$f":"IF($C486=\"\",\"\",Simulação!P486)","v":439.15799113407428},{"$f":"IF($C486=\"\",\"\",Simulação!Q486)","v":429.9199999999999},{"$f":"IF($C486=\"\",\"\",Simulação!R486)","v":432.06246151577767},{"$f":"IF($C486=\"\",\"\",Simulação!S486)","v":"-"},{"$f":"IF($C486=\"\",\"\",Simulação!T486)","v":429.85689429867921},{"$f":"IF($C486=\"\",\"\",Simulação!U486)","v":"-"},{"$f":"IF($C486=\"\",\"\",Simulação!V486)","v":423.28897932680809},{"$f":"IF($C486=\"\",\"\",Simulação!W486)","v":"-"},{"$f":"IF($C486=\"\",\"\",Simulação!X486)","v":425.82341714824253},{"$f":"IF($C486=\"\",\"\",Simulação!Y486)","v":"-"},{"$f":"IF($C486=\"\",\"\",Simulação!Z486)","v":426.24472259324585},{"$f":"IF($C486=\"\",\"\",Simulação!AA486)","v":"-"},{"$f":"IF($C486=\"\",\"\",Simulação!AB486)","v":424.76914265421152},{"$f":"IF($C486=\"\",\"\",Simulação!AC486)","v":"-"},{"$f":"IF($C486=\"\",\"\",Simulação!AD486)","v":427.76110255056778},{"$f":"IF($C486=\"\",\"\",Simulação!AE486)","v":"-"},{"$f":"IF($C486=\"\",\"\",Simulação!AF486)","v":392.06777952328201},{"$f":"IF($C486=\"\",\"\",Simulação!AG486)","v":"-"},{"$f":"IF($C486=\"\",\"\",Simulação!AH486)","v":348.63196013630733},{"$f":"IF($C486=\"\",\"\",Simulação!AI486)","v":"-"},{"$f":"IF($C486=\"\",\"\",Simulação!AJ486)","v":33.045125393740342},{"$f":"IF($C486=\"\",\"\",Simulação!AK486)","v":"-"},{"$f":"IF($C486=\"\",\"\",Simulação!AL486)","v":32.02721881559642},{"$f":"IF($C486=\"\",\"\",Simulação!AM486)","v":"-"},{"$f":"IF($C486=\"\",\"\",Simulação!AN486)","v":32.217563507182206},{"$f":"IF($C486=\"\",\"\",Simulação!AO486)","v":"-"},{"$f":"IF($C486=\"\",\"\",Simulação!AP486)","v":36.406016086434107},{"$f":"IF($C486=\"\",\"\",Simulação!AQ486)","v":"-"},{"$f":"IF($C486=\"\",\"\",Simulação!AR486)","v":0}]
[null,480,{"$f":"IF(Chegadas!J488<=$C$5,Chegadas!J488,\"\")","v":432.07999999999993},{"$f":"IF($C487=\"\",\"\",Simulação!D487)","v":6.8249428491627633},{"$f":"IF($C487=\"\",\"\",Simulação!E487)","v":"*"},{"$f":"IF($C487=\"\",\"\",Simulação!F487)","v":433.11794027174284},{"$f":"IF($C487=\"\",\"\",Simulação!G487)","v":"*"},{"$f":"IF($C487=\"\",\"\",Simulação!H487)","v":432.76095962424608},{"$f":"IF($C487=\"\",\"\",Simulação!I487)","v":432.07999999999993},{"$f":"IF($C487=\"\",\"\",Simulação!J487)","v":438.90494284916269},{"$f":"IF($C487=\"\",\"\",Simulação!K487)","v":"-"},{"$f":"IF($C487=\"\",\"\",Simulação!L487)","v":430.47327699788519},{"$f":"IF($C487=\"\",\"\",Simulação!M487)","v":"-"},{"$f":"IF($C487=\"\",\"\",Simulação!N487)","v":434.25555281646677},{"$f":"IF($C487=\"\",\"\",Simulação!O487)","v":"-"},{"$f":"IF($C487=\"\",\"\",Simulação!P487)","v":439.15799113407428},{"$f":"IF($C487=\"\",\"\",Simulação!Q487)","v":"-"},{"$f":"IF($C487=\"\",\"\",Simulação!R487)","v":432.06246151577767},{"$f":"IF($C487=\"\",\"\",Simulação!S487)","v":"-"},{"$f":"IF($C487=\"\",\"\",Simulação!T487)","v":429.85689429867921},{"$f":"IF($C487=\"\",\"\",Simulação!U487)","v":"-"},{"$f":"IF($C487=\"\",\"\",Simulação!V487)","v":423.28897932680809},{"$f":"IF($C487=\"\",\"\",Simulação!W487)","v":"-"},{"$f":"IF($C487=\"\",\"\",Simulação!X487)","v":425.82341714824253},{"$f":"IF($C487=\"\",\"\",Simulação!Y487)","v":"-"},{"$f":"IF($C487=\"\",\"\",Simulação!Z487)","v":426.24472259324585},{"$f":"IF($C487=\"\",\"\",Simulação!AA487)","v":"-"},{"$f":"IF($C487=\"\",\"\",Simulação!AB487)","v":424.76914265421152},{"$f":"IF($C487=\"\",\"\",Simulação!AC487)","v":"-"},{"$f":"IF($C487=\"\",\"\",Simulação!AD487)","v":427.76110255056778},{"$f":"IF($C487=\"\",\"\",Simulação!AE487)","v":"-"},{"$f":"IF($C487=\"\",\"\",Simulação!AF487)","v":392.06777952328201},{"$f":"IF($C487=\"\",\"\",Simulação!AG487)","v":"-"},{"$f":"IF($C487=\"\",\"\",Simulação!AH487)","v":348.63196013630733},{"$f":"IF($C487=\"\",\"\",Simulação!AI487)","v":"-"},{"$f":"IF($C487=\"\",\"\",Simulação!AJ487)","v":33.045125393740342},{"$f":"IF($C487=\"\",\"\",Simulação!AK487)","v":"-"},{"$f":"IF($C487=\"\",\"\",Simulação!AL487)","v":32.02721881559642},{"$f":"IF($C487=\"\",\"\",Simulação!AM487)","v":"-"},{"$f":"IF($C487=\"\",\"\",Simulação!AN487)","v":32.217563507182206},{"$f":"IF($C487=\"\",\"\",Simulação!AO487)","v":"-"},{"$f":"IF($C487=\"\",\"\",Simulação!AP487)","v":36.406016086434107},{"$f":"IF($C487=\"\",\"\",Simulação!AQ487)","v":"-"},{"$f":"IF($C487=\"\",\"\",Simulação!AR487)","v":0}]
[null,481,{"$f":"IF(Chegadas!J489<=$C$5,Chegadas!J489,\"\")","v":432.19999999999993},{"$f":"IF($C488=\"\",\"\",Simulação!D488)","v":12.25804814976728},{"$f":"IF($C488=\"\",\"\",Simulação!E488)","v":"*"},{"$f":"IF($C488=\"\",\"\",Simulação!F488)","v":433.11794027174284},{"$f":"IF($C488=\"\",\"\",Simulação!G488)","v":"*"},{"$f":"IF($C488=\"\",\"\",Simulação!H488)","v":432.76095962424608},{"$f":"IF($C488=\"\",\"\",Simulação!I488)","v":"*"},{"$f":"IF($C488=\"\",\"\",Simulação!J488)","v":438.90494284916269},{"$f":"IF($C488=\"\",\"\",Simulação!K488)","v":432.19999999999993},{"$f":"IF($C488=\"\",\"\",Simulação!L488)","v":444.45804814976719},{"$f":"IF($C488=\"\",\"\",Simulação!M488)","v":"-"},{"$f":"IF($C488=\"\",\"\",Simulação!N488)","v":434.25555281646677},{"$f":"IF($C488=\"\",\"\",Simulação!O488)","v":"-"},{"$f":"IF($C488=\"\",\"\",Simulação!P488)","v":439.15799113407428},{"$f":"IF($C488=\"\",\"\",Simulação!Q488)","v":"-"},{"$f":"IF($C488=\"\",\"\",Simulação!R488)","v":432.06246151577767},{"$f":"IF($C488=\"\",\"\",Simulação!S488)","v":"-"},{"$f":"IF($C488=\"\",\"\",Simulação!T488)","v":429.85689429867921},{"$f":"IF($C488=\"\",\"\",Simulação!U488)","v":"-"},{"$f":"IF($C488=\"\",\"\",Simulação!V488)","v":423.28897932680809},{"$f":"IF($C488=\"\",\"\",Simulação!W488)","v":"-"},{"$f":"IF($C488=\"\",\"\",Simulação!X488)","v":425.82341714824253},{"$f":"IF($C488=\"\",\"\",Simulação!Y488)","v":"-"},{"$f":"IF($C488=\"\",\"\",Simulação!Z488)","v":426.24472259324585},{"$f":"IF($C488=\"\",\"\",Simulação!AA488)","v":"-"},{"$f":"IF($C488=\"\",\"\",Simulação!AB488)","v":424.76914265421152},{"$f":"IF($C488=\"\",\"\",Simulação!AC488)","v":"-"},{"$f":"IF($C488=\"\",\"\",Simulação!AD488)","v":427.76110255056778},{"$f":"IF($C488=\"\",\"\",Simulação!AE488)","v":"-"},{"$f":"IF($C488=\"\",\"\",Simulação!AF488)","v":392.06777952328201},{"$f":"IF($C488=\"\",\"\",Simulação!AG488)","v":"-"},{"$f":"IF($C488=\"\",\"\",Simulação!AH488)","v":348.63196013630733},{"$f":"IF($C488=\"\",\"\",Simulação!AI488)","v":"-"},{"$f":"IF($C488=\"\",\"\",Simulação!AJ488)","v":33.045125393740342},{"$f":"IF($C488=\"\",\"\",Simulação!AK488)","v":"-"},{"$f":"IF($C488=\"\",\"\",Simulação!AL488)","v":32.02721881559642},{"$f":"IF($C488=\"\",\"\",Simulação!AM488)","v":"-"},{"$f":"IF($C488=\"\",\"\",Simulação!AN488)","v":32.217563507182206},{"$f":"IF($C488=\"\",\"\",Simulação!AO488)","v":"-"},{"$f":"IF($C488=\"\",\"\",Simulação!AP488)","v":36.406016086434107},{"$f":"IF($C488=\"\",\"\",Simulação!AQ488)","v":"-"},{"$f":"IF($C488=\"\",\"\",Simulação!AR488)","v":0}]
[null,482,{"$f":"IF(Chegadas!J490<=$C$5,Chegadas!J490,\"\")","v":432.19999999999993},{"$f":"IF($C489=\"\",\"\",Simulação!D489)","v":14.597420080710476},{"$f":"IF($C489=\"\",\"\",Simulação!E489)","v":"*"},{"$f":"IF($C489=\"\",\"\",Simulação!F489)","v":433.11794027174284},{"$f":"IF($C489=\"\",\"\",Simulação!G489)","v":"*"},{"$f":"IF($C489=\"\",\"\",Simulação!H489)","v":432.76095962424608},{"$f":"IF($C489=\"\",\"\",Simulação!I489)","v":"*"},{"$f":"IF($C489=\"\",\"\",Simulação!J489)","v":438.90494284916269},{"$f":"IF($C489=\"\",\"\",Simulação!K489)","v":"*"},{"$f":"IF($C489=\"\",\"\",Simulação!L489)","v":444.45804814976719},{"$f":"IF($C489=\"\",\"\",Simulação!M489)","v":"*"},{"$f":"IF($C489=\"\",\"\",Simulação!N489)","v":434.25555281646677},{"$f":"IF($C489=\"\",\"\",Simulação!O489)","v":"*"},{"$f":"IF($C489=\"\",\"\",Simulação!P489)","v":439.15799113407428},{"$f":"IF($C489=\"\",\"\",Simulação!Q489)","v":432.19999999999993},{"$f":"IF($C489=\"\",\"\",Simulação!R489)","v":446.79742008071042},{"$f":"IF($C489=\"\",\"\",Simulação!S489)","v":"-"},{"$f":"IF($C489=\"\",\"\",Simulação!T489)","v":429.85689429867921},{"$f":"IF($C489=\"\",\"\",Simulação!U489)","v":"-"},{"$f":"IF($C489=\"\",\"\",Simulação!V489)","v":423.28897932680809},{"$f":"IF($C489=\"\",\"\",Simulação!W489)","v":"-"},{"$f":"IF($C489=\"\",\"\",Simulação!X489)","v":425.82341714824253},{"$f":"IF($C489=\"\",\"\",Simulação!Y489)","v":"-"},{"$f":"IF($C489=\"\",\"\",Simulação!Z489)","v":426.24472259324585},{"$f":"IF($C489=\"\",\"\",Simulação!AA489)","v":"-"},{"$f":"IF($C489=\"\",\"\",Simulação!AB489)","v":424.76914265421152},{"$f":"IF($C489=\"\",\"\",Simulação!AC489)","v":"-"},{"$f":"IF($C489=\"\",\"\",Simulação!AD489)","v":427.76110255056778},{"$f":"IF($C489=\"\",\"\",Simulação!AE489)","v":"-"},{"$f":"IF($C489=\"\",\"\",Simulação!AF489)","v":392.06777952328201},{"$f":"IF($C489=\"\",\"\",Simulação!AG489)","v":"-"},{"$f":"IF($C489=\"\",\"\",Simulação!AH489)","v":348.63196013630733},{"$f":"IF($C489=\"\",\"\",Simulação!AI489)","v":"-"},{"$f":"IF($C489=\"\",\"\",Simulação!AJ489)","v":33.045125393740342},{"$f":"IF($C489=\"\",\"\",Simulação!AK489)","v":"-"},{"$f":"IF($C489=\"\",\"\",Simulação!AL489)","v":32.02721881559642},{"$f":"IF($C489=\"\",\"\",Simulação!AM489)","v":"-"},{"$f":"IF($C489=\"\",\"\",Simulação!AN489)","v":32.217563507182206},{"$f":"IF($C489=\"\",\"\",Simulação!AO489)","v":"-"},{"$f":"IF($C489=\"\",\"\",Simulação!AP489)","v":36.406016086434107},{"$f":"IF($C489=\"\",\"\",Simulação!AQ489)","v":"-"},{"$f":"IF($C489=\"\",\"\",Simulação!AR489)","v":0}]
[null,483,{"$f":"IF(Chegadas!J491<=$C$5,Chegadas!J491,\"\")","v":432.96999999999991},{"$f":"IF($C490=\"\",\"\",Simulação!D490)","v":6.9175258068097571},{"$f":"IF($C490=\"\",\"\",Simulação!E490)","v":"*"},{"$f":"IF($C490=\"\",\"\",Simulação!F490)","v":433.11794027174284},{"$f":"IF($C490=\"\",\"\",Simulação!G490)","v":432.96999999999991},{"$f":"IF($C490=\"\",\"\",Simulação!H490)","v":439.88752580680966},{"$f":"IF($C490=\"\",\"\",Simulação!I490)","v":"-"},{"$f":"IF($C490=\"\",\"\",Simulação!J490)","v":438.90494284916269},{"$f":"IF($C490=\"\",\"\",Simulação!K490)","v":"-"},{"$f":"IF($C490=\"\",\"\",Simulação!L490)","v":444.45804814976719},{"$f":"IF($C490=\"\",\"\",Simulação!M490)","v":"-"},{"$f":"IF($C490=\"\",\"\",Simulação!N490)","v":434.25555281646677},{"$f":"IF($C490=\"\",\"\",Simulação!O490)","v":"-"},{"$f":"IF($C490=\"\",\"\",Simulação!P490)","v":439.15799113407428},{"$f":"IF($C490=\"\",\"\",Simulação!Q490)","v":"-"},{"$f":"IF($C490=\"\",\"\",Simulação!R490)","v":446.79742008071042},{"$f":"IF($C490=\"\",\"\",Simulação!S490)","v":"-"},{"$f":"IF($C490=\"\",\"\",Simulação!T490)","v":429.85689429867921},{"$f":"IF($C490=\"\",\"\",Simulação!U490)","v":"-"},{"$f":"IF($C490=\"\",\"\",Simulação!V490)","v":423.28897932680809},{"$f":"IF($C490=\"\",\"\",Simulação!W490)","v":"-"},{"$f":"IF($C490=\"\",\"\",Simulação!X490)","v":425.82341714824253},{"$f":"IF($C490=\"\",\"\",Simulação!Y490)","v":"-"},{"$f":"IF($C490=\"\",\"\",Simulação!Z490)","v":426.24472259324585},{"$f":"IF($C490=\"\",\"\",Simulação!AA490)","v":"-"},{"$f":"IF($C490=\"\",\"\",Simulação!AB490)","v":424.76914265421152},{"$f":"IF($C490=\"\",\"\",Simulação!AC490)","v":"-"},{"$f":"IF($C490=\"\",\"\",Simulação!AD490)","v":427.76110255056778},{"$f":"IF($C490=\"\",\"\",Simulação!AE490)","v":"-"},{"$f":"IF($C490=\"\",\"\",Simulação!AF490)","v":392.06777952328201},{"$f":"IF($C490=\"\",\"\",Simulação!AG490)","v":"-"},{"$f":"IF($C490=\"\",\"\",Simulação!AH490)","v":348.63196013630733},{"$f":"IF($C490=\"\",\"\",Simulação!AI490)","v":"-"},{"$f":"IF($C490=\"\",\"\",Simulação!AJ490)","v":33.045125393740342},{"$f":"IF($C490=\"\",\"\",Simulação!AK490)","v":"-"},{"$f":"IF($C490=\"\",\"\",Simulação!AL490)","v":32.02721881559642},{"$f":"IF($C490=\"\",\"\",Simulação!AM490)","v":"-"},{"$f":"IF($C490=\"\",\"\",Simulação!AN490)","v":32.217563507182206},{"$f":"IF($C490=\"\",\"\",Simulação!AO490)","v":"-"},{"$f":"IF($C490=\"\",\"\",Simulação!AP490)","v":36.406016086434107},{"$f":"IF($C490=\"\",\"\",Simulação!AQ490)","v":"-"},{"$f":"IF($C490=\"\",\"\",Simulação!AR490)","v":0}]
[null,484,{"$f":"IF(Chegadas!J492<=$C$5,Chegadas!J492,\"\")","v":433.86999999999989},{"$f":"IF($C491=\"\",\"\",Simulação!D491)","v":9.7149602815015967},{"$f":"IF($C491=\"\",\"\",Simulação!E491)","v":433.86999999999989},{"$f":"IF($C491=\"\",\"\",Simulação!F491)","v":443.58496028150148},{"$f":"IF($C491=\"\",\"\",Simulação!G491)","v":"-"},{"$f":"IF($C491=\"\",\"\",Simulação!H491)","v":439.88752580680966},{"$f":"IF($C491=\"\",\"\",Simulação!I491)","v":"-"},{"$f":"IF($C491=\"\",\"\",Simulação!J491)","v":438.90494284916269},{"$f":"IF($C491=\"\",\"\",Simulação!K491)","v":"-"},{"$f":"IF($C491=\"\",\"\",Simulação!L491)","v":444.45804814976719},{"$f":"IF($C491=\"\",\"\",Simulação!M491)","v":"-"},{"$f":"IF($C491=\"\",\"\",Simulação!N491)","v":434.25555281646677},{"$f":"IF($C491=\"\",\"\",Simulação!O491)","v":"-"},{"$f":"IF($C491=\"\",\"\",Simulação!P491)","v":439.15799113407428},{"$f":"IF($C491=\"\",\"\",Simulação!Q491)","v":"-"},{"$f":"IF($C491=\"\",\"\",Simulação!R491)","v":446.79742008071042},{"$f":"IF($C491=\"\",\"\",Simulação!S491)","v":"-"},{"$f":"IF($C491=\"\",\"\",Simulação!T491)","v":429.85689429867921},{"$f":"IF($C491=\"\",\"\",Simulação!U491)","v":"-"},{"$f":"IF($C491=\"\",\"\",Simulação!V491)","v":423.28897932680809},{"$f":"IF($C491=\"\",\"\",Simulação!W491)","v":"-"},{"$f":"IF($C491=\"\",\"\",Simulação!X491)","v":425.82341714824253},{"$f":"IF($C491=\"\",\"\",Simulação!Y491)","v":"-"},{"$f":"IF($C491=\"\",\"\",Simulação!Z491)","v":426.24472259324585},{"$f":"IF($C491=\"\",\"\",Simulação!AA491)","v":"-"},{"$f":"IF($C491=\"\",\"\",Simulação!AB491)","v":424.76914265421152},{"$f":"IF($C491=\"\",\"\",Simulação!AC491)","v":"-"},{"$f":"IF($C491=\"\",\"\",Simulação!AD491)","v":427.76110255056778},{"$f":"IF($C491=\"\",\"\",Simulação!AE491)","v":"-"},{"$f":"IF($C491=\"\",\"\",Simulação!AF491)","v":392.06777952328201},{"$f":"IF($C491=\"\",\"\",Simulação!AG491)","v":"-"},{"$f":"IF($C491=\"\",\"\",Simulação!AH491)","v":348.63196013630733},{"$f":"IF($C491=\"\",\"\",Simulação!AI491)","v":"-"},{"$f":"IF($C491=\"\",\"\",Simulação!AJ491)","v":33.045125393740342},{"$f":"IF($C491=\"\",\"\",Simulação!AK491)","v":"-"},{"$f":"IF($C491=\"\",\"\",Simulação!AL491)","v":32.02721881559642},{"$f":"IF($C491=\"\",\"\",Simulação!AM491)","v":"-"},{"$f":"IF($C491=\"\",\"\",Simulação!AN491)","v":32.217563507182206},{"$f":"IF($C491=\"\",\"\",Simulação!AO491)","v":"-"},{"$f":"IF($C491=\"\",\"\",Simulação!AP491)","v":36.406016086434107},{"$f":"IF($C491=\"\",\"\",Simulação!AQ491)","v":"-"},{"$f":"IF($C491=\"\",\"\",Simulação!AR491)","v":0}]
[null,485,{"$f":"IF(Chegadas!J493<=$C$5,Chegadas!J493,\"\")","v":434.15999999999991},{"$f":"IF($C492=\"\",\"\",Simulação!D492)","v":9.101829418726556},{"$f":"IF($C492=\"\",\"\",Simulação!E492)","v":"*"},{"$f":"IF($C492=\"\",\"\",Simulação!F492)","v":443.58496028150148},{"$f":"IF($C492=\"\",\"\",Simulação!G492)","v":"*"},{"$f":"IF($C492=\"\",\"\",Simulação!H492)","v":439.88752580680966},{"$f":"IF($C492=\"\",\"\",Simulação!I492)","v":"*"},{"$f":"IF($C492=\"\",\"\",Simulação!J492)","v":438.90494284916269},{"$f":"IF($C492=\"\",\"\",Simulação!K492)","v":"*"},{"$f":"IF($C492=\"\",\"\",Simulação!L492)","v":444.45804814976719},{"$f":"IF($C492=\"\",\"\",Simulação!M492)","v":"*"},{"$f":"IF($C492=\"\",\"\",Simulação!N492)","v":434.25555281646677},{"$f":"IF($C492=\"\",\"\",Simulação!O492)","v":"*"},{"$f":"IF($C492=\"\",\"\",Simulação!P492)","v":439.15799113407428},{"$f":"IF($C492=\"\",\"\",Simulação!Q492)","v":"*"},{"$f":"IF($C492=\"\",\"\",Simulação!R492)","v":446.79742008071042},{"$f":"IF($C492=\"\",\"\",Simulação!S492)","v":434.15999999999991},{"$f":"IF($C492=\"\",\"\",Simulação!T492)","v":443.26182941872645},{"$f":"IF($C492=\"\",\"\",Simulação!U492)","v":"-"},{"$f":"IF($C492=\"\",\"\",Simulação!V492)","v":423.28897932680809},{"$f":"IF($C492=\"\",\"\",Simulação!W492)","v":"-"},{"$f":"IF($C492=\"\",\"\",Simulação!X492)","v":425.82341714824253},{"$f":"IF($C492=\"\",\"\",Simulação!Y492)","v":"-"},{"$f":"IF($C492=\"\",\"\",Simulação!Z492)","v":426.24472259324585},{"$f":"IF($C492=\"\",\"\",Simulação!AA492)","v":"-"},{"$f":"IF($C492=\"\",\"\",Simulação!AB492)","v":424.76914265421152},{"$f":"IF($C492=\"\",\"\",Simulação!AC492)","v":"-"},{"$f":"IF($C492=\"\",\"\",Simulação!AD492)","v":427.76110255056778},{"$f":"IF($C492=\"\",\"\",Simulação!AE492)","v":"-"},{"$f":"IF($C492=\"\",\"\",Simulação!AF492)","v":392.06777952328201},{"$f":"IF($C492=\"\",\"\",Simulação!AG492)","v":"-"},{"$f":"IF($C492=\"\",\"\",Simulação!AH492)","v":348.63196013630733},{"$f":"IF($C492=\"\",\"\",Simulação!AI492)","v":"-"},{"$f":"IF($C492=\"\",\"\",Simulação!AJ492)","v":33.045125393740342},{"$f":"IF($C492=\"\",\"\",Simulação!AK492)","v":"-"},{"$f":"IF($C492=\"\",\"\",Simulação!AL492)","v":32.02721881559642},{"$f":"IF($C492=\"\",\"\",Simulação!AM492)","v":"-"},{"$f":"IF($C492=\"\",\"\",Simulação!AN492)","v":32.217563507182206},{"$f":"IF($C492=\"\",\"\",Simulação!AO492)","v":"-"},{"$f":"IF($C492=\"\",\"\",Simulação!AP492)","v":36.406016086434107},{"$f":"IF($C492=\"\",\"\",Simulação!AQ492)","v":"-"},{"$f":"IF($C492=\"\",\"\",Simulação!AR492)","v":0}]
[null,486,{"$f":"IF(Chegadas!J494<=$C$5,Chegadas!J494,\"\")","v":435.26999999999992},{"$f":"IF($C493=\"\",\"\",Simulação!D493)","v":6.0601845180518161},{"$f":"IF($C493=\"\",\"\",Simulação!E493)","v":"*"},{"$f":"IF($C493=\"\",\"\",Simulação!F493)","v":443.58496028150148},{"$f":"IF($C493=\"\",\"\",Simulação!G493)","v":"*"},{"$f":"IF($C493=\"\",\"\",Simulação!H493)","v":439.88752580680966},{"$f":"IF($C493=\"\",\"\",Simulação!I493)","v":"*"},{"$f":"IF($C493=\"\",\"\",Simulação!J493)","v":438.90494284916269},{"$f":"IF($C493=\"\",\"\",Simulação!K493)","v":"*"},{"$f":"IF($C493=\"\",\"\",Simulação!L493)","v":444.45804814976719},{"$f":"IF($C493=\"\",\"\",Simulação!M493)","v":435.26999999999992},{"$f":"IF($C493=\"\",\"\",Simulação!N493)","v":441.33018451805174},{"$f":"IF($C493=\"\",\"\",Simulação!O493)","v":"-"},{"$f":"IF($C493=\"\",\"\",Simulação!P493)","v":439.15799113407428},{"$f":"IF($C493=\"\",\"\",Simulação!Q493)","v":"-"},{"$f":"IF($C493=\"\",\"\",Simulação!R493)","v":446.79742008071042},{"$f":"IF($C493=\"\",\"\",Simulação!S493)","v":"-"},{"$f":"IF($C493=\"\",\"\",Simulação!T493)","v":443.26182941872645},{"$f":"IF($C493=\"\",\"\",Simulação!U493)","v":"-"},{"$f":"IF($C493=\"\",\"\",Simulação!V493)","v":423.28897932680809},{"$f":"IF($C493=\"\",\"\",Simulação!W493)","v":"-"},{"$f":"IF($C493=\"\",\"\",Simulação!X493)","v":425.82341714824253},{"$f":"IF($C493=\"\",\"\",Simulação!Y493)","v":"-"},{"$f":"IF($C493=\"\",\"\",Simulação!Z493)","v":426.24472259324585},{"$f":"IF($C493=\"\",\"\",Simulação!AA493)","v":"-"},{"$f":"IF($C493=\"\",\"\",Simulação!AB493)","v":424.76914265421152},{"$f":"IF($C493=\"\",\"\",Simulação!AC493)","v":"-"},{"$f":"IF($C493=\"\",\"\",Simulação!AD493)","v":427.76110255056778},{"$f":"IF($C493=\"\",\"\",Simulação!AE493)","v":"-"},{"$f":"IF($C493=\"\",\"\",Simulação!AF493)","v":392.06777952328201},{"$f":"IF($C493=\"\",\"\",Simulação!AG493)","v":"-"},{"$f":"IF($C493=\"\",\"\",Simulação!AH493)","v":348.63196013630733},{"$f":"IF($C493=\"\",\"\",Simulação!AI493)","v":"-"},{"$f":"IF($C493=\"\",\"\",Simulação!AJ493)","v":33.045125393740342},{"$f":"IF($C493=\"\",\"\",Simulação!AK493)","v":"-"},{"$f":"IF($C493=\"\",\"\",Simulação!AL493)","v":32.02721881559642},{"$f":"IF($C493=\"\",\"\",Simulação!AM493)","v":"-"},{"$f":"IF($C493=\"\",\"\",Simulação!AN493)","v":32.217563507182206},{"$f":"IF($C493=\"\",\"\",Simulação!AO493)","v":"-"},{"$f":"IF($C493=\"\",\"\",Simulação!AP493)","v":36.406016086434107},{"$f":"IF($C493=\"\",\"\",Simulação!AQ493)","v":"-"},{"$f":"IF($C493=\"\",\"\",Simulação!AR493)","v":0}]
[null,487,{"$f":"IF(Chegadas!J495<=$C$5,Chegadas!J495,\"\")","v":436.42999999999995},{"$f":"IF($C494=\"\",\"\",Simulação!D494)","v":11.645194144698078},{"$f":"IF($C494=\"\",\"\",Simulação!E494)","v":"*"},{"$f":"IF($C494=\"\",\"\",Simulação!F494)","v":443.58496028150148},{"$f":"IF($C494=\"\",\"\",Simulação!G494)","v":"*"},{"$f":"IF($C494=\"\",\"\",Simulação!H494)","v":439.88752580680966},{"$f":"IF($C494=\"\",\"\",Simulação!I494)","v":"*"},{"$f":"IF($C494=\"\",\"\",Simulação!J494)","v":438.90494284916269},{"$f":"IF($C494=\"\",\"\",Simulação!K494)","v":"*"},{"$f":"IF($C494=\"\",\"\",Simulação!L494)","v":444.45804814976719},{"$f":"IF($C494=\"\",\"\",Simulação!M494)","v":"*"},{"$f":"IF($C494=\"\",\"\",Simulação!N494)","v":441.33018451805174},{"$f":"IF($C494=\"\",\"\",Simulação!O494)","v":"*"},{"$f":"IF($C494=\"\",\"\",Simulação!P494)","v":439.15799113407428},{"$f":"IF($C494=\"\",\"\",Simulação!Q494)","v":"*"},{"$f":"IF($C494=\"\",\"\",Simulação!R494)","v":446.79742008071042},{"$f":"IF($C494=\"\",\"\",Simulação!S494)","v":"*"},{"$f":"IF($C494=\"\",\"\",Simulação!T494)","v":443.26182941872645},{"$f":"IF($C494=\"\",\"\",Simulação!U494)","v":436.42999999999995},{"$f":"IF($C494=\"\",\"\",Simulação!V494)","v":448.075194144698},{"$f":"IF($C494=\"\",\"\",Simulação!W494)","v":"-"},{"$f":"IF($C494=\"\",\"\",Simulação!X494)","v":425.82341714824253},{"$f":"IF($C494=\"\",\"\",Simulação!Y494)","v":"-"},{"$f":"IF($C494=\"\",\"\",Simulação!Z494)","v":426.24472259324585},{"$f":"IF($C494=\"\",\"\",Simulação!AA494)","v":"-"},{"$f":"IF($C494=\"\",\"\",Simulação!AB494)","v":424.76914265421152},{"$f":"IF($C494=\"\",\"\",Simulação!AC494)","v":"-"},{"$f":"IF($C494=\"\",\"\",Simulação!AD494)","v":427.76110255056778},{"$f":"IF($C494=\"\",\"\",Simulação!AE494)","v":"-"},{"$f":"IF($C494=\"\",\"\",Simulação!AF494)","v":392.06777952328201},{"$f":"IF($C494=\"\",\"\",Simulação!AG494)","v":"-"},{"$f":"IF($C494=\"\",\"\",Simulação!AH494)","v":348.63196013630733},{"$f":"IF($C494=\"\",\"\",Simulação!AI494)","v":"-"},{"$f":"IF($C494=\"\",\"\",Simulação!AJ494)","v":33.045125393740342},{"$f":"IF($C494=\"\",\"\",Simulação!AK494)","v":"-"},{"$f":"IF($C494=\"\",\"\",Simulação!AL494)","v":32.02721881559642},{"$f":"IF($C494=\"\",\"\",Simulação!AM494)","v":"-"},{"$f":"IF($C494=\"\",\"\",Simulação!AN494)","v":32.217563507182206},{"$f":"IF($C494=\"\",\"\",Simulação!AO494)","v":"-"},{"$f":"IF($C494=\"\",\"\",Simulação!AP494)","v":36.406016086434107},{"$f":"IF($C494=\"\",\"\",Simulação!AQ494)","v":"-"},{"$f":"IF($C494=\"\",\"\",Simulação!AR494)","v":0}]
[null,488,{"$f":"IF(Chegadas!J496<=$C$5,Chegadas!J496,\"\")","v":437.03},{"$f":"IF($C495=\"\",\"\",Simulação!D495)","v":4.0158327387359041},{"$f":"IF($C495=\"\",\"\",Simulação!E495)","v":"*"},{"$f":"IF($C495=\"\",\"\",Simulação!F495)","v":443.58496028150148},{"$f":"IF($C495=\"\",\"\",Simulação!G495)","v":"*"},{"$f":"IF($C495=\"\",\"\",Simulação!H495)","v":439.88752580680966},{"$f":"IF($C495=\"\",\"\",Simulação!I495)","v":"*"},{"$f":"IF($C495=\"\",\"\",Simulação!J495)","v":438.90494284916269},{"$f":"IF($C495=\"\",\"\",Simulação!K495)","v":"*"},{"$f":"IF($C495=\"\",\"\",Simulação!L495)","v":444.45804814976719},{"$f":"IF($C495=\"\",\"\",Simulação!M495)","v":"*"},{"$f":"IF($C495=\"\",\"\",Simulação!N495)","v":441.33018451805174},{"$f":"IF($C495=\"\",\"\",Simulação!O495)","v":"*"},{"$f":"IF($C495=\"\",\"\",Simulação!P495)","v":439.15799113407428},{"$f":"IF($C495=\"\",\"\",Simulação!Q495)","v":"*"},{"$f":"IF($C495=\"\",\"\",Simulação!R495)","v":446.79742008071042},{"$f":"IF($C495=\"\",\"\",Simulação!S495)","v":"*"},{"$f":"IF($C495=\"\",\"\",Simulação!T495)","v":443.26182941872645},{"$f":"IF($C495=\"\",\"\",Simulação!U495)","v":"*"},{"$f":"IF($C495=\"\",\"\",Simulação!V495)","v":448.075194144698},{"$f":"IF($C495=\"\",\"\",Simulação!W495)","v":437.03},{"$f":"IF($C495=\"\",\"\",Simulação!X495)","v":441.0458327387359},{"$f":"IF($C495=\"\",\"\",Simulação!Y495)","v":"-"},{"$f":"IF($C495=\"\",\"\",Simulação!Z495)","v":426.24472259324585},{"$f":"IF($C495=\"\",\"\",Simulação!AA495)","v":"-"},{"$f":"IF($C495=\"\",\"\",Simulação!AB495)","v":424.76914265421152},{"$f":"IF($C495=\"\",\"\",Simulação!AC495)","v":"-"},{"$f":"IF($C495=\"\",\"\",Simulação!AD495)","v":427.76110255056778},{"$f":"IF($C495=\"\",\"\",Simulação!AE495)","v":"-"},{"$f":"IF($C495=\"\",\"\",Simulação!AF495)","v":392.06777952328201},{"$f":"IF($C495=\"\",\"\",Simulação!AG495)","v":"-"},{"$f":"IF($C495=\"\",\"\",Simulação!AH495)","v":348.63196013630733},{"$f":"IF($C495=\"\",\"\",Simulação!AI495)","v":"-"},{"$f":"IF($C495=\"\",\"\",Simulação!AJ495)","v":33.045125393740342},{"$f":"IF($C495=\"\",\"\",Simulação!AK495)","v":"-"},{"$f":"IF($C495=\"\",\"\",Simulação!AL495)","v":32.02721881559642},{"$f":"IF($C495=\"\",\"\",Simulação!AM495)","v":"-"},{"$f":"IF($C495=\"\",\"\",Simulação!AN495)","v":32.217563507182206},{"$f":"IF($C495=\"\",\"\",Simulação!AO495)","v":"-"},{"$f":"IF($C495=\"\",\"\",Simulação!AP495)","v":36.406016086434107},{"$f":"IF($C495=\"\",\"\",Simulação!AQ495)","v":"-"},{"$f":"IF($C495=\"\",\"\",Simulação!AR495)","v":0}]
[null,489,{"$f":"IF(Chegadas!J497<=$C$5,Chegadas!J497,\"\")","v":437.71999999999997},{"$f":"IF($C496=\"\",\"\",Simulação!D496)","v":6.5155036184638595},{"$f":"IF($C496=\"\",\"\",Simulação!E496)","v":"*"},{"$f":"IF($C496=\"\",\"\",Simulação!F496)","v":443.58496028150148},{"$f":"IF($C496=\"\",\"\",Simulação!G496)","v":"*"},{"$f":"IF($C496=\"\",\"\",Simulação!H496)","v":439.88752580680966},{"$f":"IF($C496=\"\",\"\",Simulação!I496)","v":"*"},{"$f":"IF($C496=\"\",\"\",Simulação!J496)","v":438.90494284916269},{"$f":"IF($C496=\"\",\"\",Simulação!K496)","v":"*"},{"$f":"IF($C496=\"\",\"\",Simulação!L496)","v":444.45804814976719},{"$f":"IF($C496=\"\",\"\",Simulação!M496)","v":"*"},{"$f":"IF($C496=\"\",\"\",Simulação!N496)","v":441.33018451805174},{"$f":"IF($C496=\"\",\"\",Simulação!O496)","v":"*"},{"$f":"IF($C496=\"\",\"\",Simulação!P496)","v":439.15799113407428},{"$f":"IF($C496=\"\",\"\",Simulação!Q496)","v":"*"},{"$f":"IF($C496=\"\",\"\",Simulação!R496)","v":446.79742008071042},{"$f":"IF($C496=\"\",\"\",Simulação!S496)","v":"*"},{"$f":"IF($C496=\"\",\"\",Simulação!T496)","v":443.26182941872645},{"$f":"IF($C496=\"\",\"\",Simulação!U496)","v":"*"},{"$f":"IF($C496=\"\",\"\",Simulação!V496)","v":448.075194144698},{"$f":"IF($C496=\"\",\"\",Simulação!W496)","v":"*"},{"$f":"IF($C496=\"\",\"\",Simulação!X496)","v":441.0458327387359},{"$f":"IF($C496=\"\",\"\",Simulação!Y496)","v":437.71999999999997},{"$f":"IF($C496=\"\",\"\",Simulação!Z496)","v":444.23550361846384},{"$f":"IF($C496=\"\",\"\",Simulação!AA496)","v":"-"},{"$f":"IF($C496=\"\",\"\",Simulação!AB496)","v":424.76914265421152},{"$f":"IF($C496=\"\",\"\",Simulação!AC496)","v":"-"},{"$f":"IF($C496=\"\",\"\",Simulação!AD496)","v":427.76110255056778},{"$f":"IF($C496=\"\",\"\",Simulação!AE496)","v":"-"},{"$f":"IF($C496=\"\",\"\",Simulação!AF496)","v":392.06777952328201},{"$f":"IF($C496=\"\",\"\",Simulação!AG496)","v":"-"},{"$f":"IF($C496=\"\",\"\",Simulação!AH496)","v":348.63196013630733},{"$f":"IF($C496=\"\",\"\",Simulação!AI496)","v":"-"},{"$f":"IF($C496=\"\",\"\",Simulação!AJ496)","v":33.045125393740342},{"$f":"IF($C496=\"\",\"\",Simulação!AK496)","v":"-"},{"$f":"IF($C496=\"\",\"\",Simulação!AL496)","v":32.02721881559642},{"$f":"IF($C496=\"\",\"\",Simulação!AM496)","v":"-"},{"$f":"IF($C496=\"\",\"\",Simulação!AN496)","v":32.217563507182206},{"$f":"IF($C496=\"\",\"\",Simulação!AO496)","v":"-"},{"$f":"IF($C496=\"\",\"\",Simulação!AP496)","v":36.406016086434107},{"$f":"IF($C496=\"\",\"\",Simulação!AQ496)","v":"-"},{"$f":"IF($C496=\"\",\"\",Simulação!AR496)","v":0}]
[null,490,{"$f":"IF(Chegadas!J498<=$C$5,Chegadas!J498,\"\")","v":438.34},{"$f":"IF($C497=\"\",\"\",Simulação!D497)","v":5.3567459688600891},{"$f":"IF($C497=\"\",\"\",Simulação!E497)","v":"*"},{"$f":"IF($C497=\"\",\"\",Simulação!F497)","v":443.58496028150148},{"$f":"IF($C497=\"\",\"\",Simulação!G497)","v":"*"},{"$f":"IF($C497=\"\",\"\",Simulação!H497)","v":439.88752580680966},{"$f":"IF($C497=\"\",\"\",Simulação!I497)","v":"*"},{"$f":"IF($C497=\"\",\"\",Simulação!J497)","v":438.90494284916269},{"$f":"IF($C497=\"\",\"\",Simulação!K497)","v":"*"},{"$f":"IF($C497=\"\",\"\",Simulação!L497)","v":444.45804814976719},{"$f":"IF($C497=\"\",\"\",Simulação!M497)","v":"*"},{"$f":"IF($C497=\"\",\"\",Simulação!N497)","v":441.33018451805174},{"$f":"IF($C497=\"\",\"\",Simulação!O497)","v":"*"},{"$f":"IF($C497=\"\",\"\",Simulação!P497)","v":439.15799113407428},{"$f":"IF($C497=\"\",\"\",Simulação!Q497)","v":"*"},{"$f":"IF($C497=\"\",\"\",Simulação!R497)","v":446.79742008071042},{"$f":"IF($C497=\"\",\"\",Simulação!S497)","v":"*"},{"$f":"IF($C497=\"\",\"\",Simulação!T497)","v":443.26182941872645},{"$f":"IF($C497=\"\",\"\",Simulação!U497)","v":"*"},{"$f":"IF($C497=\"\",\"\",Simulação!V497)","v":448.075194144698},{"$f":"IF($C497=\"\",\"\",Simulação!W497)","v":"*"},{"$f":"IF($C497=\"\",\"\",Simulação!X497)","v":441.0458327387359},{"$f":"IF($C497=\"\",\"\",Simulação!Y497)","v":"*"},{"$f":"IF($C497=\"\",\"\",Simulação!Z497)","v":444.23550361846384},{"$f":"IF($C497=\"\",\"\",Simulação!AA497)","v":438.34},{"$f":"IF($C497=\"\",\"\",Simulação!AB497)","v":443.69674596886006},{"$f":"IF($C497=\"\",\"\",Simulação!AC497)","v":"-"},{"$f":"IF($C497=\"\",\"\",Simulação!AD497)","v":427.76110255056778},{"$f":"IF($C497=\"\",\"\",Simulação!AE497)","v":"-"},{"$f":"IF($C497=\"\",\"\",Simulação!AF497)","v":392.06777952328201},{"$f":"IF($C497=\"\",\"\",Simulação!AG497)","v":"-"},{"$f":"IF($C497=\"\",\"\",Simulação!AH497)","v":348.63196013630733},{"$f":"IF($C497=\"\",\"\",Simulação!AI497)","v":"-"},{"$f":"IF($C497=\"\",\"\",Simulação!AJ497)","v":33.045125393740342},{"$f":"IF($C497=\"\",\"\",Simulação!AK497)","v":"-"},{"$f":"IF($C497=\"\",\"\",Simulação!AL497)","v":32.02721881559642},{"$f":"IF($C497=\"\",\"\",Simulação!AM497)","v":"-"},{"$f":"IF($C497=\"\",\"\",Simulação!AN497)","v":32.217563507182206},{"$f":"IF($C497=\"\",\"\",Simulação!AO497)","v":"-"},{"$f":"IF($C497=\"\",\"\",Simulação!AP497)","v":36.406016086434107},{"$f":"IF($C497=\"\",\"\",Simulação!AQ497)","v":"-"},{"$f":"IF($C497=\"\",\"\",Simulação!AR497)","v":0}]
[null,491,{"$f":"IF(Chegadas!J499<=$C$5,Chegadas!J499,\"\")","v":439.17999999999995},{"$f":"IF($C498=\"\",\"\",Simulação!D498)","v":9.9967870639073446},{"$f":"IF($C498=\"\",\"\",Simulação!E498)","v":"*"},{"$f":"IF($C498=\"\",\"\",Simulação!F498)","v":443.58496028150148},{"$f":"IF($C498=\"\",\"\",Simulação!G498)","v":"*"},{"$f":"IF($C498=\"\",\"\",Simulação!H498)","v":439.88752580680966},{"$f":"IF($C498=\"\",\"\",Simulação!I498)","v":439.17999999999995},{"$f":"IF($C498=\"\",\"\",Simulação!J498)","v":449.17678706390728},{"$f":"IF($C498=\"\",\"\",Simulação!K498)","v":"-"},{"$f":"IF($C498=\"\",\"\",Simulação!L498)","v":444.45804814976719},{"$f":"IF($C498=\"\",\"\",Simulação!M498)","v":"-"},{"$f":"IF($C498=\"\",\"\",Simulação!N498)","v":441.33018451805174},{"$f":"IF($C498=\"\",\"\",Simulação!O498)","v":"-"},{"$f":"IF($C498=\"\",\"\",Simulação!P498)","v":439.15799113407428},{"$f":"IF($C498=\"\",\"\",Simulação!Q498)","v":"-"},{"$f":"IF($C498=\"\",\"\",Simulação!R498)","v":446.79742008071042},{"$f":"IF($C498=\"\",\"\",Simulação!S498)","v":"-"},{"$f":"IF($C498=\"\",\"\",Simulação!T498)","v":443.26182941872645},{"$f":"IF($C498=\"\",\"\",Simulação!U498)","v":"-"},{"$f":"IF($C498=\"\",\"\",Simulação!V498)","v":448.075194144698},{"$f":"IF($C498=\"\",\"\",Simulação!W498)","v":"-"},{"$f":"IF($C498=\"\",\"\",Simulação!X498)","v":441.0458327387359},{"$f":"IF($C498=\"\",\"\",Simulação!Y498)","v":"-"},{"$f":"IF($C498=\"\",\"\",Simulação!Z498)","v":444.23550361846384},{"$f":"IF($C498=\"\",\"\",Simulação!AA498)","v":"-"},{"$f":"IF($C498=\"\",\"\",Simulação!AB498)","v":443.69674596886006},{"$f":"IF($C498=\"\",\"\",Simulação!AC498)","v":"-"},{"$f":"IF($C498=\"\",\"\",Simulação!AD498)","v":427.76110255056778},{"$f":"IF($C498=\"\",\"\",Simulação!AE498)","v":"-"},{"$f":"IF($C498=\"\",\"\",Simulação!AF498)","v":392.06777952328201},{"$f":"IF($C498=\"\",\"\",Simulação!AG498)","v":"-"},{"$f":"IF($C498=\"\",\"\",Simulação!AH498)","v":348.63196013630733},{"$f":"IF($C498=\"\",\"\",Simulação!AI498)","v":"-"},{"$f":"IF($C498=\"\",\"\",Simulação!AJ498)","v":33.045125393740342},{"$f":"IF($C498=\"\",\"\",Simulação!AK498)","v":"-"},{"$f":"IF($C498=\"\",\"\",Simulação!AL498)","v":32.02721881559642},{"$f":"IF($C498=\"\",\"\",Simulação!AM498)","v":"-"},{"$f":"IF($C498=\"\",\"\",Simulação!AN498)","v":32.217563507182206},{"$f":"IF($C498=\"\",\"\",Simulação!AO498)","v":"-"},{"$f":"IF($C498=\"\",\"\",Simulação!AP498)","v":36.406016086434107},{"$f":"IF($C498=\"\",\"\",Simulação!AQ498)","v":"-"},{"$f":"IF($C498=\"\",\"\",Simulação!AR498)","v":0}]
[null,492,{"$f":"IF(Chegadas!J500<=$C$5,Chegadas!J500,\"\")","v":440.17999999999995},{"$f":"IF($C499=\"\",\"\",Simulação!D499)","v":9.5636170375554865},{"$f":"IF($C499=\"\",\"\",Simulação!E499)","v":"*"},{"$f":"IF($C499=\"\",\"\",Simulação!F499)","v":443.58496028150148},{"$f":"IF($C499=\"\",\"\",Simulação!G499)","v":440.17999999999995},{"$f":"IF($C499=\"\",\"\",Simulação!H499)","v":449.74361703755545},{"$f":"IF($C499=\"\",\"\",Simulação!I499)","v":"-"},{"$f":"IF($C499=\"\",\"\",Simulação!J499)","v":449.17678706390728},{"$f":"IF($C499=\"\",\"\",Simulação!K499)","v":"-"},{"$f":"IF($C499=\"\",\"\",Simulação!L499)","v":444.45804814976719},{"$f":"IF($C499=\"\",\"\",Simulação!M499)","v":"-"},{"$f":"IF($C499=\"\",\"\",Simulação!N499)","v":441.33018451805174},{"$f":"IF($C499=\"\",\"\",Simulação!O499)","v":"-"},{"$f":"IF($C499=\"\",\"\",Simulação!P499)","v":439.15799113407428},{"$f":"IF($C499=\"\",\"\",Simulação!Q499)","v":"-"},{"$f":"IF($C499=\"\",\"\",Simulação!R499)","v":446.79742008071042},{"$f":"IF($C499=\"\",\"\",Simulação!S499)","v":"-"},{"$f":"IF($C499=\"\",\"\",Simulação!T499)","v":443.26182941872645},{"$f":"IF($C499=\"\",\"\",Simulação!U499)","v":"-"},{"$f":"IF($C499=\"\",\"\",Simulação!V499)","v":448.075194144698},{"$f":"IF($C499=\"\",\"\",Simulação!W499)","v":"-"},{"$f":"IF($C499=\"\",\"\",Simulação!X499)","v":441.0458327387359},{"$f":"IF($C499=\"\",\"\",Simulação!Y499)","v":"-"},{"$f":"IF($C499=\"\",\"\",Simulação!Z499)","v":444.23550361846384},{"$f":"IF($C499=\"\",\"\",Simulação!AA499)","v":"-"},{"$f":"IF($C499=\"\",\"\",Simulação!AB499)","v":443.69674596886006},{"$f":"IF($C499=\"\",\"\",Simulação!AC499)","v":"-"},{"$f":"IF($C499=\"\",\"\",Simulação!AD499)","v":427.76110255056778},{"$f":"IF($C499=\"\",\"\",Simulação!AE499)","v":"-"},{"$f":"IF($C499=\"\",\"\",Simulação!AF499)","v":392.06777952328201},{"$f":"IF($C499=\"\",\"\",Simulação!AG499)","v":"-"},{"$f":"IF($C499=\"\",\"\",Simulação!AH499)","v":348.63196013630733},{"$f":"IF($C499=\"\",\"\",Simulação!AI499)","v":"-"},{"$f":"IF($C499=\"\",\"\",Simulação!AJ499)","v":33.045125393740342},{"$f":"IF($C499=\"\",\"\",Simulação!AK499)","v":"-"},{"$f":"IF($C499=\"\",\"\",Simulação!AL499)","v":32.02721881559642},{"$f":"IF($C499=\"\",\"\",Simulação!AM499)","v":"-"},{"$f":"IF($C499=\"\",\"\",Simulação!AN499)","v":32.217563507182206},{"$f":"IF($C499=\"\",\"\",Simulação!AO499)","v":"-"},{"$f":"IF($C499=\"\",\"\",Simulação!AP499)","v":36.406016086434107},{"$f":"IF($C499=\"\",\"\",Simulação!AQ499)","v":"-"},{"$f":"IF($C499=\"\",\"\",Simulação!AR499)","v":0}]
[null,493,{"$f":"IF(Chegadas!J501<=$C$5,Chegadas!J501,\"\")","v":442.9},{"$f":"IF($C500=\"\",\"\",Simulação!D500)","v":11.099755056372523},{"$f":"IF($C500=\"\",\"\",Simulação!E500)","v":"*"},{"$f":"IF($C500=\"\",\"\",Simulação!F500)","v":443.58496028150148},{"$f":"IF($C500=\"\",\"\",Simulação!G500)","v":"*"},{"$f":"IF($C500=\"\",\"\",Simulação!H500)","v":449.74361703755545},{"$f":"IF($C500=\"\",\"\",Simulação!I500)","v":"*"},{"$f":"IF($C500=\"\",\"\",Simulação!J500)","v":449.17678706390728},{"$f":"IF($C500=\"\",\"\",Simulação!K500)","v":"*"},{"$f":"IF($C500=\"\",\"\",Simulação!L500)","v":444.45804814976719},{"$f":"IF($C500=\"\",\"\",Simulação!M500)","v":442.9},{"$f":"IF($C500=\"\",\"\",Simulação!N500)","v":453.99975505637252},{"$f":"IF($C500=\"\",\"\",Simulação!O500)","v":"-"},{"$f":"IF($C500=\"\",\"\",Simulação!P500)","v":439.15799113407428},{"$f":"IF($C500=\"\",\"\",Simulação!Q500)","v":"-"},{"$f":"IF($C500=\"\",\"\",Simulação!R500)","v":446.79742008071042},{"$f":"IF($C500=\"\",\"\",Simulação!S500)","v":"-"},{"$f":"IF($C500=\"\",\"\",Simulação!T500)","v":443.26182941872645},{"$f":"IF($C500=\"\",\"\",Simulação!U500)","v":"-"},{"$f":"IF($C500=\"\",\"\",Simulação!V500)","v":448.075194144698},{"$f":"IF($C500=\"\",\"\",Simulação!W500)","v":"-"},{"$f":"IF($C500=\"\",\"\",Simulação!X500)","v":441.0458327387359},{"$f":"IF($C500=\"\",\"\",Simulação!Y500)","v":"-"},{"$f":"IF($C500=\"\",\"\",Simulação!Z500)","v":444.23550361846384},{"$f":"IF($C500=\"\",\"\",Simulação!AA500)","v":"-"},{"$f":"IF($C500=\"\",\"\",Simulação!AB500)","v":443.69674596886006},{"$f":"IF($C500=\"\",\"\",Simulação!AC500)","v":"-"},{"$f":"IF($C500=\"\",\"\",Simulação!AD500)","v":427.76110255056778},{"$f":"IF($C500=\"\",\"\",Simulação!AE500)","v":"-"},{"$f":"IF($C500=\"\",\"\",Simulação!AF500)","v":392.06777952328201},{"$f":"IF($C500=\"\",\"\",Simulação!AG500)","v":"-"},{"$f":"IF($C500=\"\",\"\",Simulação!AH500)","v":348.63196013630733},{"$f":"IF($C500=\"\",\"\",Simulação!AI500)","v":"-"},{"$f":"IF($C500=\"\",\"\",Simulação!AJ500)","v":33.045125393740342},{"$f":"IF($C500=\"\",\"\",Simulação!AK500)","v":"-"},{"$f":"IF($C500=\"\",\"\",Simulação!AL500)","v":32.02721881559642},{"$f":"IF($C500=\"\",\"\",Simulação!AM500)","v":"-"},{"$f":"IF($C500=\"\",\"\",Simulação!AN500)","v":32.217563507182206},{"$f":"IF($C500=\"\",\"\",Simulação!AO500)","v":"-"},{"$f":"IF($C500=\"\",\"\",Simulação!AP500)","v":36.406016086434107},{"$f":"IF($C500=\"\",\"\",Simulação!AQ500)","v":"-"},{"$f":"IF($C500=\"\",\"\",Simulação!AR500)","v":0}]
[null,494,{"$f":"IF(Chegadas!J502<=$C$5,Chegadas!J502,\"\")","v":445.02},{"$f":"IF($C501=\"\",\"\",Simulação!D501)","v":9.7309975251250798},{"$f":"IF($C501=\"\",\"\",Simulação!E501)","v":445.02},{"$f":"IF($C501=\"\",\"\",Simulação!F501)","v":454.75099752512506},{"$f":"IF($C501=\"\",\"\",Simulação!G501)","v":"-"},{"$f":"IF($C501=\"\",\"\",Simulação!H501)","v":449.74361703755545},{"$f":"IF($C501=\"\",\"\",Simulação!I501)","v":"-"},{"$f":"IF($C501=\"\",\"\",Simulação!J501)","v":449.17678706390728},{"$f":"IF($C501=\"\",\"\",Simulação!K501)","v":"-"},{"$f":"IF($C501=\"\",\"\",Simulação!L501)","v":444.45804814976719},{"$f":"IF($C501=\"\",\"\",Simulação!M501)","v":"-"},{"$f":"IF($C501=\"\",\"\",Simulação!N501)","v":453.99975505637252},{"$f":"IF($C501=\"\",\"\",Simulação!O501)","v":"-"},{"$f":"IF($C501=\"\",\"\",Simulação!P501)","v":439.15799113407428},{"$f":"IF($C501=\"\",\"\",Simulação!Q501)","v":"-"},{"$f":"IF($C501=\"\",\"\",Simulação!R501)","v":446.79742008071042},{"$f":"IF($C501=\"\",\"\",Simulação!S501)","v":"-"},{"$f":"IF($C501=\"\",\"\",Simulação!T501)","v":443.26182941872645},{"$f":"IF($C501=\"\",\"\",Simulação!U501)","v":"-"},{"$f":"IF($C501=\"\",\"\",Simulação!V501)","v":448.075194144698},{"$f":"IF($C501=\"\",\"\",Simulação!W501)","v":"-"},{"$f":"IF($C501=\"\",\"\",Simulação!X501)","v":441.0458327387359},{"$f":"IF($C501=\"\",\"\",Simulação!Y501)","v":"-"},{"$f":"IF($C501=\"\",\"\",Simulação!Z501)","v":444.23550361846384},{"$f":"IF($C501=\"\",\"\",Simulação!AA501)","v":"-"},{"$f":"IF($C501=\"\",\"\",Simulação!AB501)","v":443.69674596886006},{"$f":"IF($C501=\"\",\"\",Simulação!AC501)","v":"-"},{"$f":"IF($C501=\"\",\"\",Simulação!AD501)","v":427.76110255056778},{"$f":"IF($C501=\"\",\"\",Simulação!AE501)","v":"-"},{"$f":"IF($C501=\"\",\"\",Simulação!AF501)","v":392.06777952328201},{"$f":"IF($C501=\"\",\"\",Simulação!AG501)","v":"-"},{"$f":"IF($C501=\"\",\"\",Simulação!AH501)","v":348.63196013630733},{"$f":"IF($C501=\"\",\"\",Simulação!AI501)","v":"-"},{"$f":"IF($C501=\"\",\"\",Simulação!AJ501)","v":33.045125393740342},{"$f":"IF($C501=\"\",\"\",Simulação!AK501)","v":"-"},{"$f":"IF($C501=\"\",\"\",Simulação!AL501)","v":32.02721881559642},{"$f":"IF($C501=\"\",\"\",Simulação!AM501)","v":"-"},{"$f":"IF($C501=\"\",\"\",Simulação!AN501)","v":32.217563507182206},{"$f":"IF($C501=\"\",\"\",Simulação!AO501)","v":"-"},{"$f":"IF($C501=\"\",\"\",Simulação!AP501)","v":36.406016086434107},{"$f":"IF($C501=\"\",\"\",Simulação!AQ501)","v":"-"},{"$f":"IF($C501=\"\",\"\",Simulação!AR501)","v":0}]
[null,495,{"$f":"IF(Chegadas!J503<=$C$5,Chegadas!J503,\"\")","v":446},{"$f":"IF($C502=\"\",\"\",Simulação!D502)","v":2.9254252902966762},{"$f":"IF($C502=\"\",\"\",Simulação!E502)","v":"*"},{"$f":"IF($C502=\"\",\"\",Simulação!F502)","v":454.75099752512506},{"$f":"IF($C502=\"\",\"\",Simulação!G502)","v":"*"},{"$f":"IF($C502=\"\",\"\",Simulação!H502)","v":449.74361703755545},{"$f":"IF($C502=\"\",\"\",Simulação!I502)","v":"*"},{"$f":"IF($C502=\"\",\"\",Simulação!J502)","v":449.17678706390728},{"$f":"IF($C502=\"\",\"\",Simulação!K502)","v":446},{"$f":"IF($C502=\"\",\"\",Simulação!L502)","v":448.92542529029669},{"$f":"IF($C502=\"\",\"\",Simulação!M502)","v":"-"},{"$f":"IF($C502=\"\",\"\",Simulação!N502)","v":453.99975505637252},{"$f":"IF($C502=\"\",\"\",Simulação!O502)","v":"-"},{"$f":"IF($C502=\"\",\"\",Simulação!P502)","v":439.15799113407428},{"$f":"IF($C502=\"\",\"\",Simulação!Q502)","v":"-"},{"$f":"IF($C502=\"\",\"\",Simulação!R502)","v":446.79742008071042},{"$f":"IF($C502=\"\",\"\",Simulação!S502)","v":"-"},{"$f":"IF($C502=\"\",\"\",Simulação!T502)","v":443.26182941872645},{"$f":"IF($C502=\"\",\"\",Simulação!U502)","v":"-"},{"$f":"IF($C502=\"\",\"\",Simulação!V502)","v":448.075194144698},{"$f":"IF($C502=\"\",\"\",Simulação!W502)","v":"-"},{"$f":"IF($C502=\"\",\"\",Simulação!X502)","v":441.0458327387359},{"$f":"IF($C502=\"\",\"\",Simulação!Y502)","v":"-"},{"$f":"IF($C502=\"\",\"\",Simulação!Z502)","v":444.23550361846384},{"$f":"IF($C502=\"\",\"\",Simulação!AA502)","v":"-"},{"$f":"IF($C502=\"\",\"\",Simulação!AB502)","v":443.69674596886006},{"$f":"IF($C502=\"\",\"\",Simulação!AC502)","v":"-"},{"$f":"IF($C502=\"\",\"\",Simulação!AD502)","v":427.76110255056778},{"$f":"IF($C502=\"\",\"\",Simulação!AE502)","v":"-"},{"$f":"IF($C502=\"\",\"\",Simulação!AF502)","v":392.06777952328201},{"$f":"IF($C502=\"\",\"\",Simulação!AG502)","v":"-"},{"$f":"IF($C502=\"\",\"\",Simulação!AH502)","v":348.63196013630733},{"$f":"IF($C502=\"\",\"\",Simulação!AI502)","v":"-"},{"$f":"IF($C502=\"\",\"\",Simulação!AJ502)","v":33.045125393740342},{"$f":"IF($C502=\"\",\"\",Simulação!AK502)","v":"-"},{"$f":"IF($C502=\"\",\"\",Simulação!AL502)","v":32.02721881559642},{"$f":"IF($C502=\"\",\"\",Simulação!AM502)","v":"-"},{"$f":"IF($C502=\"\",\"\",Simulação!AN502)","v":32.217563507182206},{"$f":"IF($C502=\"\",\"\",Simulação!AO502)","v":"-"},{"$f":"IF($C502=\"\",\"\",Simulação!AP502)","v":36.406016086434107},{"$f":"IF($C502=\"\",\"\",Simulação!AQ502)","v":"-"},{"$f":"IF($C502=\"\",\"\",Simulação!AR502)","v":0}]
[null,496,{"$f":"IF(Chegadas!J504<=$C$5,Chegadas!J504,\"\")","v":446.39},{"$f":"IF($C503=\"\",\"\",Simulação!D503)","v":6.5725274131671343},{"$f":"IF($C503=\"\",\"\",Simulação!E503)","v":"*"},{"$f":"IF($C503=\"\",\"\",Simulação!F503)","v":454.75099752512506},{"$f":"IF($C503=\"\",\"\",Simulação!G503)","v":"*"},{"$f":"IF($C503=\"\",\"\",Simulação!H503)","v":449.74361703755545},{"$f":"IF($C503=\"\",\"\",Simulação!I503)","v":"*"},{"$f":"IF($C503=\"\",\"\",Simulação!J503)","v":449.17678706390728},{"$f":"IF($C503=\"\",\"\",Simulação!K503)","v":"*"},{"$f":"IF($C503=\"\",\"\",Simulação!L503)","v":448.92542529029669},{"$f":"IF($C503=\"\",\"\",Simulação!M503)","v":"*"},{"$f":"IF($C503=\"\",\"\",Simulação!N503)","v":453.99975505637252},{"$f":"IF($C503=\"\",\"\",Simulação!O503)","v":446.39},{"$f":"IF($C503=\"\",\"\",Simulação!P503)","v":452.96252741316709},{"$f":"IF($C503=\"\",\"\",Simulação!Q503)","v":"-"},{"$f":"IF($C503=\"\",\"\",Simulação!R503)","v":446.79742008071042},{"$f":"IF($C503=\"\",\"\",Simulação!S503)","v":"-"},{"$f":"IF($C503=\"\",\"\",Simulação!T503)","v":443.26182941872645},{"$f":"IF($C503=\"\",\"\",Simulação!U503)","v":"-"},{"$f":"IF($C503=\"\",\"\",Simulação!V503)","v":448.075194144698},{"$f":"IF($C503=\"\",\"\",Simulação!W503)","v":"-"},{"$f":"IF($C503=\"\",\"\",Simulação!X503)","v":441.0458327387359},{"$f":"IF($C503=\"\",\"\",Simulação!Y503)","v":"-"},{"$f":"IF($C503=\"\",\"\",Simulação!Z503)","v":444.23550361846384},{"$f":"IF($C503=\"\",\"\",Simulação!AA503)","v":"-"},{"$f":"IF($C503=\"\",\"\",Simulação!AB503)","v":443.69674596886006},{"$f":"IF($C503=\"\",\"\",Simulação!AC503)","v":"-"},{"$f":"IF($C503=\"\",\"\",Simulação!AD503)","v":427.76110255056778},{"$f":"IF($C503=\"\",\"\",Simulação!AE503)","v":"-"},{"$f":"IF($C503=\"\",\"\",Simulação!AF503)","v":392.06777952328201},{"$f":"IF($C503=\"\",\"\",Simulação!AG503)","v":"-"},{"$f":"IF($C503=\"\",\"\",Simulação!AH503)","v":348.63196013630733},{"$f":"IF($C503=\"\",\"\",Simulação!AI503)","v":"-"},{"$f":"IF($C503=\"\",\"\",Simulação!AJ503)","v":33.045125393740342},{"$f":"IF($C503=\"\",\"\",Simulação!AK503)","v":"-"},{"$f":"IF($C503=\"\",\"\",Simulação!AL503)","v":32.02721881559642},{"$f":"IF($C503=\"\",\"\",Simulação!AM503)","v":"-"},{"$f":"IF($C503=\"\",\"\",Simulação!AN503)","v":32.217563507182206},{"$f":"IF($C503=\"\",\"\",Simulação!AO503)","v":"-"},{"$f":"IF($C503=\"\",\"\",Simulação!AP503)","v":36.406016086434107},{"$f":"IF($C503=\"\",\"\",Simulação!AQ503)","v":"-"},{"$f":"IF($C503=\"\",\"\",Simulação!AR503)","v":0}]
[null,497,{"$f":"IF(Chegadas!J505<=$C$5,Chegadas!J505,\"\")","v":447.13},{"$f":"IF($C504=\"\",\"\",Simulação!D504)","v":5.9859651176776545},{"$f":"IF($C504=\"\",\"\",Simulação!E504)","v":"*"},{"$f":"IF($C504=\"\",\"\",Simulação!F504)","v":454.75099752512506},{"$f":"IF($C504=\"\",\"\",Simulação!G504)","v":"*"},{"$f":"IF($C504=\"\",\"\",Simulação!H504)","v":449.74361703755545},{"$f":"IF($C504=\"\",\"\",Simulação!I504)","v":"*"},{"$f":"IF($C504=\"\",\"\",Simulação!J504)","v":449.17678706390728},{"$f":"IF($C504=\"\",\"\",Simulação!K504)","v":"*"},{"$f":"IF($C504=\"\",\"\",Simulação!L504)","v":448.92542529029669},{"$f":"IF($C504=\"\",\"\",Simulação!M504)","v":"*"},{"$f":"IF($C504=\"\",\"\",Simulação!N504)","v":453.99975505637252},{"$f":"IF($C504=\"\",\"\",Simulação!O504)","v":"*"},{"$f":"IF($C504=\"\",\"\",Simulação!P504)","v":452.96252741316709},{"$f":"IF($C504=\"\",\"\",Simulação!Q504)","v":447.13},{"$f":"IF($C504=\"\",\"\",Simulação!R504)","v":453.11596511767766},{"$f":"IF($C504=\"\",\"\",Simulação!S504)","v":"-"},{"$f":"IF($C504=\"\",\"\",Simulação!T504)","v":443.26182941872645},{"$f":"IF($C504=\"\",\"\",Simulação!U504)","v":"-"},{"$f":"IF($C504=\"\",\"\",Simulação!V504)","v":448.075194144698},{"$f":"IF($C504=\"\",\"\",Simulação!W504)","v":"-"},{"$f":"IF($C504=\"\",\"\",Simulação!X504)","v":441.0458327387359},{"$f":"IF($C504=\"\",\"\",Simulação!Y504)","v":"-"},{"$f":"IF($C504=\"\",\"\",Simulação!Z504)","v":444.23550361846384},{"$f":"IF($C504=\"\",\"\",Simulação!AA504)","v":"-"},{"$f":"IF($C504=\"\",\"\",Simulação!AB504)","v":443.69674596886006},{"$f":"IF($C504=\"\",\"\",Simulação!AC504)","v":"-"},{"$f":"IF($C504=\"\",\"\",Simulação!AD504)","v":427.76110255056778},{"$f":"IF($C504=\"\",\"\",Simulação!AE504)","v":"-"},{"$f":"IF($C504=\"\",\"\",Simulação!AF504)","v":392.06777952328201},{"$f":"IF($C504=\"\",\"\",Simulação!AG504)","v":"-"},{"$f":"IF($C504=\"\",\"\",Simulação!AH504)","v":348.63196013630733},{"$f":"IF($C504=\"\",\"\",Simulação!AI504)","v":"-"},{"$f":"IF($C504=\"\",\"\",Simulação!AJ504)","v":33.045125393740342},{"$f":"IF($C504=\"\",\"\",Simulação!AK504)","v":"-"},{"$f":"IF($C504=\"\",\"\",Simulação!AL504)","v":32.02721881559642},{"$f":"IF($C504=\"\",\"\",Simulação!AM504)","v":"-"},{"$f":"IF($C504=\"\",\"\",Simulação!AN504)","v":32.217563507182206},{"$f":"IF($C504=\"\",\"\",Simulação!AO504)","v":"-"},{"$f":"IF($C504=\"\",\"\",Simulação!AP504)","v":36.406016086434107},{"$f":"IF($C504=\"\",\"\",Simulação!AQ504)","v":"-"},{"$f":"IF($C504=\"\",\"\",Simulação!AR504)","v":0}]
[null,498,{"$f":"IF(Chegadas!J506<=$C$5,Chegadas!J506,\"\")","v":447.21999999999997},{"$f":"IF($C505=\"\",\"\",Simulação!D505)","v":10.950767131954578},{"$f":"IF($C505=\"\",\"\",Simulação!E505)","v":"*"},{"$f":"IF($C505=\"\",\"\",Simulação!F505)","v":454.75099752512506},{"$f":"IF($C505=\"\",\"\",Simulação!G505)","v":"*"},{"$f":"IF($C505=\"\",\"\",Simulação!H505)","v":449.74361703755545},{"$f":"IF($C505=\"\",\"\",Simulação!I505)","v":"*"},{"$f":"IF($C505=\"\",\"\",Simulação!J505)","v":449.17678706390728},{"$f":"IF($C505=\"\",\"\",Simulação!K505)","v":"*"},{"$f":"IF($C505=\"\",\"\",Simulação!L505)","v":448.92542529029669},{"$f":"IF($C505=\"\",\"\",Simulação!M505)","v":"*"},{"$f":"IF($C505=\"\",\"\",Simulação!N505)","v":453.99975505637252},{"$f":"IF($C505=\"\",\"\",Simulação!O505)","v":"*"},{"$f":"IF($C505=\"\",\"\",Simulação!P505)","v":452.96252741316709},{"$f":"IF($C505=\"\",\"\",Simulação!Q505)","v":"*"},{"$f":"IF($C505=\"\",\"\",Simulação!R505)","v":453.11596511767766},{"$f":"IF($C505=\"\",\"\",Simulação!S505)","v":447.21999999999997},{"$f":"IF($C505=\"\",\"\",Simulação!T505)","v":458.17076713195456},{"$f":"IF($C505=\"\",\"\",Simulação!U505)","v":"-"},{"$f":"IF($C505=\"\",\"\",Simulação!V505)","v":448.075194144698},{"$f":"IF($C505=\"\",\"\",Simulação!W505)","v":"-"},{"$f":"IF($C505=\"\",\"\",Simulação!X505)","v":441.0458327387359},{"$f":"IF($C505=\"\",\"\",Simulação!Y505)","v":"-"},{"$f":"IF($C505=\"\",\"\",Simulação!Z505)","v":444.23550361846384},{"$f":"IF($C505=\"\",\"\",Simulação!AA505)","v":"-"},{"$f":"IF($C505=\"\",\"\",Simulação!AB505)","v":443.69674596886006},{"$f":"IF($C505=\"\",\"\",Simulação!AC505)","v":"-"},{"$f":"IF($C505=\"\",\"\",Simulação!AD505)","v":427.76110255056778},{"$f":"IF($C505=\"\",\"\",Simulação!AE505)","v":"-"},{"$f":"IF($C505=\"\",\"\",Simulação!AF505)","v":392.06777952328201},{"$f":"IF($C505=\"\",\"\",Simulação!AG505)","v":"-"},{"$f":"IF($C505=\"\",\"\",Simulação!AH505)","v":348.63196013630733},{"$f":"IF($C505=\"\",\"\",Simulação!AI505)","v":"-"},{"$f":"IF($C505=\"\",\"\",Simulação!AJ505)","v":33.045125393740342},{"$f":"IF($C505=\"\",\"\",Simulação!AK505)","v":"-"},{"$f":"IF($C505=\"\",\"\",Simulação!AL505)","v":32.02721881559642},{"$f":"IF($C505=\"\",\"\",Simulação!AM505)","v":"-"},{"$f":"IF($C505=\"\",\"\",Simulação!AN505)","v":32.217563507182206},{"$f":"IF($C505=\"\",\"\",Simulação!AO505)","v":"-"},{"$f":"IF($C505=\"\",\"\",Simulação!AP505)","v":36.406016086434107},{"$f":"IF($C505=\"\",\"\",Simulação!AQ505)","v":"-"},{"$f":"IF($C505=\"\",\"\",Simulação!AR505)","v":0}]
[null,499,{"$f":"IF(Chegadas!J507<=$C$5,Chegadas!J507,\"\")","v":447.40999999999997},{"$f":"IF($C506=\"\",\"\",Simulação!D506)","v":6.5316230838533995},{"$f":"IF($C506=\"\",\"\",Simulação!E506)","v":"*"},{"$f":"IF($C506=\"\",\"\",Simulação!F506)","v":454.75099752512506},{"$f":"IF($C506=\"\",\"\",Simulação!G506)","v":"*"},{"$f":"IF($C506=\"\",\"\",Simulação!H506)","v":449.74361703755545},{"$f":"IF($C506=\"\",\"\",Simulação!I506)","v":"*"},{"$f":"IF($C506=\"\",\"\",Simulação!J506)","v":449.17678706390728},{"$f":"IF($C506=\"\",\"\",Simulação!K506)","v":"*"},{"$f":"IF($C506=\"\",\"\",Simulação!L506)","v":448.92542529029669},{"$f":"IF($C506=\"\",\"\",Simulação!M506)","v":"*"},{"$f":"IF($C506=\"\",\"\",Simulação!N506)","v":453.99975505637252},{"$f":"IF($C506=\"\",\"\",Simulação!O506)","v":"*"},{"$f":"IF($C506=\"\",\"\",Simulação!P506)","v":452.96252741316709},{"$f":"IF($C506=\"\",\"\",Simulação!Q506)","v":"*"},{"$f":"IF($C506=\"\",\"\",Simulação!R506)","v":453.11596511767766},{"$f":"IF($C506=\"\",\"\",Simulação!S506)","v":"*"},{"$f":"IF($C506=\"\",\"\",Simulação!T506)","v":458.17076713195456},{"$f":"IF($C506=\"\",\"\",Simulação!U506)","v":"*"},{"$f":"IF($C506=\"\",\"\",Simulação!V506)","v":448.075194144698},{"$f":"IF($C506=\"\",\"\",Simulação!W506)","v":447.40999999999997},{"$f":"IF($C506=\"\",\"\",Simulação!X506)","v":453.94162308385336},{"$f":"IF($C506=\"\",\"\",Simulação!Y506)","v":"-"},{"$f":"IF($C506=\"\",\"\",Simulação!Z506)","v":444.23550361846384},{"$f":"IF($C506=\"\",\"\",Simulação!AA506)","v":"-"},{"$f":"IF($C506=\"\",\"\",Simulação!AB506)","v":443.69674596886006},{"$f":"IF($C506=\"\",\"\",Simulação!AC506)","v":"-"},{"$f":"IF($C506=\"\",\"\",Simulação!AD506)","v":427.76110255056778},{"$f":"IF($C506=\"\",\"\",Simulação!AE506)","v":"-"},{"$f":"IF($C506=\"\",\"\",Simulação!AF506)","v":392.06777952328201},{"$f":"IF($C506=\"\",\"\",Simulação!AG506)","v":"-"},{"$f":"IF($C506=\"\",\"\",Simulação!AH506)","v":348.63196013630733},{"$f":"IF($C506=\"\",\"\",Simulação!AI506)","v":"-"},{"$f":"IF($C506=\"\",\"\",Simulação!AJ506)","v":33.045125393740342},{"$f":"IF($C506=\"\",\"\",Simulação!AK506)","v":"-"},{"$f":"IF($C506=\"\",\"\",Simulação!AL506)","v":32.02721881559642},{"$f":"IF($C506=\"\",\"\",Simulação!AM506)","v":"-"},{"$f":"IF($C506=\"\",\"\",Simulação!AN506)","v":32.217563507182206},{"$f":"IF($C506=\"\",\"\",Simulação!AO506)","v":"-"},{"$f":"IF($C506=\"\",\"\",Simulação!AP506)","v":36.406016086434107},{"$f":"IF($C506=\"\",\"\",Simulação!AQ506)","v":"-"},{"$f":"IF($C506=\"\",\"\",Simulação!AR506)","v":0}]
[null,500,{"$f":"IF(Chegadas!J508<=$C$5,Chegadas!J508,\"\")","v":447.51},{"$f":"IF($C507=\"\",\"\",Simulação!D507)","v":2.8227632357848043},{"$f":"IF($C507=\"\",\"\",Simulação!E507)","v":"*"},{"$f":"IF($C507=\"\",\"\",Simulação!F507)","v":454.75099752512506},{"$f":"IF($C507=\"\",\"\",Simulação!G507)","v":"*"},{"$f":"IF($C507=\"\",\"\",Simulação!H507)","v":449.74361703755545},{"$f":"IF($C507=\"\",\"\",Simulação!I507)","v":"*"},{"$f":"IF($C507=\"\",\"\",Simulação!J507)","v":449.17678706390728},{"$f":"IF($C507=\"\",\"\",Simulação!K507)","v":"*"},{"$f":"IF($C507=\"\",\"\",Simulação!L507)","v":448.92542529029669},{"$f":"IF($C507=\"\",\"\",Simulação!M507)","v":"*"},{"$f":"IF($C507=\"\",\"\",Simulação!N507)","v":453.99975505637252},{"$f":"IF($C507=\"\",\"\",Simulação!O507)","v":"*"},{"$f":"IF($C507=\"\",\"\",Simulação!P507)","v":452.96252741316709},{"$f":"IF($C507=\"\",\"\",Simulação!Q507)","v":"*"},{"$f":"IF($C507=\"\",\"\",Simulação!R507)","v":453.11596511767766},{"$f":"IF($C507=\"\",\"\",Simulação!S507)","v":"*"},{"$f":"IF($C507=\"\",\"\",Simulação!T507)","v":458.17076713195456},{"$f":"IF($C507=\"\",\"\",Simulação!U507)","v":"*"},{"$f":"IF($C507=\"\",\"\",Simulação!V507)","v":448.075194144698},{"$f":"IF($C507=\"\",\"\",Simulação!W507)","v":"*"},{"$f":"IF($C507=\"\",\"\",Simulação!X507)","v":453.94162308385336},{"$f":"IF($C507=\"\",\"\",Simulação!Y507)","v":447.51},{"$f":"IF($C507=\"\",\"\",Simulação!Z507)","v":450.3327632357848},{"$f":"IF($C507=\"\",\"\",Simulação!AA507)","v":"-"},{"$f":"IF($C507=\"\",\"\",Simulação!AB507)","v":443.69674596886006},{"$f":"IF($C507=\"\",\"\",Simulação!AC507)","v":"-"},{"$f":"IF($C507=\"\",\"\",Simulação!AD507)","v":427.76110255056778},{"$f":"IF($C507=\"\",\"\",Simulação!AE507)","v":"-"},{"$f":"IF($C507=\"\",\"\",Simulação!AF507)","v":392.06777952328201},{"$f":"IF($C507=\"\",\"\",Simulação!AG507)","v":"-"},{"$f":"IF($C507=\"\",\"\",Simulação!AH507)","v":348.63196013630733},{"$f":"IF($C507=\"\",\"\",Simulação!AI507)","v":"-"},{"$f":"IF($C507=\"\",\"\",Simulação!AJ507)","v":33.045125393740342},{"$f":"IF($C507=\"\",\"\",Simulação!AK507)","v":"-"},{"$f":"IF($C507=\"\",\"\",Simulação!AL507)","v":32.02721881559642},{"$f":"IF($C507=\"\",\"\",Simulação!AM507)","v":"-"},{"$f":"IF($C507=\"\",\"\",Simulação!AN507)","v":32.217563507182206},{"$f":"IF($C507=\"\",\"\",Simulação!AO507)","v":"-"},{"$f":"IF($C507=\"\",\"\",Simulação!AP507)","v":36.406016086434107},{"$f":"IF($C507=\"\",\"\",Simulação!AQ507)","v":"-"},{"$f":"IF($C507=\"\",\"\",Simulação!AR507)","v":0}]